Statocles v0.085 Perl 5 v5.24.2 x86_64-linux-thread-multi
- Status
- Pass
- From
- ARTO
- Dist
-
Statocles v0.085
- Platform
- Perl 5 v5.24.2 x86_64-linux-thread-multi
- Date
- 2017-09-09 08:57:02
- ID
- d8cf0268-953c-11e7-b035-c4d6197220ed
This distribution has been tested as part of the CPAN Testers
project, supporting the Perl programming language. See
http://wiki.cpantesters.org/ for more information or email
questions to cpan-testers-discuss@perl.org
--
Dear Doug Bell,
This is a computer-generated report for Statocles-0.085
on perl 5.24.2, created by CPAN-Reporter-1.2018.
Thank you for uploading your work to CPAN. Congratulations!
All tests were successful.
Sections of this report:
* Tester comments
* Program output
* Prerequisites
* Environment and other context
------------------------------
TESTER COMMENTS
------------------------------
Additional comments from tester:
none provided
------------------------------
PROGRAM OUTPUT
------------------------------
Output from '/usr/bin/make test':
Skip blib/lib/auto/share/dist/Statocles/theme/default/blog/index.atom.ep (unchanged)
Skip blib/lib/auto/share/dist/Statocles/theme/bootstrap/site/header_after.html.ep (unchanged)
Skip blib/lib/auto/share/dist/Statocles/theme/bootstrap/plugin/highlight/solarized-dark.css (unchanged)
Skip blib/lib/auto/share/dist/Statocles/theme/bootstrap/site/sidebar_before.html.ep (unchanged)
Skip blib/lib/auto/share/dist/Statocles/theme/default/css/skeleton.css (unchanged)
Skip blib/lib/auto/share/dist/Statocles/theme/bootstrap/site/sitemap.xml.ep (unchanged)
Skip blib/lib/auto/share/dist/Statocles/theme/default/site/robots.txt.ep (unchanged)
Skip blib/lib/auto/share/dist/Statocles/theme/default/css/statocles-default.css (unchanged)
Skip blib/lib/auto/share/dist/Statocles/theme/default/plugin/highlight/default.css (unchanged)
Skip blib/lib/auto/share/dist/Statocles/theme/bootstrap/layout/default.html.ep (unchanged)
Skip blib/lib/auto/share/dist/Statocles/theme/bootstrap/css/statocles-bootstrap.css (unchanged)
Skip blib/lib/auto/share/dist/Statocles/theme/default/perldoc/source.html.ep (unchanged)
Skip blib/lib/auto/share/dist/Statocles/theme/default/site/footer.html.ep (unchanged)
Skip blib/lib/auto/share/dist/Statocles/theme/bootstrap/site/head_after.html.ep (unchanged)
Skip blib/lib/auto/share/dist/Statocles/theme/default/site/header_after.html.ep (unchanged)
Skip blib/lib/auto/share/dist/Statocles/theme/bootstrap/perldoc/pod.html.ep (unchanged)
Skip blib/lib/auto/share/dist/Statocles/theme/default/perldoc/pod.html.ep (unchanged)
Skip blib/lib/auto/share/dist/Statocles/theme/default/plugin/highlight/solarized-dark.css (unchanged)
Skip blib/lib/auto/share/dist/Statocles/theme/bootstrap/site/footer.html.ep (unchanged)
Skip blib/lib/auto/share/dist/Statocles/theme/bootstrap/site/navbar_extra.html.ep (unchanged)
Skip blib/lib/auto/share/dist/Statocles/theme/default/layout/full-width.html.ep (unchanged)
Skip blib/lib/auto/share/dist/Statocles/theme/bootstrap/blog/post.html.ep (unchanged)
Skip blib/lib/auto/share/dist/Statocles/theme/default/layout/default.html.ep (unchanged)
Skip blib/lib/auto/share/dist/Statocles/theme/bootstrap/layout/full-width.html.ep (unchanged)
Skip blib/lib/auto/share/dist/Statocles/create/site.yml (unchanged)
Skip blib/lib/auto/share/dist/Statocles/zsh/_statocles (unchanged)
Skip blib/lib/auto/share/dist/Statocles/theme/default/blog/index.html.ep (unchanged)
Skip blib/lib/auto/share/dist/Statocles/theme/bootstrap/site/robots.txt.ep (unchanged)
Skip blib/lib/auto/share/dist/Statocles/create/script.yml (unchanged)
Skip blib/lib/auto/share/dist/Statocles/theme/default/plugin/highlight/solarized-light.css (unchanged)
Skip blib/lib/auto/share/dist/Statocles/theme/default/blog/post.html.ep (unchanged)
Skip blib/lib/auto/share/dist/Statocles/theme/default/site/navbar_extra.html.ep (unchanged)
Skip blib/lib/auto/share/dist/Statocles/theme/default/site/head_after.html.ep (unchanged)
Skip blib/lib/auto/share/dist/Statocles/theme/bootstrap/blog/index.atom.ep (unchanged)
Skip blib/lib/auto/share/dist/Statocles/theme/bootstrap/perldoc/source.html.ep (unchanged)
Skip blib/lib/auto/share/dist/Statocles/theme/default/site/sidebar_before.html.ep (unchanged)
Skip blib/lib/auto/share/dist/Statocles/theme/bootstrap/blog/index.html.ep (unchanged)
Skip blib/lib/auto/share/dist/Statocles/create/page/index.markdown (unchanged)
Skip blib/lib/auto/share/dist/Statocles/theme/default/blog/index.rss.ep (unchanged)
Skip blib/lib/auto/share/dist/Statocles/theme/default/css/normalize.css (unchanged)
Skip blib/lib/auto/share/dist/Statocles/theme/bootstrap/plugin/highlight/default.css (unchanged)
Skip blib/lib/auto/share/dist/Statocles/theme/default/site/style.html (unchanged)
Skip blib/lib/auto/share/dist/Statocles/theme/bootstrap/site/style.html (unchanged)
Skip blib/lib/auto/share/dist/Statocles/theme/bootstrap/plugin/highlight/solarized-light.css (unchanged)
Skip blib/lib/auto/share/dist/Statocles/create/blog/post.markdown (unchanged)
Skip blib/lib/auto/share/dist/Statocles/theme/bootstrap/blog/index.rss.ep (unchanged)
Skip blib/lib/auto/share/dist/Statocles/theme/default/site/sitemap.xml.ep (unchanged)
PERL_DL_NONLAZY=1 "/usr/bin/perl" "-MExtUtils::Command::MM" "-MTest::Harness" "-e" "undef *Test::Harness::Switches; test_harness(0, 'blib/lib', 'blib/arch')" t/*.t t/app/*.t t/app/basic/*.t t/app/blog/*.t t/app/perldoc/*.t t/app/role/*.t t/bin/*.t t/command/*.t t/deploy/*.t t/link/*.t t/page/*.t t/plugin/*.t t/site/*.t t/store/*.t t/template/*.t t/theme/*.t
t/00-compile.t ................ ok
#
# Versions for all modules listed in MYMETA.json (including optional ones):
#
# === Configure Requires ===
#
# Module Want Have
# ----------------------- ---- ----
# ExtUtils::MakeMaker any 7.30
# File::ShareDir::Install 0.06 0.11
#
# === Build Requires ===
#
# Module Want Have
# ------------------- ---- ----
# ExtUtils::MakeMaker any 7.30
#
# === Test Requires ===
#
# Module Want Have
# ------------------- -------- --------
# Capture::Tiny any 0.46
# Dir::Self any 0.11
# ExtUtils::MakeMaker any 7.30
# File::Spec any 3.63
# IO::Handle any 1.36
# IPC::Open3 any 1.20
# Storable any 2.56
# Test::Deep any 1.127
# Test::Differences 0.64 0.64
# Test::Exception any 0.43
# Test::Lib any 0.002
# Test::More 1.001005 1.302086
#
# === Test Recommends ===
#
# Module Want Have
# ---------- -------- --------
# CPAN::Meta 2.120900 2.150010
#
# === Runtime Requires ===
#
# Module Want Have
# ------------------ -------- --------
# Beam::Emitter 0.007 1.007
# Beam::Wire 1.018 1.020
# DateTime::Moonpig any 1.03
# Encode any 2.92
# File::Share any 0.25
# Git::Repository any 1.320
# Import::Base 0.012 1.003
# JSON::PP any 2.94
# List::UtilsBy 0.09 0.10
# Mojolicious 6.54 7.45
# Moo 2.000001 2.003002
# Path::Tiny 0.084 0.104
# Pod::Simple 3.31 3.35
# Pod::Usage::Return any 0.003
# Text::Markdown any 1.000031
# Text::Unidecode any 1.30
# Type::Tiny any 1.002001
# Types::Path::Tiny any 0.005
# YAML any 1.23
# strict any 1.11
# warnings any 1.36
#
# === Runtime Recommends ===
#
# Module Want Have
# ------------------------------- ----- --------
# HTML::Lint::Pluggable 0.06 0.08
# PPI any 1.236
# Pod::Elemental any 0.103004
# Pod::Weaver 4.015 4.015
# Syntax::Highlight::Engine::Kate any 0.10
#
t/00-report-prereqs.t ......... ok
# Before test: STDIN is interactive
# After test: STDIN is interactive
# Before test: STDIN is interactive
# After test: STDIN is interactive
t/app/basic/command.t ......... ok
t/app/basic/constructor.t ..... ok
t/app/basic/pages.t ........... ok
# Before test: STDIN is interactive
# After test: STDIN is interactive
# Before test: STDIN is interactive
# After test: STDIN is interactive
# Before test: STDIN is interactive
# After test: STDIN is interactive
t/app/blog/command.t .......... ok
t/app/blog/constructor.t ...... ok
# Current LC_TIME locale: en_US.iso88591
t/app/blog/pages.t ............ ok
t/app/blog/post_date.t ........ ok
t/app/blog/recent_posts.t ..... ok
t/app/blog/slugs.t ............ ok
t/app/events.t ................ ok
t/app/perldoc/constructor.t ... ok
t/app/perldoc/pages.t ......... ok
t/app/role/store.t ............ ok
t/app/template.t .............. ok
t/app/url.t ................... ok
t/bin/statocles.t ............. ok
t/command/apps.t .............. ok
# Git version: 2.013005
t/command/build_and_deploy.t .. ok
t/command/bundle.t ............ ok
# Git version: 2.013005
t/command/create.t ............ ok
t/command/daemon.t ............ ok
t/command/error.t ............. ok
t/command/help_and_version.t .. ok
t/command/mojo_app.t .......... ok
t/deploy/file.t ............... ok
# Git version: 2.013005
[Sat Sep 9 11:55:53 2017] [warn] No files changed
[Sat Sep 9 11:55:53 2017] [warn] No files changed
[Sat Sep 9 11:55:57 2017] [warn] Git remote "origin" does not exist. Not pushing.
[Sat Sep 9 11:55:57 2017] [warn] Git remote "nondefault" does not exist. Not pushing.
t/deploy/git.t ................ ok
t/deprecated.t ................ ok
t/document.t .................. ok
t/image.t ..................... ok
t/link.t ...................... ok
t/link/tree.t ................. ok
t/page/basename.t ............. ok
t/page/content_sections.t ..... ok
Invalid data attribute in document "/required.markdown". Data attributes that are not hashes are deprecated and will be removed in v2.0. Please use a hash instead. See Statocles::Help::Upgrading
Invalid data attribute in document "/links/alternate_single.markdown". Data attributes that are not hashes are deprecated and will be removed in v2.0. Please use a hash instead. See Statocles::Help::Upgrading
t/page/document.t ............. ok
t/page/file.t ................. ok
t/page/images.t ............... ok
t/page/links.t ................ ok
t/page/list.t ................. ok
t/page/list_item.t ............ ok
[Sat Sep 9 11:56:14 2017] [debug] Render page: /path/to/page.html
t/page/plain.t ................ ok
t/page/type.t ................. ok
t/person.t .................... ok
t/plugin/highlight.t .......... ok
t/plugin/html_lint.t .......... ok
t/plugin/link_check.t ......... ok
t/site/build_and_deploy.t ..... ok
t/site/constructor.t .......... ok
t/site/data.t ................. ok
t/site/events.t ............... ok
t/site/index.t ................ ok
t/site/nav.t .................. ok
t/site/plugin.t ............... ok
t/site/sitemap_and_robots.t ... ok
t/site/template.t ............. ok
t/site/url.t .................. ok
t/site/warnings.t ............. ok
[Sat Sep 9 11:56:44 2017] [warn] Store path "/home/artur/.cpan/build/Statocles-0.085-0/t/store/../share/DOES_NOT_EXIST" does not exist
t/store/constructor.t ......... ok
t/store/document.t ............ ok
t/store/file.t ................ ok
t/template/basic.t ............ ok
t/template/content.t .......... ok
t/template/include.t .......... ok
t/template/markdown.t ......... ok
t/theme/check.t ............... ok
t/theme/helper.t .............. ok
t/theme/pages.t ............... ok
t/theme/template.t ............ ok
t/types.t ..................... ok
t/util.t ...................... ok
All tests successful.
Files=71, Tests=358, 142 wallclock secs ( 0.59 usr 0.13 sys + 128.08 cusr 11.27 csys = 140.07 CPU)
Result: PASS
------------------------------
PREREQUISITES
------------------------------
Prerequisite modules loaded:
requires:
Module Need Have
------------------------------- -------- --------
Beam::Emitter 0.007 1.007
Beam::Wire 1.018 1.020
DateTime::Moonpig 0 1.03
Encode 0 2.92
File::Share 0 0.25
Git::Repository 0 1.320
Import::Base 0.012 1.003
JSON::PP 0 2.94
List::UtilsBy 0.09 0.10
Mojolicious 6.54 7.45
Moo 2.000001 2.003002
Path::Tiny 0.084 0.104
perl 5.010 5.024002
Pod::Simple 3.31 3.35
Pod::Usage::Return 0 0.003
strict 0 1.11
Text::Markdown 0 1.000031
Text::Unidecode 0 1.30
Type::Tiny 0 1.002001
Types::Path::Tiny 0 0.005
warnings 0 1.36
YAML 0 1.23
build_requires:
Module Need Have
------------------------------- -------- --------
Capture::Tiny 0 0.46
Dir::Self 0 0.11
ExtUtils::MakeMaker 0 7.30
File::Spec 0 3.63
IO::Handle 0 1.36
IPC::Open3 0 1.20
Storable 0 2.56
Test::Deep 0 1.127
Test::Differences 0.64 0.64
Test::Exception 0 0.43
Test::Lib 0 0.002
Test::More 1.001005 1.302086
configure_requires:
Module Need Have
------------------------------- -------- --------
ExtUtils::MakeMaker 0 7.30
File::ShareDir::Install 0.06 0.11
opt_requires:
Module Need Have
------------------------------- -------- --------
HTML::Lint::Pluggable 0.06 0.08
Pod::Elemental 0 0.103004
Pod::Weaver 4.015 4.015
PPI 0 1.236
Syntax::Highlight::Engine::Kate 0 0.10
opt_build_requires:
Module Need Have
------------------------------- -------- --------
CPAN::Meta 2.120900 2.150010
------------------------------
ENVIRONMENT AND OTHER CONTEXT
------------------------------
Environment variables:
LANG = en
LC_ADDRESS = en_US.iso88591
LC_ALL = en_US.iso88591
LC_COLLATE = en_US.iso88591
LC_CTYPE = en_US.iso88591
LC_IDENTIFICATION = en_US.iso88591
LC_MEASUREMENT = en_US.iso88591
LC_MESSAGES = en_US.iso88591
LC_MONETARY = en_US.iso88591
LC_NAME = en_US.iso88591
LC_NUMERIC = en_US.iso88591
LC_PAPER = A4
LC_TELEPHONE = en_US.iso88591
LC_TIME = POSIX
LD_LIBRARY_PATH = /opt/sybase/ASE-15_0/lib:/opt/sybase/DataAccess64/ODBC/lib:/opt/sybase/DataAccess/ODBC/lib:/opt/sybase/OCS-15_0/lib3p:/opt/sybase/OCS-15_0/lib3p64:/opt/sybase/OCS-15_0/lib
LIB = /opt/sybase/OCS-15_0/lib
NONINTERACTIVE_TESTING = 1
PATH = /bin:/sbin:/usr/bin:/usr/sbin:/usr/local/bin:/usr/local/sbin
PERL5LIB =
PERL5OPT =
PERL5_CPANPLUS_IS_RUNNING = 5914
PERL5_CPAN_IS_RUNNING = 5914
PERLDOC_PAGER = less -iMXFRs -+C
PERL_MM_USE_DEFAULT = 1
SHELL = zsh
TERM = screen-256color
Perl special variables (and OS-specific diagnostics, for MSWin32):
$^X = /usr/bin/perl
$UID/$EUID = 1000 / 1000
$GID = 1000 10 18 48 945 956 964 965 967 979 985 1000 1001
$EGID = 1000 10 18 48 945 956 964 965 967 979 985 1000 1001
Perl module toolchain versions installed:
Module Have
------------------- --------
CPAN 2.16
CPAN::Meta 2.150010
Cwd 3.63
ExtUtils::CBuilder 0.280226
ExtUtils::Command 7.30
ExtUtils::Install 2.14
ExtUtils::MakeMaker 7.30
ExtUtils::Manifest 1.70
ExtUtils::ParseXS 3.35
File::Spec 3.63
JSON 2.94
JSON::PP 2.94
Module::Build 0.4224
Module::Signature 0.81
Parse::CPAN::Meta 2.150010
Test::Harness 3.39
Test::More 1.302086
YAML 1.23
YAML::Syck 1.30
version 0.9918
--
Summary of my perl5 (revision 5 version 24 subversion 2) configuration:
Platform:
osname=linux, osvers=4.11.5-200.fc25.x86_64, archname=x86_64-linux-thread-multi
uname='linux buildhw-09.phx2.fedoraproject.org 4.11.5-200.fc25.x86_64 #1 smp wed jun 14 17:17:29 utc 2017 x86_64 x86_64 x86_64 gnulinux '
config_args='-des -Doptimize=none -Dccflags=-O2 -g -pipe -Wall -Werror=format-security -Wp,-D_FORTIFY_SOURCE=2 -fexceptions -fstack-protector-strong --param=ssp-buffer-size=4 -grecord-gcc-switches -m64 -mtune=generic -Dldflags=-Wl,-z,relro -Dccdlflags=-Wl,--enable-new-dtags -Wl,-z,relro -Dlddlflags=-shared -Wl,-z,relro -Dshrpdir=/usr/lib64 -DDEBUGGING=-g -Dversion=5.24.2 -Dmyhostname=localhost -Dperladmin=root@localhost -Dcc=gcc -Dcf_by=Red Hat, Inc. -Dprefix=/usr -Dvendorprefix=/usr -Dsiteprefix=/usr/local -Dsitelib=/usr/local/share/perl5 -Dsitearch=/usr/local/lib64/perl5 -Dprivlib=/usr/share/perl5 -Dvendorlib=/usr/share/perl5/vendor_perl -Darchlib=/usr/lib64/perl5 -Dvendorarch=/usr/lib64/perl5/vendor_perl -Darchname=x86_64-linux-thread-multi -Dlibpth=/usr/local/lib64 /lib64 /usr/lib64 -Duseshrplib -Dusethreads -Duseithreads -Dusedtrace=/usr/bin/dtrace -Duselargefiles -Dd_semctl_semun -Di_db -Ui_ndbm -Di_gdbm -Di_shadow -Di_syslog -Dman3ext=3pm -Duseperlio -Dinstallusrbinperl=n -Ubincompat5005 -Uversiononly -Dpager=/usr/bin/less -isr -Dd_gethostent_r_proto -Ud_endhostent_r_proto -Ud_sethostent_r_proto -Ud_endprotoent_r_proto -Ud_setprotoent_r_proto -Ud_endservent_r_proto -Ud_setservent_r_proto -Dscriptdir=/usr/bin -Dusesitecustomize -Duse64bitint1'
hint=recommended, useposix=true, d_sigaction=define
useithreads=define, usemultiplicity=define
use64bitint=define, use64bitall=define, uselongdouble=undef
usemymalloc=n, bincompat5005=undef
Compiler:
cc='gcc', ccflags ='-D_REENTRANT -D_GNU_SOURCE -O2 -g -pipe -Wall -Werror=format-security -Wp,-D_FORTIFY_SOURCE=2 -fexceptions -fstack-protector-strong --param=ssp-buffer-size=4 -grecord-gcc-switches -m64 -mtune=generic -fwrapv -fno-strict-aliasing -I/usr/local/include -D_LARGEFILE_SOURCE -D_FILE_OFFSET_BITS=64',
optimize=' -g',
cppflags='-D_REENTRANT -D_GNU_SOURCE -O2 -g -pipe -Wall -Werror=format-security -Wp,-D_FORTIFY_SOURCE=2 -fexceptions -fstack-protector-strong --param=ssp-buffer-size=4 -grecord-gcc-switches -m64 -mtune=generic -fwrapv -fno-strict-aliasing -I/usr/local/include'
ccversion='', gccversion='7.1.1 20170622 (Red Hat 7.1.1-3)', gccosandvers=''
intsize=4, longsize=8, ptrsize=8, doublesize=8, byteorder=12345678, doublekind=3
d_longlong=define, longlongsize=8, d_longdbl=define, longdblsize=16, longdblkind=3
ivtype='long', ivsize=8, nvtype='double', nvsize=8, Off_t='off_t', lseeksize=8
alignbytes=8, prototype=define
Linker and Libraries:
ld='gcc', ldflags ='-Wl,-z,relro -fstack-protector-strong -L/usr/local/lib'
libpth=/usr/local/lib64 /lib64 /usr/lib64 /usr/local/lib /usr/lib /lib/../lib64 /usr/lib/../lib64 /lib
libs=-lpthread -lresolv -lnsl -lgdbm -ldb -ldl -lm -lcrypt -lutil -lc -lgdbm_compat
perllibs=-lpthread -lresolv -lnsl -ldl -lm -lcrypt -lutil -lc
libc=libc-2.25.so, so=so, useshrplib=true, libperl=libperl.so
gnulibc_version='2.25'
Dynamic Linking:
dlsrc=dl_dlopen.xs, dlext=so, d_dlsymun=undef, ccdlflags='-Wl,--enable-new-dtags -Wl,-z,relro '
cccdlflags='-fPIC', lddlflags='-shared -Wl,-z,relro -L/usr/local/lib -fstack-protector-strong'
Characteristics of this binary (from libperl):
Compile-time options: HAS_TIMES MULTIPLICITY PERLIO_LAYERS
PERL_COPY_ON_WRITE PERL_DONT_CREATE_GVSV
PERL_HASH_FUNC_ONE_AT_A_TIME_HARD
PERL_IMPLICIT_CONTEXT PERL_MALLOC_WRAP
PERL_PRESERVE_IVUV USE_64_BIT_ALL USE_64_BIT_INT
USE_ITHREADS USE_LARGE_FILES USE_LOCALE
USE_LOCALE_COLLATE USE_LOCALE_CTYPE
USE_LOCALE_NUMERIC USE_LOCALE_TIME USE_PERLIO
USE_PERL_ATOF USE_REENTRANT_API USE_SITECUSTOMIZE
Locally applied patches:
Fedora Patch1: Removes date check, Fedora/RHEL specific
Fedora Patch3: support for libdir64
Fedora Patch4: use libresolv instead of libbind
Fedora Patch5: USE_MM_LD_RUN_PATH
Fedora Patch6: Provide MM::maybe_command independently (bug #1129443)
Fedora Patch7: Dont run one io test due to random builder failures
Fedora Patch15: Define SONAME for libperl.so
Fedora Patch16: Install libperl.so to -Dshrpdir value
Fedora Patch22: Document Math::BigInt::CalcEmu requires Math::BigInt (CPAN RT#85015)
Fedora Patch26: Make *DBM_File desctructors thread-safe (RT#61912)
Fedora Patch27: Make PadlistNAMES() lvalue again (CPAN RT#101063)
Fedora Patch28: Make magic vtable writable as a work-around for Coro (CPAN RT#101063)
Fedora Patch30: Replace EU::MakeMaker dependency with EU::MM::Utils in IPC::Cmd (bug #1129443)
Fedora Patch31: Fix a memory leak in compiling a POSIX class (RT#128313)
Fedora Patch32: Do not mangle errno from failed socket calls (RT#128316)
Fedora Patch33: Fix compiling regular expressions like /\X*(?0)/ (RT#128109)
Fedora Patch34: Do not use unitialized memory in $h{\const} warnings (RT#128189)
Fedora Patch35: Fix precedence in hv_ename_delete (RT#128086)
Fedora Patch36: Do not treat %: as a stash (RT#128238)
Fedora Patch37: Do not crash when inserting a non-stash into a stash (RT#128238)
Fedora Patch38: Fix line numbers with perl -x (RT#128508)
Fedora Patch40: Fix a crash when vivifying a stub in a deleted package (RT#128532)
Fedora Patch41: Fix a crash in "Subroutine redefined" warning (RT#128257)
Fedora Patch42: Fix a crash in lexical scope warnings (RT#128597)
Fedora Patch43: Fix handling \N{} in tr for characters in range 128--255 (RT#128734)
Fedora Patch45: Fix crash in "evalbytes S" (RT#129196)
Fedora Patch46: Fix crash in "evalbytes S" (RT#129196)
Fedora Patch47: Fix crash in "evalbytes S" (RT#129196)
Fedora Petch48: Fix crash in splice (RT#129164, RT#129166, RT#129167)
Fedora Patch49: Fix string overrun in Perl_gv_fetchmethod_pvn_flags (RT#129267)
Fedora Patch50: Fix string overrun in Perl_gv_fetchmethod_pvn_flags (RT#129267)
Fedora Patch51: Fix string overrun in Perl_gv_fetchmethod_pvn_flags (RT#129267)
Fedora Patch52: Fix string overrun in Perl_gv_fetchmethod_pvn_flags (RT#129267)
Fedora Patch53: Fix string overrun in Perl_gv_fetchmethod_pvn_flags (RT#129267)
Fedora Patch54: Fix crash when matching UTF-8 string with non-UTF-8 substrings (RT#129350)
Fedora Patch55: Fix parsing perl options in shell bang line (RT#129336)
Fedora Patch56: Fix firstchar bitmap under UTF-8 with prefix optimization (RT#129950)
Fedora Patch57: Avoid infinite loop in h2xs tool if enum and type have the same name (RT130001)
Fedora Patch58: Fix stack handling when calling chdir without an argument (RT#129130)
Fedora Patch59: Fix crash in Storable when deserializing malformed code reference (RT#68348, RT#130098)
Fedora Patch60: Fix crash on explicit return from regular expression substitution (RT#130188)
Fedora Patch61: Fix assigning split() return values to an array
Fedora Patch62: Fix const correctness in hv_func.h (RT#130169)
Fedora Patch63: Fix a crash in optimized evaluation of "or ((0) x 0))" (RT#130247)
Fedora Patch64: Fix a memory leak in IO::Poll (RT#129788)
Fedora Patch65: Fix regular expression matching (RT#130307)
Fedora Patch66: Fix a buffer overflow in split in scalar context (RT#130262)
Fedora Patch67: Fix a heap overflow with pack "W" (RT129149)
Fedora Patch69: Fix a use-after-free when processing scalar variables in forms (RT#129125)
Fedora Patch70: Fix a heap overflow if invalid octal or hexadecimal number is used in transliteration expression (RT#129342)
Fedora Patch71: Fix out-of-bound read in case of unmatched regexp backreference (RT#129377)
Fedora Patch72: Fix UTF-8 string handling in & operator (RT#129287)
Fedora Patch73: Fix recreation of *:: (RT#129869)
Fedora Patch74: Fix a memory leak in B::RHE->HASH method (RT#130504)
Fedora Patch75: Fix parsing goto statements in multicalled subroutine (RT#113938)
Fedora Patch76: Fix a heap overlow in parsing $# (RT#129274)
Fedora Patch77: Adapt to zlib-1.2.11 (CPAN RT#119762)
Fedora Patch78: Fix compiler fatal warnings in Compress-Raw-Zlib (CPAN RT#120272)
Fedora Patch79: Fix a crash when compiling a regexp with impossible quantifiers (RT#130561)
Fedora Patch82: Fix a buffer overrun with format and "use bytes" (RT#130703)
Fedora Patch83: Fix a buffer overflow when studying some regexps repeatedly (RT#129281, RT#129061)
Fedora Patch85: Fix a heap buffer overflow when evaluating regexps with embedded code blocks from more than one source, RT#129881
Fedora Patch86: Fix a memory leak in list assignment from or to magic values, (RT#130766)
Fedora Patch87: Fix a null-pointer dereference on malformed code (RT#130815)
Fedora Patch88: Fix an use-after-free in substr() that modifies a magic variable (RT#129340)
Fedora Patch89: Fix a memory leak leak in Perl_reg_named_buff_fetch() (RT#130822)
Fedora Patch90: Fix an invalid memory read when parsing a loop variable (RT#130814)
Fedora Patch94: Fix a heap-use-after-free in four-arguments substr call (RT#130624)
Fedora Patch95: Make File::Glob more resistant against degenerative matching (RT#131211)
Fedora Patch96: Fix a memory wrap in sv_vcatpvfn_flags() (RT#131260)
Fedora Patch98: Fix a crash when calling a subroutine from a stash (RT#131085)
Fedora Patch99: Fix an improper cast of a negative integer to an unsigned 8-bit type (RT#131190)
Fedora Patch100: Fix cloning :via handles on thread creation (RT#131221)
Fedora Patch102: Fix glob UTF-8 flag on a glob reassignment (RT#131263)
Fedora Patch103: Fix a buffer overflow in my_atof2() (RT#131526)
Fedora Patch105: Fix handling backslashes in PATH environment variable when executing "perl -S" (RT#129183)
Fedora Patch106: Fix a conditional jump on uninitilized memory in re_intuit_start() (RT#131575)
Fedora Patch107: Fix spurious "Assuming NOT a POSIX class" warning (RT#131522)
Fedora Patch200: Link XS modules to libperl.so with EU::CBuilder on Linux
Fedora Patch201: Link XS modules to libperl.so with EU::MM on Linux
Built under linux
Compiled at Jul 17 2017 11:46:12
%ENV:
PERL5LIB=""
PERL5OPT=""
PERL5_CPANPLUS_IS_RUNNING="5914"
PERL5_CPAN_IS_RUNNING="5914"
PERLDOC_PAGER="less -iMXFRs -+C"
PERL_MM_USE_DEFAULT="1"
@INC:
/usr/local/lib64/perl5
/usr/local/share/perl5
/usr/lib64/perl5/vendor_perl
/usr/share/perl5/vendor_perl
/usr/lib64/perl5
/usr/share/perl5
.