FFI-Platypus v2.08 Perl 5 v5.37.12 darwin-thread-multi-ld-2level

Status
Pass
From
Dist
FFI-Platypus v2.08
Platform
Perl 5 v5.37.12 darwin-thread-multi-ld-2level
Date
2023-05-07 10:49:31
ID
d8be3ab0-ecc4-11ed-ba10-afc9ba1967ed
This distribution has been tested as part of the CPAN Testers
project, supporting the Perl programming language.  See
http://wiki.cpantesters.org/ for more information or email
questions to cpan-testers-discuss@perl.org


--
Dear Graham Ollis,

This is a computer-generated report for FFI-Platypus-2.08
on perl 5.37.12, created by CPAN-Reporter-1.2019.

Thank you for uploading your work to CPAN.  Congratulations!
All tests were successful.

Sections of this report:

    * Tester comments
    * Program output
    * Prerequisites
    * Environment and other context

------------------------------
TESTER COMMENTS
------------------------------

Additional comments from tester:

none provided

------------------------------
PROGRAM OUTPUT
------------------------------

Output from '/usr/local/bin/remake test':

"/opt/perl5/perls/perl-blead/bin/perl5.37.12" -MExtUtils::Command::MM -e 'cp_nonempty' -- lib/FFI/Platypus.bs blib/arch/auto/FFI/Platypus/Platypus.bs 644
CC t/ffi/align.c
CC t/ffi/align_array.c
CC t/ffi/align_fixed.c
CC t/ffi/align_string.c
CC t/ffi/basic.c
CC t/ffi/closure.c
CC t/ffi/color.c
CC t/ffi/complex_double.c
CC t/ffi/complex_float.c
CC t/ffi/double.c
CC t/ffi/float.c
CC t/ffi/gh117.c
CC t/ffi/gh174.c
CC t/ffi/longdouble.c
CC t/ffi/memcmp4.c
CC t/ffi/meta.c
CC t/ffi/pointer.c
CC t/ffi/record.c
CC t/ffi/sint16.c
CC t/ffi/sint32.c
CC t/ffi/sint64.c
CC t/ffi/sint8.c
CC t/ffi/string.c
CC t/ffi/string_array.c
CC t/ffi/uint16.c
CC t/ffi/uint32.c
CC t/ffi/uint64.c
CC t/ffi/uint8.c
CC t/ffi/variadic.c
LD t/ffi/libtest.dylib
PERL_DL_NONLAZY=1 "/opt/perl5/perls/perl-blead/bin/perl5.37.12" "-MExtUtils::Command::MM" "-MTest::Harness" "-e" "undef *Test::Harness::Switches; test_harness(0, 'blib/lib', 'blib/arch')" t/*.t
# 
# 
# 
# HARNESS_ACTIVE=1
# HARNESS_VERSION=3.44
# LANG=en_US.UTF-8
# LC_ADDRESS=en_US.UTF-8
# LC_ALL=
# LC_COLLATE=C
# LC_IDENTIFICATION=en_US.UTF-8
# LC_MEASUREMENT=en_US.UTF-8
# LC_MESSAGES=POSIX
# LC_MONETARY=en_US.UTF-8
# LC_NAME=en_US.UTF-8
# LC_NUMERIC=en_US.UTF-8
# LC_PAPER=en_US.UTF-8
# LC_TELEPHONE=en_US.UTF-8
# LC_TERMINAL=iTerm2
# LC_TERMINAL_VERSION=3.5.0beta10
# LC_TIME=en_US.UTF-8
# PERL5LIB=/Users/b1-bloom/.cpan/build/FFI-Platypus-2.08-0/blib/lib:/Users/b1-bloom/.cpan/build/FFI-Platypus-2.08-0/blib/arch:
# PERL5OPT=
# PERL5_CPANPLUS_IS_RUNNING=41072
# PERL5_CPAN_IS_RUNNING=41072
# PERLBREW_CPAN_MIRROR=https://cpan.metacpan.org
# PERLBREW_HOME=/Users/b1-bloom/.perlbrew
# PERLBREW_MANPATH=/opt/perl5/perls/perl-blead/man
# PERLBREW_PATH=/opt/perl5/bin:/opt/perl5/perls/perl-blead/bin
# PERLBREW_PERL=perl-blead
# PERLBREW_ROOT=/opt/perl5
# PERLBREW_SHELLRC_VERSION=0.96
# PERLBREW_VERSION=0.96
# PERL_AUTOINSTALL=1
# PERL_CPANM_OPT=-v --with-recommends --with-suggests --man-pages --auto-cleanup
# PERL_DL_NONLAZY=1
# PERL_EXTUTILS_AUTOINSTALL=1
# PERL_MM_USE_DEFAULT=1
# PERL_USE_UNSAFE_INC=1
# SHELL=/usr/local/bin/zsh
# 
# 
# 
# PERL5LIB path
# /Users/b1-bloom/.cpan/build/FFI-Platypus-2.08-0/blib/lib
# /Users/b1-bloom/.cpan/build/FFI-Platypus-2.08-0/blib/arch
# 
# 
# 
# perl                  5.037012 darwin darwin-thread-multi-ld-2level
# Alien::Base           2.78
# Alien::FFI            -
# Capture::Tiny         0.48
# Devel::Hide           0.0015
# ExtUtils::CBuilder    0.280238
# ExtUtils::MakeMaker   7.70
# ExtUtils::ParseXS     3.50
# FFI::CheckLib         0.31
# File::Spec::Functions 3.88
# IPC::Cmd              1.04
# JSON::PP              4.16
# List::Util            1.63
# Math::LongDouble      -
# PkgConfig             -
# Test2::API            1.302195
# Test2::V0             0.000155
# autodie               2.36
# constant              1.33
# forks                 -
# parent                0.241
# 
# 
# 
# mode : system
# Alien::FFI::pkgconfig->VERSION      = 
# Alien::FFI::pkgconfig->install_type = system
# Alien::FFI::pkgconfig->cflags       = -I/Library/Developer/CommandLineTools/SDKs/MacOSX13.sdk/usr/include/ffi
# Alien::FFI::pkgconfig->libs         = -lffi
# Alien::FFI::pkgconfig->version      = 3.4-rc1
# 
# 
# 
# ffi.platypus.memory.strdup_impl =libc
# ffi.platypus.memory.strndup_impl=libc
# 
# 
# 
# Types:
#   double   : double, float complex
#   float    : float
#   longdouble : double complex, long double, long double complex
#   sint16   : int16_t, short, signed short
#   sint32   : blksize_t, dev_t, int, int32_t, senum, signed int, wchar_t, wint_t
#   sint64   : blkcnt_t, int64_t, intmax_t, intptr_t, long, long long, off_t, ptrdiff_t, signed long, signed long long, ssize_t, time_t
#   sint8    : char, int8_t, signed char
#   uint16   : mode_t, nlink_t, uint16_t, unsigned short, ushort
#   uint32   : enum, gid_t, uid_t, uint, uint32_t, unsigned int
#   uint64   : ino_t, size_t, uint64_t, uintmax_t, uintptr_t, ulong, unsigned long, unsigned long long
#   uint8    : bool, uchar, uint8_t, unsigned char
# 
# 
# 
# ABIs:
#   default_abi          2
#   efi64                3
#   gnuw64               4
#   unix64               2
#   win64                3
# 
# 
# 
# Probes:
#   bigendian64          0
#   strnlen              1
#   complex              1
#   recordvalue          1
#   alloca               1
#   longdouble           1
#   abi                  1
#   variadic             1
#   bigendian            0
# 
# 
# 
# [PLATFORM]
# osname            : darwin
# cc                : clang
# cxx               : clang++
# cxxld             : clang++
# for               : gfortran
# ld                : clang
# ccflags           : -fno-common -DPERL_DARWIN -no-cpp-precomp -mmacosx-version-min=13.4 -fno-strict-aliasing -pipe -fstack-protector-strong -I/usr/local/include -O3 -I/Users/b1-bloom/.cpan/build/FFI-Platypus-2.08-0/blib/lib/auto/share/dist/FFI-Platypus/include
# ldflags           : -mmacosx-version-min=13.4 -dynamiclib -undefined dynamic_lookup -L/usr/local/lib -fstack-protector-strong
# object suffix     : .o
# library prefix    : lib
# library suffix    : .dylib,.bundle
# cc mm works       : -MM
# 
# 
# 
t/00_diag.t .............................. ok
t/ffi_build.t ............................ ok
t/ffi_build_file_base.t .................. ok
t/ffi_build_file_c.t ..................... ok
t/ffi_build_file_cxx.t ................... ok
t/ffi_build_file_library.t ............... ok
t/ffi_build_file_object.t ................ ok
t/ffi_build_mm.t ......................... ok
t/ffi_build_platform.t ................... ok
t/ffi_build_plugin.t ..................... ok
t/ffi_build_plugindata.t ................. ok
t/ffi_platypus.t ......................... ok
t/ffi_platypus_api.t ..................... ok
t/ffi_platypus_buffer.t .................. ok
t/ffi_platypus_bundle.t .................. ok
t/ffi_platypus_closure.t ................. ok
t/ffi_platypus_constant.t ................ ok
t/ffi_platypus_dl.t ...................... ok
t/ffi_platypus_function.t ................ ok
t/ffi_platypus_function_wrapper.t ........ ok
t/ffi_platypus_internal.t ................ ok
t/ffi_platypus_lang.t .................... ok
t/ffi_platypus_lang_asm.t ................ ok
t/ffi_platypus_lang_c.t .................. ok
t/ffi_platypus_lang_win32.t .............. ok
t/ffi_platypus_legacy.t .................. ok
t/ffi_platypus_memory.t .................. ok
t/ffi_platypus_record.t .................. ok
t/ffi_platypus_record_meta.t ............. ok
t/ffi_platypus_record_tiearray.t ......... ok
t/ffi_platypus_shareconfig.t ............. ok
t/ffi_platypus_type.t .................... ok
t/ffi_platypus_type_pointersizebuffer.t .. ok
t/ffi_platypus_type_stringarray.t ........ ok
t/ffi_platypus_type_stringpointer.t ...... ok
t/ffi_platypus_type_widestring.t ......... ok
t/ffi_platypus_typeparser.t .............. ok
t/ffi_platypus_typeparser_version0.t ..... ok
t/ffi_platypus_typeparser_version1.t ..... ok
t/ffi_platypus_typeparser_version2.t ..... ok
t/ffi_probe.t ............................ ok
t/ffi_probe_runner.t ..................... ok
t/ffi_probe_runner_builder.t ............. ok
t/ffi_probe_runner_result.t .............. ok
t/ffi_temp.t ............................. ok
t/forks.t ................................ skipped: Test requires forks
t/gh117.t ................................ ok
t/gh129.t ................................ ok
t/gh323.t ................................ ok
t/memory.t ............................... skipped: tested only in CI
t/threads.t .............................. ok
t/type_complex_double.t .................. ok
t/type_complex_float.t ................... ok
t/type_custom.t .......................... ok
t/type_double.t .......................... ok
t/type_float.t ........................... ok
t/type_longdouble.t ...................... ok
t/type_longdouble__array.t ............... ok
t/type_longdouble__hide.t ................ ok
t/type_longdouble__ptr.t ................. ok
t/type_opaque.t .......................... ok
t/type_record.t .......................... ok
t/type_record_value.t .................... ok
t/type_sint16.t .......................... ok
t/type_sint32.t .......................... ok
t/type_sint64.t .......................... ok
t/type_sint8.t ........................... ok
t/type_string.t .......................... ok
t/type_uint16.t .......................... ok
t/type_uint32.t .......................... ok
t/type_uint64.t .......................... ok
t/type_uint8.t ........................... ok
All tests successful.
Files=72, Tests=322, 27 wallclock secs ( 0.27 usr  0.16 sys + 16.46 cusr  5.96 csys = 22.85 CPU)
Result: PASS

------------------------------
PREREQUISITES
------------------------------

Prerequisite modules loaded:

requires:

    Module                Need     Have    
    --------------------- -------- --------
    autodie               0        2.36    
    Capture::Tiny         0        0.48    
    constant              1.32     1.33    
    ExtUtils::MakeMaker   7.12     7.70    
    FFI::CheckLib         0.05     0.31    
    File::Spec::Functions 0        3.88    
    IPC::Cmd              0        1.04    
    JSON::PP              0        4.16    
    List::Util            1.45     1.63    
    parent                0        0.241   
    perl                  5.008004 5.037012

build_requires:

    Module                Need     Have    
    --------------------- -------- --------
    Capture::Tiny         0        0.48    
    ExtUtils::CBuilder    0        0.280238
    Test2::API            1.302015 1.302195
    Test2::V0             0.000121 0.000155

configure_requires:

    Module                Need     Have    
    --------------------- -------- --------
    Capture::Tiny         0        0.48    
    ExtUtils::MakeMaker   7.12     7.70    
    ExtUtils::ParseXS     3.30     3.50    
    IPC::Cmd              0        1.04    
    JSON::PP              0        4.16    
    parent                0        0.241   
    perl                  5.006    5.037012


------------------------------
ENVIRONMENT AND OTHER CONTEXT
------------------------------

Environment variables:

    CPAN_RUN_SHELL_TEST_WITHOUT_EXPECT = 1
    LANG = en_US.UTF-8
    LC_ADDRESS = en_US.UTF-8
    LC_ALL = 
    LC_COLLATE = C
    LC_IDENTIFICATION = en_US.UTF-8
    LC_MEASUREMENT = en_US.UTF-8
    LC_MESSAGES = POSIX
    LC_MONETARY = en_US.UTF-8
    LC_NAME = en_US.UTF-8
    LC_NUMERIC = en_US.UTF-8
    LC_PAPER = en_US.UTF-8
    LC_TELEPHONE = en_US.UTF-8
    LC_TERMINAL = iTerm2
    LC_TERMINAL_VERSION = 3.5.0beta10
    LC_TIME = en_US.UTF-8
    LDFLAGS = -Wl,-syslibroot,/Applications/Xcode.app/Contents/Developer/Platforms/MacOSX.platform/Developer/SDKs/MacOSX.sdk -mmacosx-version-min=13 -L/Applications/Xcode.app/Contents/Developer/Platforms/MacOSX.platform/Developer/SDKs/MacOSX13.3.sdk/usr/lib -L/usr/local/lib -L/usr/local/opt/openssl@1.1/lib -L/usr/local/opt/readline/lib -L/usr/local/opt/zlib/lib -L/usr/local/opt/bzip2/lib -L/usr/local/opt/icu4c/lib -L/usr/local/opt/expat/lib -L/usr/local/opt/libxslt/lib -L/usr/local/opt/libxml2/lib -L/usr/local/opt/bison/lib -L/usr/local/opt/berkeley-db/lib -L/usr/local/opt/sqlite/lib -L/usr/local/opt/libarchive/lib
    LD_LIBRARY_PATH = :/usr/lib:/usr/local/lib
    NONINTERACTIVE_TESTING = 1
    PATH = /Users/b1-bloom/.local/bin:/Users/b1-bloom/.cargo/bin:/usr/local/opt/libtool/libexec/gnubin:/usr/local/opt/gnupg/bin:/Users/b1-bloom/.bin:/opt/perl5/bin:/opt/perl5/perls/perl-blead/bin:/Users/b1-bloom/Library/Python/3.11/bin:/Users/b1-bloom/Library/Python/3.10/bin:/Users/b1-bloom/Library/Python/3.9/bin:/Users/b1-bloom/.pyenv/bin:/Users/b1-bloom/.rbenv/bin:/Users/b1-bloom/.jenv/shims:/Users/b1-bloom/.jenv/bin:/opt/luarocks/bin:/usr/local/opt/luajit-openresty/bin:/Users/b1-bloom/.mint/bin:/Users/b1-bloom/Bloom-Development/Bloom-Project/B1-Local/B1-GOLANG/bin:/usr/local/opt/go/libexec/bin:/Users/b1-bloom/.deno/bin:/usr/local/opt/autoconf/bin:/usr/local/opt/gnu-which/libexec/gnubin:/usr/local/opt/grep/libexec/gnubin:/usr/local/opt/bison/bin:/opt/metasploit-framework/bin:/usr/local/opt/ncurses/bin:/usr/local/opt/awk/bin:/usr/local/opt/berkeley-db/bin:/usr/local/opt/lsof/bin:/usr/local/opt/git/bin:/usr/local/opt/rtmpdump/bin:/usr/local/opt/unzip/bin:/usr/local/opt/bzip2/bin:/usr/local/opt/libarchive/bin:/usr/local/opt/expat/bin:/usr/local/opt/libxslt/bin:/usr/local/opt/libxml2/bin:/usr/local/opt/sqlite/bin:/usr/local/opt/man-db/sbin:/usr/local/opt/man-db/bin:/usr/local/opt/apr-util/bin:/usr/local/opt/apr/bin:/usr/local/opt/icu4c/sbin:/usr/local/opt/icu4c/bin:/Applications/Visual Studio Code - Insiders.app/Contents/Resources/app/bin:/opt/DevTools/DictionaryDevelopmentKit/bin:/Users/b1-bloom/.yarn/bin:/Users/b1-bloom/.osx-sysdir/FinderMD/bin:/usr/local/opt/openssl@1.1/bin:/Users/b1-bloom/.pyenv/plugins/pyenv-virtualenv/shims:/Users/b1-bloom/.pyenv/shims:/Users/b1-bloom/.nvm/versions/node/v20.1.0/bin:/Users/b1-bloom/.rbenv/shims:/usr/local/bin:/usr/local/sbin:/Library/Apple/usr/bin:/usr/bin:/usr/sbin:/bin:/sbin:/System/Cryptexes/App/usr/bin:/usr/local/MacGPG2/bin:/opt/X11/bin:/Applications/Wireshark.app/Contents/MacOS:/var/run/com.apple.security.cryptexd/codex.system/bootstrap/usr/local/bin:/var/run/com.apple.security.cryptexd/codex.system/bootstrap/usr/bin:/var/run/com.apple.security.cryptexd/codex.system/bootstrap/usr/appleinternal/bin:/usr/libexec:/System/Library/CoreServices:/Applications/iTerm.app/Contents/Resources/utilities:/Users/b1-bloom/Bloom-Development/Bloom-Terminal/B3-Term/plugins/jq/bin:/Users/b1-bloom/.composer/vendor/bin:/Users/b1-bloom/.fzf/bin
    PERL5LIB = 
    PERL5OPT = 
    PERL5_CPANPLUS_IS_RUNNING = 41072
    PERL5_CPAN_IS_RUNNING = 41072
    PERLBREW_CPAN_MIRROR = https://cpan.metacpan.org
    PERLBREW_HOME = /Users/b1-bloom/.perlbrew
    PERLBREW_MANPATH = /opt/perl5/perls/perl-blead/man
    PERLBREW_PATH = /opt/perl5/bin:/opt/perl5/perls/perl-blead/bin
    PERLBREW_PERL = perl-blead
    PERLBREW_ROOT = /opt/perl5
    PERLBREW_SHELLRC_VERSION = 0.96
    PERLBREW_VERSION = 0.96
    PERL_AUTOINSTALL = 1
    PERL_CPANM_OPT = -v --with-recommends --with-suggests --man-pages --auto-cleanup
    PERL_EXTUTILS_AUTOINSTALL = 1
    PERL_MM_USE_DEFAULT = 1
    PERL_USE_UNSAFE_INC = 1
    SHELL = /usr/local/bin/zsh
    TERM = xterm-256color
    TMPDIR = /var/folders/jn/jcn2g_t16f9b_gpcjvfgzvs80000gn/T/

Perl special variables (and OS-specific diagnostics, for MSWin32):

    $^X = /opt/perl5/perls/perl-blead/bin/perl5.37.12
    $UID/$EUID = 501 / 501
    $GID = 20 20 12 61 79 80 81 98 399 400 101 705 703 33 100 204 250
    $EGID = 20 20 12 61 79 80 81 98 399 400 101 705 703 33 100 204 250

Perl module toolchain versions installed:

    Module              Have    
    ------------------- --------
    CPAN                2.35    
    CPAN::Meta          2.150010
    Cwd                 3.89    
    ExtUtils::CBuilder  0.280238
    ExtUtils::Command   7.70    
    ExtUtils::Install   2.22    
    ExtUtils::MakeMaker 7.70    
    ExtUtils::Manifest  1.75    
    ExtUtils::ParseXS   3.50    
    File::Spec          3.88    
    JSON                4.10    
    JSON::PP            4.16    
    Module::Build       0.4234  
    Module::Signature   0.88    
    Parse::CPAN::Meta   2.150010
    Test2               1.302195
    Test::Harness       3.44    
    Test::More          1.302195
    YAML                1.30    
    YAML::Syck          1.34    
    version             0.9929  


--

Summary of my perl5 (revision 5 version 37 subversion 12) configuration:
  Snapshot of: c92090f4ad8f5a531f27024c79db40d8be23bec3
  Platform:
    osname=darwin
    osvers=22.5.0
    archname=darwin-thread-multi-ld-2level
    uname='darwin ast-03.local 22.5.0 darwin kernel version 22.5.0: tue apr 25 04:05:40 pdt 2023; root:xnu-8796.121.2~8release_x86_64 x86_64 '
    config_args='-de -Dprefix=/opt/perl5/perls/perl-blead -Duseshrplib -Duselargefiles -Dusethreads -Dusedevel -Dsed=/usr/bin/sed -Doptimize=-O3 -Dcc=clang -Dusemultiplicity -Dusethreads -Duselongdouble -Duse64bitint -Dusedevel -Aeval:scriptdir=/opt/perl5/perls/perl-blead/bin'
    hint=recommended
    useposix=true
    d_sigaction=define
    useithreads=define
    usemultiplicity=define
    use64bitint=define
    use64bitall=define
    uselongdouble=define
    usemymalloc=n
    default_inc_excludes_dot=define
  Compiler:
    cc='clang'
    ccflags ='-fno-common -DPERL_DARWIN -no-cpp-precomp -mmacosx-version-min=13.4 -fno-strict-aliasing -pipe -fstack-protector-strong -I/usr/local/include'
    optimize='-O3'
    cppflags='-no-cpp-precomp -fno-common -DPERL_DARWIN -no-cpp-precomp -mmacosx-version-min=13.4 -fno-strict-aliasing -pipe -fstack-protector-strong -I/usr/local/include'
    ccversion=''
    gccversion='Apple LLVM 14.0.3 (clang-1403.0.22.14.1)'
    gccosandvers=''
    intsize=4
    longsize=8
    ptrsize=8
    doublesize=8
    byteorder=12345678
    doublekind=3
    d_longlong=define
    longlongsize=8
    d_longdbl=define
    longdblsize=16
    longdblkind=3
    ivtype='long'
    ivsize=8
    nvtype='long double'
    nvsize=16
    Off_t='off_t'
    lseeksize=8
    alignbytes=16
    prototype=define
  Linker and Libraries:
    ld='clang'
    ldflags =' -mmacosx-version-min=13.4 -fstack-protector-strong -L/usr/local/lib'
    libpth=/Applications/Xcode.app/Contents/Developer/Toolchains/XcodeDefault.xctoolchain/usr/lib/clang/14.0.3/lib /Applications/Xcode.app/Contents/Developer/Platforms/MacOSX.platform/Developer/SDKs/MacOSX.sdk/usr/lib /Applications/Xcode.app/Contents/Developer/Toolchains/XcodeDefault.xctoolchain/usr/lib /usr/local/lib /usr/lib
    libs=-lgdbm -ldbm
    perllibs=
    libc=
    so=dylib
    useshrplib=true
    libperl=libperl.dylib
    gnulibc_version=''
  Dynamic Linking:
    dlsrc=dl_dlopen.xs
    dlext=bundle
    d_dlsymun=undef
    ccdlflags=' '
    cccdlflags=' '
    lddlflags=' -mmacosx-version-min=13.4 -bundle -undefined dynamic_lookup -L/usr/local/lib -fstack-protector-strong'


Characteristics of this binary (from libperl): 
  Compile-time options:
    HAS_LONG_DOUBLE
    HAS_STRTOLD
    HAS_TIMES
    MULTIPLICITY
    PERLIO_LAYERS
    PERL_COPY_ON_WRITE
    PERL_DONT_CREATE_GVSV
    PERL_HASH_FUNC_SIPHASH13
    PERL_HASH_USE_SBOX32
    PERL_MALLOC_WRAP
    PERL_OP_PARENT
    PERL_PRESERVE_IVUV
    PERL_USE_DEVEL
    PERL_USE_SAFE_PUTENV
    USE_64_BIT_ALL
    USE_64_BIT_INT
    USE_ITHREADS
    USE_LARGE_FILES
    USE_LOCALE
    USE_LOCALE_COLLATE
    USE_LOCALE_CTYPE
    USE_LOCALE_NUMERIC
    USE_LOCALE_TIME
    USE_LONG_DOUBLE
    USE_PERLIO
    USE_PERL_ATOF
    USE_REENTRANT_API
    USE_THREAD_SAFE_LOCALE
  Built under darwin
  Compiled at May  6 2023 15:23:34
  %ENV:
    PERL5LIB=""
    PERL5OPT=""
    PERL5_CPANPLUS_IS_RUNNING="41072"
    PERL5_CPAN_IS_RUNNING="41072"
    PERLBREW_CPAN_MIRROR="https://cpan.metacpan.org"
    PERLBREW_HOME="/Users/b1-bloom/.perlbrew"
    PERLBREW_MANPATH="/opt/perl5/perls/perl-blead/man"
    PERLBREW_PATH="/opt/perl5/bin:/opt/perl5/perls/perl-blead/bin"
    PERLBREW_PERL="perl-blead"
    PERLBREW_ROOT="/opt/perl5"
    PERLBREW_SHELLRC_VERSION="0.96"
    PERLBREW_VERSION="0.96"
    PERL_AUTOINSTALL="1"
    PERL_CPANM_OPT="-v --with-recommends --with-suggests --man-pages --auto-cleanup"
    PERL_EXTUTILS_AUTOINSTALL="1"
    PERL_MM_USE_DEFAULT="1"
    PERL_USE_UNSAFE_INC="1"
  @INC:
    /opt/perl5/perls/perl-blead/lib/site_perl/5.37.12/darwin-thread-multi-ld-2level
    /opt/perl5/perls/perl-blead/lib/site_perl/5.37.12
    /opt/perl5/perls/perl-blead/lib/5.37.12/darwin-thread-multi-ld-2level
    /opt/perl5/perls/perl-blead/lib/5.37.12
    .