FFI-Platypus v1.10 Perl 5 v5.30.1 armv6l-linux
- Status
- Pass
- From
- gregor herrmann
- Dist
-
FFI-Platypus v1.10
- Platform
- Perl 5 v5.30.1 armv6l-linux
- Date
- 2020-02-06 05:38:04
- ID
- d8b2cc4e-48a2-11ea-aa20-2158a276fbf5
This distribution has been tested as part of the CPAN Testers
project, supporting the Perl programming language. See
http://wiki.cpantesters.org/ for more information or email
questions to cpan-testers-discuss@perl.org
--
Dear Graham Ollis,
This is a computer-generated report for FFI-Platypus-1.10
on perl 5.30.1, created by CPAN-Reporter-1.2018.
Thank you for uploading your work to CPAN. Congratulations!
All tests were successful.
Sections of this report:
* Tester comments
* Program output
* Prerequisites
* Environment and other context
------------------------------
TESTER COMMENTS
------------------------------
Additional comments from tester:
this report is from an automated smoke testing program
and was not reviewed by a human for accuracy
------------------------------
PROGRAM OUTPUT
------------------------------
Output from '/usr/bin/make test':
"/srv/smoker/perl5/perlbrew/perls/perl-5.30.1/bin/perl" -MExtUtils::Command::MM -e 'cp_nonempty' -- lib/FFI/Platypus.bs blib/arch/auto/FFI/Platypus/Platypus.bs 644
CC t/ffi/align.c
CC t/ffi/align_array.c
CC t/ffi/align_fixed.c
CC t/ffi/align_string.c
CC t/ffi/basic.c
CC t/ffi/closure.c
CC t/ffi/color.c
CC t/ffi/complex_double.c
CC t/ffi/complex_float.c
CC t/ffi/double.c
CC t/ffi/float.c
CC t/ffi/gh117.c
CC t/ffi/gh174.c
CC t/ffi/longdouble.c
CC t/ffi/memcmp4.c
CC t/ffi/meta.c
CC t/ffi/pointer.c
CC t/ffi/record.c
CC t/ffi/sint16.c
CC t/ffi/sint32.c
CC t/ffi/sint64.c
CC t/ffi/sint8.c
CC t/ffi/string.c
CC t/ffi/string_array.c
CC t/ffi/uint16.c
CC t/ffi/uint32.c
CC t/ffi/uint64.c
CC t/ffi/uint8.c
CC t/ffi/variadic.c
LD t/ffi/libtest.so
PERL_DL_NONLAZY=1 "/srv/smoker/perl5/perlbrew/perls/perl-5.30.1/bin/perl" "-MExtUtils::Command::MM" "-MTest::Harness" "-e" "undef *Test::Harness::Switches; test_harness(0, 'blib/lib', 'blib/arch')" t/*.t
#
#
#
# HARNESS_ACTIVE=1
# HARNESS_VERSION=3.42
# LC_CTYPE=de_AT.utf8
# PERL5LIB=/srv/smoker/cpan/build/FFI-Platypus-1.10-0/blib/lib:/srv/smoker/cpan/build/FFI-Platypus-1.10-0/blib/arch:
# PERL5OPT=
# PERL5_CPANPLUS_IS_RUNNING=11666
# PERL5_CPAN_IS_RUNNING=11666
# PERL5_CPAN_IS_RUNNING_IN_RECURSION=13626,11666
# PERLBREW_HOME=/srv/smoker/.perlbrew
# PERLBREW_MANPATH=/srv/smoker/perl5/perlbrew/perls/perl-5.30.1/man
# PERLBREW_PATH=/srv/smoker/perl5/perlbrew/bin:/srv/smoker/perl5/perlbrew/perls/perl-5.30.1/bin
# PERLBREW_PERL=perl-5.30.1
# PERLBREW_ROOT=/srv/smoker/perl5/perlbrew
# PERLBREW_SHELLRC_VERSION=0.88
# PERLBREW_VERSION=0.88
# PERL_CR_SMOKER_CURRENT=FFI-Platypus-1.10
# PERL_DL_NONLAZY=1
# PERL_EXTUTILS_AUTOINSTALL=--defaultdeps
# PERL_MM_USE_DEFAULT=1
# PERL_TEST_TIME_OUT_FACTOR=3
# PERL_USE_UNSAFE_INC=1
# SHELL=/bin/bash
#
#
#
# PERL5LIB path
# /srv/smoker/cpan/build/FFI-Platypus-1.10-0/blib/lib
# /srv/smoker/cpan/build/FFI-Platypus-1.10-0/blib/arch
#
#
#
# perl 5.030001
# Alien::Base 2.0301
# Capture::Tiny 0.48
# Devel::Hide 0.0010
# ExtUtils::CBuilder 0.280234
# ExtUtils::MakeMaker 7.44
# ExtUtils::ParseXS 3.40
# FFI::CheckLib 0.25
# IPC::Cmd 1.04
# JSON::PP 4.04
# List::Util 1.54
# Math::LongDouble -
# PkgConfig -
# Test::More 1.302171
# constant 1.33
# forks -
#
#
#
# mode : already-installed
# Alien::FFI->VERSION = 0.24
# Alien::FFI->install_type = share
# Alien::FFI->cflags = -I/srv/smoker/perl5/perlbrew/perls/perl-5.30.1/lib/site_perl/5.30.1/armv6l-linux/auto/share/dist/Alien-FFI/include
# Alien::FFI->libs = -L/srv/smoker/perl5/perlbrew/perls/perl-5.30.1/lib/site_perl/5.30.1/armv6l-linux/auto/share/dist/Alien-FFI/lib -lffi
# Alien::FFI->version = 3.3
# my_configure = %{configure} --disable-shared --enable-static --disable-builddir
#
#
#
# ffi.platypus.memory.strdup_impl =libc
# ffi.platypus.memory.strndup_impl=libc
#
#
#
# Types:
# double : double, float complex, long double
# float : float
# longdouble : double complex, long double complex
# sint16 : int16_t, short, signed short
# sint32 : blksize_t, int, int32_t, intptr_t, long, ptrdiff_t, senum, signed int, signed long, ssize_t, time_t
# sint64 : blkcnt_t, int64_t, long long, off_t, signed long long
# sint8 : int8_t, signed char
# uint16 : uint16_t, unsigned short, ushort
# uint32 : enum, gid_t, mode_t, nlink_t, size_t, uid_t, uint, uint32_t, uintptr_t, ulong, unsigned int, unsigned long, wchar_t, wint_t
# uint64 : dev_t, ino_t, uint64_t, unsigned long long
# uint8 : bool, char, uchar, uint8_t, unsigned char
#
#
#
# ABIs:
# default_abi 2
# sysv 1
# vfp 2
#
#
#
# Probes:
# abi 1
# bigendian64 0
# recordvalue 1
# complex 1
# alloca 1
# variadic 1
# bigendian 0
#
#
#
# CPU Info:
# model name : ARMv6-compatible processor rev 7 (v6l)
#
#
#
# No LSB modules are available.
# Distributor ID: Raspbian
# Description: Raspbian GNU/Linux bullseye/sid
# Release: testing
# Codename: bullseye
#
#
#
# [PLATFORM]
# osname : linux
# cc : cc
# cxx : c++
# for : ---
# ld : cc
# ccflags : -fPIC -fwrapv -fno-strict-aliasing -pipe -fstack-protector-strong -I/usr/local/include -D_LARGEFILE_SOURCE -D_FILE_OFFSET_BITS=64 -D_FORTIFY_SOURCE=2 -O2 -I/srv/smoker/cpan/build/FFI-Platypus-1.10-0/blib/lib/auto/share/dist/FFI-Platypus/include
# ldflags : -shared -O2 -L/usr/local/lib -fstack-protector-strong
# object suffix : .o
# library prefix : lib
# library suffix : .so
# cc mm works : -MM
#
#
#
t/00_diag.t .............................. ok
t/01_use.t ............................... ok
t/ffi_build.t ............................ ok
t/ffi_build_file_base.t .................. ok
t/ffi_build_file_c.t ..................... ok
t/ffi_build_file_cxx.t ................... ok
t/ffi_build_file_library.t ............... ok
t/ffi_build_file_object.t ................ ok
t/ffi_build_mm.t ......................... ok
t/ffi_build_platform.t ................... ok
t/ffi_platypus.t ......................... ok
t/ffi_platypus_api.t ..................... ok
t/ffi_platypus_buffer.t .................. ok
t/ffi_platypus_bundle.t .................. ok
t/ffi_platypus_closure.t ................. ok
t/ffi_platypus_constant.t ................ ok
t/ffi_platypus_declare.t ................. ok
t/ffi_platypus_dl.t ...................... ok
t/ffi_platypus_function.t ................ ok
t/ffi_platypus_function_wrapper.t ........ ok
t/ffi_platypus_internal.t ................ ok
t/ffi_platypus_lang.t .................... ok
t/ffi_platypus_lang_asm.t ................ ok
t/ffi_platypus_lang_c.t .................. ok
t/ffi_platypus_lang_win32.t .............. ok
t/ffi_platypus_legacy.t .................. ok
t/ffi_platypus_memory.t .................. ok
t/ffi_platypus_record.t .................. ok
t/ffi_platypus_record_meta.t ............. ok
t/ffi_platypus_record_tiearray.t ......... ok
t/ffi_platypus_shareconfig.t ............. ok
t/ffi_platypus_type.t .................... ok
t/ffi_platypus_type_pointersizebuffer.t .. ok
t/ffi_platypus_type_stringarray.t ........ ok
t/ffi_platypus_type_stringpointer.t ...... ok
t/ffi_platypus_typeparser.t .............. ok
t/ffi_platypus_typeparser_version0.t ..... ok
t/ffi_platypus_typeparser_version1.t ..... ok
t/ffi_probe.t ............................ ok
t/ffi_probe_runner.t ..................... ok
t/ffi_probe_runner_builder.t ............. ok
t/ffi_probe_runner_result.t .............. ok
t/ffi_temp.t ............................. ok
t/forks.t ................................ skipped: Test requires forks
t/gh117.t ................................ ok
t/gh129.t ................................ ok
t/memory.t ............................... skipped: tested only in CI
t/threads.t .............................. skipped: Test requires a threading Perl
t/type_complex_double.t .................. ok
t/type_complex_float.t ................... ok
t/type_custom.t .......................... ok
t/type_double.t .......................... ok
t/type_float.t ........................... ok
t/type_longdouble.t ...................... skipped: test requires support for long double
t/type_longdouble__array.t ............... skipped: test requires support for long double
t/type_longdouble__hide.t ................ skipped: test requires support for long double
t/type_longdouble__ptr.t ................. skipped: test requires support for long double
t/type_opaque.t .......................... ok
t/type_record.t .......................... ok
t/type_record_value.t .................... ok
t/type_sint16.t .......................... ok
t/type_sint32.t .......................... ok
t/type_sint64.t .......................... ok
t/type_sint8.t ........................... ok
t/type_string.t .......................... ok
t/type_uint16.t .......................... ok
t/type_uint32.t .......................... ok
t/type_uint64.t .......................... ok
t/type_uint8.t ........................... ok
All tests successful.
Files=69, Tests=337, 393 wallclock secs ( 9.69 usr 1.34 sys + 276.64 cusr 19.30 csys = 306.97 CPU)
Result: PASS
------------------------------
PREREQUISITES
------------------------------
Prerequisite modules loaded:
requires:
Module Need Have
------------------- -------- --------
Capture::Tiny 0 0.48
constant 1.32 1.33
ExtUtils::MakeMaker 7.12 7.44
FFI::CheckLib 0.05 0.25
IPC::Cmd 0 1.04
JSON::PP 0 4.04
List::Util 1.45 1.54
Math::Int64 0.34 0.54
perl 5.008001 5.030001
build_requires:
Module Need Have
------------------- -------- --------
Capture::Tiny 0 0.48
ExtUtils::CBuilder 0 0.280234
Math::Int64 0.34 0.54
Test::More 0.98 1.302171
configure_requires:
Module Need Have
------------------- -------- --------
Capture::Tiny 0 0.48
ExtUtils::MakeMaker 7.12 7.44
ExtUtils::ParseXS 3.30 3.40
IPC::Cmd 0 1.04
perl 5.006 5.030001
------------------------------
ENVIRONMENT AND OTHER CONTEXT
------------------------------
Environment variables:
AUTOMATED_TESTING = 1
LC_CTYPE = de_AT.utf8
LD_LIBRARY_PATH = /usr/lib/libeatmydata
NONINTERACTIVE_TESTING = 1
PATH = /srv/smoker/bin:/usr/lib/ccache:/srv/smoker/perl5/perlbrew/bin:/srv/smoker/perl5/perlbrew/perls/perl-5.30.1/bin:/usr/local/bin:/usr/bin:/bin:/usr/local/games:/usr/games
PERL5LIB =
PERL5OPT =
PERL5_CPANPLUS_IS_RUNNING = 11666
PERL5_CPAN_IS_RUNNING = 11666
PERL5_CPAN_IS_RUNNING_IN_RECURSION = 13626,11666
PERLBREW_HOME = /srv/smoker/.perlbrew
PERLBREW_MANPATH = /srv/smoker/perl5/perlbrew/perls/perl-5.30.1/man
PERLBREW_PATH = /srv/smoker/perl5/perlbrew/bin:/srv/smoker/perl5/perlbrew/perls/perl-5.30.1/bin
PERLBREW_PERL = perl-5.30.1
PERLBREW_ROOT = /srv/smoker/perl5/perlbrew
PERLBREW_SHELLRC_VERSION = 0.88
PERLBREW_VERSION = 0.88
PERL_CR_SMOKER_CURRENT = FFI-Platypus-1.10
PERL_EXTUTILS_AUTOINSTALL = --defaultdeps
PERL_MM_USE_DEFAULT = 1
PERL_TEST_TIME_OUT_FACTOR = 3
PERL_TEST_TIME_OUT_FACTOR = 3
PERL_USE_UNSAFE_INC = 1
SHELL = /bin/bash
TERM = screen-256color
Perl special variables (and OS-specific diagnostics, for MSWin32):
$^X = /srv/smoker/perl5/perlbrew/perls/perl-5.30.1/bin/perl
$UID/$EUID = 1111 / 1111
$GID = 65534 65534
$EGID = 65534 65534
Perl module toolchain versions installed:
Module Have
------------------- --------
CPAN 2.27
CPAN::Meta 2.150010
Cwd 3.78
ExtUtils::CBuilder 0.280234
ExtUtils::Command 7.44
ExtUtils::Install 2.14
ExtUtils::MakeMaker 7.44
ExtUtils::Manifest 1.72
ExtUtils::ParseXS 3.40
File::Spec 3.78
JSON 4.02
JSON::PP 4.04
Module::Build 0.4231
Module::Signature n/a
Parse::CPAN::Meta 2.150010
Test::Harness 3.42
Test::More 1.302171
YAML 1.30
YAML::Syck 1.32
version 0.9924
--
Summary of my perl5 (revision 5 version 30 subversion 1) configuration:
Platform:
osname=linux
osvers=4.9.0-6-rpi
archname=armv6l-linux
uname='linux smoker 4.9.0-6-rpi #1 raspbian 4.9.82-1+deb9u3+rpi2 (2018-11-09) armv6l gnulinux '
config_args='-de -Dprefix=/srv/smoker/perl5/perlbrew/perls/perl-5.30.1 -Aeval:scriptdir=/srv/smoker/perl5/perlbrew/perls/perl-5.30.1/bin'
hint=recommended
useposix=true
d_sigaction=define
useithreads=undef
usemultiplicity=undef
use64bitint=undef
use64bitall=undef
uselongdouble=undef
usemymalloc=n
default_inc_excludes_dot=define
bincompat5005=undef
Compiler:
cc='cc'
ccflags ='-fwrapv -fno-strict-aliasing -pipe -fstack-protector-strong -I/usr/local/include -D_LARGEFILE_SOURCE -D_FILE_OFFSET_BITS=64 -D_FORTIFY_SOURCE=2'
optimize='-O2'
cppflags='-fwrapv -fno-strict-aliasing -pipe -fstack-protector-strong -I/usr/local/include'
ccversion=''
gccversion='9.2.1 20191102'
gccosandvers=''
intsize=4
longsize=4
ptrsize=4
doublesize=8
byteorder=1234
doublekind=3
d_longlong=define
longlongsize=8
d_longdbl=define
longdblsize=8
longdblkind=0
ivtype='long'
ivsize=4
nvtype='double'
nvsize=8
Off_t='off_t'
lseeksize=8
alignbytes=8
prototype=define
Linker and Libraries:
ld='cc'
ldflags =' -fstack-protector-strong -L/usr/local/lib'
libpth=/usr/local/lib /usr/lib/gcc/arm-linux-gnueabihf/9/include-fixed /usr/include/arm-linux-gnueabihf /usr/lib /lib/arm-linux-gnueabihf /lib /usr/lib/arm-linux-gnueabihf
libs=-lpthread -lnsl -ldb -ldl -lm -lcrypt -lutil -lc
perllibs=-lpthread -lnsl -ldl -lm -lcrypt -lutil -lc
libc=libc-2.29.so
so=so
useshrplib=false
libperl=libperl.a
gnulibc_version='2.29'
Dynamic Linking:
dlsrc=dl_dlopen.xs
dlext=so
d_dlsymun=undef
ccdlflags='-Wl,-E'
cccdlflags='-fPIC'
lddlflags='-shared -O2 -L/usr/local/lib -fstack-protector-strong'
Characteristics of this binary (from libperl):
Compile-time options:
HAS_TIMES
PERLIO_LAYERS
PERL_COPY_ON_WRITE
PERL_DONT_CREATE_GVSV
PERL_MALLOC_WRAP
PERL_OP_PARENT
PERL_PRESERVE_IVUV
USE_LARGE_FILES
USE_LOCALE
USE_LOCALE_COLLATE
USE_LOCALE_CTYPE
USE_LOCALE_NUMERIC
USE_LOCALE_TIME
USE_PERLIO
USE_PERL_ATOF
Locally applied patches:
Devel::PatchPerl 1.38
Built under linux
Compiled at Nov 10 2019 16:55:46
%ENV:
PERL5LIB=""
PERL5OPT=""
PERL5_CPANPLUS_IS_RUNNING="11666"
PERL5_CPAN_IS_RUNNING="11666"
PERL5_CPAN_IS_RUNNING_IN_RECURSION="13626,11666"
PERLBREW_HOME="/srv/smoker/.perlbrew"
PERLBREW_MANPATH="/srv/smoker/perl5/perlbrew/perls/perl-5.30.1/man"
PERLBREW_PATH="/srv/smoker/perl5/perlbrew/bin:/srv/smoker/perl5/perlbrew/perls/perl-5.30.1/bin"
PERLBREW_PERL="perl-5.30.1"
PERLBREW_ROOT="/srv/smoker/perl5/perlbrew"
PERLBREW_SHELLRC_VERSION="0.88"
PERLBREW_VERSION="0.88"
PERL_CR_SMOKER_CURRENT="FFI-Platypus-1.10"
PERL_EXTUTILS_AUTOINSTALL="--defaultdeps"
PERL_MM_USE_DEFAULT="1"
PERL_TEST_TIME_OUT_FACTOR="3"
PERL_USE_UNSAFE_INC="1"
@INC:
/srv/smoker/perl5/perlbrew/perls/perl-5.30.1/lib/site_perl/5.30.1/armv6l-linux
/srv/smoker/perl5/perlbrew/perls/perl-5.30.1/lib/site_perl/5.30.1
/srv/smoker/perl5/perlbrew/perls/perl-5.30.1/lib/5.30.1/armv6l-linux
/srv/smoker/perl5/perlbrew/perls/perl-5.30.1/lib/5.30.1
.