JSON-Schema-Draft201909 v0.023 Perl 5 v5.24.4 x86_64-linux-thread-multi

Status
Pass
From
David Cantrell (DCANTRELL)
Dist
JSON-Schema-Draft201909 v0.023
Platform
Perl 5 v5.24.4 x86_64-linux-thread-multi
Date
2021-02-23 22:31:17
ID
d87266c4-7626-11eb-8232-c168761e3400
This distribution has been tested as part of the CPAN Testers
project, supporting the Perl programming language.  See
http://wiki.cpantesters.org/ for more information or email
questions to cpan-testers-discuss@perl.org


--
Dear Karen Etheridge,

This is a computer-generated report for JSON-Schema-Draft201909-0.023
on perl 5.24.4, created by CPAN-Reporter-1.2018.

Thank you for uploading your work to CPAN.  Congratulations!
All tests were successful.

Sections of this report:

    * Tester comments
    * Program output
    * Prerequisites
    * Environment and other context

------------------------------
TESTER COMMENTS
------------------------------

Additional comments from tester:

this report is from an automated smoke testing program
and was not reviewed by a human for accuracy

------------------------------
PROGRAM OUTPUT
------------------------------

Output from './Build test':

# 
# Versions for all modules listed in MYMETA.json (including optional ones):
# 
# === Configure Requires ===
# 
#     Module                   Want    Have
#     ----------------------- ----- -------
#     ExtUtils::MakeMaker       any 7.10_02
#     File::ShareDir::Install  0.06    0.13
#     Module::Build::Tiny     0.034   0.039
# 
# === Test Requires ===
# 
#     Module                          Want     Have
#     ------------------------------ ----- --------
#     File::Spec                       any  3.63_01
#     Module::Metadata                 any 1.000031
#     Scalar::Util                     any     1.55
#     Test::Deep                       any    1.128
#     Test::Deep::UnorderedPairs       any    0.006
#     Test::Fatal                      any    0.014
#     Test::File::ShareDir             any 1.001002
#     Test::JSON::Schema::Acceptance 1.000    1.003
#     Test::Memory::Cycle              any     1.06
#     Test::More                      0.96 1.302183
#     lib                              any     0.63
#     open                             any     1.10
#     utf8                             any     1.19
# 
# === Test Recommends ===
# 
#     Module         Want     Have
#     ---------- -------- --------
#     CPAN::Meta 2.120900 2.150005
# 
# === Runtime Requires ===
# 
#     Module                   Want       Have
#     -------------------- -------- ----------
#     B                         any       1.62
#     Carp                      any       1.40
#     Exporter                  any       5.72
#     Feature::Compat::Try      any       0.02
#     File::ShareDir            any      1.118
#     JSON::MaybeXS        1.004001   1.004003
#     JSON::PP                  any 2.27300_01
#     List::Util               1.55       1.55
#     Module::Runtime           any      0.016
#     Mojo::JSON::Pointer       any      undef
#     Mojo::URL                 any      undef
#     Mojolicious              7.23       9.01
#     Moo                       any   2.004004
#     Moo::Object               any      undef
#     Moo::Role                 any   2.004004
#     MooX::HandlesVia          any   0.001009
#     MooX::TypeTiny       0.002002   0.002003
#     Path::Tiny                any      0.108
#     Ref::Util               0.100      0.204
#     Safe::Isa                 any   1.000010
#     Storable                  any       3.15
#     Types::Standard      1.010002   1.012001
#     constant                  any       1.33
#     if                        any     0.0606
#     namespace::clean          any       0.27
#     overload                  any       1.26
#     strict                    any       1.11
#     strictures                  2   2.000006
#     warnings                  any       1.36
# 
# === Runtime Suggests ===
# 
#     Module                 Want    Have
#     ---------------------- ---- -------
#     Class::XSAccessor       any missing
#     Data::Validate::Domain  any missing
#     Email::Address::XS     1.01 missing
#     Net::IDN::Encode        any missing
#     Time::Moment            any missing
#     Type::Tiny::XS          any missing
# 
# === Other Modules ===
# 
#     Module                 Have
#     ---------------- ----------
#     Cpanel::JSON::XS       4.11
#     Encode                 3.08
#     File::Temp           0.2304
#     JSON::PP         2.27300_01
#     JSON::XS            missing
#     Module::Runtime       0.016
#     Mojolicious            9.01
#     Pod::Coverage       missing
#     Sub::Name           missing
#     YAML                missing
#     autodie                2.29
# 
t/00-report-prereqs.t ..... ok
t/add-schema.t ............ ok
# 
# 
# Results using Test::JSON::Schema::Acceptance 1.003
# using custom test directory: /home/david/cpantesting/perl-5.24.4/.cpan/build/JSON-Schema-Draft201909-0.023-TxULEV/t/additional-tests
# optional tests included: no
# 
# filename                           pass  todo-fail  fail
# --------------------------------------------------------
# anchor.json                           2          0     0
# badRef.json                           3          0     0
# faux-buggy-schemas.json               2          0     0
# format-duration.json                  5          0     0
# format-relative-json-pointer.json     7          0     0
# future-keywords-draft2019-09.json    10          0     0
# id.json                               2          0     0
# invalid-input.json                    2          0     0
# keyword-independence.json           688          0     0
# loose-types-const-enum.json           8          0     0
# not-an-anchor.json                    2          0     0
# not-an-id.json                        2          0     0
# recursive-dynamic.json                2          0     0
# recursiveRef.json                    27          0     0
# ref-and-id.json                       4          0     0
# ref.json                              6          0     0
# short-circuit.json                   20          0     0
# unicode.json                          4          0     0
# --------------------------------------------------------
# TOTAL                               796          0     0
# 
t/additional-tests.t ...... ok
t/annotations.t ........... ok
t/booleans.t .............. ok
t/cached-metaschemas.t .... ok
t/dialects.t .............. ok
t/document.t .............. ok
t/equality.t .............. ok
t/errors.t ................ ok
t/evaluate_json_string.t .. ok
t/find-identifiers.t ...... ok
t/formats.t ............... ok
t/max_traversal_depth.t ... ok
t/output_format.t ......... ok
t/pattern.t ............... ok
t/ref.t ................... ok
t/traverse.t .............. ok
t/type.t .................. ok
# 
# 
# Results using Test::JSON::Schema::Acceptance 1.003
# with commit 6505944d38c414039cd8f27e3312b9e3831a0a16 (2.0.0-299-g6505944)
# from git://github.com/json-schema-org/JSON-Schema-Test-Suite.git:
# specification version: draft2019-09
# optional tests included: yes
# 
# filename                                    pass  todo-fail  fail
# -----------------------------------------------------------------
# additionalItems.json                          13          0     0
# additionalProperties.json                     15          0     0
# allOf.json                                    30          0     0
# anchor.json                                    6          0     0
# anyOf.json                                    18          0     0
# boolean_schema.json                           18          0     0
# const.json                                    50          0     0
# contains.json                                 18          0     0
# content.json                                  18          0     0
# default.json                                   4          0     0
# defs.json                                      2          0     0
# dependentRequired.json                        20          0     0
# dependentSchemas.json                         13          0     0
# enum.json                                     33          0     0
# exclusiveMaximum.json                          4          0     0
# exclusiveMinimum.json                          4          0     0
# format.json                                  114          0     0
# id.json                                       13          0     0
# if-then-else.json                             26          0     0
# infinite-loop-detection.json                   2          0     0
# items.json                                    26          0     0
# maxContains.json                              10          0     0
# maxItems.json                                  4          0     0
# maxLength.json                                 5          0     0
# maxProperties.json                             8          0     0
# maximum.json                                   8          0     0
# minContains.json                              23          0     0
# minItems.json                                  4          0     0
# minLength.json                                 5          0     0
# minProperties.json                             6          0     0
# minimum.json                                  11          0     0
# multipleOf.json                                9          0     0
# not.json                                      12          0     0
# oneOf.json                                    27          0     0
# pattern.json                                   9          0     0
# patternProperties.json                        22          0     0
# properties.json                               20          0     0
# propertyNames.json                            10          0     0
# recursiveRef.json                             32          0     0
# ref.json                                      34          0     0
# refRemote.json                                15          0     0
# required.json                                  9          0     0
# type.json                                     80          0     0
# unevaluatedItems.json                         33          0     0
# unevaluatedProperties.json                    51          0     0
# uniqueItems.json                              64          0     0
# optional/bignum.json                           2          7     0
# optional/ecmascript-regex.json                31          9     0
# optional/float-overflow.json                   0          1     0
# optional/non-bmp-regex.json                   12          0     0
# optional/refOfUnknownKeyword.json              4          0     0
# optional/format/date-time.json                 5          6     0
# optional/format/date.json                      1          4     0
# optional/format/duration.json                 17          0     0
# optional/format/email.json                     5          4     0
# optional/format/hostname.json                  3          9     0
# optional/format/idn-email.json                 2          2     0
# optional/format/idn-hostname.json             16         29     0
# optional/format/ipv4.json                      6          0     0
# optional/format/ipv6.json                     29          0     0
# optional/format/iri-reference.json             5          2     0
# optional/format/iri.json                       8          1     0
# optional/format/json-pointer.json             32          0     0
# optional/format/regex.json                     2          0     0
# optional/format/relative-json-pointer.json     6          0     0
# optional/format/time.json                      1          2     0
# optional/format/uri-reference.json             7          0     0
# optional/format/uri-template.json              3          1     0
# optional/format/uri.json                      19          1     0
# optional/format/uuid.json                     12          0     0
# -----------------------------------------------------------------
# TOTAL                                       1186         78     0
# 
t/zzz-acceptance.t ........ ok
All tests successful.

Test Summary Report
-------------------
t/zzz-acceptance.t      (Wstat: 0 Tests: 1266 Failed: 0)
  TODO passed:   959-1008, 1025-1040, 1058-1127, 1163-1169
                1175, 1219-1221, 1229-1232, 1252
Files=20, Tests=2189, 185 wallclock secs ( 5.50 usr  0.42 sys + 73.15 cusr  3.76 csys = 82.83 CPU)
Result: PASS

------------------------------
PREREQUISITES
------------------------------

Prerequisite modules loaded:

requires:

    Module                         Need     Have      
    ------------------------------ -------- ----------
    B                              0        1.62      
    Carp                           0        1.40      
    constant                       0        1.33      
    Exporter                       0        5.72      
    Feature::Compat::Try           0        0.02      
    File::ShareDir                 0        1.118     
    if                             0        0.0606    
    JSON::MaybeXS                  1.004001 1.004003  
    JSON::PP                       0        2.27300_01
    List::Util                     1.55     1.55      
    Module::Runtime                0        0.016     
    Mojo::JSON::Pointer            0        0         
    Mojo::URL                      0        0         
    Mojolicious                    7.23     9.01      
    Moo                            0        2.004004  
    Moo::Object                    0        0         
    Moo::Role                      0        2.004004  
    MooX::HandlesVia               0        0.001009  
    MooX::TypeTiny                 0.002002 0.002003  
    namespace::clean               0        0.27      
    overload                       0        1.26      
    Path::Tiny                     0        0.108     
    perl                           5.016    5.024004  
    Ref::Util                      0.100    0.204     
    Safe::Isa                      0        1.000010  
    Storable                       0        3.15      
    strict                         0        1.11      
    strictures                     2        2.000006  
    Types::Standard                1.010002 1.012001  
    warnings                       0        1.36      

build_requires:

    Module                         Need     Have      
    ------------------------------ -------- ----------
    File::Spec                     0        3.63_01   
    lib                            0        0.63      
    Module::Metadata               0        1.000031  
    open                           0        1.10      
    perl                           5.016    5.024004  
    Scalar::Util                   0        1.55      
    Test::Deep                     0        1.128     
    Test::Deep::UnorderedPairs     0        0.006     
    Test::Fatal                    0        0.014     
    Test::File::ShareDir           0        1.001002  
    Test::JSON::Schema::Acceptance 1.000    1.003     
    Test::Memory::Cycle            0        1.06      
    Test::More                     0.96     1.302183  
    utf8                           0        1.19      

configure_requires:

    Module                         Need     Have      
    ------------------------------ -------- ----------
    ExtUtils::MakeMaker            0        7.10_02   
    File::ShareDir::Install        0.06     0.13      
    Module::Build::Tiny            0.034    0.039     
    perl                           5.016    5.024004  


------------------------------
ENVIRONMENT AND OTHER CONTEXT
------------------------------

Environment variables:

    AUTOMATED_TESTING = 1
    LANG = en_GB.UTF-8
    LANGUAGE = en_GB:en
    LC_TERMINAL = iTerm2
    LC_TERMINAL_VERSION = 3.4.4
    NONINTERACTIVE_TESTING = 1
    PATH = /home/david/perl5/perlbrew/bin:/home/david/perl5/perlbrew/perls/perl-5.30.2/bin:/usr/local/bin:/usr/bin:/bin:/usr/local/games:/usr/games
    PERL = 5.24.4
    PERL5LIB = 
    PERL5OPT = 
    PERL5_CPANPLUS_IS_RUNNING = 21766
    PERL5_CPAN_IS_RUNNING = 21766
    PERLBREW_HOME = /home/david/.perlbrew
    PERLBREW_MANPATH = /home/david/perl5/perlbrew/perls/perl-5.30.2/man
    PERLBREW_PATH = /home/david/perl5/perlbrew/bin:/home/david/perl5/perlbrew/perls/perl-5.30.2/bin
    PERLBREW_PERL = perl-5.30.2
    PERLBREW_ROOT = /home/david/perl5/perlbrew
    PERLBREW_SHELLRC_VERSION = 0.89
    PERLBREW_VERSION = 0.89
    PERLVER = 5.24.4
    PERL_INLINE_DIRECTORY = /home/david/.Inline-5.24.4
    PERL_MM_USE_DEFAULT = 1
    PERL_USE_UNSAFE_INC = 0
    SHELL = /bin/bash
    TERM = screen

Perl special variables (and OS-specific diagnostics, for MSWin32):

    $^X = /home/david/cpantesting/perl-5.24.4/bin/perl
    $UID/$EUID = 1000 / 1000
    $GID = 1000 24 25 27 29 30 44 46 109 1000
    $EGID = 1000 24 25 27 29 30 44 46 109 1000

Perl module toolchain versions installed:

    Module              Have      
    ------------------- ----------
    CPAN                2.11_01   
    CPAN::Meta          2.150005  
    Cwd                 3.63_01   
    ExtUtils::CBuilder  0.280225  
    ExtUtils::Command   7.10_02   
    ExtUtils::Install   2.04      
    ExtUtils::MakeMaker 7.10_02   
    ExtUtils::Manifest  1.70      
    ExtUtils::ParseXS   3.31      
    File::Spec          3.63_01   
    JSON                4.03      
    JSON::PP            2.27300_01
    Module::Build       0.4231    
    Module::Signature   n/a       
    Parse::CPAN::Meta   1.4417_001
    Test::Harness       3.36_01   
    Test::More          1.302183  
    YAML                n/a       
    YAML::Syck          n/a       
    version             0.9916    


--

Summary of my perl5 (revision 5 version 24 subversion 4) configuration:
   
  Platform:
    osname=linux, osvers=4.9.0-8-amd64, archname=x86_64-linux-thread-multi
    uname='linux pigsty 4.9.0-8-amd64 #1 smp debian 4.9.144-3 (2019-02-02) x86_64 gnulinux '
    config_args='-de -Duse64bitall -Dusethreads -Dprefix=/home/david/cpantesting/perl-5.24.4'
    hint=recommended, useposix=true, d_sigaction=define
    useithreads=define, usemultiplicity=define
    use64bitint=define, use64bitall=define, uselongdouble=undef
    usemymalloc=n, bincompat5005=undef
  Compiler:
    cc='cc', ccflags ='-D_REENTRANT -D_GNU_SOURCE -fwrapv -fno-strict-aliasing -pipe -fstack-protector-strong -I/usr/local/include -D_LARGEFILE_SOURCE -D_FILE_OFFSET_BITS=64 -D_FORTIFY_SOURCE=2',
    optimize='-O2',
    cppflags='-D_REENTRANT -D_GNU_SOURCE -fwrapv -fno-strict-aliasing -pipe -fstack-protector-strong -I/usr/local/include'
    ccversion='', gccversion='6.3.0 20170516', gccosandvers=''
    intsize=4, longsize=8, ptrsize=8, doublesize=8, byteorder=12345678, doublekind=3
    d_longlong=define, longlongsize=8, d_longdbl=define, longdblsize=16, longdblkind=3
    ivtype='long', ivsize=8, nvtype='double', nvsize=8, Off_t='off_t', lseeksize=8
    alignbytes=8, prototype=define
  Linker and Libraries:
    ld='cc', ldflags =' -fstack-protector-strong -L/usr/local/lib'
    libpth=/usr/local/lib /usr/lib/gcc/x86_64-linux-gnu/6/include-fixed /usr/include/x86_64-linux-gnu /usr/lib /lib/x86_64-linux-gnu /lib/../lib /usr/lib/x86_64-linux-gnu /usr/lib/../lib /lib
    libs=-lpthread -lnsl -ldb -ldl -lm -lcrypt -lutil -lc
    perllibs=-lpthread -lnsl -ldl -lm -lcrypt -lutil -lc
    libc=libc-2.24.so, so=so, useshrplib=false, libperl=libperl.a
    gnulibc_version='2.24'
  Dynamic Linking:
    dlsrc=dl_dlopen.xs, dlext=so, d_dlsymun=undef, ccdlflags='-Wl,-E'
    cccdlflags='-fPIC', lddlflags='-shared -O2 -L/usr/local/lib -fstack-protector-strong'


Characteristics of this binary (from libperl): 
  Compile-time options: HAS_TIMES MULTIPLICITY PERLIO_LAYERS
                        PERL_COPY_ON_WRITE PERL_DONT_CREATE_GVSV
                        PERL_HASH_FUNC_ONE_AT_A_TIME_HARD
                        PERL_IMPLICIT_CONTEXT PERL_MALLOC_WRAP
                        PERL_PRESERVE_IVUV USE_64_BIT_ALL USE_64_BIT_INT
                        USE_ITHREADS USE_LARGE_FILES USE_LOCALE
                        USE_LOCALE_COLLATE USE_LOCALE_CTYPE
                        USE_LOCALE_NUMERIC USE_LOCALE_TIME USE_PERLIO
                        USE_PERL_ATOF USE_REENTRANT_API
  Built under linux
  Compiled at Apr 25 2019 01:35:31
  %ENV:
    PERL="5.24.4"
    PERL5LIB=""
    PERL5OPT=""
    PERL5_CPANPLUS_IS_RUNNING="21766"
    PERL5_CPAN_IS_RUNNING="21766"
    PERLBREW_HOME="/home/david/.perlbrew"
    PERLBREW_MANPATH="/home/david/perl5/perlbrew/perls/perl-5.30.2/man"
    PERLBREW_PATH="/home/david/perl5/perlbrew/bin:/home/david/perl5/perlbrew/perls/perl-5.30.2/bin"
    PERLBREW_PERL="perl-5.30.2"
    PERLBREW_ROOT="/home/david/perl5/perlbrew"
    PERLBREW_SHELLRC_VERSION="0.89"
    PERLBREW_VERSION="0.89"
    PERLVER="5.24.4"
    PERL_INLINE_DIRECTORY="/home/david/.Inline-5.24.4"
    PERL_MM_USE_DEFAULT="1"
    PERL_USE_UNSAFE_INC="0"
  @INC:
    /home/david/cpantesting/perl-5.24.4/lib/site_perl/5.24.4/x86_64-linux-thread-multi
    /home/david/cpantesting/perl-5.24.4/lib/site_perl/5.24.4
    /home/david/cpantesting/perl-5.24.4/lib/5.24.4/x86_64-linux-thread-multi
    /home/david/cpantesting/perl-5.24.4/lib/5.24.4
    .