Beam-Wire v1.021 Perl 5 v5.26.2 RC1 amd64-freebsd
- Status
- Pass
- From
- Slaven Rezić (SREZIC)
- Dist
-
Beam-Wire v1.021
- Platform
- Perl 5 v5.26.2 RC1 amd64-freebsd
- Date
- 2018-03-28 08:13:06
- ID
- d7fc5794-325f-11e8-ac45-a7cea745d3c5
This distribution has been tested as part of the CPAN Testers
project, supporting the Perl programming language. See
http://wiki.cpantesters.org/ for more information or email
questions to cpan-testers-discuss@perl.org
--
Dear Doug Bell,
This is a computer-generated report for Beam-Wire-1.021
on perl 5.26.2, created by CPAN-Reporter-1.2018.
Thank you for uploading your work to CPAN. Congratulations!
All tests were successful.
Sections of this report:
* Tester comments
* Program output
* Prerequisites
* Environment and other context
------------------------------
TESTER COMMENTS
------------------------------
Additional comments from tester:
none provided
------------------------------
PROGRAM OUTPUT
------------------------------
Output from '/usr/bin/make test':
PERL_DL_NONLAZY=1 "/usr/perl5.26.2-RC1p/bin/perl5.26.2" "-MExtUtils::Command::MM" "-MTest::Harness" "-e" "undef *Test::Harness::Switches; test_harness(0, 'blib/lib', 'blib/arch')" t/*.t t/container/*.t t/dependency/*.t t/deprecated/*.t t/method/*.t t/regression/*.t t/service/*.t
t/00-compile.t ..................... ok
#
# Versions for all modules listed in MYMETA.json (including optional ones):
#
# === Configure Requires ===
#
# Module Want Have
# ------------------------ -------- --------
# CPAN::Meta::Requirements 2.120620 2.140
# ExtUtils::MakeMaker any 7.24
# Module::Metadata any 1.000033
#
# === Build Requires ===
#
# Module Want Have
# ------------------- ---- ----
# ExtUtils::MakeMaker any 7.24
#
# === Test Requires ===
#
# Module Want Have
# ------------------- -------- --------
# ExtUtils::MakeMaker any 7.24
# File::Spec any 3.67
# IO::Handle any 1.36
# IPC::Open3 any 1.20
# Test::Deep any 1.127
# Test::Differences 0.64 0.64
# Test::Exception any 0.43
# Test::Lib any 0.002
# Test::More 1.001005 1.302133
#
# === Test Recommends ===
#
# Module Want Have
# ---------- -------- --------
# CPAN::Meta 2.120900 2.150010
#
# === Runtime Requires ===
#
# Module Want Have
# --------------- ----- --------
# Beam::Emitter any 1.007
# Beam::Service any 0.001
# Config::Any 0.23 0.32
# Data::DPath 0.51 0.57
# Module::Runtime any 0.016
# Moo any 2.003004
# Path::Tiny 0.055 0.104
# Throwable any 0.200013
# Types::Standard any 1.002001
# YAML any 1.24
#
# === Runtime Recommends ===
#
# Module Want Have
# ------ ---- -------
# JSON any 2.97001
#
t/00-report-prereqs.t .............. ok
t/container/config.t ............... ok
t/container/inner.t ................ ok
t/container/override.t ............. ok
t/dependency/anonymous.t ........... ok
t/dependency/call.t ................ ok
t/dependency/config.t .............. ok
t/dependency/value.t ............... ok
t/deprecated/event_listeners.t ..... ok
t/deprecated/method_call.t ......... ok
t/exception.t ...................... ok
t/method/create_service.t .......... ok
t/method/is_meta.t ................. ok
t/regression/60_unprefixed_meta.t .. ok
t/service/attributes.t ............. ok
t/service/class_args.t ............. ok
t/service/config.t ................. ok
t/service/event_listener.t ......... ok
t/service/extends.t ................ ok
t/service/lifecycle.t .............. ok
t/service/method.t ................. ok
t/service/value.t .................. ok
t/service/with.t ................... ok
t/service/with_args.t .............. ok
All tests successful.
Files=25, Tests=81, 14 wallclock secs ( 0.15 usr 0.07 sys + 9.70 cusr 2.35 csys = 12.27 CPU)
Result: PASS
------------------------------
PREREQUISITES
------------------------------
Prerequisite modules loaded:
requires:
Module Need Have
------------------------ -------- --------
Beam::Emitter 0 1.007
Beam::Service 0 0.001
Config::Any 0.23 0.32
Data::DPath 0.51 0.57
Module::Runtime 0 0.016
Moo 0 2.003004
Path::Tiny 0.055 0.104
Throwable 0 0.200013
Types::Standard 0 1.002001
YAML 0 1.24
build_requires:
Module Need Have
------------------------ -------- --------
ExtUtils::MakeMaker 0 7.24
File::Spec 0 3.67
IO::Handle 0 1.36
IPC::Open3 0 1.20
Test::Deep 0 1.127
Test::Differences 0.64 0.64
Test::Exception 0 0.43
Test::Lib 0 0.002
Test::More 1.001005 1.302133
configure_requires:
Module Need Have
------------------------ -------- --------
CPAN::Meta::Requirements 2.120620 2.140
ExtUtils::MakeMaker 0 7.24
Module::Metadata 0 1.000033
------------------------------
ENVIRONMENT AND OTHER CONTEXT
------------------------------
Environment variables:
PATH = /usr/local/bin:/usr/bin:/bin:/usr/local/sbin:/usr/sbin:/sbin:/home/cpansand/bin/freebsd11.1:/home/cpansand/bin/sh:/home/cpansand/bin:/usr/games:/home/cpansand/devel:/home/eserte/src/srezic-misc/scripts
PERL5LIB = /home/cpansand/.cpan/build/2018032806/Data-DPath-0.57-0/blib/arch:/home/cpansand/.cpan/build/2018032806/Data-DPath-0.57-0/blib/lib:/home/cpansand/.cpan/build/2018032806/Iterator-Util-0.02-0/blib/arch:/home/cpansand/.cpan/build/2018032806/Iterator-Util-0.02-0/blib/lib:/home/cpansand/.cpan/build/2018032806/Iterator-0.03-0/blib/arch:/home/cpansand/.cpan/build/2018032806/Iterator-0.03-0/blib/lib:/home/cpansand/.cpan/build/2018032806/Beam-Service-0.001-1/blib/arch:/home/cpansand/.cpan/build/2018032806/Beam-Service-0.001-1/blib/lib:/home/cpansand/.cpan/build/2018032806/Beam-Emitter-1.007-1/blib/arch:/home/cpansand/.cpan/build/2018032806/Beam-Emitter-1.007-1/blib/lib:/home/cpansand/.cpan/build/2018032806/Test-Lib-0.002-1/blib/arch:/home/cpansand/.cpan/build/2018032806/Test-Lib-0.002-1/blib/lib:/home/cpansand/.cpan/build/2018032806/Test-API-0.010-0/blib/arch:/home/cpansand/.cpan/build/2018032806/Test-API-0.010-0/blib/lib
PERL5OPT =
PERL5_CPANPLUS_IS_RUNNING = 24192
PERL5_CPAN_IS_RUNNING = 24192
PERL5_CPAN_IS_RUNNING_IN_RECURSION = 13982,24192
PERLDOC = -MPod::Perldoc::ToTextOverstrike
PERL_BATCH = yes
PERL_CANARY_STABILITY_NOPROMPT = 1
PERL_CPAN_REPORTER_CONFIG = /var/tmp/cpansmoker-1023/2018032806/cpanreporter_000_config.ini
PERL_EXTUTILS_AUTOINSTALL = --defaultdeps
PERL_USE_UNSAFE_INC = 1
SHELL = /usr/local/bin/zsh
TERM = screen
TMPDIR = /var/tmp/cpansmoker-1023/2018032806
Perl special variables (and OS-specific diagnostics, for MSWin32):
$^X = /usr/perl5.26.2-RC1p/bin/perl5.26.2
$UID/$EUID = 1023 / 1023
$GID = 1023 1023
$EGID = 1023 1023
Perl module toolchain versions installed:
Module Have
------------------- ----------
CPAN 2.18
CPAN::Meta 2.150010
Cwd 3.67
ExtUtils::CBuilder 0.280225
ExtUtils::Command 7.24
ExtUtils::Install 2.04
ExtUtils::MakeMaker 7.24
ExtUtils::Manifest 1.70
ExtUtils::ParseXS 3.34
File::Spec 3.67
JSON 2.97001
JSON::PP 2.27400_02
Module::Build 0.4224
Module::Signature n/a
Parse::CPAN::Meta 2.150010
Test::Harness 3.38
Test::More 1.302133
YAML 1.24
YAML::Syck 1.30
version 0.9917
--
Summary of my perl5 (revision 5 version 26 subversion 2) configuration:
Platform:
osname=freebsd
osvers=11.1-release-p8
archname=amd64-freebsd
uname='freebsd ali2.bbbike.org 11.1-release-p8 freebsd 11.1-release-p8 #0: tue mar 13 17:07:05 utc 2018 root@amd64-builder.daemonology.net:usrobjusrsrcsysgeneric amd64 '
config_args='-ds -e -Dprefix=/usr/perl5.26.2-RC1p -Dcf_email=srezic@cpan.org -Doptimize=-O2 -pipe'
hint=previous
useposix=true
d_sigaction=define
useithreads=undef
usemultiplicity=undef
use64bitint=define
use64bitall=define
uselongdouble=undef
usemymalloc=n
default_inc_excludes_dot=define
bincompat5005=undef
Compiler:
cc='cc'
ccflags ='-DHAS_FPSETMASK -DHAS_FLOATINGPOINT_H -fno-strict-aliasing -pipe -fstack-protector-strong -I/usr/local/include -D_FORTIFY_SOURCE=2'
optimize='-O2 -pipe'
cppflags='-DHAS_FPSETMASK -DHAS_FLOATINGPOINT_H -fno-strict-aliasing -pipe -fstack-protector-strong -I/usr/local/include'
ccversion=''
gccversion='4.2.1 Compatible FreeBSD Clang 4.0.0 (tags/RELEASE_400/final 297347)'
gccosandvers=''
intsize=4
longsize=8
ptrsize=8
doublesize=8
byteorder=12345678
doublekind=3
d_longlong=define
longlongsize=8
d_longdbl=define
longdblsize=16
longdblkind=3
ivtype='long'
ivsize=8
nvtype='double'
nvsize=8
Off_t='off_t'
lseeksize=8
alignbytes=8
prototype=define
Linker and Libraries:
ld='cc'
ldflags ='-pthread -Wl,-E -fstack-protector-strong -L/usr/local/lib'
libpth=/usr/lib /usr/local/lib /usr/bin/../lib/clang/4.0.0/lib /usr/lib /usr/bin/../lib/clang/4.0.0/lib /usr/lib
libs=-lpthread -lgdbm -lm -lcrypt -lutil -lc
perllibs=-lpthread -lm -lcrypt -lutil -lc
libc=
so=so
useshrplib=false
libperl=libperl.a
gnulibc_version=''
Dynamic Linking:
dlsrc=dl_dlopen.xs
dlext=so
d_dlsymun=undef
ccdlflags=' '
cccdlflags='-DPIC -fPIC'
lddlflags='-shared -L/usr/local/lib -fstack-protector-strong'
Characteristics of this binary (from libperl):
Compile-time options:
HAS_TIMES
PERLIO_LAYERS
PERL_COPY_ON_WRITE
PERL_DONT_CREATE_GVSV
PERL_MALLOC_WRAP
PERL_OP_PARENT
PERL_PRESERVE_IVUV
USE_64_BIT_ALL
USE_64_BIT_INT
USE_LARGE_FILES
USE_LOCALE
USE_LOCALE_COLLATE
USE_LOCALE_CTYPE
USE_LOCALE_NUMERIC
USE_LOCALE_TIME
USE_PERLIO
USE_PERL_ATOF
Locally applied patches:
RC1
Built under freebsd
Compiled at Mar 25 2018 17:05:53
%ENV:
PERL5LIB="/home/cpansand/.cpan/build/2018032806/Data-DPath-0.57-0/blib/arch:/home/cpansand/.cpan/build/2018032806/Data-DPath-0.57-0/blib/lib:/home/cpansand/.cpan/build/2018032806/Iterator-Util-0.02-0/blib/arch:/home/cpansand/.cpan/build/2018032806/Iterator-Util-0.02-0/blib/lib:/home/cpansand/.cpan/build/2018032806/Iterator-0.03-0/blib/arch:/home/cpansand/.cpan/build/2018032806/Iterator-0.03-0/blib/lib:/home/cpansand/.cpan/build/2018032806/Beam-Service-0.001-1/blib/arch:/home/cpansand/.cpan/build/2018032806/Beam-Service-0.001-1/blib/lib:/home/cpansand/.cpan/build/2018032806/Beam-Emitter-1.007-1/blib/arch:/home/cpansand/.cpan/build/2018032806/Beam-Emitter-1.007-1/blib/lib:/home/cpansand/.cpan/build/2018032806/Test-Lib-0.002-1/blib/arch:/home/cpansand/.cpan/build/2018032806/Test-Lib-0.002-1/blib/lib:/home/cpansand/.cpan/build/2018032806/Test-API-0.010-0/blib/arch:/home/cpansand/.cpan/build/2018032806/Test-API-0.010-0/blib/lib"
PERL5OPT=""
PERL5_CPANPLUS_IS_RUNNING="24192"
PERL5_CPAN_IS_RUNNING="24192"
PERL5_CPAN_IS_RUNNING_IN_RECURSION="13982,24192"
PERLDOC="-MPod::Perldoc::ToTextOverstrike"
PERL_BATCH="yes"
PERL_CANARY_STABILITY_NOPROMPT="1"
PERL_CPAN_REPORTER_CONFIG="/var/tmp/cpansmoker-1023/2018032806/cpanreporter_000_config.ini"
PERL_EXTUTILS_AUTOINSTALL="--defaultdeps"
PERL_USE_UNSAFE_INC="1"
@INC:
/home/cpansand/.cpan/build/2018032806/Data-DPath-0.57-0/blib/arch
/home/cpansand/.cpan/build/2018032806/Data-DPath-0.57-0/blib/lib
/home/cpansand/.cpan/build/2018032806/Iterator-Util-0.02-0/blib/arch
/home/cpansand/.cpan/build/2018032806/Iterator-Util-0.02-0/blib/lib
/home/cpansand/.cpan/build/2018032806/Iterator-0.03-0/blib/arch
/home/cpansand/.cpan/build/2018032806/Iterator-0.03-0/blib/lib
/home/cpansand/.cpan/build/2018032806/Beam-Service-0.001-1/blib/arch
/home/cpansand/.cpan/build/2018032806/Beam-Service-0.001-1/blib/lib
/home/cpansand/.cpan/build/2018032806/Beam-Emitter-1.007-1/blib/arch
/home/cpansand/.cpan/build/2018032806/Beam-Emitter-1.007-1/blib/lib
/home/cpansand/.cpan/build/2018032806/Test-Lib-0.002-1/blib/arch
/home/cpansand/.cpan/build/2018032806/Test-Lib-0.002-1/blib/lib
/home/cpansand/.cpan/build/2018032806/Test-API-0.010-0/blib/arch
/home/cpansand/.cpan/build/2018032806/Test-API-0.010-0/blib/lib
/usr/perl5.26.2-RC1p/lib/site_perl/5.26.2/amd64-freebsd
/usr/perl5.26.2-RC1p/lib/site_perl/5.26.2
/usr/perl5.26.2-RC1p/lib/5.26.2/amd64-freebsd
/usr/perl5.26.2-RC1p/lib/5.26.2
.