Firefox-Marionette v0.37 Perl 5 v5.22.4 amd64-freebsd

Status
Pass
From
Slaven Rezić (SREZIC)
Dist
Firefox-Marionette v0.37
Platform
Perl 5 v5.22.4 amd64-freebsd
Date
2018-02-10 08:39:01
ID
d7fa8482-0e3d-11e8-be60-bda146db3170
This distribution has been tested as part of the CPAN Testers
project, supporting the Perl programming language.  See
http://wiki.cpantesters.org/ for more information or email
questions to cpan-testers-discuss@perl.org


--
Dear David Dick,

This is a computer-generated report for Firefox-Marionette-0.37
on perl 5.22.4, created by CPAN-Reporter-1.2018.

Thank you for uploading your work to CPAN.  Congratulations!
All tests were successful.

Sections of this report:

    * Tester comments
    * Program output
    * Prerequisites
    * Environment and other context

------------------------------
TESTER COMMENTS
------------------------------

Additional comments from tester:

none provided

------------------------------
PROGRAM OUTPUT
------------------------------

Output from '/usr/bin/make test':

PERL_DL_NONLAZY=1 "/usr/perl5.22.4d/bin/perl" "-MExtUtils::Command::MM" "-MTest::Harness" "-e" "undef *Test::Harness::Switches; test_harness(0, 'blib/lib', 'blib/arch')" t/*.t
# Testing Firefox::Marionette 0.37
t/00.load.t ........ ok
# Version is Mozilla Firefox 58.0
# DISPLAY is :2
# D-Bus is working
pkg: No package(s) matching xorg-vfbserver
# xorg-vfbserver version is 
# xauth version is 1.0.10
# /etc/machine-id has not been created.  Please run 'sudo dbus-uuidgen --ensure=/etc/machine-id'
# It looks like 'sudo mount -t fdescfs fdesc /dev/fd' needs to be executed
# sysctl hw | egrep 'hw.(phys|user|real)'
# hw.physmem: 1039851520
# hw.usermem: 744407040
# hw.realmem: 1073741824
# ulimit -a | grep -i mem
# max memory size         (kbytes, -m)  unlimited
# locked memory           (kbytes, -l)  64
# virtual mem size        (kbytes, -v)  unlimited
# This firefox installation has 0 existing profiles
*** You are running in headless mode.
JavaScript error: jar:file:///usr/local/lib/firefox/omni.ja!/components/nsUrlClassifierListManager.js, line 69: NS_ERROR_XPC_GS_RETURNED_FAILURE: Component returned failure code: 0x80570016 (NS_ERROR_XPC_GS_RETURNED_FAILURE) [nsIJSCID.getService]
JavaScript error: jar:file:///usr/local/lib/firefox/omni.ja!/components/nsUrlClassifierListManager.js, line 69: NS_ERROR_XPC_GS_RETURNED_FAILURE: Component returned failure code: 0x80570016 (NS_ERROR_XPC_GS_RETURNED_FAILURE) [nsIJSCID.getService]
JavaScript error: jar:file:///usr/local/lib/firefox/omni.ja!/components/nsUrlClassifierListManager.js, line 69: NS_ERROR_XPC_GS_RETURNED_FAILURE: Component returned failure code: 0x80570016 (NS_ERROR_XPC_GS_RETURNED_FAILURE) [nsIJSCID.getService]
JavaScript error: jar:file:///usr/local/lib/firefox/omni.ja!/components/nsUrlClassifierListManager.js, line 69: NS_ERROR_XPC_GS_RETURNED_FAILURE: Component returned failure code: 0x80570016 (NS_ERROR_XPC_GS_RETURNED_FAILURE) [nsIJSCID.getService]
JavaScript error: jar:file:///usr/local/lib/firefox/omni.ja!/components/nsUrlClassifierListManager.js, line 69: NS_ERROR_XPC_GS_RETURNED_FAILURE: Component returned failure code: 0x80570016 (NS_ERROR_XPC_GS_RETURNED_FAILURE) [nsIJSCID.getService]
JavaScript error: jar:file:///usr/local/lib/firefox/omni.ja!/components/nsUrlClassifierListManager.js, line 69: NS_ERROR_XPC_GS_RETURNED_FAILURE: Component returned failure code: 0x80570016 (NS_ERROR_XPC_GS_RETURNED_FAILURE) [nsIJSCID.getService]
JavaScript error: jar:file:///usr/local/lib/firefox/omni.ja!/components/nsUrlClassifierListManager.js, line 69: NS_ERROR_XPC_GS_RETURNED_FAILURE: Component returned failure code: 0x80570016 (NS_ERROR_XPC_GS_RETURNED_FAILURE) [nsIJSCID.getService]
JavaScript error: jar:file:///usr/local/lib/firefox/omni.ja!/components/nsUrlClassifierListManager.js, line 69: NS_ERROR_XPC_GS_RETURNED_FAILURE: Component returned failure code: 0x80570016 (NS_ERROR_XPC_GS_RETURNED_FAILURE) [nsIJSCID.getService]
<< {"applicationType":"gecko","marionetteProtocol":3}
>> 31:[0,1,"WebDriver:NewSession",{}]
<< [1,1,null,{"sessionId":"f0c6e424-42cc-4e82-b45c-1b6f1dc9c575","capabilities":{"browserName":"firefox","browserVersion":"58.0","platformName":"freebsd","platformVersion":"11.1-RELEASE-p4","pageLoadStrategy":"normal","acceptInsecureCerts":false,"timeouts":{"implicit":0,"pageLoad":300000,"script":30000},"rotatable":false,"moz:accessibilityChecks":false,"moz:headless":true,"moz:processID":40642,"moz:profile":"/var/tmp/cpansmoker-1023/2018021015/firefox_marionette_profile_jZcEbFekg8b","moz:webdriverClick":true}}]
>> 33:[0,2,"WebDriver:GetCapabilities"]
<< [1,2,null,{"capabilities":{"browserName":"firefox","browserVersion":"58.0","platformName":"freebsd","platformVersion":"11.1-RELEASE-p4","pageLoadStrategy":"normal","acceptInsecureCerts":false,"timeouts":{"implicit":0,"pageLoad":300000,"script":30000},"rotatable":false,"moz:accessibilityChecks":false,"moz:headless":true,"moz:processID":40642,"moz:profile":"/var/tmp/cpansmoker-1023/2018021015/firefox_marionette_profile_jZcEbFekg8b","moz:webdriverClick":true}}]
# Browser version is 58.0
# Operating System is freebsd 11.1-RELEASE-p4
# Profile Directory is /var/tmp/cpansmoker-1023/2018021015/firefox_marionette_profile_jZcEbFekg8b
# Mozilla PID is 40642
>> 31:[0,3,"WebDriver:GetWindowType"]
<< [1,3,null,{"value":"navigator:browser"}]
>> 31:[0,4,"WebDriver:GetWindowType"]
<< [1,4,null,{"value":"navigator:browser"}]
>> 31:[0,5,"WebDriver:GetWindowRect"]
<< [1,5,null,{"x":0,"y":0,"width":1366,"height":768,"state":"maximized"}]
>> 70:[0,6,"WebDriver:SetWindowRect",{"x":3,"width":326,"y":9,"height":452}]
<< [1,6,null,{"x":3,"y":9,"width":326,"height":452,"state":"normal"}]
>> 31:[0,7,"WebDriver:GetWindowRect"]
<< [1,7,null,{"x":3,"y":9,"width":326,"height":452,"state":"normal"}]
>> 29:[0,8,"WebDriver:GetTimeouts"]
<< [1,8,null,{"implicit":0,"pageLoad":300000,"script":30000}]
>> 80:[0,9,"WebDriver:SetTimeouts",{"script":48021,"implicit":41001,"pageLoad":45043}]
<< [1,9,null,{}]
>> 30:[0,10,"WebDriver:GetTimeouts"]
<< [1,10,null,{"implicit":41001,"pageLoad":45043,"script":48021}]
>> 81:[0,11,"WebDriver:SetTimeouts",{"implicit":41001,"pageLoad":45043,"script":48021}]
<< [1,11,null,{}]
>> 108:[0,12,"WebDriver:ExecuteScript",{"script":"window.open(\"https://duckduckgo.com\", \"_blank\");","args":[]}]
<< [1,12,null,{"value":null}]
>> 30:[0,13,"WebDriver:CloseWindow"]
<< [1,13,null,["2147483652"]]
>> 32:[0,14,"WebDriver:DeleteSession"]
<< [1,14,null,{}]
>> 32:[0,15,"WebDriver:NewSession",{}]
<< [1,15,null,{"sessionId":"466242ac-9358-4be3-b83c-63d6e2e60b51","capabilities":{"browserName":"firefox","browserVersion":"58.0","platformName":"freebsd","platformVersion":"11.1-RELEASE-p4","pageLoadStrategy":"normal","acceptInsecureCerts":false,"timeouts":{"implicit":0,"pageLoad":300000,"script":30000},"rotatable":false,"moz:accessibilityChecks":false,"moz:headless":true,"moz:processID":40642,"moz:profile":"/var/tmp/cpansmoker-1023/2018021015/firefox_marionette_profile_jZcEbFekg8b","moz:webdriverClick":true}}]
>> 51:[0,16,"Marionette:Quit",{"flags":["eAttemptQuit"]}]
<< [1,16,null,{"cause":"shutdown"}]
JavaScript error: jar:file:///usr/local/lib/firefox/omni.ja!/components/nsUrlClassifierListManager.js, line 69: NS_ERROR_XPC_GS_RETURNED_FAILURE: Component returned failure code: 0x80570016 (NS_ERROR_XPC_GS_RETURNED_FAILURE) [nsIJSCID.getService]
JavaScript error: jar:file:///usr/local/lib/firefox/omni.ja!/components/nsUrlClassifierListManager.js, line 69: NS_ERROR_XPC_GS_RETURNED_FAILURE: Component returned failure code: 0x80570016 (NS_ERROR_XPC_GS_RETURNED_FAILURE) [nsIJSCID.getService]
JavaScript error: jar:file:///usr/local/lib/firefox/omni.ja!/components/nsUrlClassifierListManager.js, line 69: NS_ERROR_XPC_GS_RETURNED_FAILURE: Component returned failure code: 0x80570016 (NS_ERROR_XPC_GS_RETURNED_FAILURE) [nsIJSCID.getService]
JavaScript error: jar:file:///usr/local/lib/firefox/omni.ja!/components/nsUrlClassifierListManager.js, line 69: NS_ERROR_XPC_GS_RETURNED_FAILURE: Component returned failure code: 0x80570016 (NS_ERROR_XPC_GS_RETURNED_FAILURE) [nsIJSCID.getService]
JavaScript error: jar:file:///usr/local/lib/firefox/omni.ja!/components/nsUrlClassifierListManager.js, line 69: NS_ERROR_XPC_GS_RETURNED_FAILURE: Component returned failure code: 0x80570016 (NS_ERROR_XPC_GS_RETURNED_FAILURE) [nsIJSCID.getService]
JavaScript error: jar:file:///usr/local/lib/firefox/omni.ja!/components/nsUrlClassifierListManager.js, line 69: NS_ERROR_XPC_GS_RETURNED_FAILURE: Component returned failure code: 0x80570016 (NS_ERROR_XPC_GS_RETURNED_FAILURE) [nsIJSCID.getService]
*** You are running in headless mode.
JavaScript error: jar:file:///usr/local/lib/firefox/omni.ja!/components/nsUrlClassifierListManager.js, line 69: NS_ERROR_XPC_GS_RETURNED_FAILURE: Component returned failure code: 0x80570016 (NS_ERROR_XPC_GS_RETURNED_FAILURE) [nsIJSCID.getService]
JavaScript error: jar:file:///usr/local/lib/firefox/omni.ja!/components/nsUrlClassifierListManager.js, line 69: NS_ERROR_XPC_GS_RETURNED_FAILURE: Component returned failure code: 0x80570016 (NS_ERROR_XPC_GS_RETURNED_FAILURE) [nsIJSCID.getService]
JavaScript error: jar:file:///usr/local/lib/firefox/omni.ja!/components/nsUrlClassifierListManager.js, line 69: NS_ERROR_XPC_GS_RETURNED_FAILURE: Component returned failure code: 0x80570016 (NS_ERROR_XPC_GS_RETURNED_FAILURE) [nsIJSCID.getService]
JavaScript error: jar:file:///usr/local/lib/firefox/omni.ja!/components/nsUrlClassifierListManager.js, line 69: NS_ERROR_XPC_GS_RETURNED_FAILURE: Component returned failure code: 0x80570016 (NS_ERROR_XPC_GS_RETURNED_FAILURE) [nsIJSCID.getService]
JavaScript error: jar:file:///usr/local/lib/firefox/omni.ja!/components/nsUrlClassifierListManager.js, line 69: NS_ERROR_XPC_GS_RETURNED_FAILURE: Component returned failure code: 0x80570016 (NS_ERROR_XPC_GS_RETURNED_FAILURE) [nsIJSCID.getService]
JavaScript error: jar:file:///usr/local/lib/firefox/omni.ja!/components/nsUrlClassifierListManager.js, line 69: NS_ERROR_XPC_GS_RETURNED_FAILURE: Component returned failure code: 0x80570016 (NS_ERROR_XPC_GS_RETURNED_FAILURE) [nsIJSCID.getService]
JavaScript error: jar:file:///usr/local/lib/firefox/omni.ja!/components/nsUrlClassifierListManager.js, line 69: NS_ERROR_XPC_GS_RETURNED_FAILURE: Component returned failure code: 0x80570016 (NS_ERROR_XPC_GS_RETURNED_FAILURE) [nsIJSCID.getService]
JavaScript error: jar:file:///usr/local/lib/firefox/omni.ja!/components/nsUrlClassifierListManager.js, line 69: NS_ERROR_XPC_GS_RETURNED_FAILURE: Component returned failure code: 0x80570016 (NS_ERROR_XPC_GS_RETURNED_FAILURE) [nsIJSCID.getService]
<< {"applicationType":"gecko","marionetteProtocol":3}
>> 294:[0,1,"WebDriver:NewSession",{"moz:accessibilityChecks":true,"capabilities":{"requiredCapabilities":{"moz:accessibilityChecks":true,"moz:webdriverClick":true,"pageLoadStrategy":"eager","acceptInsecureCerts":true}},"moz:webdriverClick":true,"pageLoadStrategy":"eager","acceptInsecureCerts":true}]
<< [1,1,null,{"sessionId":"7dc78f16-f064-4b80-913e-9f4daf5285e8","capabilities":{"browserName":"firefox","browserVersion":"58.0","platformName":"freebsd","platformVersion":"11.1-RELEASE-p4","pageLoadStrategy":"eager","acceptInsecureCerts":true,"timeouts":{"implicit":0,"pageLoad":300000,"script":30000},"rotatable":false,"moz:accessibilityChecks":true,"moz:headless":true,"moz:processID":40724,"moz:profile":"/var/tmp/cpansmoker-1023/2018021015/firefox_marionette_profile_DQsfxP3H5Hk","moz:webdriverClick":true}}]
>> 33:[0,2,"WebDriver:GetCapabilities"]
<< [1,2,null,{"capabilities":{"browserName":"firefox","browserVersion":"58.0","platformName":"freebsd","platformVersion":"11.1-RELEASE-p4","pageLoadStrategy":"eager","acceptInsecureCerts":true,"timeouts":{"implicit":0,"pageLoad":300000,"script":30000},"rotatable":false,"moz:accessibilityChecks":true,"moz:headless":true,"moz:processID":40724,"moz:profile":"/var/tmp/cpansmoker-1023/2018021015/firefox_marionette_profile_DQsfxP3H5Hk","moz:webdriverClick":true}}]
>> 50:[0,3,"Marionette:Quit",{"flags":["eAttemptQuit"]}]
<< [1,3,null,{"cause":"shutdown"}]
JavaScript error: jar:file:///usr/local/lib/firefox/omni.ja!/components/nsUrlClassifierListManager.js, line 69: NS_ERROR_XPC_GS_RETURNED_FAILURE: Component returned failure code: 0x80570016 (NS_ERROR_XPC_GS_RETURNED_FAILURE) [nsIJSCID.getService]
JavaScript error: jar:file:///usr/local/lib/firefox/omni.ja!/components/nsUrlClassifierListManager.js, line 69: NS_ERROR_XPC_GS_RETURNED_FAILURE: Component returned failure code: 0x80570016 (NS_ERROR_XPC_GS_RETURNED_FAILURE) [nsIJSCID.getService]
JavaScript error: jar:file:///usr/local/lib/firefox/omni.ja!/components/nsUrlClassifierListManager.js, line 69: NS_ERROR_XPC_GS_RETURNED_FAILURE: Component returned failure code: 0x80570016 (NS_ERROR_XPC_GS_RETURNED_FAILURE) [nsIJSCID.getService]
JavaScript error: jar:file:///usr/local/lib/firefox/omni.ja!/components/nsUrlClassifierListManager.js, line 69: NS_ERROR_XPC_GS_RETURNED_FAILURE: Component returned failure code: 0x80570016 (NS_ERROR_XPC_GS_RETURNED_FAILURE) [nsIJSCID.getService]
JavaScript error: jar:file:///usr/local/lib/firefox/omni.ja!/components/nsUrlClassifierListManager.js, line 69: NS_ERROR_XPC_GS_RETURNED_FAILURE: Component returned failure code: 0x80570016 (NS_ERROR_XPC_GS_RETURNED_FAILURE) [nsIJSCID.getService]
JavaScript error: jar:file:///usr/local/lib/firefox/omni.ja!/components/nsUrlClassifierListManager.js, line 69: NS_ERROR_XPC_GS_RETURNED_FAILURE: Component returned failure code: 0x80570016 (NS_ERROR_XPC_GS_RETURNED_FAILURE) [nsIJSCID.getService]
**** DEPRECATED METHOD - page_source HAS BEEN REPLACED BY html **** at t/01-marionette.t line 410.
**** DEPRECATED METHOD - find_element HAS BEEN REPLACED BY find **** at t/01-marionette.t line 418.
**** DEPRECATED METHOD - send_keys HAS BEEN REPLACED BY type **** at t/01-marionette.t line 440.
**** DEPRECATED METHOD - find_elements HAS BEEN REPLACED BY list **** at t/01-marionette.t line 442.
**** DEPRECATED METHOD - send_keys HAS BEEN REPLACED BY type **** at t/01-marionette.t line 443.
# Installing extension from /home/cpansand/.cpan/build/2018021015/Firefox-Marionette-0.37-G0gup_/t/addons/test.xpi
<< {"applicationType":"gecko","marionetteProtocol":3}
>> 298:[0,1,"WebDriver:NewSession",{"moz:accessibilityChecks":false,"pageLoadStrategy":"none","capabilities":{"requiredCapabilities":{"moz:webdriverClick":false,"pageLoadStrategy":"none","acceptInsecureCerts":false,"moz:accessibilityChecks":false}},"moz:webdriverClick":false,"acceptInsecureCerts":false}]
<< [1,1,null,{"sessionId":"eb9d59d9-0518-44ba-ba9a-a5b13e0274b8","capabilities":{"browserName":"firefox","browserVersion":"58.0","platformName":"freebsd","platformVersion":"11.1-RELEASE-p4","pageLoadStrategy":"none","acceptInsecureCerts":false,"timeouts":{"implicit":0,"pageLoad":300000,"script":30000},"rotatable":false,"moz:accessibilityChecks":false,"moz:headless":false,"moz:processID":41647,"moz:profile":"/var/tmp/cpansmoker-1023/2018021015/firefox_marionette_profile_9FCVlGoLVYP","moz:webdriverClick":false}}]
JavaScript error: jar:file:///usr/local/lib/firefox/omni.ja!/components/nsUrlClassifierListManager.js, line 69: NS_ERROR_XPC_GS_RETURNED_FAILURE: Component returned failure code: 0x80570016 (NS_ERROR_XPC_GS_RETURNED_FAILURE) [nsIJSCID.getService]
JavaScript error: jar:file:///usr/local/lib/firefox/omni.ja!/components/nsUrlClassifierListManager.js, line 69: NS_ERROR_XPC_GS_RETURNED_FAILURE: Component returned failure code: 0x80570016 (NS_ERROR_XPC_GS_RETURNED_FAILURE) [nsIJSCID.getService]
>> 33:[0,2,"WebDriver:GetCapabilities"]
<< [1,2,null,{"capabilities":{"browserName":"firefox","browserVersion":"58.0","platformName":"freebsd","platformVersion":"11.1-RELEASE-p4","pageLoadStrategy":"none","acceptInsecureCerts":false,"timeouts":{"implicit":0,"pageLoad":300000,"script":30000},"rotatable":false,"moz:accessibilityChecks":false,"moz:headless":false,"moz:processID":41647,"moz:profile":"/var/tmp/cpansmoker-1023/2018021015/firefox_marionette_profile_9FCVlGoLVYP","moz:webdriverClick":false}}]
>> 50:[0,3,"Marionette:Quit",{"flags":["eAttemptQuit"]}]
Xlib:  extension "XInputExtension" missing on display ":2".
Xlib:  extension "XInputExtension" missing on display ":2".
<< [1,3,null,{"cause":"shutdown"}]
JavaScript error: jar:file:///usr/local/lib/firefox/omni.ja!/components/nsUrlClassifierListManager.js, line 69: NS_ERROR_XPC_GS_RETURNED_FAILURE: Component returned failure code: 0x80570016 (NS_ERROR_XPC_GS_RETURNED_FAILURE) [nsIJSCID.getService]
JavaScript error: jar:file:///usr/local/lib/firefox/omni.ja!/components/nsUrlClassifierListManager.js, line 69: NS_ERROR_XPC_GS_RETURNED_FAILURE: Component returned failure code: 0x80570016 (NS_ERROR_XPC_GS_RETURNED_FAILURE) [nsIJSCID.getService]
JavaScript error: jar:file:///usr/local/lib/firefox/omni.ja!/components/nsUrlClassifierListManager.js, line 69: NS_ERROR_XPC_GS_RETURNED_FAILURE: Component returned failure code: 0x80570016 (NS_ERROR_XPC_GS_RETURNED_FAILURE) [nsIJSCID.getService]
JavaScript error: jar:file:///usr/local/lib/firefox/omni.ja!/components/nsUrlClassifierListManager.js, line 69: NS_ERROR_XPC_GS_RETURNED_FAILURE: Component returned failure code: 0x80570016 (NS_ERROR_XPC_GS_RETURNED_FAILURE) [nsIJSCID.getService]
JavaScript error: jar:file:///usr/local/lib/firefox/omni.ja!/components/nsUrlClassifierListManager.js, line 69: NS_ERROR_XPC_GS_RETURNED_FAILURE: Component returned failure code: 0x80570016 (NS_ERROR_XPC_GS_RETURNED_FAILURE) [nsIJSCID.getService]
JavaScript error: jar:file:///usr/local/lib/firefox/omni.ja!/components/nsUrlClassifierListManager.js, line 69: NS_ERROR_XPC_GS_RETURNED_FAILURE: Component returned failure code: 0x80570016 (NS_ERROR_XPC_GS_RETURNED_FAILURE) [nsIJSCID.getService]
# Killing PID 41802 with a signal 15
# Error Message was Firefox killed by a TERM signal (15)
t/01-marionette.t .. ok
t/pod-coverage.t ... skipped: Test::Pod::Coverage 1.04 required for testing POD coverage
t/pod.t ............ skipped: Test::Pod 1.41 required for testing POD
All tests successful.

Test Summary Report
-------------------
t/01-marionette.t (Wstat: 0 Tests: 190 Failed: 0)
  TODO passed:   121, 146-147, 166
Files=4, Tests=191, 341 wallclock secs ( 0.10 usr  0.02 sys + 99.52 cusr 50.27 csys = 149.91 CPU)
Result: PASS

------------------------------
PREREQUISITES
------------------------------

Prerequisite modules loaded:

requires:

    Module              Need  Have    
    ------------------- ----- --------
    base                0     2.22_01 
    Config              0     5.022004
    Config::INI::Reader 0     0.025   
    Crypt::URandom      0     0.36    
    English             0     1.09    
    Exporter            0     5.72    
    Fcntl               0     1.13    
    File::Spec          0     3.56_02 
    File::Temp          0     0.2304  
    FileHandle          0     2.02    
    IPC::Run            0     0.96    
    JSON                0     2.97001 
    MIME::Base64        0     3.15    
    overload            0     1.26    
    perl                5.006 5.022004
    POSIX               0     1.53_01 
    Socket              0     2.018   
    URI                 0     1.73    

build_requires:

    Module              Need  Have    
    ------------------- ----- --------
    Cwd                 0     3.56_02 
    Digest::SHA         0     5.95_01 
    Test::More          0     1.001014

configure_requires:

    Module              Need  Have    
    ------------------- ----- --------
    ExtUtils::MakeMaker 0     7.04_02 


------------------------------
ENVIRONMENT AND OTHER CONTEXT
------------------------------

Environment variables:

    PATH = /usr/local/bin:/usr/bin:/bin:/usr/local/sbin:/usr/sbin:/sbin:/home/cpansand/bin/freebsd11.1:/home/cpansand/bin/sh:/home/cpansand/bin:/usr/games:/home/cpansand/devel:/home/eserte/src/srezic-misc/scripts
    PERL5LIB = /home/cpansand/.cpan/build/2018021015/Crypt-URandom-0.36-nGJQWp/blib/arch:/home/cpansand/.cpan/build/2018021015/Crypt-URandom-0.36-nGJQWp/blib/lib:/home/cpansand/.cpan/build/2018021015/JSON-2.97001-7xfK4M/blib/arch:/home/cpansand/.cpan/build/2018021015/JSON-2.97001-7xfK4M/blib/lib:/home/cpansand/.cpan/build/2018021015/URI-1.73-_Zg5wI/blib/arch:/home/cpansand/.cpan/build/2018021015/URI-1.73-_Zg5wI/blib/lib:/home/cpansand/.cpan/build/2018021015/Test-Needs-0.002005-t3zBIl/blib/arch:/home/cpansand/.cpan/build/2018021015/Test-Needs-0.002005-t3zBIl/blib/lib:/home/cpansand/.cpan/build/2018021015/Config-INI-0.025-gaCrvV/blib/arch:/home/cpansand/.cpan/build/2018021015/Config-INI-0.025-gaCrvV/blib/lib:/home/cpansand/.cpan/build/2018021015/Mixin-Linewise-0.108-J3NLfd/blib/arch:/home/cpansand/.cpan/build/2018021015/Mixin-Linewise-0.108-J3NLfd/blib/lib:/home/cpansand/.cpan/build/2018021015/Sub-Exporter-0.987-BAIlpj/blib/arch:/home/cpansand/.cpan/build/2018021015/Sub-Exporter-0.987-BAIlpj/blib/lib:/home/cpansand/.cpan/build/2018021015/Data-OptList-0.110-zNzezQ/blib/arch:/home/cpansand/.cpan/build/2018021015/Data-OptList-0.110-zNzezQ/blib/lib:/home/cpansand/.cpan/build/2018021015/Sub-Install-0.928-HUKyCa/blib/arch:/home/cpansand/.cpan/build/2018021015/Sub-Install-0.928-HUKyCa/blib/lib:/home/cpansand/.cpan/build/2018021015/Params-Util-1.07-71gUnA/blib/arch:/home/cpansand/.cpan/build/2018021015/Params-Util-1.07-71gUnA/blib/lib:/home/cpansand/.cpan/build/2018021015/PerlIO-utf8_strict-0.007-Yn_aSE/blib/arch:/home/cpansand/.cpan/build/2018021015/PerlIO-utf8_strict-0.007-Yn_aSE/blib/lib:/home/cpansand/.cpan/build/2018021015/Test-Exception-0.43-YEcXAX/blib/arch:/home/cpansand/.cpan/build/2018021015/Test-Exception-0.43-YEcXAX/blib/lib:/home/cpansand/.cpan/build/2018021015/Sub-Uplevel-0.2800-7P6h0i/blib/arch:/home/cpansand/.cpan/build/2018021015/Sub-Uplevel-0.2800-7P6h0i/blib/lib:/home/cpansand/.cpan/build/2018021015/IPC-Run-0.96-_0wH1o/blib/arch:/home/cpansand/.cpan/build/2018021015/IPC-Run-0.96-_0wH1o/blib/lib
    PERL5OPT = 
    PERL5_CPANPLUS_IS_RUNNING = 37776
    PERL5_CPAN_IS_RUNNING = 37776
    PERL5_CPAN_IS_RUNNING_IN_RECURSION = 37745,37776
    PERLDOC = -MPod::Perldoc::ToTextOverstrike
    PERL_BATCH = yes
    PERL_CANARY_STABILITY_NOPROMPT = 1
    PERL_CPAN_REPORTER_CONFIG = /var/tmp/cpansmoker-1023/2018021015/cpanreporter_001_config.ini
    PERL_EXTUTILS_AUTOINSTALL = --defaultdeps
    SHELL = /usr/local/bin/zsh
    TERM = screen
    TMPDIR = /var/tmp/cpansmoker-1023/2018021015

Perl special variables (and OS-specific diagnostics, for MSWin32):

    $^X = /usr/perl5.22.4d/bin/perl
    $UID/$EUID = 1023 / 1023
    $GID = 1023 1023
    $EGID = 1023 1023

Perl module toolchain versions installed:

    Module              Have      
    ------------------- ----------
    CPAN                2.11_01   
    CPAN::Meta          2.150001  
    Cwd                 3.56_02   
    ExtUtils::CBuilder  0.280221  
    ExtUtils::Command   1.20_01   
    ExtUtils::Install   2.04      
    ExtUtils::MakeMaker 7.04_02   
    ExtUtils::Manifest  1.70      
    ExtUtils::ParseXS   3.28      
    File::Spec          3.56_02   
    JSON                2.97001   
    JSON::PP            2.27300_01
    Module::Build       n/a       
    Module::Signature   n/a       
    Parse::CPAN::Meta   1.4414_001
    Test::Harness       3.35_01   
    Test::More          1.001014  
    YAML                1.24      
    YAML::Syck          1.30      
    version             0.9909    


--

Summary of my perl5 (revision 5 version 22 subversion 4) configuration:
   
  Platform:
    osname=freebsd, osvers=11.1-release-p4, archname=amd64-freebsd
    uname='freebsd ali2.bbbike.org 11.1-release-p4 freebsd 11.1-release-p4 #0: tue nov 14 06:12:40 utc 2017 root@amd64-builder.daemonology.net:usrobjusrsrcsysgeneric amd64 '
    config_args='-ds -e -Dprefix=/usr/perl5.22.4d -DDEBUGGING -Dcf_email=srezic@cpan.org -Doptimize=-O2 -pipe'
    hint=recommended, useposix=true, d_sigaction=define
    useithreads=undef, usemultiplicity=undef
    use64bitint=define, use64bitall=define, uselongdouble=undef
    usemymalloc=n, bincompat5005=undef
  Compiler:
    cc='cc', ccflags ='-DHAS_FPSETMASK -DHAS_FLOATINGPOINT_H -DDEBUGGING -fno-strict-aliasing -pipe -fstack-protector-strong -I/usr/local/include -D_FORTIFY_SOURCE=2',
    optimize='-O2 -pipe -g',
    cppflags='-DHAS_FPSETMASK -DHAS_FLOATINGPOINT_H -DDEBUGGING -fno-strict-aliasing -pipe -fstack-protector-strong -I/usr/local/include'
    ccversion='', gccversion='4.2.1 Compatible FreeBSD Clang 4.0.0 (tags/RELEASE_400/final 297347)', gccosandvers=''
    intsize=4, longsize=8, ptrsize=8, doublesize=8, byteorder=12345678, doublekind=3
    d_longlong=define, longlongsize=8, d_longdbl=define, longdblsize=16, longdblkind=3
    ivtype='long', ivsize=8, nvtype='double', nvsize=8, Off_t='off_t', lseeksize=8
    alignbytes=8, prototype=define
  Linker and Libraries:
    ld='cc', ldflags ='-Wl,-E  -fstack-protector-strong -L/usr/local/lib'
    libpth=/usr/lib /usr/local/lib /usr/bin/../lib/clang/4.0.0/lib /usr/lib
    libs=-lpthread -lgdbm -lm -lcrypt -lutil -lc
    perllibs=-lpthread -lm -lcrypt -lutil -lc
    libc=, so=so, useshrplib=false, libperl=libperl.a
    gnulibc_version=''
  Dynamic Linking:
    dlsrc=dl_dlopen.xs, dlext=so, d_dlsymun=undef, ccdlflags=' '
    cccdlflags='-DPIC -fPIC', lddlflags='-shared  -L/usr/local/lib -fstack-protector-strong'


Characteristics of this binary (from libperl): 
  Compile-time options: DEBUGGING HAS_TIMES PERLIO_LAYERS
                        PERL_DONT_CREATE_GVSV
                        PERL_HASH_FUNC_ONE_AT_A_TIME_HARD PERL_MALLOC_WRAP
                        PERL_NEW_COPY_ON_WRITE PERL_PRESERVE_IVUV
                        USE_64_BIT_ALL USE_64_BIT_INT USE_LARGE_FILES
                        USE_LOCALE USE_LOCALE_COLLATE USE_LOCALE_CTYPE
                        USE_LOCALE_NUMERIC USE_LOCALE_TIME USE_PERLIO
                        USE_PERL_ATOF
  Built under freebsd
  Compiled at Jan 31 2018 14:57:51
  %ENV:
    PERL5LIB="/home/cpansand/.cpan/build/2018021015/Crypt-URandom-0.36-nGJQWp/blib/arch:/home/cpansand/.cpan/build/2018021015/Crypt-URandom-0.36-nGJQWp/blib/lib:/home/cpansand/.cpan/build/2018021015/JSON-2.97001-7xfK4M/blib/arch:/home/cpansand/.cpan/build/2018021015/JSON-2.97001-7xfK4M/blib/lib:/home/cpansand/.cpan/build/2018021015/URI-1.73-_Zg5wI/blib/arch:/home/cpansand/.cpan/build/2018021015/URI-1.73-_Zg5wI/blib/lib:/home/cpansand/.cpan/build/2018021015/Test-Needs-0.002005-t3zBIl/blib/arch:/home/cpansand/.cpan/build/2018021015/Test-Needs-0.002005-t3zBIl/blib/lib:/home/cpansand/.cpan/build/2018021015/Config-INI-0.025-gaCrvV/blib/arch:/home/cpansand/.cpan/build/2018021015/Config-INI-0.025-gaCrvV/blib/lib:/home/cpansand/.cpan/build/2018021015/Mixin-Linewise-0.108-J3NLfd/blib/arch:/home/cpansand/.cpan/build/2018021015/Mixin-Linewise-0.108-J3NLfd/blib/lib:/home/cpansand/.cpan/build/2018021015/Sub-Exporter-0.987-BAIlpj/blib/arch:/home/cpansand/.cpan/build/2018021015/Sub-Exporter-0.987-BAIlpj/blib/lib:/home/cpansand/.cpan/build/2018021015/Data-OptList-0.110-zNzezQ/blib/arch:/home/cpansand/.cpan/build/2018021015/Data-OptList-0.110-zNzezQ/blib/lib:/home/cpansand/.cpan/build/2018021015/Sub-Install-0.928-HUKyCa/blib/arch:/home/cpansand/.cpan/build/2018021015/Sub-Install-0.928-HUKyCa/blib/lib:/home/cpansand/.cpan/build/2018021015/Params-Util-1.07-71gUnA/blib/arch:/home/cpansand/.cpan/build/2018021015/Params-Util-1.07-71gUnA/blib/lib:/home/cpansand/.cpan/build/2018021015/PerlIO-utf8_strict-0.007-Yn_aSE/blib/arch:/home/cpansand/.cpan/build/2018021015/PerlIO-utf8_strict-0.007-Yn_aSE/blib/lib:/home/cpansand/.cpan/build/2018021015/Test-Exception-0.43-YEcXAX/blib/arch:/home/cpansand/.cpan/build/2018021015/Test-Exception-0.43-YEcXAX/blib/lib:/home/cpansand/.cpan/build/2018021015/Sub-Uplevel-0.2800-7P6h0i/blib/arch:/home/cpansand/.cpan/build/2018021015/Sub-Uplevel-0.2800-7P6h0i/blib/lib:/home/cpansand/.cpan/build/2018021015/IPC-Run-0.96-_0wH1o/blib/arch:/home/cpansand/.cpan/build/2018021015/IPC-Run-0.96-_0wH1o/blib/lib"
    PERL5OPT=""
    PERL5_CPANPLUS_IS_RUNNING="37776"
    PERL5_CPAN_IS_RUNNING="37776"
    PERL5_CPAN_IS_RUNNING_IN_RECURSION="37745,37776"
    PERLDOC="-MPod::Perldoc::ToTextOverstrike"
    PERL_BATCH="yes"
    PERL_CANARY_STABILITY_NOPROMPT="1"
    PERL_CPAN_REPORTER_CONFIG="/var/tmp/cpansmoker-1023/2018021015/cpanreporter_001_config.ini"
    PERL_EXTUTILS_AUTOINSTALL="--defaultdeps"
  @INC:
    /home/cpansand/.cpan/build/2018021015/Crypt-URandom-0.36-nGJQWp/blib/arch
    /home/cpansand/.cpan/build/2018021015/Crypt-URandom-0.36-nGJQWp/blib/lib
    /home/cpansand/.cpan/build/2018021015/JSON-2.97001-7xfK4M/blib/arch
    /home/cpansand/.cpan/build/2018021015/JSON-2.97001-7xfK4M/blib/lib
    /home/cpansand/.cpan/build/2018021015/URI-1.73-_Zg5wI/blib/arch
    /home/cpansand/.cpan/build/2018021015/URI-1.73-_Zg5wI/blib/lib
    /home/cpansand/.cpan/build/2018021015/Test-Needs-0.002005-t3zBIl/blib/arch
    /home/cpansand/.cpan/build/2018021015/Test-Needs-0.002005-t3zBIl/blib/lib
    /home/cpansand/.cpan/build/2018021015/Config-INI-0.025-gaCrvV/blib/arch
    /home/cpansand/.cpan/build/2018021015/Config-INI-0.025-gaCrvV/blib/lib
    /home/cpansand/.cpan/build/2018021015/Mixin-Linewise-0.108-J3NLfd/blib/arch
    /home/cpansand/.cpan/build/2018021015/Mixin-Linewise-0.108-J3NLfd/blib/lib
    /home/cpansand/.cpan/build/2018021015/Sub-Exporter-0.987-BAIlpj/blib/arch
    /home/cpansand/.cpan/build/2018021015/Sub-Exporter-0.987-BAIlpj/blib/lib
    /home/cpansand/.cpan/build/2018021015/Data-OptList-0.110-zNzezQ/blib/arch
    /home/cpansand/.cpan/build/2018021015/Data-OptList-0.110-zNzezQ/blib/lib
    /home/cpansand/.cpan/build/2018021015/Sub-Install-0.928-HUKyCa/blib/arch
    /home/cpansand/.cpan/build/2018021015/Sub-Install-0.928-HUKyCa/blib/lib
    /home/cpansand/.cpan/build/2018021015/Params-Util-1.07-71gUnA/blib/arch
    /home/cpansand/.cpan/build/2018021015/Params-Util-1.07-71gUnA/blib/lib
    /home/cpansand/.cpan/build/2018021015/PerlIO-utf8_strict-0.007-Yn_aSE/blib/arch
    /home/cpansand/.cpan/build/2018021015/PerlIO-utf8_strict-0.007-Yn_aSE/blib/lib
    /home/cpansand/.cpan/build/2018021015/Test-Exception-0.43-YEcXAX/blib/arch
    /home/cpansand/.cpan/build/2018021015/Test-Exception-0.43-YEcXAX/blib/lib
    /home/cpansand/.cpan/build/2018021015/Sub-Uplevel-0.2800-7P6h0i/blib/arch
    /home/cpansand/.cpan/build/2018021015/Sub-Uplevel-0.2800-7P6h0i/blib/lib
    /home/cpansand/.cpan/build/2018021015/IPC-Run-0.96-_0wH1o/blib/arch
    /home/cpansand/.cpan/build/2018021015/IPC-Run-0.96-_0wH1o/blib/lib
    /usr/perl5.22.4d/lib/site_perl/5.22.4/amd64-freebsd
    /usr/perl5.22.4d/lib/site_perl/5.22.4
    /usr/perl5.22.4d/lib/5.22.4/amd64-freebsd
    /usr/perl5.22.4d/lib/5.22.4
    .