Encode v3.14 Perl 5 v5.26.1 x86_64-linux-gnu-thread-multi

Status
Pass
From
Gelu Lupas
Dist
Encode v3.14
Platform
Perl 5 v5.26.1 x86_64-linux-gnu-thread-multi
Date
2021-10-08 11:28:21
ID
d7f6ee3e-282a-11ec-b745-e7331fad2de3
This distribution has been tested as part of the CPAN Testers
project, supporting the Perl programming language.  See
http://wiki.cpantesters.org/ for more information or email
questions to cpan-testers-discuss@perl.org


--
Dear DANKOGAI,

This is a computer-generated report for Encode-3.14
on perl 5.26.1, created by App::cpanminus::reporter 0.17 (1.7044).

Thank you for uploading your work to CPAN.  Congratulations!
All tests were successful.

Sections of this report:

    * Tester comments
    * Program output
    * Prerequisites
    * Environment and other context

------------------------------
TESTER COMMENTS
------------------------------

Additional comments from tester:

none provided

------------------------------
PROGRAM OUTPUT
------------------------------

Output from '':

Building and testing Encode-3.14
cp lib/Encode/JP/JIS7.pm blib/lib/Encode/JP/JIS7.pm
cp lib/Encode/MIME/Header.pm blib/lib/Encode/MIME/Header.pm
cp Encode.pm blib/lib/Encode.pm
cp lib/Encode/Config.pm blib/lib/Encode/Config.pm
cp lib/Encode/JP/H2Z.pm blib/lib/Encode/JP/H2Z.pm
cp Encode/ConfigLocal_PM.e2x blib/lib/Encode/ConfigLocal_PM.e2x
cp Encode/_PM.e2x blib/lib/Encode/_PM.e2x
cp lib/Encode/CN/HZ.pm blib/lib/Encode/CN/HZ.pm
cp lib/Encode/MIME/Name.pm blib/lib/Encode/MIME/Name.pm
cp lib/Encode/CJKConstants.pm blib/lib/Encode/CJKConstants.pm
cp lib/Encode/Unicode/UTF7.pm blib/lib/Encode/Unicode/UTF7.pm
cp Encode/_T.e2x blib/lib/Encode/_T.e2x
cp lib/Encode/KR/2022_KR.pm blib/lib/Encode/KR/2022_KR.pm
cp lib/Encode/MIME/Header/ISO_2022_JP.pm blib/lib/Encode/MIME/Header/ISO_2022_JP.pm
cp lib/Encode/Alias.pm blib/lib/Encode/Alias.pm
cp Encode/encode.h blib/lib/Encode/encode.h
cp lib/Encode/GSM0338.pm blib/lib/Encode/GSM0338.pm
cp lib/Encode/PerlIO.pod blib/lib/Encode/PerlIO.pod
cp lib/Encode/Guess.pm blib/lib/Encode/Guess.pm
cp Encode/README.e2x blib/lib/Encode/README.e2x
cp lib/Encode/Encoder.pm blib/lib/Encode/Encoder.pm
cp encoding.pm blib/lib/encoding.pm
cp Encode/Makefile_PL.e2x blib/lib/Encode/Makefile_PL.e2x
cp Encode/Changes.e2x blib/lib/Encode/Changes.e2x
cp lib/Encode/Encoding.pm blib/lib/Encode/Encoding.pm
cp lib/Encode/Supported.pod blib/lib/Encode/Supported.pod
make[1]: Entering directory '/home/gelu/.cpanm/work/1633690326.16318/Encode-3.14/Byte'
cp Byte.pm ../blib/lib/Encode/Byte.pm
Running Mkbootstrap for Byte ()
chmod 644 "Byte.bs"
"/usr/bin/perl" -MExtUtils::Command::MM -e 'cp_nonempty' -- Byte.bs ../blib/arch/auto/Encode/Byte/Byte.bs 644
"/usr/bin/perl"  ../bin/enc2xs -"Q" -"O" -o byte_t.c -f byte_t.fnm
Reading iso-8859-2 (iso-8859-2)
Reading iso-8859-3 (iso-8859-3)
Reading iso-8859-4 (iso-8859-4)
Reading iso-8859-5 (iso-8859-5)
Reading iso-8859-6 (iso-8859-6)
Reading iso-8859-7 (iso-8859-7)
Reading iso-8859-8 (iso-8859-8)
Reading iso-8859-9 (iso-8859-9)
Reading iso-8859-10 (iso-8859-10)
Reading iso-8859-11 (iso-8859-11)
Reading iso-8859-13 (iso-8859-13)
Reading iso-8859-14 (iso-8859-14)
Reading iso-8859-15 (iso-8859-15)
Reading iso-8859-16 (iso-8859-16)
Reading AdobeStandardEncoding (AdobeStandardEncoding)
Reading cp1006 (cp1006)
Reading cp1250 (cp1250)
Reading cp1251 (cp1251)
Reading cp1253 (cp1253)
Reading cp1254 (cp1254)
Reading cp1255 (cp1255)
Reading cp1256 (cp1256)
Reading cp1257 (cp1257)
Reading cp1258 (cp1258)
Reading cp424 (cp424)
Reading cp437 (cp437)
Reading cp737 (cp737)
Reading cp775 (cp775)
Reading cp850 (cp850)
Reading cp852 (cp852)
Reading cp855 (cp855)
Reading cp856 (cp856)
Reading cp857 (cp857)
Reading cp858 (cp858)
Reading cp860 (cp860)
Reading cp861 (cp861)
Reading cp862 (cp862)
Reading cp863 (cp863)
Reading cp864 (cp864)
Reading cp865 (cp865)
Reading cp866 (cp866)
Reading cp869 (cp869)
Reading cp874 (cp874)
Reading hp-roman8 (hp-roman8)
Reading koi8-f (koi8-f)
Reading koi8-r (koi8-r)
Reading koi8-u (koi8-u)
Reading MacArabic (MacArabic)
Reading MacCentralEurRoman (MacCentralEurRoman)
Reading MacCroatian (MacCroatian)
Reading MacCyrillic (MacCyrillic)
Reading MacFarsi (MacFarsi)
Reading MacGreek (MacGreek)
Reading MacHebrew (MacHebrew)
Reading MacIcelandic (MacIcelandic)
Reading MacRomanian (MacRomanian)
Reading MacRumanian (MacRumanian)
Reading MacRoman (MacRoman)
Reading MacSami (MacSami)
Reading MacThai (MacThai)
Reading MacTurkish (MacTurkish)
Reading MacUkrainian (MacUkrainian)
Reading nextstep (nextstep)
Reading viscii (viscii)
"/usr/bin/perl" "/usr/share/perl/5.26.1/ExtUtils/xsubpp"  -nolinenumbers -typemap '/usr/share/perl/5.26/ExtUtils/typemap'  Byte.xs > Byte.xsc
mv Byte.xsc Byte.c
x86_64-linux-gnu-gcc -c -I./Encode  -I../Encode -D_REENTRANT -D_GNU_SOURCE -DDEBIAN -fwrapv -fno-strict-aliasing -pipe -I/usr/local/include -D_LARGEFILE_SOURCE -D_FILE_OFFSET_BITS=64 -O2 -g   -DVERSION=\"2.04\" -DXS_VERSION=\"2.04\" -fPIC "-I/usr/lib/x86_64-linux-gnu/perl/5.26/CORE"   Byte.c
x86_64-linux-gnu-gcc -c -I./Encode  -I../Encode -D_REENTRANT -D_GNU_SOURCE -DDEBIAN -fwrapv -fno-strict-aliasing -pipe -I/usr/local/include -D_LARGEFILE_SOURCE -D_FILE_OFFSET_BITS=64 -O2 -g   -DVERSION=\"2.04\" -DXS_VERSION=\"2.04\" -fPIC "-I/usr/lib/x86_64-linux-gnu/perl/5.26/CORE"   byte_t.c
rm -f ../blib/arch/auto/Encode/Byte/Byte.so
x86_64-linux-gnu-gcc  -shared -L/usr/local/lib -fstack-protector-strong Byte.o byte_t.o  -o ../blib/arch/auto/Encode/Byte/Byte.so  \
      \
  
chmod 755 ../blib/arch/auto/Encode/Byte/Byte.so
make[1]: Leaving directory '/home/gelu/.cpanm/work/1633690326.16318/Encode-3.14/Byte'
make[1]: Entering directory '/home/gelu/.cpanm/work/1633690326.16318/Encode-3.14/CN'
cp CN.pm ../blib/lib/Encode/CN.pm
Running Mkbootstrap for CN ()
chmod 644 "CN.bs"
"/usr/bin/perl" -MExtUtils::Command::MM -e 'cp_nonempty' -- CN.bs ../blib/arch/auto/Encode/CN/CN.bs 644
"/usr/bin/perl"  ../bin/enc2xs -"Q" -o cp_00_t.c -f cp_00_t.fnm
Reading cp936 (cp936)
"/usr/bin/perl"  ../bin/enc2xs -"Q" -o eu_01_t.c -f eu_01_t.fnm
Reading euc-cn (euc-cn)
"/usr/bin/perl"  ../bin/enc2xs -"Q" -o gb_02_t.c -f gb_02_t.fnm
Reading gb12345-raw (gb12345-raw)
"/usr/bin/perl"  ../bin/enc2xs -"Q" -o gb_03_t.c -f gb_03_t.fnm
Reading gb2312-raw (gb2312-raw)
"/usr/bin/perl"  ../bin/enc2xs -"Q" -o ir_04_t.c -f ir_04_t.fnm
Reading iso-ir-165 (iso-ir-165)
"/usr/bin/perl"  ../bin/enc2xs -"Q" -o ma_05_t.c -f ma_05_t.fnm
Reading MacChineseSimp (MacChineseSimp)
"/usr/bin/perl" "/usr/share/perl/5.26.1/ExtUtils/xsubpp" -noprototypes -nolinenumbers -typemap '/usr/share/perl/5.26/ExtUtils/typemap'  CN.xs > CN.xsc
mv CN.xsc CN.c
x86_64-linux-gnu-gcc -c -I./Encode  -I../Encode -D_REENTRANT -D_GNU_SOURCE -DDEBIAN -fwrapv -fno-strict-aliasing -pipe -I/usr/local/include -D_LARGEFILE_SOURCE -D_FILE_OFFSET_BITS=64 -O2 -g   -DVERSION=\"2.03\" -DXS_VERSION=\"2.03\" -fPIC "-I/usr/lib/x86_64-linux-gnu/perl/5.26/CORE"   CN.c
x86_64-linux-gnu-gcc -c -I./Encode  -I../Encode -D_REENTRANT -D_GNU_SOURCE -DDEBIAN -fwrapv -fno-strict-aliasing -pipe -I/usr/local/include -D_LARGEFILE_SOURCE -D_FILE_OFFSET_BITS=64 -O2 -g   -DVERSION=\"2.03\" -DXS_VERSION=\"2.03\" -fPIC "-I/usr/lib/x86_64-linux-gnu/perl/5.26/CORE"   cp_00_t.c
x86_64-linux-gnu-gcc -c -I./Encode  -I../Encode -D_REENTRANT -D_GNU_SOURCE -DDEBIAN -fwrapv -fno-strict-aliasing -pipe -I/usr/local/include -D_LARGEFILE_SOURCE -D_FILE_OFFSET_BITS=64 -O2 -g   -DVERSION=\"2.03\" -DXS_VERSION=\"2.03\" -fPIC "-I/usr/lib/x86_64-linux-gnu/perl/5.26/CORE"   eu_01_t.c
x86_64-linux-gnu-gcc -c -I./Encode  -I../Encode -D_REENTRANT -D_GNU_SOURCE -DDEBIAN -fwrapv -fno-strict-aliasing -pipe -I/usr/local/include -D_LARGEFILE_SOURCE -D_FILE_OFFSET_BITS=64 -O2 -g   -DVERSION=\"2.03\" -DXS_VERSION=\"2.03\" -fPIC "-I/usr/lib/x86_64-linux-gnu/perl/5.26/CORE"   gb_02_t.c
x86_64-linux-gnu-gcc -c -I./Encode  -I../Encode -D_REENTRANT -D_GNU_SOURCE -DDEBIAN -fwrapv -fno-strict-aliasing -pipe -I/usr/local/include -D_LARGEFILE_SOURCE -D_FILE_OFFSET_BITS=64 -O2 -g   -DVERSION=\"2.03\" -DXS_VERSION=\"2.03\" -fPIC "-I/usr/lib/x86_64-linux-gnu/perl/5.26/CORE"   gb_03_t.c
x86_64-linux-gnu-gcc -c -I./Encode  -I../Encode -D_REENTRANT -D_GNU_SOURCE -DDEBIAN -fwrapv -fno-strict-aliasing -pipe -I/usr/local/include -D_LARGEFILE_SOURCE -D_FILE_OFFSET_BITS=64 -O2 -g   -DVERSION=\"2.03\" -DXS_VERSION=\"2.03\" -fPIC "-I/usr/lib/x86_64-linux-gnu/perl/5.26/CORE"   ir_04_t.c
x86_64-linux-gnu-gcc -c -I./Encode  -I../Encode -D_REENTRANT -D_GNU_SOURCE -DDEBIAN -fwrapv -fno-strict-aliasing -pipe -I/usr/local/include -D_LARGEFILE_SOURCE -D_FILE_OFFSET_BITS=64 -O2 -g   -DVERSION=\"2.03\" -DXS_VERSION=\"2.03\" -fPIC "-I/usr/lib/x86_64-linux-gnu/perl/5.26/CORE"   ma_05_t.c
rm -f ../blib/arch/auto/Encode/CN/CN.so
x86_64-linux-gnu-gcc  -shared -L/usr/local/lib -fstack-protector-strong CN.o cp_00_t.o eu_01_t.o gb_02_t.o gb_03_t.o ir_04_t.o ma_05_t.o  -o ../blib/arch/auto/Encode/CN/CN.so  \
      \
  
chmod 755 ../blib/arch/auto/Encode/CN/CN.so
make[1]: Leaving directory '/home/gelu/.cpanm/work/1633690326.16318/Encode-3.14/CN'
make[1]: Entering directory '/home/gelu/.cpanm/work/1633690326.16318/Encode-3.14/EBCDIC'
cp EBCDIC.pm ../blib/lib/Encode/EBCDIC.pm
Running Mkbootstrap for EBCDIC ()
chmod 644 "EBCDIC.bs"
"/usr/bin/perl" -MExtUtils::Command::MM -e 'cp_nonempty' -- EBCDIC.bs ../blib/arch/auto/Encode/EBCDIC/EBCDIC.bs 644
"/usr/bin/perl"  ../bin/enc2xs -"Q" -"O" -o ebcdic_t.c -f ebcdic_t.fnm
Reading cp37 (cp37)
Reading cp1026 (cp1026)
Reading cp1047 (cp1047)
Reading cp500 (cp500)
Reading cp875 (cp875)
Reading posix-bc (posix-bc)
"/usr/bin/perl" "/usr/share/perl/5.26.1/ExtUtils/xsubpp"  -nolinenumbers -typemap '/usr/share/perl/5.26/ExtUtils/typemap'  EBCDIC.xs > EBCDIC.xsc
mv EBCDIC.xsc EBCDIC.c
x86_64-linux-gnu-gcc -c -I./Encode  -I../Encode -D_REENTRANT -D_GNU_SOURCE -DDEBIAN -fwrapv -fno-strict-aliasing -pipe -I/usr/local/include -D_LARGEFILE_SOURCE -D_FILE_OFFSET_BITS=64 -O2 -g   -DVERSION=\"2.02\" -DXS_VERSION=\"2.02\" -fPIC "-I/usr/lib/x86_64-linux-gnu/perl/5.26/CORE"   EBCDIC.c
x86_64-linux-gnu-gcc -c -I./Encode  -I../Encode -D_REENTRANT -D_GNU_SOURCE -DDEBIAN -fwrapv -fno-strict-aliasing -pipe -I/usr/local/include -D_LARGEFILE_SOURCE -D_FILE_OFFSET_BITS=64 -O2 -g   -DVERSION=\"2.02\" -DXS_VERSION=\"2.02\" -fPIC "-I/usr/lib/x86_64-linux-gnu/perl/5.26/CORE"   ebcdic_t.c
rm -f ../blib/arch/auto/Encode/EBCDIC/EBCDIC.so
x86_64-linux-gnu-gcc  -shared -L/usr/local/lib -fstack-protector-strong EBCDIC.o ebcdic_t.o  -o ../blib/arch/auto/Encode/EBCDIC/EBCDIC.so  \
      \
  
chmod 755 ../blib/arch/auto/Encode/EBCDIC/EBCDIC.so
make[1]: Leaving directory '/home/gelu/.cpanm/work/1633690326.16318/Encode-3.14/EBCDIC'
make[1]: Entering directory '/home/gelu/.cpanm/work/1633690326.16318/Encode-3.14/JP'
cp JP.pm ../blib/lib/Encode/JP.pm
Running Mkbootstrap for JP ()
chmod 644 "JP.bs"
"/usr/bin/perl" -MExtUtils::Command::MM -e 'cp_nonempty' -- JP.bs ../blib/arch/auto/Encode/JP/JP.bs 644
"/usr/bin/perl"  ../bin/enc2xs -"Q" -o cp_00_t.c -f cp_00_t.fnm
Reading cp932 (cp932)
"/usr/bin/perl"  ../bin/enc2xs -"Q" -o eu_01_t.c -f eu_01_t.fnm
Reading euc-jp (euc-jp)
"/usr/bin/perl"  ../bin/enc2xs -"Q" -o ji_02_t.c -f ji_02_t.fnm
Reading jis0201-raw (jis0201-raw)
"/usr/bin/perl"  ../bin/enc2xs -"Q" -o ji_03_t.c -f ji_03_t.fnm
Reading jis0208-raw (jis0208-raw)
"/usr/bin/perl"  ../bin/enc2xs -"Q" -o ji_04_t.c -f ji_04_t.fnm
Reading jis0212-raw (jis0212-raw)
"/usr/bin/perl"  ../bin/enc2xs -"Q" -o ma_05_t.c -f ma_05_t.fnm
Reading MacJapanese (MacJapanese)
"/usr/bin/perl"  ../bin/enc2xs -"Q" -o sh_06_t.c -f sh_06_t.fnm
Reading shiftjis (shiftjis)
"/usr/bin/perl" "/usr/share/perl/5.26.1/ExtUtils/xsubpp"  -nolinenumbers -typemap '/usr/share/perl/5.26/ExtUtils/typemap'  JP.xs > JP.xsc
mv JP.xsc JP.c
x86_64-linux-gnu-gcc -c -I./Encode  -I../Encode -D_REENTRANT -D_GNU_SOURCE -DDEBIAN -fwrapv -fno-strict-aliasing -pipe -I/usr/local/include -D_LARGEFILE_SOURCE -D_FILE_OFFSET_BITS=64 -O2 -g   -DVERSION=\"2.05\" -DXS_VERSION=\"2.05\" -fPIC "-I/usr/lib/x86_64-linux-gnu/perl/5.26/CORE"   JP.c
x86_64-linux-gnu-gcc -c -I./Encode  -I../Encode -D_REENTRANT -D_GNU_SOURCE -DDEBIAN -fwrapv -fno-strict-aliasing -pipe -I/usr/local/include -D_LARGEFILE_SOURCE -D_FILE_OFFSET_BITS=64 -O2 -g   -DVERSION=\"2.05\" -DXS_VERSION=\"2.05\" -fPIC "-I/usr/lib/x86_64-linux-gnu/perl/5.26/CORE"   cp_00_t.c
x86_64-linux-gnu-gcc -c -I./Encode  -I../Encode -D_REENTRANT -D_GNU_SOURCE -DDEBIAN -fwrapv -fno-strict-aliasing -pipe -I/usr/local/include -D_LARGEFILE_SOURCE -D_FILE_OFFSET_BITS=64 -O2 -g   -DVERSION=\"2.05\" -DXS_VERSION=\"2.05\" -fPIC "-I/usr/lib/x86_64-linux-gnu/perl/5.26/CORE"   eu_01_t.c
x86_64-linux-gnu-gcc -c -I./Encode  -I../Encode -D_REENTRANT -D_GNU_SOURCE -DDEBIAN -fwrapv -fno-strict-aliasing -pipe -I/usr/local/include -D_LARGEFILE_SOURCE -D_FILE_OFFSET_BITS=64 -O2 -g   -DVERSION=\"2.05\" -DXS_VERSION=\"2.05\" -fPIC "-I/usr/lib/x86_64-linux-gnu/perl/5.26/CORE"   ji_02_t.c
x86_64-linux-gnu-gcc -c -I./Encode  -I../Encode -D_REENTRANT -D_GNU_SOURCE -DDEBIAN -fwrapv -fno-strict-aliasing -pipe -I/usr/local/include -D_LARGEFILE_SOURCE -D_FILE_OFFSET_BITS=64 -O2 -g   -DVERSION=\"2.05\" -DXS_VERSION=\"2.05\" -fPIC "-I/usr/lib/x86_64-linux-gnu/perl/5.26/CORE"   ji_03_t.c
x86_64-linux-gnu-gcc -c -I./Encode  -I../Encode -D_REENTRANT -D_GNU_SOURCE -DDEBIAN -fwrapv -fno-strict-aliasing -pipe -I/usr/local/include -D_LARGEFILE_SOURCE -D_FILE_OFFSET_BITS=64 -O2 -g   -DVERSION=\"2.05\" -DXS_VERSION=\"2.05\" -fPIC "-I/usr/lib/x86_64-linux-gnu/perl/5.26/CORE"   ji_04_t.c
x86_64-linux-gnu-gcc -c -I./Encode  -I../Encode -D_REENTRANT -D_GNU_SOURCE -DDEBIAN -fwrapv -fno-strict-aliasing -pipe -I/usr/local/include -D_LARGEFILE_SOURCE -D_FILE_OFFSET_BITS=64 -O2 -g   -DVERSION=\"2.05\" -DXS_VERSION=\"2.05\" -fPIC "-I/usr/lib/x86_64-linux-gnu/perl/5.26/CORE"   ma_05_t.c
x86_64-linux-gnu-gcc -c -I./Encode  -I../Encode -D_REENTRANT -D_GNU_SOURCE -DDEBIAN -fwrapv -fno-strict-aliasing -pipe -I/usr/local/include -D_LARGEFILE_SOURCE -D_FILE_OFFSET_BITS=64 -O2 -g   -DVERSION=\"2.05\" -DXS_VERSION=\"2.05\" -fPIC "-I/usr/lib/x86_64-linux-gnu/perl/5.26/CORE"   sh_06_t.c
rm -f ../blib/arch/auto/Encode/JP/JP.so
x86_64-linux-gnu-gcc  -shared -L/usr/local/lib -fstack-protector-strong JP.o cp_00_t.o eu_01_t.o ji_02_t.o ji_03_t.o ji_04_t.o ma_05_t.o sh_06_t.o  -o ../blib/arch/auto/Encode/JP/JP.so  \
      \
  
chmod 755 ../blib/arch/auto/Encode/JP/JP.so
make[1]: Leaving directory '/home/gelu/.cpanm/work/1633690326.16318/Encode-3.14/JP'
make[1]: Entering directory '/home/gelu/.cpanm/work/1633690326.16318/Encode-3.14/KR'
cp KR.pm ../blib/lib/Encode/KR.pm
Running Mkbootstrap for KR ()
chmod 644 "KR.bs"
"/usr/bin/perl" -MExtUtils::Command::MM -e 'cp_nonempty' -- KR.bs ../blib/arch/auto/Encode/KR/KR.bs 644
"/usr/bin/perl"  ../bin/enc2xs -"Q" -o cp_00_t.c -f cp_00_t.fnm
Reading cp949 (cp949)
"/usr/bin/perl"  ../bin/enc2xs -"Q" -o eu_01_t.c -f eu_01_t.fnm
Reading euc-kr (euc-kr)
"/usr/bin/perl"  ../bin/enc2xs -"Q" -o jo_02_t.c -f jo_02_t.fnm
Reading johab (johab)
"/usr/bin/perl"  ../bin/enc2xs -"Q" -o ks_03_t.c -f ks_03_t.fnm
Reading ksc5601-raw (ksc5601-raw)
"/usr/bin/perl"  ../bin/enc2xs -"Q" -o ma_04_t.c -f ma_04_t.fnm
Reading MacKorean (MacKorean)
"/usr/bin/perl" "/usr/share/perl/5.26.1/ExtUtils/xsubpp"  -nolinenumbers -typemap '/usr/share/perl/5.26/ExtUtils/typemap'  KR.xs > KR.xsc
mv KR.xsc KR.c
x86_64-linux-gnu-gcc -c -I./Encode  -I../Encode -D_REENTRANT -D_GNU_SOURCE -DDEBIAN -fwrapv -fno-strict-aliasing -pipe -I/usr/local/include -D_LARGEFILE_SOURCE -D_FILE_OFFSET_BITS=64 -O2 -g   -DVERSION=\"2.03\" -DXS_VERSION=\"2.03\" -fPIC "-I/usr/lib/x86_64-linux-gnu/perl/5.26/CORE"   KR.c
x86_64-linux-gnu-gcc -c -I./Encode  -I../Encode -D_REENTRANT -D_GNU_SOURCE -DDEBIAN -fwrapv -fno-strict-aliasing -pipe -I/usr/local/include -D_LARGEFILE_SOURCE -D_FILE_OFFSET_BITS=64 -O2 -g   -DVERSION=\"2.03\" -DXS_VERSION=\"2.03\" -fPIC "-I/usr/lib/x86_64-linux-gnu/perl/5.26/CORE"   cp_00_t.c
x86_64-linux-gnu-gcc -c -I./Encode  -I../Encode -D_REENTRANT -D_GNU_SOURCE -DDEBIAN -fwrapv -fno-strict-aliasing -pipe -I/usr/local/include -D_LARGEFILE_SOURCE -D_FILE_OFFSET_BITS=64 -O2 -g   -DVERSION=\"2.03\" -DXS_VERSION=\"2.03\" -fPIC "-I/usr/lib/x86_64-linux-gnu/perl/5.26/CORE"   eu_01_t.c
x86_64-linux-gnu-gcc -c -I./Encode  -I../Encode -D_REENTRANT -D_GNU_SOURCE -DDEBIAN -fwrapv -fno-strict-aliasing -pipe -I/usr/local/include -D_LARGEFILE_SOURCE -D_FILE_OFFSET_BITS=64 -O2 -g   -DVERSION=\"2.03\" -DXS_VERSION=\"2.03\" -fPIC "-I/usr/lib/x86_64-linux-gnu/perl/5.26/CORE"   jo_02_t.c
x86_64-linux-gnu-gcc -c -I./Encode  -I../Encode -D_REENTRANT -D_GNU_SOURCE -DDEBIAN -fwrapv -fno-strict-aliasing -pipe -I/usr/local/include -D_LARGEFILE_SOURCE -D_FILE_OFFSET_BITS=64 -O2 -g   -DVERSION=\"2.03\" -DXS_VERSION=\"2.03\" -fPIC "-I/usr/lib/x86_64-linux-gnu/perl/5.26/CORE"   ks_03_t.c
x86_64-linux-gnu-gcc -c -I./Encode  -I../Encode -D_REENTRANT -D_GNU_SOURCE -DDEBIAN -fwrapv -fno-strict-aliasing -pipe -I/usr/local/include -D_LARGEFILE_SOURCE -D_FILE_OFFSET_BITS=64 -O2 -g   -DVERSION=\"2.03\" -DXS_VERSION=\"2.03\" -fPIC "-I/usr/lib/x86_64-linux-gnu/perl/5.26/CORE"   ma_04_t.c
rm -f ../blib/arch/auto/Encode/KR/KR.so
x86_64-linux-gnu-gcc  -shared -L/usr/local/lib -fstack-protector-strong KR.o cp_00_t.o eu_01_t.o jo_02_t.o ks_03_t.o ma_04_t.o  -o ../blib/arch/auto/Encode/KR/KR.so  \
      \
  
chmod 755 ../blib/arch/auto/Encode/KR/KR.so
make[1]: Leaving directory '/home/gelu/.cpanm/work/1633690326.16318/Encode-3.14/KR'
make[1]: Entering directory '/home/gelu/.cpanm/work/1633690326.16318/Encode-3.14/Symbol'
cp Symbol.pm ../blib/lib/Encode/Symbol.pm
Running Mkbootstrap for Symbol ()
chmod 644 "Symbol.bs"
"/usr/bin/perl" -MExtUtils::Command::MM -e 'cp_nonempty' -- Symbol.bs ../blib/arch/auto/Encode/Symbol/Symbol.bs 644
"/usr/bin/perl"  ../bin/enc2xs -"Q" -"O" -o symbol_t.c -f symbol_t.fnm
Reading AdobeSymbol (AdobeSymbol)
Reading AdobeZdingbat (AdobeZdingbat)
Reading dingbats (dingbats)
Reading MacDingbats (MacDingbats)
Reading MacSymbol (MacSymbol)
Reading symbol (symbol)
"/usr/bin/perl" "/usr/share/perl/5.26.1/ExtUtils/xsubpp"  -nolinenumbers -typemap '/usr/share/perl/5.26/ExtUtils/typemap'  Symbol.xs > Symbol.xsc
mv Symbol.xsc Symbol.c
x86_64-linux-gnu-gcc -c -I./Encode  -I../Encode -D_REENTRANT -D_GNU_SOURCE -DDEBIAN -fwrapv -fno-strict-aliasing -pipe -I/usr/local/include -D_LARGEFILE_SOURCE -D_FILE_OFFSET_BITS=64 -O2 -g   -DVERSION=\"2.02\" -DXS_VERSION=\"2.02\" -fPIC "-I/usr/lib/x86_64-linux-gnu/perl/5.26/CORE"   Symbol.c
x86_64-linux-gnu-gcc -c -I./Encode  -I../Encode -D_REENTRANT -D_GNU_SOURCE -DDEBIAN -fwrapv -fno-strict-aliasing -pipe -I/usr/local/include -D_LARGEFILE_SOURCE -D_FILE_OFFSET_BITS=64 -O2 -g   -DVERSION=\"2.02\" -DXS_VERSION=\"2.02\" -fPIC "-I/usr/lib/x86_64-linux-gnu/perl/5.26/CORE"   symbol_t.c
rm -f ../blib/arch/auto/Encode/Symbol/Symbol.so
x86_64-linux-gnu-gcc  -shared -L/usr/local/lib -fstack-protector-strong Symbol.o symbol_t.o  -o ../blib/arch/auto/Encode/Symbol/Symbol.so  \
      \
  
chmod 755 ../blib/arch/auto/Encode/Symbol/Symbol.so
make[1]: Leaving directory '/home/gelu/.cpanm/work/1633690326.16318/Encode-3.14/Symbol'
make[1]: Entering directory '/home/gelu/.cpanm/work/1633690326.16318/Encode-3.14/TW'
cp TW.pm ../blib/lib/Encode/TW.pm
Running Mkbootstrap for TW ()
chmod 644 "TW.bs"
"/usr/bin/perl" -MExtUtils::Command::MM -e 'cp_nonempty' -- TW.bs ../blib/arch/auto/Encode/TW/TW.bs 644
"/usr/bin/perl"  ../bin/enc2xs -"Q" -o bi_00_t.c -f bi_00_t.fnm
Reading big5-eten (big5-eten)
"/usr/bin/perl"  ../bin/enc2xs -"Q" -o bi_01_t.c -f bi_01_t.fnm
Reading big5-hkscs (big5-hkscs)
"/usr/bin/perl"  ../bin/enc2xs -"Q" -o cp_02_t.c -f cp_02_t.fnm
Reading cp950 (cp950)
"/usr/bin/perl"  ../bin/enc2xs -"Q" -o ma_03_t.c -f ma_03_t.fnm
Reading MacChineseTrad (MacChineseTrad)
"/usr/bin/perl" "/usr/share/perl/5.26.1/ExtUtils/xsubpp"  -nolinenumbers -typemap '/usr/share/perl/5.26/ExtUtils/typemap'  TW.xs > TW.xsc
mv TW.xsc TW.c
x86_64-linux-gnu-gcc -c -I./Encode  -I../Encode -D_REENTRANT -D_GNU_SOURCE -DDEBIAN -fwrapv -fno-strict-aliasing -pipe -I/usr/local/include -D_LARGEFILE_SOURCE -D_FILE_OFFSET_BITS=64 -O2 -g   -DVERSION=\"2.03\" -DXS_VERSION=\"2.03\" -fPIC "-I/usr/lib/x86_64-linux-gnu/perl/5.26/CORE"   TW.c
x86_64-linux-gnu-gcc -c -I./Encode  -I../Encode -D_REENTRANT -D_GNU_SOURCE -DDEBIAN -fwrapv -fno-strict-aliasing -pipe -I/usr/local/include -D_LARGEFILE_SOURCE -D_FILE_OFFSET_BITS=64 -O2 -g   -DVERSION=\"2.03\" -DXS_VERSION=\"2.03\" -fPIC "-I/usr/lib/x86_64-linux-gnu/perl/5.26/CORE"   bi_00_t.c
x86_64-linux-gnu-gcc -c -I./Encode  -I../Encode -D_REENTRANT -D_GNU_SOURCE -DDEBIAN -fwrapv -fno-strict-aliasing -pipe -I/usr/local/include -D_LARGEFILE_SOURCE -D_FILE_OFFSET_BITS=64 -O2 -g   -DVERSION=\"2.03\" -DXS_VERSION=\"2.03\" -fPIC "-I/usr/lib/x86_64-linux-gnu/perl/5.26/CORE"   bi_01_t.c
x86_64-linux-gnu-gcc -c -I./Encode  -I../Encode -D_REENTRANT -D_GNU_SOURCE -DDEBIAN -fwrapv -fno-strict-aliasing -pipe -I/usr/local/include -D_LARGEFILE_SOURCE -D_FILE_OFFSET_BITS=64 -O2 -g   -DVERSION=\"2.03\" -DXS_VERSION=\"2.03\" -fPIC "-I/usr/lib/x86_64-linux-gnu/perl/5.26/CORE"   cp_02_t.c
x86_64-linux-gnu-gcc -c -I./Encode  -I../Encode -D_REENTRANT -D_GNU_SOURCE -DDEBIAN -fwrapv -fno-strict-aliasing -pipe -I/usr/local/include -D_LARGEFILE_SOURCE -D_FILE_OFFSET_BITS=64 -O2 -g   -DVERSION=\"2.03\" -DXS_VERSION=\"2.03\" -fPIC "-I/usr/lib/x86_64-linux-gnu/perl/5.26/CORE"   ma_03_t.c
rm -f ../blib/arch/auto/Encode/TW/TW.so
x86_64-linux-gnu-gcc  -shared -L/usr/local/lib -fstack-protector-strong TW.o bi_00_t.o bi_01_t.o cp_02_t.o ma_03_t.o  -o ../blib/arch/auto/Encode/TW/TW.so  \
      \
  
chmod 755 ../blib/arch/auto/Encode/TW/TW.so
make[1]: Leaving directory '/home/gelu/.cpanm/work/1633690326.16318/Encode-3.14/TW'
make[1]: Entering directory '/home/gelu/.cpanm/work/1633690326.16318/Encode-3.14/Unicode'
cp Unicode.pm ../blib/lib/Encode/Unicode.pm
Running Mkbootstrap for Unicode ()
chmod 644 "Unicode.bs"
"/usr/bin/perl" -MExtUtils::Command::MM -e 'cp_nonempty' -- Unicode.bs ../blib/arch/auto/Encode/Unicode/Unicode.bs 644
"/usr/bin/perl" "/usr/share/perl/5.26.1/ExtUtils/xsubpp"  -typemap '/usr/share/perl/5.26/ExtUtils/typemap'  Unicode.xs > Unicode.xsc
mv Unicode.xsc Unicode.c
x86_64-linux-gnu-gcc -c -I./Encode  -I../Encode -D_REENTRANT -D_GNU_SOURCE -DDEBIAN -fwrapv -fno-strict-aliasing -pipe -I/usr/local/include -D_LARGEFILE_SOURCE -D_FILE_OFFSET_BITS=64 -O2 -g   -DVERSION=\"2.19\" -DXS_VERSION=\"2.19\" -fPIC "-I/usr/lib/x86_64-linux-gnu/perl/5.26/CORE"   Unicode.c
rm -f ../blib/arch/auto/Encode/Unicode/Unicode.so
x86_64-linux-gnu-gcc  -shared -L/usr/local/lib -fstack-protector-strong Unicode.o  -o ../blib/arch/auto/Encode/Unicode/Unicode.so  \
      \
  
chmod 755 ../blib/arch/auto/Encode/Unicode/Unicode.so
make[1]: Leaving directory '/home/gelu/.cpanm/work/1633690326.16318/Encode-3.14/Unicode'
Running Mkbootstrap for Encode ()
chmod 644 "Encode.bs"
"/usr/bin/perl" -MExtUtils::Command::MM -e 'cp_nonempty' -- Encode.bs blib/arch/auto/Encode/Encode.bs 644
"/usr/bin/perl" "/usr/share/perl/5.26/ExtUtils/xsubpp"  -typemap '/usr/share/perl/5.26/ExtUtils/typemap'  Encode.xs > Encode.xsc
mv Encode.xsc Encode.c
"/usr/bin/perl"  bin/enc2xs -"Q" -"O" -o def_t.c -f def_t.fnm
Reading iso-8859-1 (iso-8859-1)
Reading ascii (ascii)
Reading cp1252 (cp1252)
Reading ascii-ctrl (ascii-ctrl)
Reading null (null)
x86_64-linux-gnu-gcc -c  -I./Encode -D_REENTRANT -D_GNU_SOURCE -DDEBIAN -fwrapv -fno-strict-aliasing -pipe -I/usr/local/include -D_LARGEFILE_SOURCE -D_FILE_OFFSET_BITS=64 -Werror=declaration-after-statement -Wpointer-sign -O2 -g   -DVERSION=\"3.14\" -DXS_VERSION=\"3.14\" -fPIC "-I/usr/lib/x86_64-linux-gnu/perl/5.26/CORE"   Encode.c
x86_64-linux-gnu-gcc -c  -I./Encode -D_REENTRANT -D_GNU_SOURCE -DDEBIAN -fwrapv -fno-strict-aliasing -pipe -I/usr/local/include -D_LARGEFILE_SOURCE -D_FILE_OFFSET_BITS=64 -Werror=declaration-after-statement -Wpointer-sign -O2 -g   -DVERSION=\"3.14\" -DXS_VERSION=\"3.14\" -fPIC "-I/usr/lib/x86_64-linux-gnu/perl/5.26/CORE"   def_t.c
x86_64-linux-gnu-gcc -c  -I./Encode -D_REENTRANT -D_GNU_SOURCE -DDEBIAN -fwrapv -fno-strict-aliasing -pipe -I/usr/local/include -D_LARGEFILE_SOURCE -D_FILE_OFFSET_BITS=64 -Werror=declaration-after-statement -Wpointer-sign -O2 -g   -DVERSION=\"3.14\" -DXS_VERSION=\"3.14\" -fPIC "-I/usr/lib/x86_64-linux-gnu/perl/5.26/CORE"   encengine.c
rm -f blib/arch/auto/Encode/Encode.so
x86_64-linux-gnu-gcc  -shared -L/usr/local/lib -fstack-protector-strong Encode.o def_t.o encengine.o  -o blib/arch/auto/Encode/Encode.so  \
      \
  
chmod 755 blib/arch/auto/Encode/Encode.so
cp bin/enc2xs blib/script/enc2xs
"/usr/bin/perl" -MExtUtils::MY -e 'MY->fixin(shift)' -- blib/script/enc2xs
cp bin/encguess blib/script/encguess
"/usr/bin/perl" -MExtUtils::MY -e 'MY->fixin(shift)' -- blib/script/encguess
cp bin/piconv blib/script/piconv
"/usr/bin/perl" -MExtUtils::MY -e 'MY->fixin(shift)' -- blib/script/piconv
Manifying 3 pod documents
Manifying 18 pod documents
"/usr/bin/perl" -MExtUtils::Command::MM -e 'cp_nonempty' -- Encode.bs blib/arch/auto/Encode/Encode.bs 644
make[1]: Entering directory '/home/gelu/.cpanm/work/1633690326.16318/Encode-3.14/Byte'
"/usr/bin/perl" -MExtUtils::Command::MM -e 'cp_nonempty' -- Byte.bs ../blib/arch/auto/Encode/Byte/Byte.bs 644
make[1]: Leaving directory '/home/gelu/.cpanm/work/1633690326.16318/Encode-3.14/Byte'
make[1]: Entering directory '/home/gelu/.cpanm/work/1633690326.16318/Encode-3.14/CN'
"/usr/bin/perl" -MExtUtils::Command::MM -e 'cp_nonempty' -- CN.bs ../blib/arch/auto/Encode/CN/CN.bs 644
make[1]: Leaving directory '/home/gelu/.cpanm/work/1633690326.16318/Encode-3.14/CN'
make[1]: Entering directory '/home/gelu/.cpanm/work/1633690326.16318/Encode-3.14/EBCDIC'
"/usr/bin/perl" -MExtUtils::Command::MM -e 'cp_nonempty' -- EBCDIC.bs ../blib/arch/auto/Encode/EBCDIC/EBCDIC.bs 644
make[1]: Leaving directory '/home/gelu/.cpanm/work/1633690326.16318/Encode-3.14/EBCDIC'
make[1]: Entering directory '/home/gelu/.cpanm/work/1633690326.16318/Encode-3.14/JP'
"/usr/bin/perl" -MExtUtils::Command::MM -e 'cp_nonempty' -- JP.bs ../blib/arch/auto/Encode/JP/JP.bs 644
make[1]: Leaving directory '/home/gelu/.cpanm/work/1633690326.16318/Encode-3.14/JP'
make[1]: Entering directory '/home/gelu/.cpanm/work/1633690326.16318/Encode-3.14/KR'
"/usr/bin/perl" -MExtUtils::Command::MM -e 'cp_nonempty' -- KR.bs ../blib/arch/auto/Encode/KR/KR.bs 644
make[1]: Leaving directory '/home/gelu/.cpanm/work/1633690326.16318/Encode-3.14/KR'
make[1]: Entering directory '/home/gelu/.cpanm/work/1633690326.16318/Encode-3.14/Symbol'
"/usr/bin/perl" -MExtUtils::Command::MM -e 'cp_nonempty' -- Symbol.bs ../blib/arch/auto/Encode/Symbol/Symbol.bs 644
make[1]: Leaving directory '/home/gelu/.cpanm/work/1633690326.16318/Encode-3.14/Symbol'
make[1]: Entering directory '/home/gelu/.cpanm/work/1633690326.16318/Encode-3.14/TW'
"/usr/bin/perl" -MExtUtils::Command::MM -e 'cp_nonempty' -- TW.bs ../blib/arch/auto/Encode/TW/TW.bs 644
make[1]: Leaving directory '/home/gelu/.cpanm/work/1633690326.16318/Encode-3.14/TW'
make[1]: Entering directory '/home/gelu/.cpanm/work/1633690326.16318/Encode-3.14/Unicode'
"/usr/bin/perl" -MExtUtils::Command::MM -e 'cp_nonempty' -- Unicode.bs ../blib/arch/auto/Encode/Unicode/Unicode.bs 644
make[1]: Leaving directory '/home/gelu/.cpanm/work/1633690326.16318/Encode-3.14/Unicode'
make[1]: Entering directory '/home/gelu/.cpanm/work/1633690326.16318/Encode-3.14/Byte'
"/usr/bin/perl" -MExtUtils::Command::MM -e 'cp_nonempty' -- Byte.bs ../blib/arch/auto/Encode/Byte/Byte.bs 644
No tests defined for Encode::Byte extension.
make[1]: Leaving directory '/home/gelu/.cpanm/work/1633690326.16318/Encode-3.14/Byte'
make[1]: Entering directory '/home/gelu/.cpanm/work/1633690326.16318/Encode-3.14/CN'
"/usr/bin/perl" -MExtUtils::Command::MM -e 'cp_nonempty' -- CN.bs ../blib/arch/auto/Encode/CN/CN.bs 644
No tests defined for Encode::CN extension.
make[1]: Leaving directory '/home/gelu/.cpanm/work/1633690326.16318/Encode-3.14/CN'
make[1]: Entering directory '/home/gelu/.cpanm/work/1633690326.16318/Encode-3.14/EBCDIC'
"/usr/bin/perl" -MExtUtils::Command::MM -e 'cp_nonempty' -- EBCDIC.bs ../blib/arch/auto/Encode/EBCDIC/EBCDIC.bs 644
No tests defined for Encode::EBCDIC extension.
make[1]: Leaving directory '/home/gelu/.cpanm/work/1633690326.16318/Encode-3.14/EBCDIC'
make[1]: Entering directory '/home/gelu/.cpanm/work/1633690326.16318/Encode-3.14/JP'
"/usr/bin/perl" -MExtUtils::Command::MM -e 'cp_nonempty' -- JP.bs ../blib/arch/auto/Encode/JP/JP.bs 644
No tests defined for Encode::JP extension.
make[1]: Leaving directory '/home/gelu/.cpanm/work/1633690326.16318/Encode-3.14/JP'
make[1]: Entering directory '/home/gelu/.cpanm/work/1633690326.16318/Encode-3.14/KR'
"/usr/bin/perl" -MExtUtils::Command::MM -e 'cp_nonempty' -- KR.bs ../blib/arch/auto/Encode/KR/KR.bs 644
No tests defined for Encode::KR extension.
make[1]: Leaving directory '/home/gelu/.cpanm/work/1633690326.16318/Encode-3.14/KR'
make[1]: Entering directory '/home/gelu/.cpanm/work/1633690326.16318/Encode-3.14/Symbol'
"/usr/bin/perl" -MExtUtils::Command::MM -e 'cp_nonempty' -- Symbol.bs ../blib/arch/auto/Encode/Symbol/Symbol.bs 644
No tests defined for Encode::Symbol extension.
make[1]: Leaving directory '/home/gelu/.cpanm/work/1633690326.16318/Encode-3.14/Symbol'
make[1]: Entering directory '/home/gelu/.cpanm/work/1633690326.16318/Encode-3.14/TW'
"/usr/bin/perl" -MExtUtils::Command::MM -e 'cp_nonempty' -- TW.bs ../blib/arch/auto/Encode/TW/TW.bs 644
No tests defined for Encode::TW extension.
make[1]: Leaving directory '/home/gelu/.cpanm/work/1633690326.16318/Encode-3.14/TW'
make[1]: Entering directory '/home/gelu/.cpanm/work/1633690326.16318/Encode-3.14/Unicode'
"/usr/bin/perl" -MExtUtils::Command::MM -e 'cp_nonempty' -- Unicode.bs ../blib/arch/auto/Encode/Unicode/Unicode.bs 644
No tests defined for Encode::Unicode extension.
make[1]: Leaving directory '/home/gelu/.cpanm/work/1633690326.16318/Encode-3.14/Unicode'
PERL_DL_NONLAZY=1 "/usr/bin/perl" "-MExtUtils::Command::MM" "-MTest::Harness" "-e" "undef *Test::Harness::Switches; test_harness(0, 'blib/lib', 'blib/arch')" t/*.t
t/Aliases.t ................ ok
t/at-cn.t .................. ok
t/at-tw.t .................. ok
t/CJKT.t ................... ok
t/cow.t .................... ok
t/decode.t ................. ok
t/enc_data.t ............... skipped: encoding pragma not supported in Perl 5.26
t/enc_eucjp.t .............. skipped: Perl <=5.25.2 or cperl required
t/enc_module.t ............. skipped: encoding pragma not supported in Perl 5.26
t/enc_utf8.t ............... skipped: Perl <=5.25.2 or cperl required
t/Encode.t ................. ok
t/Encoder.t ................ ok
t/encoding-locale.t ........ ok
t/encoding.t ............... skipped: encoding pragma not supported in Perl 5.26
t/fallback.t ............... ok
t/from_to.t ................ ok
t/grow.t ................... ok
t/gsm0338.t ................ ok
t/guess.t .................. ok
t/isa.t .................... ok
t/jis7-fallback.t .......... ok
t/jperl.t .................. skipped: encoding pragma not supported in Perl 5.26
t/magic.t .................. ok
t/mime-header.t ............ ok
t/mime-name.t .............. ok
t/mime_header_iso2022jp.t .. ok
t/perlio.t ................. ok
t/piconv.t ................. ok
t/rt113164.t ............... ok
t/rt65541.t ................ ok
t/rt76824.t ................ ok
t/rt85489.t ................ ok
t/rt86327.t ................ ok
t/taint.t .................. ok
t/truncated_utf8.t ......... ok
t/undef.t .................. ok
t/Unicode.t ................ ok
# temp file: /tmp/stzkdsvLca
t/Unicode_trailing_nul.t ... ok
t/use-Encode-Alias.t ....... ok
t/utf8ref.t ................ ok
t/utf8strict.t ............. ok
t/utf8warnings.t ........... ok
t/whatwg-aliases.t ......... skipped: For maintainers only
t/xml.t .................... ok
All tests successful.

Test Summary Report
-------------------
t/truncated_utf8.t       (Wstat: 0 Tests: 9 Failed: 0)
  TODO passed:   9
Files=44, Tests=7711,  4 wallclock secs ( 0.34 usr  0.05 sys +  3.44 cusr  0.29 csys =  4.12 CPU)
Result: PASS

------------------------------
PREREQUISITES
------------------------------

Prerequisite modules loaded:

    No requirements found

------------------------------
ENVIRONMENT AND OTHER CONTEXT
------------------------------

Environment variables:

    LANG = en_US.UTF-8
    LANGUAGE = en_US:
    LC_ADDRESS = ro_RO.UTF-8
    LC_IDENTIFICATION = ro_RO.UTF-8
    LC_MEASUREMENT = ro_RO.UTF-8
    LC_MONETARY = ro_RO.UTF-8
    LC_NAME = ro_RO.UTF-8
    LC_NUMERIC = ro_RO.UTF-8
    LC_PAPER = ro_RO.UTF-8
    LC_TELEPHONE = ro_RO.UTF-8
    LC_TIME = ro_RO.UTF-8
    PATH = /home/gelu/.local/bin:/home/gelu/.local/bin:/home/gelu/.local/bin:/usr/local/sbin:/usr/local/bin:/usr/sbin:/usr/bin:/sbin:/bin:/usr/games:/usr/local/games:/snap/bin
    PERL5LIB = /home/gelu/.local/lib/perl5
    PERL_LOCAL_LIB_ROOT = /home/gelu/.local
    PERL_MB_OPT = --install_base "/home/gelu/.local"
    PERL_MM_OPT = INSTALL_BASE=/home/gelu/.local
    SHELL = /bin/zsh
    TERM = xterm-256color

Perl special variables (and OS-specific diagnostics, for MSWin32):

    EGID = 1000 4 20 24 27 30 46 50 118 128 130 216 1000
    EUID = 1000
    EXECUTABLE_NAME = /usr/bin/perl
    GID = 1000 4 20 24 27 30 46 50 118 128 130 216 1000
    UID = 1000

Perl module toolchain versions installed:

    Module              Have    
    ------------------- --------
    CPAN                2.18    
    CPAN::Meta          2.150010
    Cwd                 3.67    
    ExtUtils::CBuilder  0.280225
    ExtUtils::Command   7.24    
    ExtUtils::Install   2.04    
    ExtUtils::MakeMaker 7.24    
    ExtUtils::Manifest  1.70    
    ExtUtils::ParseXS   3.34    
    File::Spec          3.67    
    JSON                2.97001 
    JSON::PP            2.97001 
    Module::Build       0.4224  
    Module::Signature   0.81    
    Parse::CPAN::Meta   2.150010
    Test::Harness       3.38    
    Test::More          1.302073
    YAML                1.24    
    YAML::Syck          n/a     
    version             0.9917  


--

Summary of my perl5 (revision 5 version 26 subversion 1) configuration:
   
  Platform:
    osname=linux
    osvers=4.9.0
    archname=x86_64-linux-gnu-thread-multi
    uname='linux localhost 4.9.0 #1 smp debian 4.9.0 x86_64 gnulinux '
    config_args='-Dusethreads -Duselargefiles -Dcc=x86_64-linux-gnu-gcc -Dcpp=x86_64-linux-gnu-cpp -Dld=x86_64-linux-gnu-gcc -Dccflags=-DDEBIAN -Wdate-time -D_FORTIFY_SOURCE=2 -g -O2 -fdebug-prefix-map=/build/perl-kahdkK/perl-5.26.1=. -fstack-protector-strong -Wformat -Werror=format-security -Dldflags= -Wl,-Bsymbolic-functions -Wl,-z,relro -Dlddlflags=-shared -Wl,-Bsymbolic-functions -Wl,-z,relro -Dcccdlflags=-fPIC -Darchname=x86_64-linux-gnu -Dprefix=/usr -Dprivlib=/usr/share/perl/5.26 -Darchlib=/usr/lib/x86_64-linux-gnu/perl/5.26 -Dvendorprefix=/usr -Dvendorlib=/usr/share/perl5 -Dvendorarch=/usr/lib/x86_64-linux-gnu/perl5/5.26 -Dsiteprefix=/usr/local -Dsitelib=/usr/local/share/perl/5.26.1 -Dsitearch=/usr/local/lib/x86_64-linux-gnu/perl/5.26.1 -Dman1dir=/usr/share/man/man1 -Dman3dir=/usr/share/man/man3 -Dsiteman1dir=/usr/local/man/man1 -Dsiteman3dir=/usr/local/man/man3 -Duse64bitint -Dman1ext=1 -Dman3ext=3perl -Dpager=/usr/bin/sensible-pager -Uafs -Ud_csh -Ud_ualarm -Uusesfio -Uusenm -Ui_libutil -Ui_xlocale -Uversiononly -DDEBUGGING=-g -Doptimize=-O2 -dEs -Duseshrplib -Dlibperl=libperl.so.5.26.1'
    hint=recommended
    useposix=true
    d_sigaction=define
    useithreads=define
    usemultiplicity=define
    use64bitint=define
    use64bitall=define
    uselongdouble=undef
    usemymalloc=n
    default_inc_excludes_dot=define
    bincompat5005=undef
  Compiler:
    cc='x86_64-linux-gnu-gcc'
    ccflags ='-D_REENTRANT -D_GNU_SOURCE -DDEBIAN -fwrapv -fno-strict-aliasing -pipe -I/usr/local/include -D_LARGEFILE_SOURCE -D_FILE_OFFSET_BITS=64'
    optimize='-O2 -g'
    cppflags='-D_REENTRANT -D_GNU_SOURCE -DDEBIAN -fwrapv -fno-strict-aliasing -pipe -I/usr/local/include'
    ccversion=''
    gccversion='7.5.0'
    gccosandvers=''
    intsize=4
    longsize=8
    ptrsize=8
    doublesize=8
    byteorder=12345678
    doublekind=3
    d_longlong=define
    longlongsize=8
    d_longdbl=define
    longdblsize=16
    longdblkind=3
    ivtype='long'
    ivsize=8
    nvtype='double'
    nvsize=8
    Off_t='off_t'
    lseeksize=8
    alignbytes=8
    prototype=define
  Linker and Libraries:
    ld='x86_64-linux-gnu-gcc'
    ldflags =' -fstack-protector-strong -L/usr/local/lib'
    libpth=/usr/local/lib /usr/lib/gcc/x86_64-linux-gnu/7/include-fixed /usr/include/x86_64-linux-gnu /usr/lib /lib/x86_64-linux-gnu /lib/../lib /usr/lib/x86_64-linux-gnu /usr/lib/../lib /lib
    libs=-lgdbm -lgdbm_compat -ldb -ldl -lm -lpthread -lc -lcrypt
    perllibs=-ldl -lm -lpthread -lc -lcrypt
    libc=libc-2.27.so
    so=so
    useshrplib=true
    libperl=libperl.so.5.26
    gnulibc_version='2.27'
  Dynamic Linking:
    dlsrc=dl_dlopen.xs
    dlext=so
    d_dlsymun=undef
    ccdlflags='-Wl,-E'
    cccdlflags='-fPIC'
    lddlflags='-shared -L/usr/local/lib -fstack-protector-strong'


Characteristics of this binary (from libperl): 
  Compile-time options:
    HAS_TIMES
    MULTIPLICITY
    PERLIO_LAYERS
    PERL_COPY_ON_WRITE
    PERL_DONT_CREATE_GVSV
    PERL_IMPLICIT_CONTEXT
    PERL_MALLOC_WRAP
    PERL_OP_PARENT
    PERL_PRESERVE_IVUV
    USE_64_BIT_ALL
    USE_64_BIT_INT
    USE_ITHREADS
    USE_LARGE_FILES
    USE_LOCALE
    USE_LOCALE_COLLATE
    USE_LOCALE_CTYPE
    USE_LOCALE_NUMERIC
    USE_LOCALE_TIME
    USE_PERLIO
    USE_PERL_ATOF
    USE_REENTRANT_API
  Locally applied patches:
    DEBPKG:debian/cpan_definstalldirs - Provide a sensible INSTALLDIRS default for modules installed from CPAN.
    DEBPKG:debian/db_file_ver - https://bugs.debian.org/340047 Remove overly restrictive DB_File version check.
    DEBPKG:debian/doc_info - Replace generic man(1) instructions with Debian-specific information.
    DEBPKG:debian/enc2xs_inc - https://bugs.debian.org/290336 Tweak enc2xs to follow symlinks and ignore missing @INC directories.
    DEBPKG:debian/errno_ver - https://bugs.debian.org/343351 Remove Errno version check due to upgrade problems with long-running processes.
    DEBPKG:debian/libperl_embed_doc - https://bugs.debian.org/186778 Note that libperl-dev package is required for embedded linking
    DEBPKG:fixes/respect_umask - Respect umask during installation
    DEBPKG:debian/writable_site_dirs - Set umask approproately for site install directories
    DEBPKG:debian/extutils_set_libperl_path - EU:MM: set location of libperl.a under /usr/lib
    DEBPKG:debian/no_packlist_perllocal - Don't install .packlist or perllocal.pod for perl or vendor
    DEBPKG:debian/fakeroot - Postpone LD_LIBRARY_PATH evaluation to the binary targets.
    DEBPKG:debian/instmodsh_doc - Debian policy doesn't install .packlist files for core or vendor.
    DEBPKG:debian/ld_run_path - Remove standard libs from LD_RUN_PATH as per Debian policy.
    DEBPKG:debian/libnet_config_path - Set location of libnet.cfg to /etc/perl/Net as /usr may not be writable.
    DEBPKG:debian/perlivp - https://bugs.debian.org/510895 Make perlivp skip include directories in /usr/local
    DEBPKG:debian/deprecate-with-apt - https://bugs.debian.org/747628 Point users to Debian packages of deprecated core modules
    DEBPKG:debian/squelch-locale-warnings - https://bugs.debian.org/508764 Squelch locale warnings in Debian package maintainer scripts
    DEBPKG:debian/patchlevel - https://bugs.debian.org/567489 List packaged patches for 5.26.1-6ubuntu0.5 in patchlevel.h
    DEBPKG:fixes/document_makemaker_ccflags - https://bugs.debian.org/628522 [rt.cpan.org #68613] Document that CCFLAGS should include $Config{ccflags}
    DEBPKG:debian/find_html2text - https://bugs.debian.org/640479 Configure CPAN::Distribution with correct name of html2text
    DEBPKG:debian/perl5db-x-terminal-emulator.patch - https://bugs.debian.org/668490 Invoke x-terminal-emulator rather than xterm in perl5db.pl
    DEBPKG:debian/cpan-missing-site-dirs - https://bugs.debian.org/688842 Fix CPAN::FirstTime defaults with nonexisting site dirs if a parent is writable
    DEBPKG:fixes/memoize_storable_nstore - [rt.cpan.org #77790] https://bugs.debian.org/587650 Memoize::Storable: respect 'nstore' option not respected
    DEBPKG:debian/makemaker-pasthru - https://bugs.debian.org/758471 Pass LD settings through to subdirectories
    DEBPKG:debian/makemaker-manext - https://bugs.debian.org/247370 Make EU::MakeMaker honour MANnEXT settings in generated manpage headers
    DEBPKG:debian/kfreebsd-softupdates - https://bugs.debian.org/796798 Work around Debian Bug#796798
    DEBPKG:fixes/autodie-scope - https://bugs.debian.org/798096 Fix a scoping issue with "no autodie" and the "system" sub
    DEBPKG:fixes/memoize-pod - [rt.cpan.org #89441] Fix POD errors in Memoize
    DEBPKG:debian/hurd-softupdates - https://bugs.debian.org/822735 Fix t/op/stat.t failures on hurd
    DEBPKG:fixes/math_complex_doc_great_circle - https://bugs.debian.org/697567 [rt.cpan.org #114104] Math::Trig: clarify definition of great_circle_midpoint
    DEBPKG:fixes/math_complex_doc_see_also - https://bugs.debian.org/697568 [rt.cpan.org #114105] Math::Trig: add missing SEE ALSO
    DEBPKG:fixes/math_complex_doc_angle_units - https://bugs.debian.org/731505 [rt.cpan.org #114106] Math::Trig: document angle units
    DEBPKG:fixes/cpan_web_link - https://bugs.debian.org/367291 CPAN: Add link to main CPAN web site
    DEBPKG:fixes/time_piece_doc - https://bugs.debian.org/817925 Time::Piece: Improve documentation for add_months and add_years
    DEBPKG:fixes/extutils_makemaker_reproducible - https://bugs.debian.org/835815 https://bugs.debian.org/834190 Make perllocal.pod files reproducible
    DEBPKG:fixes/file_path_hurd_errno - File-Path: Fix test failure in Hurd due to hard-coded ENOENT
    DEBPKG:debian/hppa_op_optimize_workaround - https://bugs.debian.org/838613 Temporarily lower the optimization of op.c on hppa due to gcc-6 problems
    DEBPKG:debian/installman-utf8 - https://bugs.debian.org/840211 Generate man pages with UTF-8 characters
    DEBPKG:fixes/file_path_chmod_race - https://bugs.debian.org/863870 [rt.cpan.org #121951] Prevent directory chmod race attack.
    DEBPKG:fixes/extutils_file_path_compat - Correct the order of tests of chmod(). (#294)
    DEBPKG:fixes/getopt-long-2 - [rt.cpan.org #120300] Withdraw part of commit 5d9947fb445327c7299d8beb009d609bc70066c0, which tries to implement more GNU getopt_long campatibility. GNU
    DEBPKG:fixes/getopt-long-3 - provide a default value for optional arguments
    DEBPKG:fixes/getopt-long-4 - https://bugs.debian.org/864544 [rt.cpan.org #122068] Fix issue #122068.
    DEBPKG:fixes/test-builder-reset - https://bugs.debian.org/865894 Reset inside subtest maintains parent
    DEBPKG:debian/hppa_opmini_optimize_workaround - https://bugs.debian.org/869122 Lower the optimization level of opmini.c on hppa
    DEBPKG:debian/sh4_op_optimize_workaround - https://bugs.debian.org/869373 Also lower the optimization level of op.c and opmini.c on sh4
    DEBPKG:fixes/json-pp-example - [rt.cpan.org #92793] https://bugs.debian.org/871837 fix RT-92793: bug in SYNOPSIS
    DEBPKG:debian/perldoc-pager - https://bugs.debian.org/870340 [rt.cpan.org #120229] Fix perldoc terminal escapes when sensible-pager is less
    DEBPKG:debian/prune_libs - https://bugs.debian.org/128355 Prune the list of libraries wanted to what we actually need.
    DEBPKG:debian/configure-regen - https://bugs.debian.org/762638 Regenerate Configure et al. after probe unit changes
    DEBPKG:fixes/rename-filexp.U-phase1 - regen-configure: rename filexp.U to filexp_path.U, phase 1
    DEBPKG:fixes/rename-filexp.U-phase2 - regen-configure: rename filexp.U to filexp_path.U, phase 2
    DEBPKG:fixes/packaging_test_skips - Skip various tests if PERL_BUILD_PACKAGING is set
    DEBPKG:debian/mod_paths - Tweak @INC ordering for Debian
    DEBPKG:fixes/encode-alias-regexp - https://bugs.debian.org/880085 fix https://github.com/dankogai/p5-encode/issues/127
    DEBPKG:fixes/regex-memory-leak - [910a6a8] https://bugs.debian.org/891196 [perl #132892] perl #132892: avoid leak by mortalizing temporary copy of pattern
    DEBPKG:fixes/CVE-2018-6797 - [perl #132227] (perl #132227) restart a node if we change to uni rules within the node and encounter a sharp S
    DEBPKG:fixes/CVE-2018-6798/pt1 - [perl #132063] Heap buffer overflow
    DEBPKG:fixes/CVE-2018-6798/pt2 - [perl #132063] 5.26.1: fix TRIE_READ_CHAR and DECL_TRIE_TYPE to account for non-utf8 target
    DEBPKG:fixes/CVE-2018-6798/pt3 - [perl #132063] (perl #132063) we should no longer warn for this code
    DEBPKG:fixes/CVE-2018-6798/pt4 - [perl #132063] utf8.c: Don't dump malformation past first NUL
    DEBPKG:fixes/CVE-2018-6913 - [perl #131844] (perl #131844) fix various space calculation issues in pp_pack.c
    DEBPKG:fixes/CVE-2018-12015.patch - [PATCH] [PATCH] Remove existing files before overwriting them
    DEBPKG:fixes/CVE-2018-18311.patch - [PATCH] Perl_my_setenv(); handle integer wrap
    DEBPKG:fixes/CVE-2018-18312.patch - [PATCH 242/242] PATCH: [perl #133423] for 5.26 maint
    DEBPKG:fixes/CVE-2018-18313.patch - [PATCH] regcomp.c: Convert some strchr to memchr
    DEBPKG:fixes/CVE-2018-18314.patch - [PATCH] fix #131649 - extended charclass can trigger assert
    DEBPKG:fixes/CVE-2020-10543.patch - [PATCH v528 1/3] regcomp.c: Prevent integer overflow from nested regex quantifiers.
    DEBPKG:fixes/CVE-2020-10878.patch - [PATCH v528 2/3] study_chunk: extract rck_elide_nothing
    DEBPKG:fixes/CVE-2020-12723.patch - [PATCH v528 3/3] study_chunk: avoid mutating regexp program within GOSUB
    DEBPKG:fixes/fix_test_2020.patch - [PATCH] Fix Time::Local tests
  Built under linux
  Compiled at Oct 19 2020 10:57:24
  %ENV:
    PERL5LIB="/home/gelu/.local/lib/perl5"
    PERL_LOCAL_LIB_ROOT="/home/gelu/.local"
    PERL_MB_OPT="--install_base "/home/gelu/.local""
    PERL_MM_OPT="INSTALL_BASE=/home/gelu/.local"
  @INC:
    /home/gelu/.local/lib/perl5/5.26.1/x86_64-linux-gnu-thread-multi
    /home/gelu/.local/lib/perl5/5.26.1
    /home/gelu/.local/lib/perl5/x86_64-linux-gnu-thread-multi
    /home/gelu/.local/lib/perl5
    /etc/perl
    /usr/local/lib/x86_64-linux-gnu/perl/5.26.1
    /usr/local/share/perl/5.26.1
    /usr/lib/x86_64-linux-gnu/perl5/5.26
    /usr/share/perl5
    /usr/lib/x86_64-linux-gnu/perl/5.26
    /usr/share/perl/5.26
    /home/gelu/.local/lib/perl5/5.26.0
    /home/gelu/.local/lib/perl5/5.26.0/x86_64-linux-gnu-thread-multi
    /usr/local/lib/site_perl
    /usr/lib/x86_64-linux-gnu/perl-base