Moo v2.005005 Perl 5 v5.38.2 x86_64-netbsd-thread-multi
- Status
- Pass
- From
- Roland van Ipenburg (IPENBURG)
- Dist
-
Moo v2.005005
- Platform
- Perl 5 v5.38.2 x86_64-netbsd-thread-multi
- Date
- 2024-01-05 05:11:09
- ID
- d65b073e-ab88-11ee-a0c8-db0b6e666703
This distribution has been tested as part of the CPAN Testers
project, supporting the Perl programming language. See
http://wiki.cpantesters.org/ for more information or email
questions to cpan-testers-discuss@perl.org
--
Dear Graham Knop,
This is a computer-generated report for Moo-2.005005
on perl 5.38.2, created by CPAN-Reporter-1.2019.
Thank you for uploading your work to CPAN. Congratulations!
All tests were successful.
Sections of this report:
* Tester comments
* Program output
* Prerequisites
* Environment and other context
------------------------------
TESTER COMMENTS
------------------------------
Additional comments from tester:
none provided
------------------------------
PROGRAM OUTPUT
------------------------------
Output from '/usr/bin/make test':
PERL_DL_NONLAZY=1 "/usr/pkg/bin/perl" -It/lib "-MTestEnv=" "-MExtUtils::Command::MM" "-MTest::Harness" "-e" "undef *Test::Harness::Switches; test_harness(0, 'blib/lib', 'blib/arch')" t/*.t
t/accessor-coerce.t ................ ok
t/accessor-default.t ............... ok
t/accessor-generator-extension.t ... ok
t/accessor-handles.t ............... ok
t/accessor-isa.t ................... ok
t/accessor-mixed.t ................. ok
t/accessor-pred-clear.t ............ ok
t/accessor-reader-writer.t ......... ok
t/accessor-roles.t ................. ok
t/accessor-shortcuts.t ............. ok
t/accessor-trigger.t ............... ok
t/accessor-weaken-pre-5_8_3.t ...... ok
t/accessor-weaken.t ................ ok
t/buildall-subconstructor.t ........ ok
t/buildall.t ....................... ok
t/buildargs-error.t ................ ok
t/buildargs.t ...................... ok
t/coerce-1.t ....................... ok
t/compose-conflicts.t .............. ok
t/compose-non-role.t ............... ok
t/compose-roles.t .................. ok
t/constructor-modify.t ............. ok
t/croak-locations.t ................ ok
t/demolish-basics.t ................ ok
t/demolish-bugs-eats_exceptions.t .. ok
t/demolish-bugs-eats_mini.t ........ ok
t/demolish-global_destruction.t .... ok
t/demolish-throw.t ................. ok
t/does.t ........................... ok
t/extend-constructor.t ............. ok
t/extends-non-moo.t ................ ok
t/extends-role.t ................... ok
t/foreignbuildargs.t ............... ok
t/global_underscore.t .............. ok
t/has-array.t ...................... ok
t/has-before-extends.t ............. ok
t/has-plus.t ....................... ok
t/init-arg.t ....................... ok
t/isa-interfere.t .................. ok
t/lazy_isa.t ....................... ok
t/load_module.t .................... ok
t/load_module_error.t .............. ok
t/load_module_role_tiny.t .......... ok
t/long-package-name.t .............. ok
t/method-generate-accessor.t ....... ok
t/method-generate-constructor.t .... ok
t/modifiers.t ...................... ok
t/modify_lazy_handlers.t ........... ok
t/moo-accessors.t .................. ok
t/moo-c3.t ......................... ok
t/moo-object.t ..................... ok
t/moo-utils-_name_coderef.t ........ ok
t/moo-utils-_subname-Sub-Name.t .... ok
t/moo-utils-_subname.t ............. ok
t/moo-utils.t ...................... ok
t/moo.t ............................ ok
t/mutual-requires.t ................ ok
t/no-build.t ....................... ok
t/no-moo.t ......................... ok
t/non-moo-extends-c3.t ............. ok
t/non-moo-extends.t ................ ok
t/not-both.t ....................... ok
t/not-methods.t .................... ok
t/overloaded-coderefs.t ............ ok
t/overridden-core-funcs.t .......... ok
t/role-conflicts-moox.t ............ ok
t/sub-and-handles.t ................ ok
t/subconstructor.t ................. ok
t/undef-bug.t ...................... ok
t/use-after-no.t ................... ok
t/zzz-check-breaks.t ............... ok
All tests successful.
Files=71, Tests=841, 5 wallclock secs ( 0.16 usr 0.12 sys + 3.58 cusr 1.59 csys = 5.45 CPU)
Result: PASS
------------------------------
PREREQUISITES
------------------------------
Prerequisite modules loaded:
requires:
Module Need Have
------------------------ -------- --------
Carp 0 1.54
Class::Method::Modifiers 1.10 2.15
Exporter 0 5.78
perl 5.006 5.038002
Role::Tiny 2.002003 2.002004
Scalar::Util 1.00 1.63
Sub::Defer 2.006006 2.006008
Sub::Quote 2.006006 2.006008
build_requires:
Module Need Have
------------------------ -------- --------
Test::More 0.94 1.302198
configure_requires:
Module Need Have
------------------------ -------- --------
ExtUtils::MakeMaker 0 7.70
------------------------------
ENVIRONMENT AND OTHER CONTEXT
------------------------------
Environment variables:
NONINTERACTIVE_TESTING = 1
PATH = /home/roland/bin:/bin:/sbin:/usr/bin:/usr/sbin:/usr/X11R7/bin:/usr/pkg/bin:/usr/pkg/sbin:/usr/games:/usr/local/bin:/usr/local/sbin
PERL5LIB = /home/roland/.cpan/build/Class-Method-Modifiers-2.15-0/blib/arch:/home/roland/.cpan/build/Class-Method-Modifiers-2.15-0/blib/lib:/home/roland/.cpan/build/String-Formatter-1.235-0/blib/arch:/home/roland/.cpan/build/String-Formatter-1.235-0/blib/lib:/home/roland/.cpan/build/Config-INI-0.029-0/blib/arch:/home/roland/.cpan/build/Config-INI-0.029-0/blib/lib:/home/roland/.cpan/build/Mixin-Linewise-0.111-1/blib/arch:/home/roland/.cpan/build/Mixin-Linewise-0.111-1/blib/lib:/home/roland/.cpan/build/PerlIO-utf8_strict-0.010-1/blib/arch:/home/roland/.cpan/build/PerlIO-utf8_strict-0.010-1/blib/lib:/home/roland/.cpan/build/Test-Exception-0.43-1/blib/arch:/home/roland/.cpan/build/Test-Exception-0.43-1/blib/lib
PERL5OPT =
PERL5_CPANPLUS_IS_RUNNING = 18523
PERL5_CPAN_IS_RUNNING = 18523
PERL_MM_USE_DEFAULT = 1
PERL_USE_UNSAFE_INC = 1
SHELL = /bin/sh
TERM = xterm-256color
Perl special variables (and OS-specific diagnostics, for MSWin32):
$^X = /usr/pkg/bin/perl
$UID/$EUID = 1000 / 1000
$GID = 100 100 0
$EGID = 100 100 0
Perl module toolchain versions installed:
Module Have
------------------- --------
CPAN 2.36
CPAN::Meta 2.150010
Cwd 3.89
ExtUtils::CBuilder 0.280238
ExtUtils::Command 7.70
ExtUtils::Install 2.22
ExtUtils::MakeMaker 7.70
ExtUtils::Manifest 1.75
ExtUtils::ParseXS 3.51
File::Spec 3.88
JSON 4.10
JSON::PP 4.16
Module::Build 0.4234
Module::Signature n/a
Parse::CPAN::Meta 2.150010
Test2 1.302198
Test::Harness 3.48
Test::More 1.302198
YAML 1.31
YAML::Syck n/a
version 0.9930
--
Summary of my perl5 (revision 5 version 38 subversion 2) configuration:
Platform:
osname=netbsd
osvers=9.0
archname=x86_64-netbsd-thread-multi
uname='netbsd shadow.netbsd.org 9.0 netbsd 9.0 (libkver) #0: tue jan 19 00:00:00 utc 2038 root@localhost:sysarchamd64compilelibkver amd64 '
config_args='-sde -Dldflags= -Wl,-zrelro -pthread -L/usr/lib -Wl,-R/usr/lib -Wl,-R/usr/pkg/lib -Duseshrplib -Duseithreads -Uusemymalloc'
hint=recommended
useposix=true
d_sigaction=define
useithreads=define
usemultiplicity=define
use64bitint=define
use64bitall=define
uselongdouble=undef
usemymalloc=n
default_inc_excludes_dot=define
Compiler:
cc='gcc'
ccflags ='-O2 -pthread -I/usr/include -fwrapv -fno-strict-aliasing -pipe'
optimize='-O2 -pthread -I/usr/include'
cppflags='-O2 -pthread -I/usr/include -fwrapv -fno-strict-aliasing -pipe'
ccversion=''
gccversion='7.5.0'
gccosandvers=''
intsize=4
longsize=8
ptrsize=8
doublesize=8
byteorder=12345678
doublekind=3
d_longlong=define
longlongsize=8
d_longdbl=define
longdblsize=16
longdblkind=3
ivtype='long'
ivsize=8
nvtype='double'
nvsize=8
Off_t='off_t'
lseeksize=8
alignbytes=8
prototype=define
Linker and Libraries:
ld='gcc'
ldflags =' -Wl,-zrelro -pthread -L/usr/lib -Wl,-R/usr/lib -Wl,-R/usr/pkg/lib -L/usr/pkg/lib'
libpth=/lib /usr/lib /usr/pkg/lib
libs=-lm -lcrypt -lpthread
perllibs=-lm -lcrypt -lpthread
libc=/lib/libc.so
so=so
useshrplib=true
libperl=libperl.so
gnulibc_version=''
Dynamic Linking:
dlsrc=dl_dlopen.xs
dlext=so
d_dlsymun=undef
ccdlflags='-Wl,-E -Wl,-R/usr/pkg/lib/perl5/5.38.0/x86_64-netbsd-thread-multi/CORE'
cccdlflags='-DPIC -fPIC '
lddlflags='-shared -Wl,-zrelro -L/usr/lib -Wl,-R/usr/lib -Wl,-R/usr/pkg/lib -L/usr/pkg/lib'
Characteristics of this binary (from libperl):
Compile-time options:
HAS_LONG_DOUBLE
HAS_STRTOLD
HAS_TIMES
MULTIPLICITY
PERLIO_LAYERS
PERL_COPY_ON_WRITE
PERL_DONT_CREATE_GVSV
PERL_HASH_FUNC_SIPHASH13
PERL_HASH_USE_SBOX32
PERL_MALLOC_WRAP
PERL_OP_PARENT
PERL_PRESERVE_IVUV
PERL_USE_SAFE_PUTENV
USE_64_BIT_ALL
USE_64_BIT_INT
USE_ITHREADS
USE_LARGE_FILES
USE_LOCALE
USE_LOCALE_COLLATE
USE_LOCALE_CTYPE
USE_LOCALE_NUMERIC
USE_LOCALE_TIME
USE_PERLIO
USE_PERL_ATOF
USE_REENTRANT_API
Built under netbsd
Compiled at Dec 29 2023 09:11:02
%ENV:
PERL5LIB="/home/roland/.cpan/build/Class-Method-Modifiers-2.15-0/blib/arch:/home/roland/.cpan/build/Class-Method-Modifiers-2.15-0/blib/lib:/home/roland/.cpan/build/String-Formatter-1.235-0/blib/arch:/home/roland/.cpan/build/String-Formatter-1.235-0/blib/lib:/home/roland/.cpan/build/Config-INI-0.029-0/blib/arch:/home/roland/.cpan/build/Config-INI-0.029-0/blib/lib:/home/roland/.cpan/build/Mixin-Linewise-0.111-1/blib/arch:/home/roland/.cpan/build/Mixin-Linewise-0.111-1/blib/lib:/home/roland/.cpan/build/PerlIO-utf8_strict-0.010-1/blib/arch:/home/roland/.cpan/build/PerlIO-utf8_strict-0.010-1/blib/lib:/home/roland/.cpan/build/Test-Exception-0.43-1/blib/arch:/home/roland/.cpan/build/Test-Exception-0.43-1/blib/lib"
PERL5OPT=""
PERL5_CPANPLUS_IS_RUNNING="18523"
PERL5_CPAN_IS_RUNNING="18523"
PERL_MM_USE_DEFAULT="1"
PERL_USE_UNSAFE_INC="1"
@INC:
/home/roland/.cpan/build/Class-Method-Modifiers-2.15-0/blib/arch
/home/roland/.cpan/build/Class-Method-Modifiers-2.15-0/blib/lib
/home/roland/.cpan/build/String-Formatter-1.235-0/blib/arch
/home/roland/.cpan/build/String-Formatter-1.235-0/blib/lib
/home/roland/.cpan/build/Config-INI-0.029-0/blib/arch
/home/roland/.cpan/build/Config-INI-0.029-0/blib/lib
/home/roland/.cpan/build/Mixin-Linewise-0.111-1/blib/arch
/home/roland/.cpan/build/Mixin-Linewise-0.111-1/blib/lib
/home/roland/.cpan/build/PerlIO-utf8_strict-0.010-1/blib/arch
/home/roland/.cpan/build/PerlIO-utf8_strict-0.010-1/blib/lib
/home/roland/.cpan/build/Test-Exception-0.43-1/blib/arch
/home/roland/.cpan/build/Test-Exception-0.43-1/blib/lib
/usr/pkg/lib/perl5/site_perl/5.38.0/x86_64-netbsd-thread-multi
/usr/pkg/lib/perl5/site_perl/5.38.0
/usr/pkg/lib/perl5/vendor_perl/5.38.0/x86_64-netbsd-thread-multi
/usr/pkg/lib/perl5/vendor_perl/5.38.0
/usr/pkg/lib/perl5/5.38.0/x86_64-netbsd-thread-multi
/usr/pkg/lib/perl5/5.38.0
.