Encode v3.17 Perl 5 v5.30.3 x86_64-linux-thread-multi
- Status
- Pass
- From
- Michael Pinson
- Dist
-
Encode v3.17
- Platform
- Perl 5 v5.30.3 x86_64-linux-thread-multi
- Date
- 2022-05-23 13:04:07
- ID
- d4316ef2-da98-11ec-8878-6974e1081b9f
This distribution has been tested as part of the CPAN Testers
project, supporting the Perl programming language. See
http://wiki.cpantesters.org/ for more information or email
questions to cpan-testers-discuss@perl.org
--
Dear Dan Kogai,
This is a computer-generated report for Encode-3.17
on perl 5.30.3, created by CPAN-Reporter-1.2018.
Thank you for uploading your work to CPAN. Congratulations!
All tests were successful.
Sections of this report:
* Tester comments
* Program output
* Prerequisites
* Environment and other context
------------------------------
TESTER COMMENTS
------------------------------
Additional comments from tester:
none provided
------------------------------
PROGRAM OUTPUT
------------------------------
Output from '/usr/bin/make test':
"/usr/bin/perl" -MExtUtils::Command::MM -e 'cp_nonempty' -- Encode.bs blib/arch/auto/Encode/Encode.bs 644
make[1]: Entering directory '/root/.cpan/build/Encode-3.17-0/Byte'
"/usr/bin/perl" -MExtUtils::Command::MM -e 'cp_nonempty' -- Byte.bs ../blib/arch/auto/Encode/Byte/Byte.bs 644
make[1]: Leaving directory '/root/.cpan/build/Encode-3.17-0/Byte'
make[1]: Entering directory '/root/.cpan/build/Encode-3.17-0/CN'
"/usr/bin/perl" -MExtUtils::Command::MM -e 'cp_nonempty' -- CN.bs ../blib/arch/auto/Encode/CN/CN.bs 644
make[1]: Leaving directory '/root/.cpan/build/Encode-3.17-0/CN'
make[1]: Entering directory '/root/.cpan/build/Encode-3.17-0/EBCDIC'
"/usr/bin/perl" -MExtUtils::Command::MM -e 'cp_nonempty' -- EBCDIC.bs ../blib/arch/auto/Encode/EBCDIC/EBCDIC.bs 644
make[1]: Leaving directory '/root/.cpan/build/Encode-3.17-0/EBCDIC'
make[1]: Entering directory '/root/.cpan/build/Encode-3.17-0/JP'
"/usr/bin/perl" -MExtUtils::Command::MM -e 'cp_nonempty' -- JP.bs ../blib/arch/auto/Encode/JP/JP.bs 644
make[1]: Leaving directory '/root/.cpan/build/Encode-3.17-0/JP'
make[1]: Entering directory '/root/.cpan/build/Encode-3.17-0/KR'
"/usr/bin/perl" -MExtUtils::Command::MM -e 'cp_nonempty' -- KR.bs ../blib/arch/auto/Encode/KR/KR.bs 644
make[1]: Leaving directory '/root/.cpan/build/Encode-3.17-0/KR'
make[1]: Entering directory '/root/.cpan/build/Encode-3.17-0/Symbol'
"/usr/bin/perl" -MExtUtils::Command::MM -e 'cp_nonempty' -- Symbol.bs ../blib/arch/auto/Encode/Symbol/Symbol.bs 644
make[1]: Leaving directory '/root/.cpan/build/Encode-3.17-0/Symbol'
make[1]: Entering directory '/root/.cpan/build/Encode-3.17-0/TW'
"/usr/bin/perl" -MExtUtils::Command::MM -e 'cp_nonempty' -- TW.bs ../blib/arch/auto/Encode/TW/TW.bs 644
make[1]: Leaving directory '/root/.cpan/build/Encode-3.17-0/TW'
make[1]: Entering directory '/root/.cpan/build/Encode-3.17-0/Unicode'
"/usr/bin/perl" -MExtUtils::Command::MM -e 'cp_nonempty' -- Unicode.bs ../blib/arch/auto/Encode/Unicode/Unicode.bs 644
make[1]: Leaving directory '/root/.cpan/build/Encode-3.17-0/Unicode'
make[1]: Entering directory '/root/.cpan/build/Encode-3.17-0/Byte'
"/usr/bin/perl" -MExtUtils::Command::MM -e 'cp_nonempty' -- Byte.bs ../blib/arch/auto/Encode/Byte/Byte.bs 644
No tests defined for Encode::Byte extension.
make[1]: Leaving directory '/root/.cpan/build/Encode-3.17-0/Byte'
make[1]: Entering directory '/root/.cpan/build/Encode-3.17-0/CN'
"/usr/bin/perl" -MExtUtils::Command::MM -e 'cp_nonempty' -- CN.bs ../blib/arch/auto/Encode/CN/CN.bs 644
No tests defined for Encode::CN extension.
make[1]: Leaving directory '/root/.cpan/build/Encode-3.17-0/CN'
make[1]: Entering directory '/root/.cpan/build/Encode-3.17-0/EBCDIC'
"/usr/bin/perl" -MExtUtils::Command::MM -e 'cp_nonempty' -- EBCDIC.bs ../blib/arch/auto/Encode/EBCDIC/EBCDIC.bs 644
No tests defined for Encode::EBCDIC extension.
make[1]: Leaving directory '/root/.cpan/build/Encode-3.17-0/EBCDIC'
make[1]: Entering directory '/root/.cpan/build/Encode-3.17-0/JP'
"/usr/bin/perl" -MExtUtils::Command::MM -e 'cp_nonempty' -- JP.bs ../blib/arch/auto/Encode/JP/JP.bs 644
No tests defined for Encode::JP extension.
make[1]: Leaving directory '/root/.cpan/build/Encode-3.17-0/JP'
make[1]: Entering directory '/root/.cpan/build/Encode-3.17-0/KR'
"/usr/bin/perl" -MExtUtils::Command::MM -e 'cp_nonempty' -- KR.bs ../blib/arch/auto/Encode/KR/KR.bs 644
No tests defined for Encode::KR extension.
make[1]: Leaving directory '/root/.cpan/build/Encode-3.17-0/KR'
make[1]: Entering directory '/root/.cpan/build/Encode-3.17-0/Symbol'
"/usr/bin/perl" -MExtUtils::Command::MM -e 'cp_nonempty' -- Symbol.bs ../blib/arch/auto/Encode/Symbol/Symbol.bs 644
No tests defined for Encode::Symbol extension.
make[1]: Leaving directory '/root/.cpan/build/Encode-3.17-0/Symbol'
make[1]: Entering directory '/root/.cpan/build/Encode-3.17-0/TW'
"/usr/bin/perl" -MExtUtils::Command::MM -e 'cp_nonempty' -- TW.bs ../blib/arch/auto/Encode/TW/TW.bs 644
No tests defined for Encode::TW extension.
make[1]: Leaving directory '/root/.cpan/build/Encode-3.17-0/TW'
make[1]: Entering directory '/root/.cpan/build/Encode-3.17-0/Unicode'
"/usr/bin/perl" -MExtUtils::Command::MM -e 'cp_nonempty' -- Unicode.bs ../blib/arch/auto/Encode/Unicode/Unicode.bs 644
No tests defined for Encode::Unicode extension.
make[1]: Leaving directory '/root/.cpan/build/Encode-3.17-0/Unicode'
PERL_DL_NONLAZY=1 "/usr/bin/perl" "-MExtUtils::Command::MM" "-MTest::Harness" "-e" "undef *Test::Harness::Switches; test_harness(0, 'blib/lib', 'blib/arch')" t/*.t
t/Aliases.t ................ ok
t/at-cn.t .................. ok
t/at-tw.t .................. ok
t/CJKT.t ................... ok
t/cow.t .................... ok
t/decode.t ................. ok
t/enc_data.t ............... skipped: encoding pragma not supported in Perl 5.25 or later
t/enc_eucjp.t .............. skipped: Perl <=5.25.2 or cperl required
t/enc_module.t ............. skipped: encoding pragma not supported in Perl 5.25 or later
t/enc_utf8.t ............... skipped: Perl <=5.25.2 or cperl required
t/Encode.t ................. ok
t/Encoder.t ................ ok
t/encoding-locale.t ........ ok
t/encoding.t ............... skipped: encoding pragma not supported in Perl 5.25 or later
t/fallback.t ............... ok
t/from_to.t ................ ok
t/grow.t ................... ok
t/gsm0338.t ................ ok
t/guess.t .................. ok
t/isa.t .................... ok
t/jis7-fallback.t .......... ok
t/jperl.t .................. skipped: encoding pragma not supported in Perl 5.25 or later
t/magic.t .................. ok
t/mime-header.t ............ ok
t/mime-name.t .............. ok
t/mime_header_iso2022jp.t .. ok
t/perlio.t ................. ok
t/piconv.t ................. ok
t/rt113164.t ............... ok
t/rt65541.t ................ ok
t/rt76824.t ................ ok
t/rt85489.t ................ ok
t/rt86327.t ................ ok
t/taint.t .................. ok
t/truncated_utf8.t ......... ok
t/undef.t .................. ok
t/Unicode.t ................ ok
t/Unicode_trailing_nul.t ... ok
t/use-Encode-Alias.t ....... ok
t/utf32warnings.t .......... ok
t/utf8ref.t ................ ok
t/utf8strict.t ............. ok
t/utf8warnings.t ........... ok
t/whatwg-aliases.t ......... skipped: For maintainers only
t/xml.t .................... ok
All tests successful.
Files=45, Tests=7749, 3 wallclock secs ( 0.24 usr 0.03 sys + 2.71 cusr 0.26 csys = 3.24 CPU)
Result: PASS
------------------------------
PREREQUISITES
------------------------------
Prerequisite modules loaded:
requires:
Module Need Have
------------------- ----- --------
Exporter 5.57 5.74
parent 0.221 0.238
Storable 0 3.25
build_requires:
Module Need Have
------------------- ----- --------
ExtUtils::MakeMaker 0 7.62
Test::More 0.92 1.302188
configure_requires:
Module Need Have
------------------- ----- --------
ExtUtils::MakeMaker 0 7.62
------------------------------
ENVIRONMENT AND OTHER CONTEXT
------------------------------
Environment variables:
LANG = en_US.UTF-8
LANGUAGE = en_US
NONINTERACTIVE_TESTING = 1
PATH = /usr/local/sbin:/usr/local/bin:/sbin:/bin:/usr/sbin:/usr/bin:/root/bin
PERL5LIB =
PERL5OPT =
PERL5_CPANPLUS_IS_RUNNING = 263403
PERL5_CPAN_IS_RUNNING = 263403
PERL_MM_USE_DEFAULT = 1
PERL_USE_UNSAFE_INC = 1
SHELL = /bin/bash
TERM = xterm-256color
Perl special variables (and OS-specific diagnostics, for MSWin32):
$^X = /usr/bin/perl
$UID/$EUID = 0 / 0
$GID = 0 0
$EGID = 0 0
Perl module toolchain versions installed:
Module Have
------------------- --------
CPAN 2.34
CPAN::Meta 2.150010
Cwd 3.78
ExtUtils::CBuilder 0.280236
ExtUtils::Command 7.62
ExtUtils::Install 2.20
ExtUtils::MakeMaker 7.62
ExtUtils::Manifest 1.73
ExtUtils::ParseXS 3.40
File::Spec 3.78
JSON 4.03
JSON::PP 4.06
Module::Build 0.4231
Module::Signature 0.87
Parse::CPAN::Meta 2.150010
Test::Harness 3.42
Test::More 1.302188
YAML 1.30
YAML::Syck 1.34
version 0.9929
--
Summary of my perl5 (revision 5 version 30 subversion 3) configuration:
Platform:
osname=linux
osvers=4.9.0-sabayon
archname=x86_64-linux-thread-multi
uname='linux andromeda.sabayon.org 4.9.0-sabayon #1 smp sun mar 11 11:25:15 utc 2018 x86_64 intel(r) xeon(r) cpu e5-26xx (sandy bridge) genuineintel gnulinux '
config_args='-des -Dinstallprefix=/usr -Dinstallusrbinperl=n -Ui_xlocale -Di_ndbm -Di_gdbm -Di_db -Dusethreads -DDEBUGGING=none -Dinc_version_list=5.30.1/x86_64-linux-thread-multi 5.30.1 5.28.2 5.26.2 -Dlibpth=/usr/local/lib64 /lib64 /usr/lib64 -Dnoextensions=ODBM_File -Duseshrplib -Darchname=x86_64-linux-thread -Dcc=x86_64-pc-linux-gnu-gcc -Doptimize=-O2 -march=x86-64 -pipe -Dldflags=-Wl,-O1 -Wl,--as-needed -Dprefix=/usr -Dsiteprefix=/usr/local -Dvendorprefix=/usr -Dscriptdir=/usr/bin -Dprivlib=/usr/lib64/perl5/5.30.3 -Darchlib=/usr/lib64/perl5/5.30.3/x86_64-linux-thread-multi -Dsitelib=/usr/local/lib64/perl5/5.30.3 -Dsitearch=/usr/local/lib64/perl5/5.30.3/x86_64-linux-thread-multi -Dvendorlib=/usr/lib64/perl5/vendor_perl/5.30.3 -Dvendorarch=/usr/lib64/perl5/vendor_perl/5.30.3/x86_64-linux-thread-multi -Dman1dir=/usr/share/man/man1 -Dman3dir=/usr/share/man/man3 -Dsiteman1dir=/usr/local/man/man1 -Dsiteman3dir=/usr/local/man/man3 -Dvendorman1dir=/usr/share/man/man1 -Dvendorman3dir=/usr/share/man/man3 -Dman1ext=1 -Dman3ext=3pm -Dlibperl=libperl.so.5.30.3 -Dlocincpth=/usr/include -Dglibpth=/lib64 /usr/lib64 -Duselargefiles -Dd_semctl_semun -Dcf_by=Gentoo -Dmyhostname=localhost -Dperladmin=root@localhost -Ud_csh -Dsh=/bin/sh -Dtargetsh=/bin/sh -Uusenm -Ui_xlocale -Di_ndbm -Di_gdbm -Di_db -Dusethreads -DDEBUGGING=none -Dinc_version_list=5.30.1/x86_64-linux-thread-multi 5.30.1 5.28.2 5.26.2 -Dlibpth=/usr/local/lib64 /lib64 /usr/lib64 -Dnoextensions=ODBM_File'
hint=recommended
useposix=true
d_sigaction=define
useithreads=define
usemultiplicity=define
use64bitint=define
use64bitall=define
uselongdouble=undef
usemymalloc=n
default_inc_excludes_dot=define
bincompat5005=undef
Compiler:
cc='x86_64-pc-linux-gnu-gcc'
ccflags ='-D_REENTRANT -D_GNU_SOURCE -fwrapv -fno-strict-aliasing -pipe -D_LARGEFILE_SOURCE -D_FILE_OFFSET_BITS=64'
optimize='-O2 -march=x86-64 -pipe'
cppflags='-D_REENTRANT -D_GNU_SOURCE -fwrapv -fno-strict-aliasing -pipe'
ccversion=''
gccversion='8.2.0'
gccosandvers=''
intsize=4
longsize=8
ptrsize=8
doublesize=8
byteorder=12345678
doublekind=3
d_longlong=define
longlongsize=8
d_longdbl=define
longdblsize=16
longdblkind=3
ivtype='long'
ivsize=8
nvtype='double'
nvsize=8
Off_t='off_t'
lseeksize=8
alignbytes=8
prototype=define
Linker and Libraries:
ld='x86_64-pc-linux-gnu-gcc'
ldflags ='-Wl,-O1 -Wl,--as-needed'
libpth=/usr/local/lib64 /lib64 /usr/lib64 /usr/lib/gcc/x86_64-pc-linux-gnu/8.2.0/include-fixed /usr/lib /lib/../lib64 /usr/lib/../lib64 /lib
libs=-lgdbm -ldb -ldl -lm -lcrypt -lutil -lpthread -lc -lgdbm_compat
perllibs=-ldl -lm -lcrypt -lutil -lpthread -lc
libc=libc-2.30.so
so=so
useshrplib=true
libperl=libperl.so.5.30.3
gnulibc_version='2.30'
Dynamic Linking:
dlsrc=dl_dlopen.xs
dlext=so
d_dlsymun=undef
ccdlflags='-Wl,-E'
cccdlflags='-fPIC'
lddlflags='-shared -O2 -march=x86-64 -pipe -Wl,-O1 -Wl,--as-needed'
Characteristics of this binary (from libperl):
Compile-time options:
HAS_TIMES
MULTIPLICITY
PERLIO_LAYERS
PERL_COPY_ON_WRITE
PERL_DONT_CREATE_GVSV
PERL_IMPLICIT_CONTEXT
PERL_MALLOC_WRAP
PERL_OP_PARENT
PERL_PRESERVE_IVUV
USE_64_BIT_ALL
USE_64_BIT_INT
USE_ITHREADS
USE_LARGE_FILES
USE_LOCALE
USE_LOCALE_COLLATE
USE_LOCALE_CTYPE
USE_LOCALE_NUMERIC
USE_LOCALE_TIME
USE_PERLIO
USE_PERL_ATOF
USE_REENTRANT_API
USE_THREAD_SAFE_LOCALE
Locally applied patches:
gentoo/hints_hpux - Fix hpux hints
gentoo/aix_soname - aix gcc detection and shared library soname support
gentoo/EUMM-RUNPATH - https://bugs.gentoo.org/105054 cpan/ExtUtils-MakeMaker: drop $PORTAGE_TMPDIR from LD_RUN_PATH
gentoo/config_over - Remove -rpath and append LDFLAGS to lddlflags
gentoo/opensolaris_headers - Add headers for opensolaris
gentoo/patchlevel - List packaged patches for perl-5.30.3(#1) in patchlevel.h
gentoo/cleanup-paths - Cleanup PATH and shrpenv
gentoo/enc2xs - Tweak enc2xs to follow symlinks and ignore missing @INC directories.
gentoo/darwin-cc-ld - https://bugs.gentoo.org/297751 darwin: Use $CC to link
gentoo/cpan_definstalldirs - Provide a sensible INSTALLDIRS default for modules installed from CPAN.
gentoo/interix - Fix interix hints
gentoo/create_libperl_soname - https://bugs.gentoo.org/286840 Set libperl soname
gentoo/mod_paths - Add /etc/perl to @INC
gentoo/EUMM_perllocalpod - cpan/ExtUtils-MakeMaker: remove targets that generate perllocal.pod
gentoo/drop_fstack_protector - https://bugs.gentoo.org/348557 Don't force -fstack-protector on everyone
gentoo/usr_local - Configure: Don't include sources in /usr/local/ for compiling perl
gentoo/D-SHA-CFLAGS - https://bugs.gentoo.org/506818 Do not set custom CFLAGS in cpan/Digest-SHA
gentoo/io_socket_ip_tests - cpan/IO-Socket-IP: Disable network tests
gentoo/tests - Fix EUMM podlocal tests
gentoo/no-nsl-cl.patch -
gentoo/no_porting_tests - Disable porting tests which create fun false-failures all over travis
gentoo/pathtools_enoent - Disable PathTools tests which fails under sandboxing
debian/cpan-missing-site-dirs - Fix CPAN::FirstTime defaults with nonexisting site dirs if a parent is writable
debian/makemaker-pasthru - Pass LD settings through to subdirectories
fixes/memoize_storable_nstore - [rt.cpan.org #77790] Memoize::Storable: respect 'nstore' option not respected
fixes/podman-pipe - Better errors for man pages from standard input
fixes/respect_umask - Respect umask during installation
fixes/net_smtp_docs - [rt.cpan.org #36038] Document the Net::SMTP 'Port' option
fixes/document_makemaker_ccflags - [rt.cpan.org #68613] Document that CCFLAGS should include $Config{ccflags}
fixes/parallel-manisort.patch - Fix parallel building
Built under linux
Compiled at Jan 10 2021 17:12:56
%ENV:
PERL5LIB=""
PERL5OPT=""
PERL5_CPANPLUS_IS_RUNNING="263403"
PERL5_CPAN_IS_RUNNING="263403"
PERL_MM_USE_DEFAULT="1"
PERL_USE_UNSAFE_INC="1"
@INC:
/etc/perl
/usr/local/lib64/perl5/5.30.3/x86_64-linux-thread-multi
/usr/local/lib64/perl5/5.30.3
/usr/lib64/perl5/vendor_perl/5.30.3/x86_64-linux-thread-multi
/usr/lib64/perl5/vendor_perl/5.30.3
/usr/local/lib64/perl5/5.30.1/x86_64-linux-thread-multi
/usr/local/lib64/perl5/5.30.1
/usr/local/lib64/perl5
/usr/lib64/perl5/vendor_perl/5.30.1/x86_64-linux-thread-multi
/usr/lib64/perl5/vendor_perl/5.30.1
/usr/lib64/perl5/vendor_perl
/usr/lib64/perl5/5.30.3/x86_64-linux-thread-multi
/usr/lib64/perl5/5.30.3
.