FunctionalPerl v0.72.65 Perl 5 v5.26.1 MSWin32-x86-multi-thread-64int
- Status
- Pass
- From
- Alexandr Ciornii (CHORNY)
- Dist
-
FunctionalPerl v0.72.65
- Platform
- Perl 5 v5.26.1 MSWin32-x86-multi-thread-64int
- Date
- 2021-05-23 18:53:50
- ID
- d3a950f1-6bf5-1014-a545-9006b6838e89
This distribution has been tested as part of the CPAN Testers
project, supporting the Perl programming language. See
http://wiki.cpantesters.org/ for more information or email
questions to cpan-testers-discuss@perl.org
--
Dear Christian Jaeger,
This is a computer-generated report for FunctionalPerl-0.72.65
on perl 5.26.1, created by CPAN-Reporter-1.2018.
Thank you for uploading your work to CPAN. Congratulations!
All tests were successful.
Sections of this report:
* Tester comments
* Program output
* Prerequisites
* Environment and other context
------------------------------
TESTER COMMENTS
------------------------------
Additional comments from tester:
this report is from an automated smoke testing program
and was not reviewed by a human for accuracy
------------------------------
PROGRAM OUTPUT
------------------------------
Output from 'C:\STRAWB~1\c\bin\gmake.exe test':
"C:\Strawberry261\perl\bin\perl.exe" "-MExtUtils::Command::MM" "-MTest::Harness" "-e" "undef *Test::Harness::Switches; test_harness(0, 'blib\lib', 'blib\arch')" t/*.t
t/csv_to_xml.t ........................... skipped: on Windows (no shell support)
t/dbi.t .................................. ok
t/examples-csv-to-json.t ................. ok
times for fib: user = 0.12, system = 0.06, cuser = 0, csystem = 0
times for fibonacci: user = 0.12, system = 0, cuser = 0, csystem = 0
t/examples-fibs.t ........................ ok
t/examples-functional-classes.t .......... ok
t/examples-hiring-without-whiteboards.t .. skipped: dependency Term::ReadLine::Gnu not present at lib/FP/Repl/Dependencies.pm line 44.
t/examples-logic.t ....................... skipped: could not use FP::Repl::Dependencies
t/examples-perlweekly-111-1.t ............ skipped: Perl v5.32.1 required--this is only v5.26.1, stopped at (eval 75) line 1.
times: user = 0.05, system = 0.03, cuser = 0, csystem = 0
times: user = 0.0609999999999999, system = 0.13, cuser = 0, csystem = 0
times: user = 0.04, system = 0.11, cuser = 0, csystem = 0
t/examples-perlweekly-113-1.t ............ ok
t/examples-perlweekly-113-2.t ............ ok
t/examples-primes.t ...................... ok
t/functional_XML-t-div.t ................. ok
t/functional_XML-test.t .................. ok
not activating since running in test mode at ../.htmlgen//../lib/FP/Repl/AutoTrap.pm line 64.
t/htmlgen.t .............................. ok
t/intro-basics.t ......................... skipped: could not use FP::Repl::Dependencies
t/perl-goto-leak.t ....................... skipped: on Windows (no shell support)
t/perl-weaken-coderef-correctness.t ...... skipped: on Windows (no shell support)
t/perl-weaken-coderef.t .................. skipped: on Windows (no shell support)
t/pod_snippets.t ......................... ok
t/predicates.t ........................... ok
t/repl.t ................................. skipped: dependency Term::ReadLine::Gnu not present at lib/FP/Repl/Dependencies.pm line 44.
not activating since running in test mode at lib/FP/Repl/AutoTrap.pm line 64.
Reference is already weak at lib/FP/Stream.pm line 769.
t/require_and_run_tests.t ................ ok
t/skip-internal.t ........................ ok
t/skip-leak.t ............................ skipped: on Windows (no shell support)
t/skip.t ................................. skipped: on Windows (no shell support)
t/testlazy.t ............................. skipped: on Windows (no shell support)
t/testlazy10.t ........................... skipped: on Windows (no shell support)
t/trampoline-fix.t ....................... skipped: Test requires module 'BSD::Resource' but it's not found
All tests successful.
Files=28, Tests=126, 46 wallclock secs ( 0.18 usr + 0.10 sys = 0.28 CPU)
Result: PASS
------------------------------
PREREQUISITES
------------------------------
Prerequisite modules loaded:
requires:
Module Need Have
------------------- -------- --------
autobox 0 2.85
base 0 2.26
Digest 0 1.17_01
File::Path 0 2.15
Getopt::Long 0 2.5
Import::Into 0 1.002005
Math::BigInt 0 1.999811
NEXT 0 0.67
overload 0 1.28
perl 5.016004 5.026001
PerlIO::utf8_strict 0 0.007
Safe::Isa 0 1.000008
Scalar::Util 0 1.50
Symbol 0 1.08
Test::More 0.96 1.302135
utf8 0 1.19
warnings 0 1.37
build_requires:
Module Need Have
------------------- -------- --------
Capture::Tiny 0 0.46
DBD::CSV 0 0.52
DBI 0 1.641
ExtUtils::MakeMaker 0 7.34
Sub::Util 0 1.50
Test::Pod::Snippets 0 0.07
Test::Requires 0 0.10
Text::CSV 0 1.95
URI 0 1.73
configure_requires:
Module Need Have
------------------- -------- --------
ExtUtils::MakeMaker 0 7.34
------------------------------
ENVIRONMENT AND OTHER CONTEXT
------------------------------
Environment variables:
AUTOMATED_TESTING = 1
COMSPEC = C:\WINDOWS\system32\cmd.exe
NUMBER_OF_PROCESSORS = 1
PATH = C:\WINDOWS\system32;C:\WINDOWS;C:\WINDOWS\System32\Wbem;C:\Git\cmd;C:\Strawberry261\c\bin;C:\Strawberry261\perl\site\bin;C:\Strawberry261\perl\bin
PERL5LIB = C:\STRAWB~1\cpan\build\Test-Pod-Snippets-0.07-0/blib/arch;C:\STRAWB~1\cpan\build\Test-Pod-Snippets-0.07-0/blib/lib
PERL5OPT =
PERL5_CPANPLUS_IS_RUNNING = 428
PERL5_CPAN_IS_RUNNING = 428
PERL5_CPAN_IS_RUNNING_IN_RECURSION = 1504,428
PERL_CR_SMOKER_CURRENT = FunctionalPerl-0.72.65
PERL_CR_SMOKER_RUNONCE = 1
PERL_EXTUTILS_AUTOINSTALL = --defaultdeps
PERL_HASH_SEED = 0x11111111
PERL_MM_USE_DEFAULT = 1
PERL_USE_UNSAFE_INC = 1
PROCESSOR_IDENTIFIER = x86 Family 16 Model 5 Stepping 3, AuthenticAMD
TEMP = C:\DOCUME~1\a\LOCALS~1\Temp
Perl special variables (and OS-specific diagnostics, for MSWin32):
$^X = C:\Strawberry261\perl\bin\perl.exe
$UID/$EUID = 0 / 0
$GID = 0
$EGID = 0
Win32::GetOSName = WinXP/.Net
Win32::GetOSVersion = Service Pack 3, 5, 1, 2600, 2, 3, 0, 256, 1
Win32::FsType = NTFS
Win32::IsAdminUser = 1
Perl module toolchain versions installed:
Module Have
------------------- --------
CPAN 2.18
CPAN::Meta 2.150010
Cwd 3.74
ExtUtils::CBuilder 0.280230
ExtUtils::Command 7.34
ExtUtils::Install 2.14
ExtUtils::MakeMaker 7.34
ExtUtils::Manifest 1.70
ExtUtils::ParseXS 3.35
File::Spec 3.74
JSON 2.97001
JSON::PP 2.97001
Module::Build 0.4224
Module::Signature 0.81
Parse::CPAN::Meta 2.150010
Test::Harness 3.42
Test::More 1.302135
YAML 1.24
YAML::Syck 1.30
version 0.9918
--
Summary of my perl5 (revision 5 version 26 subversion 1) configuration:
Platform:
osname=MSWin32
osvers=4.0
archname=MSWin32-x86-multi-thread-64int
uname='Win32 strawberry-perl 5.26.1.1 #1 Mon Apr 2 23:57:52 2018 i386'
config_args='undef'
hint=recommended
useposix=true
d_sigaction=undef
useithreads=define
usemultiplicity=define
use64bitint=define
use64bitall=undef
uselongdouble=undef
usemymalloc=n
default_inc_excludes_dot=define
bincompat5005=undef
Compiler:
cc='gcc'
ccflags =' -s -O2 -DWIN32 -D__USE_MINGW_ANSI_STDIO -DPERL_TEXTMODE_SCRIPTS -DPERL_IMPLICIT_CONTEXT -DPERL_IMPLICIT_SYS -DUSE_PERLIO -fwrapv -fno-strict-aliasing -mms-bitfields'
optimize='-s -O2'
cppflags='-DWIN32'
ccversion=''
gccversion='7.1.0'
gccosandvers=''
intsize=4
longsize=4
ptrsize=4
doublesize=8
byteorder=12345678
doublekind=3
d_longlong=define
longlongsize=8
d_longdbl=define
longdblsize=12
longdblkind=3
ivtype='long long'
ivsize=8
nvtype='double'
nvsize=8
Off_t='long long'
lseeksize=8
alignbytes=8
prototype=define
Linker and Libraries:
ld='g++'
ldflags ='-s -L"C:\STRAWB~1\perl\lib\CORE" -L"C:\STRAWB~1\c\lib"'
libpth=C:\STRAWB~1\c\lib C:\STRAWB~1\c\i686-w64-mingw32\lib C:\STRAWB~1\c\lib\gcc\i686-w64-mingw32\7.1.0
libs= -lmoldname -lkernel32 -luser32 -lgdi32 -lwinspool -lcomdlg32 -ladvapi32 -lshell32 -lole32 -loleaut32 -lnetapi32 -luuid -lws2_32 -lmpr -lwinmm -lversion -lodbc32 -lodbccp32 -lcomctl32
perllibs= -lmoldname -lkernel32 -luser32 -lgdi32 -lwinspool -lcomdlg32 -ladvapi32 -lshell32 -lole32 -loleaut32 -lnetapi32 -luuid -lws2_32 -lmpr -lwinmm -lversion -lodbc32 -lodbccp32 -lcomctl32
libc=
so=dll
useshrplib=true
libperl=libperl526.a
gnulibc_version=''
Dynamic Linking:
dlsrc=dl_win32.xs
dlext=xs.dll
d_dlsymun=undef
ccdlflags=' '
cccdlflags=' '
lddlflags='-mdll -s -L"C:\STRAWB~1\perl\lib\CORE" -L"C:\STRAWB~1\c\lib"'
Characteristics of this binary (from libperl):
Compile-time options:
HAS_TIMES
HAVE_INTERP_INTERN
MULTIPLICITY
PERLIO_LAYERS
PERL_COPY_ON_WRITE
PERL_DONT_CREATE_GVSV
PERL_IMPLICIT_CONTEXT
PERL_IMPLICIT_SYS
PERL_MALLOC_WRAP
PERL_OP_PARENT
PERL_PRESERVE_IVUV
USE_64_BIT_INT
USE_ITHREADS
USE_LARGE_FILES
USE_LOCALE
USE_LOCALE_COLLATE
USE_LOCALE_CTYPE
USE_LOCALE_NUMERIC
USE_LOCALE_TIME
USE_PERLIO
USE_PERL_ATOF
Built under MSWin32
Compiled at Apr 3 2018 00:07:56
%ENV:
PERL5LIB="C:\STRAWB~1\cpan\build\Test-Pod-Snippets-0.07-0/blib/arch;C:\STRAWB~1\cpan\build\Test-Pod-Snippets-0.07-0/blib/lib"
PERL5_CPANPLUS_IS_RUNNING="428"
PERL5_CPAN_IS_RUNNING="428"
PERL5_CPAN_IS_RUNNING_IN_RECURSION="1504,428"
PERL_CR_SMOKER_CURRENT="FunctionalPerl-0.72.65"
PERL_CR_SMOKER_RUNONCE="1"
PERL_EXTUTILS_AUTOINSTALL="--defaultdeps"
PERL_HASH_SEED="0x11111111"
PERL_MM_USE_DEFAULT="1"
PERL_USE_UNSAFE_INC="1"
@INC:
C:\STRAWB~1\cpan\build\Test-Pod-Snippets-0.07-0/blib/arch
C:\STRAWB~1\cpan\build\Test-Pod-Snippets-0.07-0/blib/lib
C:/Strawberry261/perl/site/lib
C:/Strawberry261/perl/vendor/lib
C:/Strawberry261/perl/lib
.