FFI-Platypus v2.06_01 Perl 5 v5.14.4 amd64-freebsd

Status
Pass
From
Chris Williams (BINGOS)
Dist
FFI-Platypus v2.06_01
Platform
Perl 5 v5.14.4 amd64-freebsd
Date
2023-03-03 20:27:30
ID
d261ff80-ba01-11ed-aba6-9a79f339625c
This distribution has been tested as part of the CPAN Testers
project, supporting the Perl programming language.  See
http://wiki.cpantesters.org/ for more information or email
questions to cpan-testers-discuss@perl.org


--

Dear PLICEASE,

This is a computer-generated error report created automatically by
CPANPLUS, version 0.9914. Testers personal comments may appear
at the end of this report.


Thank you for uploading your work to CPAN.  Congratulations!
All tests were successful.

TEST RESULTS:

Below is the error stack from stage 'make test':

"/usr/home/cpan/pit/bare/perl-5.14.4/bin/perl" -MExtUtils::Command::MM -e 'cp_nonempty' -- lib/FFI/Platypus.bs blib/arch/auto/FFI/Platypus/Platypus.bs 644
"/usr/home/cpan/pit/bare/perl-5.14.4/bin/perl" "/usr/home/cpan/pit/bare/perl-5.14.4/lib/site_perl/5.14.4/ExtUtils/xsubpp"  -typemap '/usr/home/cpan/pit/bare/perl-5.14.4/lib/5.14.4/ExtUtils/typemap'  lib/FFI/Platypus.xs > lib/FFI/Platypus.xsc
mv lib/FFI/Platypus.xsc lib/FFI/Platypus.c
"/usr/home/cpan/pit/bare/perl-5.14.4/bin/perl" "/usr/home/cpan/pit/bare/perl-5.14.4/lib/site_perl/5.14.4/ExtUtils/xsubpp"  -typemap '/usr/home/cpan/pit/bare/perl-5.14.4/lib/5.14.4/ExtUtils/typemap' lib/FFI/Platypus.xs > lib/FFI/Platypus.xsc
mv lib/FFI/Platypus.xsc lib/FFI/Platypus.c
cc -c  -Iinclude -I/usr/local/include  -DHAS_FPSETMASK -DHAS_FLOATINGPOINT_H -fno-strict-aliasing -pipe -fstack-protector -I/usr/local/include -O2    -DVERSION=\"2.06_01\"  -DXS_VERSION=\"2.06_01\" -DPIC -fPIC "-I/usr/home/cpan/pit/bare/perl-5.14.4/lib/5.14.4/amd64-freebsd/CORE"   lib/FFI/Platypus.c -o lib/FFI/Platypus.o
In file included from lib/FFI/Platypus.xs:40:
include/ffi_platypus_call.h:54:7: warning: implicit conversion from 'unsigned long' to 'double' changes value from 1152921504606846975 to 1152921504606846976 [-Wimplicit-int-float-conversion]
      ffi_pl_heap_add(buffer, buffer_size, char);
      ^~~~~~~~~~~~~~~~~~~~~~~~~~~~~~~~~~~~~~~~~~
include/ffi_platypus.h:336:3: note: expanded from macro 'ffi_pl_heap_add'
  Newx(n, 1, ffi_pl_heap);                  \
  ^~~~~~~~~~~~~~~~~~~~~~~
/usr/home/cpan/pit/bare/perl-5.14.4/lib/5.14.4/amd64-freebsd/CORE/handy.h:1131:27: note: expanded from macro 'Newx'
#define Newx(v,n,t)     (v = (MEM_WRAP_CHECK_(n,t) (t*)MEM_LOG_ALLOC(n,t,safemalloc((MEM_SIZE)((n)*sizeof(t))))))
                              ^~~~~~~~~~~~~~~~~~~~
/usr/home/cpan/pit/bare/perl-5.14.4/lib/5.14.4/amd64-freebsd/CORE/handy.h:1043:30: note: expanded from macro 'MEM_WRAP_CHECK_'
#define MEM_WRAP_CHECK_(n,t) MEM_WRAP_CHECK(n,t),
                             ^~~~~~~~~~~~~~~~~~~
/usr/home/cpan/pit/bare/perl-5.14.4/lib/5.14.4/amd64-freebsd/CORE/handy.h:1040:29: note: expanded from macro 'MEM_WRAP_CHECK'
#define MEM_WRAP_CHECK(n,t) MEM_WRAP_CHECK_1(n,t,PL_memory_wrap)
                            ^~~~~~~~~~~~~~~~~~~~~~~~~~~~~~~~~~~~
/usr/home/cpan/pit/bare/perl-5.14.4/lib/5.14.4/amd64-freebsd/CORE/handy.h:1042:60: note: expanded from macro 'MEM_WRAP_CHECK_1'
        (void)(sizeof(t) > 1 && ((MEM_SIZE)(n)+0.0) > MEM_SIZE_MAX/sizeof(t) && (Perl_croak_nocontext("%s",(a)),0))
                                                    ~ ~~~~~~~~~~~~^~~~~~~~~~
In file included from lib/FFI/Platypus.xs:40:
include/ffi_platypus_call.h:219:17: warning: implicit conversion from 'unsigned long' to 'double' changes value from 576460752303423487 to 576460752303423488 [-Wimplicit-int-float-conversion]
                Newx(closure, 1, ffi_pl_closure);
                ^~~~~~~~~~~~~~~~~~~~~~~~~~~~~~~~
/usr/home/cpan/pit/bare/perl-5.14.4/lib/5.14.4/amd64-freebsd/CORE/handy.h:1131:27: note: expanded from macro 'Newx'
#define Newx(v,n,t)     (v = (MEM_WRAP_CHECK_(n,t) (t*)MEM_LOG_ALLOC(n,t,safemalloc((MEM_SIZE)((n)*sizeof(t))))))
                              ^~~~~~~~~~~~~~~~~~~~
/usr/home/cpan/pit/bare/perl-5.14.4/lib/5.14.4/amd64-freebsd/CORE/handy.h:1043:30: note: expanded from macro 'MEM_WRAP_CHECK_'
#define MEM_WRAP_CHECK_(n,t) MEM_WRAP_CHECK(n,t),
                             ^~~~~~~~~~~~~~~~~~~
/usr/home/cpan/pit/bare/perl-5.14.4/lib/5.14.4/amd64-freebsd/CORE/handy.h:1040:29: note: expanded from macro 'MEM_WRAP_CHECK'
#define MEM_WRAP_CHECK(n,t) MEM_WRAP_CHECK_1(n,t,PL_memory_wrap)
                            ^~~~~~~~~~~~~~~~~~~~~~~~~~~~~~~~~~~~
/usr/home/cpan/pit/bare/perl-5.14.4/lib/5.14.4/amd64-freebsd/CORE/handy.h:1042:60: note: expanded from macro 'MEM_WRAP_CHECK_1'
        (void)(sizeof(t) > 1 && ((MEM_SIZE)(n)+0.0) > MEM_SIZE_MAX/sizeof(t) && (Perl_croak_nocontext("%s",(a)),0))
                                                    ~ ~~~~~~~~~~~~^~~~~~~~~~
In file included from lib/FFI/Platypus.xs:40:
include/ffi_platypus_call.h:408:25: warning: implicit conversion from 'unsigned long' to 'double' changes value from 9223372036854775807 to 9223372036854775808 [-Wimplicit-int-float-conversion]
                        Newx(ptr, count, uint16_t);
                        ^~~~~~~~~~~~~~~~~~~~~~~~~~
/usr/home/cpan/pit/bare/perl-5.14.4/lib/5.14.4/amd64-freebsd/CORE/handy.h:1131:27: note: expanded from macro 'Newx'
#define Newx(v,n,t)     (v = (MEM_WRAP_CHECK_(n,t) (t*)MEM_LOG_ALLOC(n,t,safemalloc((MEM_SIZE)((n)*sizeof(t))))))
                              ^~~~~~~~~~~~~~~~~~~~
/usr/home/cpan/pit/bare/perl-5.14.4/lib/5.14.4/amd64-freebsd/CORE/handy.h:1043:30: note: expanded from macro 'MEM_WRAP_CHECK_'
#define MEM_WRAP_CHECK_(n,t) MEM_WRAP_CHECK(n,t),
                             ^~~~~~~~~~~~~~~~~~~
/usr/home/cpan/pit/bare/perl-5.14.4/lib/5.14.4/amd64-freebsd/CORE/handy.h:1040:29: note: expanded from macro 'MEM_WRAP_CHECK'
#define MEM_WRAP_CHECK(n,t) MEM_WRAP_CHECK_1(n,t,PL_memory_wrap)
                            ^~~~~~~~~~~~~~~~~~~~~~~~~~~~~~~~~~~~
/usr/home/cpan/pit/bare/perl-5.14.4/lib/5.14.4/amd64-freebsd/CORE/handy.h:1042:60: note: expanded from macro 'MEM_WRAP_CHECK_1'
        (void)(sizeof(t) > 1 && ((MEM_SIZE)(n)+0.0) > MEM_SIZE_MAX/sizeof(t) && (Perl_croak_nocontext("%s",(a)),0))
                                                    ~ ~~~~~~~~~~~~^~~~~~~~~~
In file included from lib/FFI/Platypus.xs:40:
include/ffi_platypus_call.h:415:25: warning: implicit conversion from 'unsigned long' to 'double' changes value from 9223372036854775807 to 9223372036854775808 [-Wimplicit-int-float-conversion]
                        Newx(ptr, count, int16_t);
                        ^~~~~~~~~~~~~~~~~~~~~~~~~
/usr/home/cpan/pit/bare/perl-5.14.4/lib/5.14.4/amd64-freebsd/CORE/handy.h:1131:27: note: expanded from macro 'Newx'
#define Newx(v,n,t)     (v = (MEM_WRAP_CHECK_(n,t) (t*)MEM_LOG_ALLOC(n,t,safemalloc((MEM_SIZE)((n)*sizeof(t))))))
                              ^~~~~~~~~~~~~~~~~~~~
/usr/home/cpan/pit/bare/perl-5.14.4/lib/5.14.4/amd64-freebsd/CORE/handy.h:1043:30: note: expanded from macro 'MEM_WRAP_CHECK_'
#define MEM_WRAP_CHECK_(n,t) MEM_WRAP_CHECK(n,t),
                             ^~~~~~~~~~~~~~~~~~~
/usr/home/cpan/pit/bare/perl-5.14.4/lib/5.14.4/amd64-freebsd/CORE/handy.h:1040:29: note: expanded from macro 'MEM_WRAP_CHECK'
#define MEM_WRAP_CHECK(n,t) MEM_WRAP_CHECK_1(n,t,PL_memory_wrap)
                            ^~~~~~~~~~~~~~~~~~~~~~~~~~~~~~~~~~~~
/usr/home/cpan/pit/bare/perl-5.14.4/lib/5.14.4/amd64-freebsd/CORE/handy.h:1042:60: note: expanded from macro 'MEM_WRAP_CHECK_1'
        (void)(sizeof(t) > 1 && ((MEM_SIZE)(n)+0.0) > MEM_SIZE_MAX/sizeof(t) && (Perl_croak_nocontext("%s",(a)),0))
                                                    ~ ~~~~~~~~~~~~^~~~~~~~~~
In file included from lib/FFI/Platypus.xs:40:
include/ffi_platypus_call.h:422:25: warning: implicit conversion from 'unsigned long' to 'double' changes value from 4611686018427387903 to 4611686018427387904 [-Wimplicit-int-float-conversion]
                        Newx(ptr, count, uint32_t);
                        ^~~~~~~~~~~~~~~~~~~~~~~~~~
/usr/home/cpan/pit/bare/perl-5.14.4/lib/5.14.4/amd64-freebsd/CORE/handy.h:1131:27: note: expanded from macro 'Newx'
#define Newx(v,n,t)     (v = (MEM_WRAP_CHECK_(n,t) (t*)MEM_LOG_ALLOC(n,t,safemalloc((MEM_SIZE)((n)*sizeof(t))))))
                              ^~~~~~~~~~~~~~~~~~~~
/usr/home/cpan/pit/bare/perl-5.14.4/lib/5.14.4/amd64-freebsd/CORE/handy.h:1043:30: note: expanded from macro 'MEM_WRAP_CHECK_'
#define MEM_WRAP_CHECK_(n,t) MEM_WRAP_CHECK(n,t),
                             ^~~~~~~~~~~~~~~~~~~
/usr/home/cpan/pit/bare/perl-5.14.4/lib/5.14.4/amd64-freebsd/CORE/handy.h:1040:29: note: expanded from macro 'MEM_WRAP_CHECK'
#define MEM_WRAP_CHECK(n,t) MEM_WRAP_CHECK_1(n,t,PL_memory_wrap)
                            ^~~~~~~~~~~~~~~~~~~~~~~~~~~~~~~~~~~~
/usr/home/cpan/pit/bare/perl-5.14.4/lib/5.14.4/amd64-freebsd/CORE/handy.h:1042:60: note: expanded from macro 'MEM_WRAP_CHECK_1'
        (void)(sizeof(t) > 1 && ((MEM_SIZE)(n)+0.0) > MEM_SIZE_MAX/sizeof(t) && (Perl_croak_nocontext("%s",(a)),0))
                                                    ~ ~~~~~~~~~~~~^~~~~~~~~~
In file included from lib/FFI/Platypus.xs:40:
include/ffi_platypus_call.h:429:25: warning: implicit conversion from 'unsigned long' to 'double' changes value from 4611686018427387903 to 4611686018427387904 [-Wimplicit-int-float-conversion]
                        Newx(ptr, count, int32_t);
                        ^~~~~~~~~~~~~~~~~~~~~~~~~
/usr/home/cpan/pit/bare/perl-5.14.4/lib/5.14.4/amd64-freebsd/CORE/handy.h:1131:27: note: expanded from macro 'Newx'
#define Newx(v,n,t)     (v = (MEM_WRAP_CHECK_(n,t) (t*)MEM_LOG_ALLOC(n,t,safemalloc((MEM_SIZE)((n)*sizeof(t))))))
                              ^~~~~~~~~~~~~~~~~~~~
/usr/home/cpan/pit/bare/perl-5.14.4/lib/5.14.4/amd64-freebsd/CORE/handy.h:1043:30: note: expanded from macro 'MEM_WRAP_CHECK_'
#define MEM_WRAP_CHECK_(n,t) MEM_WRAP_CHECK(n,t),
                             ^~~~~~~~~~~~~~~~~~~
/usr/home/cpan/pit/bare/perl-5.14.4/lib/5.14.4/amd64-freebsd/CORE/handy.h:1040:29: note: expanded from macro 'MEM_WRAP_CHECK'
#define MEM_WRAP_CHECK(n,t) MEM_WRAP_CHECK_1(n,t,PL_memory_wrap)
                            ^~~~~~~~~~~~~~~~~~~~~~~~~~~~~~~~~~~~
/usr/home/cpan/pit/bare/perl-5.14.4/lib/5.14.4/amd64-freebsd/CORE/handy.h:1042:60: note: expanded from macro 'MEM_WRAP_CHECK_1'
        (void)(sizeof(t) > 1 && ((MEM_SIZE)(n)+0.0) > MEM_SIZE_MAX/sizeof(t) && (Perl_croak_nocontext("%s",(a)),0))
                                                    ~ ~~~~~~~~~~~~^~~~~~~~~~
In file included from lib/FFI/Platypus.xs:40:
include/ffi_platypus_call.h:436:25: warning: implicit conversion from 'unsigned long' to 'double' changes value from 2305843009213693951 to 2305843009213693952 [-Wimplicit-int-float-conversion]
                        Newx(ptr, count, uint64_t);
                        ^~~~~~~~~~~~~~~~~~~~~~~~~~
/usr/home/cpan/pit/bare/perl-5.14.4/lib/5.14.4/amd64-freebsd/CORE/handy.h:1131:27: note: expanded from macro 'Newx'
#define Newx(v,n,t)     (v = (MEM_WRAP_CHECK_(n,t) (t*)MEM_LOG_ALLOC(n,t,safemalloc((MEM_SIZE)((n)*sizeof(t))))))
                              ^~~~~~~~~~~~~~~~~~~~
/usr/home/cpan/pit/bare/perl-5.14.4/lib/5.14.4/amd64-freebsd/CORE/handy.h:1043:30: note: expanded from macro 'MEM_WRAP_CHECK_'
#define MEM_WRAP_CHECK_(n,t) MEM_WRAP_CHECK(n,t),
                             ^~~~~~~~~~~~~~~~~~~
/usr/home/cpan/pit/bare/perl-5.14.4/lib/5.14.4/amd64-freebsd/CORE/handy.h:1040:29: note: expanded from macro 'MEM_WRAP_CHECK'
#define MEM_WRAP_CHECK(n,t) MEM_WRAP_CHECK_1(n,t,PL_memory_wrap)
                            ^~~~~~~~~~~~~~~~~~~~~~~~~~~~~~~~~~~~
/usr/home/cpan/pit/bare/perl-5.14.4/lib/5.14.4/amd64-freebsd/CORE/handy.h:1042:60: note: expanded from macro 'MEM_WRAP_CHECK_1'
        (void)(sizeof(t) > 1 && ((MEM_SIZE)(n)+0.0) > MEM_SIZE_MAX/sizeof(t) && (Perl_croak_nocontext("%s",(a)),0))
                                                    ~ ~~~~~~~~~~~~^~~~~~~~~~
In file included from lib/FFI/Platypus.xs:40:
include/ffi_platypus_call.h:443:25: warning: implicit conversion from 'unsigned long' to 'double' changes value from 2305843009213693951 to 2305843009213693952 [-Wimplicit-int-float-conversion]
                        Newx(ptr, count, int64_t);
                        ^~~~~~~~~~~~~~~~~~~~~~~~~
/usr/home/cpan/pit/bare/perl-5.14.4/lib/5.14.4/amd64-freebsd/CORE/handy.h:1131:27: note: expanded from macro 'Newx'
#define Newx(v,n,t)     (v = (MEM_WRAP_CHECK_(n,t) (t*)MEM_LOG_ALLOC(n,t,safemalloc((MEM_SIZE)((n)*sizeof(t))))))
                              ^~~~~~~~~~~~~~~~~~~~
/usr/home/cpan/pit/bare/perl-5.14.4/lib/5.14.4/amd64-freebsd/CORE/handy.h:1043:30: note: expanded from macro 'MEM_WRAP_CHECK_'
#define MEM_WRAP_CHECK_(n,t) MEM_WRAP_CHECK(n,t),
                             ^~~~~~~~~~~~~~~~~~~
/usr/home/cpan/pit/bare/perl-5.14.4/lib/5.14.4/amd64-freebsd/CORE/handy.h:1040:29: note: expanded from macro 'MEM_WRAP_CHECK'
#define MEM_WRAP_CHECK(n,t) MEM_WRAP_CHECK_1(n,t,PL_memory_wrap)
                            ^~~~~~~~~~~~~~~~~~~~~~~~~~~~~~~~~~~~
/usr/home/cpan/pit/bare/perl-5.14.4/lib/5.14.4/amd64-freebsd/CORE/handy.h:1042:60: note: expanded from macro 'MEM_WRAP_CHECK_1'
        (void)(sizeof(t) > 1 && ((MEM_SIZE)(n)+0.0) > MEM_SIZE_MAX/sizeof(t) && (Perl_croak_nocontext("%s",(a)),0))
                                                    ~ ~~~~~~~~~~~~^~~~~~~~~~
In file included from lib/FFI/Platypus.xs:40:
include/ffi_platypus_call.h:450:25: warning: implicit conversion from 'unsigned long' to 'double' changes value from 4611686018427387903 to 4611686018427387904 [-Wimplicit-int-float-conversion]
                        Newx(ptr, count, float);
                        ^~~~~~~~~~~~~~~~~~~~~~~
/usr/home/cpan/pit/bare/perl-5.14.4/lib/5.14.4/amd64-freebsd/CORE/handy.h:1131:27: note: expanded from macro 'Newx'
#define Newx(v,n,t)     (v = (MEM_WRAP_CHECK_(n,t) (t*)MEM_LOG_ALLOC(n,t,safemalloc((MEM_SIZE)((n)*sizeof(t))))))
                              ^~~~~~~~~~~~~~~~~~~~
/usr/home/cpan/pit/bare/perl-5.14.4/lib/5.14.4/amd64-freebsd/CORE/handy.h:1043:30: note: expanded from macro 'MEM_WRAP_CHECK_'
#define MEM_WRAP_CHECK_(n,t) MEM_WRAP_CHECK(n,t),
                             ^~~~~~~~~~~~~~~~~~~
/usr/home/cpan/pit/bare/perl-5.14.4/lib/5.14.4/amd64-freebsd/CORE/handy.h:1040:29: note: expanded from macro 'MEM_WRAP_CHECK'
#define MEM_WRAP_CHECK(n,t) MEM_WRAP_CHECK_1(n,t,PL_memory_wrap)
                            ^~~~~~~~~~~~~~~~~~~~~~~~~~~~~~~~~~~~
/usr/home/cpan/pit/bare/perl-5.14.4/lib/5.14.4/amd64-freebsd/CORE/handy.h:1042:60: note: expanded from macro 'MEM_WRAP_CHECK_1'
        (void)(sizeof(t) > 1 && ((MEM_SIZE)(n)+0.0) > MEM_SIZE_MAX/sizeof(t) && (Perl_croak_nocontext("%s",(a)),0))
                                                    ~ ~~~~~~~~~~~~^~~~~~~~~~
In file included from lib/FFI/Platypus.xs:40:
include/ffi_platypus_call.h:457:25: warning: implicit conversion from 'unsigned long' to 'double' changes value from 2305843009213693951 to 2305843009213693952 [-Wimplicit-int-float-conversion]
                        Newx(ptr, count, double);
                        ^~~~~~~~~~~~~~~~~~~~~~~~
/usr/home/cpan/pit/bare/perl-5.14.4/lib/5.14.4/amd64-freebsd/CORE/handy.h:1131:27: note: expanded from macro 'Newx'
#define Newx(v,n,t)     (v = (MEM_WRAP_CHECK_(n,t) (t*)MEM_LOG_ALLOC(n,t,safemalloc((MEM_SIZE)((n)*sizeof(t))))))
                              ^~~~~~~~~~~~~~~~~~~~
/usr/home/cpan/pit/bare/perl-5.14.4/lib/5.14.4/amd64-freebsd/CORE/handy.h:1043:30: note: expanded from macro 'MEM_WRAP_CHECK_'
#define MEM_WRAP_CHECK_(n,t) MEM_WRAP_CHECK(n,t),
                             ^~~~~~~~~~~~~~~~~~~
/usr/home/cpan/pit/bare/perl-5.14.4/lib/5.14.4/amd64-freebsd/CORE/handy.h:1040:29: note: expanded from macro 'MEM_WRAP_CHECK'
#define MEM_WRAP_CHECK(n,t) MEM_WRAP_CHECK_1(n,t,PL_memory_wrap)
                            ^~~~~~~~~~~~~~~~~~~~~~~~~~~~~~~~~~~~
/usr/home/cpan/pit/bare/perl-5.14.4/lib/5.14.4/amd64-freebsd/CORE/handy.h:1042:60: note: expanded from macro 'MEM_WRAP_CHECK_1'
        (void)(sizeof(t) > 1 && ((MEM_SIZE)(n)+0.0) > MEM_SIZE_MAX/sizeof(t) && (Perl_croak_nocontext("%s",(a)),0))
                                                    ~ ~~~~~~~~~~~~^~~~~~~~~~
In file included from lib/FFI/Platypus.xs:40:
include/ffi_platypus_call.h:464:25: warning: implicit conversion from 'unsigned long' to 'double' changes value from 2305843009213693951 to 2305843009213693952 [-Wimplicit-int-float-conversion]
                        Newx(ptr, count, void*);
                        ^~~~~~~~~~~~~~~~~~~~~~~
/usr/home/cpan/pit/bare/perl-5.14.4/lib/5.14.4/amd64-freebsd/CORE/handy.h:1131:27: note: expanded from macro 'Newx'
#define Newx(v,n,t)     (v = (MEM_WRAP_CHECK_(n,t) (t*)MEM_LOG_ALLOC(n,t,safemalloc((MEM_SIZE)((n)*sizeof(t))))))
                              ^~~~~~~~~~~~~~~~~~~~
/usr/home/cpan/pit/bare/perl-5.14.4/lib/5.14.4/amd64-freebsd/CORE/handy.h:1043:30: note: expanded from macro 'MEM_WRAP_CHECK_'
#define MEM_WRAP_CHECK_(n,t) MEM_WRAP_CHECK(n,t),
                             ^~~~~~~~~~~~~~~~~~~
/usr/home/cpan/pit/bare/perl-5.14.4/lib/5.14.4/amd64-freebsd/CORE/handy.h:1040:29: note: expanded from macro 'MEM_WRAP_CHECK'
#define MEM_WRAP_CHECK(n,t) MEM_WRAP_CHECK_1(n,t,PL_memory_wrap)
                            ^~~~~~~~~~~~~~~~~~~~~~~~~~~~~~~~~~~~
/usr/home/cpan/pit/bare/perl-5.14.4/lib/5.14.4/amd64-freebsd/CORE/handy.h:1042:60: note: expanded from macro 'MEM_WRAP_CHECK_1'
        (void)(sizeof(t) > 1 && ((MEM_SIZE)(n)+0.0) > MEM_SIZE_MAX/sizeof(t) && (Perl_croak_nocontext("%s",(a)),0))
                                                    ~ ~~~~~~~~~~~~^~~~~~~~~~
In file included from lib/FFI/Platypus.xs:40:
include/ffi_platypus_call.h:476:27: warning: implicit conversion from 'unsigned long' to 'double' changes value from 1152921504606846975 to 1152921504606846976 [-Wimplicit-int-float-conversion]
                          Newx(ptr, count, long double);
                          ^~~~~~~~~~~~~~~~~~~~~~~~~~~~~
/usr/home/cpan/pit/bare/perl-5.14.4/lib/5.14.4/amd64-freebsd/CORE/handy.h:1131:27: note: expanded from macro 'Newx'
#define Newx(v,n,t)     (v = (MEM_WRAP_CHECK_(n,t) (t*)MEM_LOG_ALLOC(n,t,safemalloc((MEM_SIZE)((n)*sizeof(t))))))
                              ^~~~~~~~~~~~~~~~~~~~
/usr/home/cpan/pit/bare/perl-5.14.4/lib/5.14.4/amd64-freebsd/CORE/handy.h:1043:30: note: expanded from macro 'MEM_WRAP_CHECK_'
#define MEM_WRAP_CHECK_(n,t) MEM_WRAP_CHECK(n,t),
                             ^~~~~~~~~~~~~~~~~~~
/usr/home/cpan/pit/bare/perl-5.14.4/lib/5.14.4/amd64-freebsd/CORE/handy.h:1040:29: note: expanded from macro 'MEM_WRAP_CHECK'
#define MEM_WRAP_CHECK(n,t) MEM_WRAP_CHECK_1(n,t,PL_memory_wrap)
                            ^~~~~~~~~~~~~~~~~~~~~~~~~~~~~~~~~~~~
/usr/home/cpan/pit/bare/perl-5.14.4/lib/5.14.4/amd64-freebsd/CORE/handy.h:1042:60: note: expanded from macro 'MEM_WRAP_CHECK_1'
        (void)(sizeof(t) > 1 && ((MEM_SIZE)(n)+0.0) > MEM_SIZE_MAX/sizeof(t) && (Perl_croak_nocontext("%s",(a)),0))
                                                    ~ ~~~~~~~~~~~~^~~~~~~~~~
In file included from lib/FFI/Platypus.xs:40:
include/ffi_platypus_call.h:491:25: warning: implicit conversion from 'unsigned long' to 'double' changes value from 2305843009213693951 to 2305843009213693952 [-Wimplicit-int-float-conversion]
                        Newx(ptr, count, float complex);
                        ^~~~~~~~~~~~~~~~~~~~~~~~~~~~~~~
/usr/home/cpan/pit/bare/perl-5.14.4/lib/5.14.4/amd64-freebsd/CORE/handy.h:1131:27: note: expanded from macro 'Newx'
#define Newx(v,n,t)     (v = (MEM_WRAP_CHECK_(n,t) (t*)MEM_LOG_ALLOC(n,t,safemalloc((MEM_SIZE)((n)*sizeof(t))))))
                              ^~~~~~~~~~~~~~~~~~~~
/usr/home/cpan/pit/bare/perl-5.14.4/lib/5.14.4/amd64-freebsd/CORE/handy.h:1043:30: note: expanded from macro 'MEM_WRAP_CHECK_'
#define MEM_WRAP_CHECK_(n,t) MEM_WRAP_CHECK(n,t),
                             ^~~~~~~~~~~~~~~~~~~
/usr/home/cpan/pit/bare/perl-5.14.4/lib/5.14.4/amd64-freebsd/CORE/handy.h:1040:29: note: expanded from macro 'MEM_WRAP_CHECK'
#define MEM_WRAP_CHECK(n,t) MEM_WRAP_CHECK_1(n,t,PL_memory_wrap)
                            ^~~~~~~~~~~~~~~~~~~~~~~~~~~~~~~~~~~~
/usr/home/cpan/pit/bare/perl-5.14.4/lib/5.14.4/amd64-freebsd/CORE/handy.h:1042:60: note: expanded from macro 'MEM_WRAP_CHECK_1'
        (void)(sizeof(t) > 1 && ((MEM_SIZE)(n)+0.0) > MEM_SIZE_MAX/sizeof(t) && (Perl_croak_nocontext("%s",(a)),0))
                                                    ~ ~~~~~~~~~~~~^~~~~~~~~~
In file included from lib/FFI/Platypus.xs:40:
include/ffi_platypus_call.h:499:25: warning: implicit conversion from 'unsigned long' to 'double' changes value from 1152921504606846975 to 1152921504606846976 [-Wimplicit-int-float-conversion]
                        Newx(ptr, count, double complex);
                        ^~~~~~~~~~~~~~~~~~~~~~~~~~~~~~~~
/usr/home/cpan/pit/bare/perl-5.14.4/lib/5.14.4/amd64-freebsd/CORE/handy.h:1131:27: note: expanded from macro 'Newx'
#define Newx(v,n,t)     (v = (MEM_WRAP_CHECK_(n,t) (t*)MEM_LOG_ALLOC(n,t,safemalloc((MEM_SIZE)((n)*sizeof(t))))))
                              ^~~~~~~~~~~~~~~~~~~~
/usr/home/cpan/pit/bare/perl-5.14.4/lib/5.14.4/amd64-freebsd/CORE/handy.h:1043:30: note: expanded from macro 'MEM_WRAP_CHECK_'
#define MEM_WRAP_CHECK_(n,t) MEM_WRAP_CHECK(n,t),
                             ^~~~~~~~~~~~~~~~~~~
/usr/home/cpan/pit/bare/perl-5.14.4/lib/5.14.4/amd64-freebsd/CORE/handy.h:1040:29: note: expanded from macro 'MEM_WRAP_CHECK'
#define MEM_WRAP_CHECK(n,t) MEM_WRAP_CHECK_1(n,t,PL_memory_wrap)
                            ^~~~~~~~~~~~~~~~~~~~~~~~~~~~~~~~~~~~
/usr/home/cpan/pit/bare/perl-5.14.4/lib/5.14.4/amd64-freebsd/CORE/handy.h:1042:60: note: expanded from macro 'MEM_WRAP_CHECK_1'
        (void)(sizeof(t) > 1 && ((MEM_SIZE)(n)+0.0) > MEM_SIZE_MAX/sizeof(t) && (Perl_croak_nocontext("%s",(a)),0))
                                                    ~ ~~~~~~~~~~~~^~~~~~~~~~
In file included from lib/FFI/Platypus.xs:40:
include/ffi_platypus_call.h:508:25: warning: implicit conversion from 'unsigned long' to 'double' changes value from 2305843009213693951 to 2305843009213693952 [-Wimplicit-int-float-conversion]
                        Newx(ptr, count, char *);
                        ^~~~~~~~~~~~~~~~~~~~~~~~
/usr/home/cpan/pit/bare/perl-5.14.4/lib/5.14.4/amd64-freebsd/CORE/handy.h:1131:27: note: expanded from macro 'Newx'
#define Newx(v,n,t)     (v = (MEM_WRAP_CHECK_(n,t) (t*)MEM_LOG_ALLOC(n,t,safemalloc((MEM_SIZE)((n)*sizeof(t))))))
                              ^~~~~~~~~~~~~~~~~~~~
/usr/home/cpan/pit/bare/perl-5.14.4/lib/5.14.4/amd64-freebsd/CORE/handy.h:1043:30: note: expanded from macro 'MEM_WRAP_CHECK_'
#define MEM_WRAP_CHECK_(n,t) MEM_WRAP_CHECK(n,t),
                             ^~~~~~~~~~~~~~~~~~~
/usr/home/cpan/pit/bare/perl-5.14.4/lib/5.14.4/amd64-freebsd/CORE/handy.h:1040:29: note: expanded from macro 'MEM_WRAP_CHECK'
#define MEM_WRAP_CHECK(n,t) MEM_WRAP_CHECK_1(n,t,PL_memory_wrap)
                            ^~~~~~~~~~~~~~~~~~~~~~~~~~~~~~~~~~~~
/usr/home/cpan/pit/bare/perl-5.14.4/lib/5.14.4/amd64-freebsd/CORE/handy.h:1042:60: note: expanded from macro 'MEM_WRAP_CHECK_1'
        (void)(sizeof(t) > 1 && ((MEM_SIZE)(n)+0.0) > MEM_SIZE_MAX/sizeof(t) && (Perl_croak_nocontext("%s",(a)),0))
                                                    ~ ~~~~~~~~~~~~^~~~~~~~~~
In file included from lib/FFI/Platypus.xs:40:
include/ffi_platypus_call.h:534:21: warning: implicit conversion from 'unsigned long' to 'double' changes value from 1152921504606846975 to 1152921504606846976 [-Wimplicit-int-float-conversion]
                    ffi_pl_heap_add_ptr(ptr);
                    ^~~~~~~~~~~~~~~~~~~~~~~~
include/ffi_platypus.h:344:3: note: expanded from macro 'ffi_pl_heap_add_ptr'
  Newx(n, 1, ffi_pl_heap);                  \
  ^~~~~~~~~~~~~~~~~~~~~~~
/usr/home/cpan/pit/bare/perl-5.14.4/lib/5.14.4/amd64-freebsd/CORE/handy.h:1131:27: note: expanded from macro 'Newx'
#define Newx(v,n,t)     (v = (MEM_WRAP_CHECK_(n,t) (t*)MEM_LOG_ALLOC(n,t,safemalloc((MEM_SIZE)((n)*sizeof(t))))))
                              ^~~~~~~~~~~~~~~~~~~~
/usr/home/cpan/pit/bare/perl-5.14.4/lib/5.14.4/amd64-freebsd/CORE/handy.h:1043:30: note: expanded from macro 'MEM_WRAP_CHECK_'
#define MEM_WRAP_CHECK_(n,t) MEM_WRAP_CHECK(n,t),
                             ^~~~~~~~~~~~~~~~~~~
/usr/home/cpan/pit/bare/perl-5.14.4/lib/5.14.4/amd64-freebsd/CORE/handy.h:1040:29: note: expanded from macro 'MEM_WRAP_CHECK'
#define MEM_WRAP_CHECK(n,t) MEM_WRAP_CHECK_1(n,t,PL_memory_wrap)
                            ^~~~~~~~~~~~~~~~~~~~~~~~~~~~~~~~~~~~
/usr/home/cpan/pit/bare/perl-5.14.4/lib/5.14.4/amd64-freebsd/CORE/handy.h:1042:60: note: expanded from macro 'MEM_WRAP_CHECK_1'
        (void)(sizeof(t) > 1 && ((MEM_SIZE)(n)+0.0) > MEM_SIZE_MAX/sizeof(t) && (Perl_croak_nocontext("%s",(a)),0))
                                                    ~ ~~~~~~~~~~~~^~~~~~~~~~
In file included from lib/FFI/Platypus.xs:40:
include/ffi_platypus_call.h:570:21: warning: implicit conversion from 'unsigned long' to 'double' changes value from 1152921504606846975 to 1152921504606846976 [-Wimplicit-int-float-conversion]
                    ffi_pl_heap_add_ptr(ptr);
                    ^~~~~~~~~~~~~~~~~~~~~~~~
include/ffi_platypus.h:344:3: note: expanded from macro 'ffi_pl_heap_add_ptr'
  Newx(n, 1, ffi_pl_heap);                  \
  ^~~~~~~~~~~~~~~~~~~~~~~
/usr/home/cpan/pit/bare/perl-5.14.4/lib/5.14.4/amd64-freebsd/CORE/handy.h:1131:27: note: expanded from macro 'Newx'
#define Newx(v,n,t)     (v = (MEM_WRAP_CHECK_(n,t) (t*)MEM_LOG_ALLOC(n,t,safemalloc((MEM_SIZE)((n)*sizeof(t))))))
                              ^~~~~~~~~~~~~~~~~~~~
/usr/home/cpan/pit/bare/perl-5.14.4/lib/5.14.4/amd64-freebsd/CORE/handy.h:1043:30: note: expanded from macro 'MEM_WRAP_CHECK_'
#define MEM_WRAP_CHECK_(n,t) MEM_WRAP_CHECK(n,t),
                             ^~~~~~~~~~~~~~~~~~~
/usr/home/cpan/pit/bare/perl-5.14.4/lib/5.14.4/amd64-freebsd/CORE/handy.h:1040:29: note: expanded from macro 'MEM_WRAP_CHECK'
#define MEM_WRAP_CHECK(n,t) MEM_WRAP_CHECK_1(n,t,PL_memory_wrap)
                            ^~~~~~~~~~~~~~~~~~~~~~~~~~~~~~~~~~~~
/usr/home/cpan/pit/bare/perl-5.14.4/lib/5.14.4/amd64-freebsd/CORE/handy.h:1042:60: note: expanded from macro 'MEM_WRAP_CHECK_1'
        (void)(sizeof(t) > 1 && ((MEM_SIZE)(n)+0.0) > MEM_SIZE_MAX/sizeof(t) && (Perl_croak_nocontext("%s",(a)),0))
                                                    ~ ~~~~~~~~~~~~^~~~~~~~~~
In file included from lib/FFI/Platypus.xs:40:
include/ffi_platypus_call.h:838:27: warning: implicit conversion from 'unsigned long' to 'double' changes value from 1152921504606846975 to 1152921504606846976 [-Wimplicit-int-float-conversion]
                          ffi_pl_long_double_to_perl(sv, &((long double*)ptr)[n]);
                          ^~~~~~~~~~~~~~~~~~~~~~~~~~~~~~~~~~~~~~~~~~~~~~~~~~~~~~~
include/ffi_platypus_guts.h:53:5: note: expanded from macro 'ffi_pl_long_double_to_perl'
    Newx(tmp, 1, long double);                                   \
    ^~~~~~~~~~~~~~~~~~~~~~~~~
/usr/home/cpan/pit/bare/perl-5.14.4/lib/5.14.4/amd64-freebsd/CORE/handy.h:1131:27: note: expanded from macro 'Newx'
#define Newx(v,n,t)     (v = (MEM_WRAP_CHECK_(n,t) (t*)MEM_LOG_ALLOC(n,t,safemalloc((MEM_SIZE)((n)*sizeof(t))))))
                              ^~~~~~~~~~~~~~~~~~~~
/usr/home/cpan/pit/bare/perl-5.14.4/lib/5.14.4/amd64-freebsd/CORE/handy.h:1043:30: note: expanded from macro 'MEM_WRAP_CHECK_'
#define MEM_WRAP_CHECK_(n,t) MEM_WRAP_CHECK(n,t),
                             ^~~~~~~~~~~~~~~~~~~
/usr/home/cpan/pit/bare/perl-5.14.4/lib/5.14.4/amd64-freebsd/CORE/handy.h:1040:29: note: expanded from macro 'MEM_WRAP_CHECK'
#define MEM_WRAP_CHECK(n,t) MEM_WRAP_CHECK_1(n,t,PL_memory_wrap)
                            ^~~~~~~~~~~~~~~~~~~~~~~~~~~~~~~~~~~~
/usr/home/cpan/pit/bare/perl-5.14.4/lib/5.14.4/amd64-freebsd/CORE/handy.h:1042:60: note: expanded from macro 'MEM_WRAP_CHECK_1'
        (void)(sizeof(t) > 1 && ((MEM_SIZE)(n)+0.0) > MEM_SIZE_MAX/sizeof(t) && (Perl_croak_nocontext("%s",(a)),0))
                                                    ~ ~~~~~~~~~~~~^~~~~~~~~~
In file included from lib/FFI/Platypus.xs:40:
include/ffi_platypus_call.h:904:25: warning: implicit conversion from 'unsigned long' to 'double' changes value from 1152921504606846975 to 1152921504606846976 [-Wimplicit-int-float-conversion]
                        ffi_pl_long_double_to_perl(arg2,(long double*)ptr);
                        ^~~~~~~~~~~~~~~~~~~~~~~~~~~~~~~~~~~~~~~~~~~~~~~~~~
include/ffi_platypus_guts.h:53:5: note: expanded from macro 'ffi_pl_long_double_to_perl'
    Newx(tmp, 1, long double);                                   \
    ^~~~~~~~~~~~~~~~~~~~~~~~~
/usr/home/cpan/pit/bare/perl-5.14.4/lib/5.14.4/amd64-freebsd/CORE/handy.h:1131:27: note: expanded from macro 'Newx'
#define Newx(v,n,t)     (v = (MEM_WRAP_CHECK_(n,t) (t*)MEM_LOG_ALLOC(n,t,safemalloc((MEM_SIZE)((n)*sizeof(t))))))
                              ^~~~~~~~~~~~~~~~~~~~
/usr/home/cpan/pit/bare/perl-5.14.4/lib/5.14.4/amd64-freebsd/CORE/handy.h:1043:30: note: expanded from macro 'MEM_WRAP_CHECK_'
#define MEM_WRAP_CHECK_(n,t) MEM_WRAP_CHECK(n,t),
                             ^~~~~~~~~~~~~~~~~~~
/usr/home/cpan/pit/bare/perl-5.14.4/lib/5.14.4/amd64-freebsd/CORE/handy.h:1040:29: note: expanded from macro 'MEM_WRAP_CHECK'
#define MEM_WRAP_CHECK(n,t) MEM_WRAP_CHECK_1(n,t,PL_memory_wrap)
                            ^~~~~~~~~~~~~~~~~~~~~~~~~~~~~~~~~~~~
/usr/home/cpan/pit/bare/perl-5.14.4/lib/5.14.4/amd64-freebsd/CORE/handy.h:1042:60: note: expanded from macro 'MEM_WRAP_CHECK_1'
        (void)(sizeof(t) > 1 && ((MEM_SIZE)(n)+0.0) > MEM_SIZE_MAX/sizeof(t) && (Perl_croak_nocontext("%s",(a)),0))
                                                    ~ ~~~~~~~~~~~~^~~~~~~~~~
In file included from lib/FFI/Platypus.xs:40:
include/ffi_platypus_call.h:1124:13: warning: implicit conversion from 'unsigned long' to 'double' changes value from 1152921504606846975 to 1152921504606846976 [-Wimplicit-int-float-conversion]
            Newx(ptr, 1, long double);
            ^~~~~~~~~~~~~~~~~~~~~~~~~
/usr/home/cpan/pit/bare/perl-5.14.4/lib/5.14.4/amd64-freebsd/CORE/handy.h:1131:27: note: expanded from macro 'Newx'
#define Newx(v,n,t)     (v = (MEM_WRAP_CHECK_(n,t) (t*)MEM_LOG_ALLOC(n,t,safemalloc((MEM_SIZE)((n)*sizeof(t))))))
                              ^~~~~~~~~~~~~~~~~~~~
/usr/home/cpan/pit/bare/perl-5.14.4/lib/5.14.4/amd64-freebsd/CORE/handy.h:1043:30: note: expanded from macro 'MEM_WRAP_CHECK_'
#define MEM_WRAP_CHECK_(n,t) MEM_WRAP_CHECK(n,t),
                             ^~~~~~~~~~~~~~~~~~~
/usr/home/cpan/pit/bare/perl-5.14.4/lib/5.14.4/amd64-freebsd/CORE/handy.h:1040:29: note: expanded from macro 'MEM_WRAP_CHECK'
#define MEM_WRAP_CHECK(n,t) MEM_WRAP_CHECK_1(n,t,PL_memory_wrap)
                            ^~~~~~~~~~~~~~~~~~~~~~~~~~~~~~~~~~~~
/usr/home/cpan/pit/bare/perl-5.14.4/lib/5.14.4/amd64-freebsd/CORE/handy.h:1042:60: note: expanded from macro 'MEM_WRAP_CHECK_1'
        (void)(sizeof(t) > 1 && ((MEM_SIZE)(n)+0.0) > MEM_SIZE_MAX/sizeof(t) && (Perl_croak_nocontext("%s",(a)),0))
                                                    ~ ~~~~~~~~~~~~^~~~~~~~~~
In file included from lib/FFI/Platypus.xs:40:
include/ffi_platypus_call.h:1329:21: warning: implicit conversion from 'unsigned long' to 'double' changes value from 1152921504606846975 to 1152921504606846976 [-Wimplicit-int-float-conversion]
                    ffi_pl_long_double_to_perl(value, (long double*)result.pointer);
                    ^~~~~~~~~~~~~~~~~~~~~~~~~~~~~~~~~~~~~~~~~~~~~~~~~~~~~~~~~~~~~~~
include/ffi_platypus_guts.h:53:5: note: expanded from macro 'ffi_pl_long_double_to_perl'
    Newx(tmp, 1, long double);                                   \
    ^~~~~~~~~~~~~~~~~~~~~~~~~
/usr/home/cpan/pit/bare/perl-5.14.4/lib/5.14.4/amd64-freebsd/CORE/handy.h:1131:27: note: expanded from macro 'Newx'
#define Newx(v,n,t)     (v = (MEM_WRAP_CHECK_(n,t) (t*)MEM_LOG_ALLOC(n,t,safemalloc((MEM_SIZE)((n)*sizeof(t))))))
                              ^~~~~~~~~~~~~~~~~~~~
/usr/home/cpan/pit/bare/perl-5.14.4/lib/5.14.4/amd64-freebsd/CORE/handy.h:1043:30: note: expanded from macro 'MEM_WRAP_CHECK_'
#define MEM_WRAP_CHECK_(n,t) MEM_WRAP_CHECK(n,t),
                             ^~~~~~~~~~~~~~~~~~~
/usr/home/cpan/pit/bare/perl-5.14.4/lib/5.14.4/amd64-freebsd/CORE/handy.h:1040:29: note: expanded from macro 'MEM_WRAP_CHECK'
#define MEM_WRAP_CHECK(n,t) MEM_WRAP_CHECK_1(n,t,PL_memory_wrap)
                            ^~~~~~~~~~~~~~~~~~~~~~~~~~~~~~~~~~~~
/usr/home/cpan/pit/bare/perl-5.14.4/lib/5.14.4/amd64-freebsd/CORE/handy.h:1042:60: note: expanded from macro 'MEM_WRAP_CHECK_1'
        (void)(sizeof(t) > 1 && ((MEM_SIZE)(n)+0.0) > MEM_SIZE_MAX/sizeof(t) && (Perl_croak_nocontext("%s",(a)),0))
                                                    ~ ~~~~~~~~~~~~^~~~~~~~~~
In file included from lib/FFI/Platypus.xs:40:
include/ffi_platypus_call.h:1396:17: warning: implicit conversion from 'unsigned long' to 'double' changes value from 2305843009213693951 to 2305843009213693952 [-Wimplicit-int-float-conversion]
                Newx(sv, count, SV*);
                ^~~~~~~~~~~~~~~~~~~~
/usr/home/cpan/pit/bare/perl-5.14.4/lib/5.14.4/amd64-freebsd/CORE/handy.h:1131:27: note: expanded from macro 'Newx'
#define Newx(v,n,t)     (v = (MEM_WRAP_CHECK_(n,t) (t*)MEM_LOG_ALLOC(n,t,safemalloc((MEM_SIZE)((n)*sizeof(t))))))
                              ^~~~~~~~~~~~~~~~~~~~
/usr/home/cpan/pit/bare/perl-5.14.4/lib/5.14.4/amd64-freebsd/CORE/handy.h:1043:30: note: expanded from macro 'MEM_WRAP_CHECK_'
#define MEM_WRAP_CHECK_(n,t) MEM_WRAP_CHECK(n,t),
                             ^~~~~~~~~~~~~~~~~~~
/usr/home/cpan/pit/bare/perl-5.14.4/lib/5.14.4/amd64-freebsd/CORE/handy.h:1040:29: note: expanded from macro 'MEM_WRAP_CHECK'
#define MEM_WRAP_CHECK(n,t) MEM_WRAP_CHECK_1(n,t,PL_memory_wrap)
                            ^~~~~~~~~~~~~~~~~~~~~~~~~~~~~~~~~~~~
/usr/home/cpan/pit/bare/perl-5.14.4/lib/5.14.4/amd64-freebsd/CORE/handy.h:1042:60: note: expanded from macro 'MEM_WRAP_CHECK_1'
        (void)(sizeof(t) > 1 && ((MEM_SIZE)(n)+0.0) > MEM_SIZE_MAX/sizeof(t) && (Perl_croak_nocontext("%s",(a)),0))
                                                    ~ ~~~~~~~~~~~~^~~~~~~~~~
In file included from lib/FFI/Platypus.xs:40:
include/ffi_platypus_call.h:1485:23: warning: implicit conversion from 'unsigned long' to 'double' changes value from 1152921504606846975 to 1152921504606846976 [-Wimplicit-int-float-conversion]
                      ffi_pl_long_double_to_perl(sv[i], &((long double*)result.pointer)[i]);
                      ^~~~~~~~~~~~~~~~~~~~~~~~~~~~~~~~~~~~~~~~~~~~~~~~~~~~~~~~~~~~~~~~~~~~~
include/ffi_platypus_guts.h:53:5: note: expanded from macro 'ffi_pl_long_double_to_perl'
    Newx(tmp, 1, long double);                                   \
    ^~~~~~~~~~~~~~~~~~~~~~~~~
/usr/home/cpan/pit/bare/perl-5.14.4/lib/5.14.4/amd64-freebsd/CORE/handy.h:1131:27: note: expanded from macro 'Newx'
#define Newx(v,n,t)     (v = (MEM_WRAP_CHECK_(n,t) (t*)MEM_LOG_ALLOC(n,t,safemalloc((MEM_SIZE)((n)*sizeof(t))))))
                              ^~~~~~~~~~~~~~~~~~~~
/usr/home/cpan/pit/bare/perl-5.14.4/lib/5.14.4/amd64-freebsd/CORE/handy.h:1043:30: note: expanded from macro 'MEM_WRAP_CHECK_'
#define MEM_WRAP_CHECK_(n,t) MEM_WRAP_CHECK(n,t),
                             ^~~~~~~~~~~~~~~~~~~
/usr/home/cpan/pit/bare/perl-5.14.4/lib/5.14.4/amd64-freebsd/CORE/handy.h:1040:29: note: expanded from macro 'MEM_WRAP_CHECK'
#define MEM_WRAP_CHECK(n,t) MEM_WRAP_CHECK_1(n,t,PL_memory_wrap)
                            ^~~~~~~~~~~~~~~~~~~~~~~~~~~~~~~~~~~~
/usr/home/cpan/pit/bare/perl-5.14.4/lib/5.14.4/amd64-freebsd/CORE/handy.h:1042:60: note: expanded from macro 'MEM_WRAP_CHECK_1'
        (void)(sizeof(t) > 1 && ((MEM_SIZE)(n)+0.0) > MEM_SIZE_MAX/sizeof(t) && (Perl_croak_nocontext("%s",(a)),0))
                                                    ~ ~~~~~~~~~~~~^~~~~~~~~~
In file included from lib/FFI/Platypus.xs:60:
include/ffi_platypus_call.h:54:7: warning: implicit conversion from 'unsigned long' to 'double' changes value from 1152921504606846975 to 1152921504606846976 [-Wimplicit-int-float-conversion]
      ffi_pl_heap_add(buffer, buffer_size, char);
      ^~~~~~~~~~~~~~~~~~~~~~~~~~~~~~~~~~~~~~~~~~
include/ffi_platypus.h:336:3: note: expanded from macro 'ffi_pl_heap_add'
  Newx(n, 1, ffi_pl_heap);                  \
  ^~~~~~~~~~~~~~~~~~~~~~~
/usr/home/cpan/pit/bare/perl-5.14.4/lib/5.14.4/amd64-freebsd/CORE/handy.h:1131:27: note: expanded from macro 'Newx'
#define Newx(v,n,t)     (v = (MEM_WRAP_CHECK_(n,t) (t*)MEM_LOG_ALLOC(n,t,safemalloc((MEM_SIZE)((n)*sizeof(t))))))
                              ^~~~~~~~~~~~~~~~~~~~
/usr/home/cpan/pit/bare/perl-5.14.4/lib/5.14.4/amd64-freebsd/CORE/handy.h:1043:30: note: expanded from macro 'MEM_WRAP_CHECK_'
#define MEM_WRAP_CHECK_(n,t) MEM_WRAP_CHECK(n,t),
                             ^~~~~~~~~~~~~~~~~~~
/usr/home/cpan/pit/bare/perl-5.14.4/lib/5.14.4/amd64-freebsd/CORE/handy.h:1040:29: note: expanded from macro 'MEM_WRAP_CHECK'
#define MEM_WRAP_CHECK(n,t) MEM_WRAP_CHECK_1(n,t,PL_memory_wrap)
                            ^~~~~~~~~~~~~~~~~~~~~~~~~~~~~~~~~~~~
/usr/home/cpan/pit/bare/perl-5.14.4/lib/5.14.4/amd64-freebsd/CORE/handy.h:1042:60: note: expanded from macro 'MEM_WRAP_CHECK_1'
        (void)(sizeof(t) > 1 && ((MEM_SIZE)(n)+0.0) > MEM_SIZE_MAX/sizeof(t) && (Perl_croak_nocontext("%s",(a)),0))
                                                    ~ ~~~~~~~~~~~~^~~~~~~~~~
In file included from lib/FFI/Platypus.xs:60:
include/ffi_platypus_call.h:219:17: warning: implicit conversion from 'unsigned long' to 'double' changes value from 576460752303423487 to 576460752303423488 [-Wimplicit-int-float-conversion]
                Newx(closure, 1, ffi_pl_closure);
                ^~~~~~~~~~~~~~~~~~~~~~~~~~~~~~~~
/usr/home/cpan/pit/bare/perl-5.14.4/lib/5.14.4/amd64-freebsd/CORE/handy.h:1131:27: note: expanded from macro 'Newx'
#define Newx(v,n,t)     (v = (MEM_WRAP_CHECK_(n,t) (t*)MEM_LOG_ALLOC(n,t,safemalloc((MEM_SIZE)((n)*sizeof(t))))))
                              ^~~~~~~~~~~~~~~~~~~~
/usr/home/cpan/pit/bare/perl-5.14.4/lib/5.14.4/amd64-freebsd/CORE/handy.h:1043:30: note: expanded from macro 'MEM_WRAP_CHECK_'
#define MEM_WRAP_CHECK_(n,t) MEM_WRAP_CHECK(n,t),
                             ^~~~~~~~~~~~~~~~~~~
/usr/home/cpan/pit/bare/perl-5.14.4/lib/5.14.4/amd64-freebsd/CORE/handy.h:1040:29: note: expanded from macro 'MEM_WRAP_CHECK'
#define MEM_WRAP_CHECK(n,t) MEM_WRAP_CHECK_1(n,t,PL_memory_wrap)
                            ^~~~~~~~~~~~~~~~~~~~~~~~~~~~~~~~~~~~
/usr/home/cpan/pit/bare/perl-5.14.4/lib/5.14.4/amd64-freebsd/CORE/handy.h:1042:60: note: expanded from macro 'MEM_WRAP_CHECK_1'
        (void)(sizeof(t) > 1 && ((MEM_SIZE)(n)+0.0) > MEM_SIZE_MAX/sizeof(t) && (Perl_croak_nocontext("%s",(a)),0))
                                                    ~ ~~~~~~~~~~~~^~~~~~~~~~
In file included from lib/FFI/Platypus.xs:60:
include/ffi_platypus_call.h:408:25: warning: implicit conversion from 'unsigned long' to 'double' changes value from 9223372036854775807 to 9223372036854775808 [-Wimplicit-int-float-conversion]
                        Newx(ptr, count, uint16_t);
                        ^~~~~~~~~~~~~~~~~~~~~~~~~~
/usr/home/cpan/pit/bare/perl-5.14.4/lib/5.14.4/amd64-freebsd/CORE/handy.h:1131:27: note: expanded from macro 'Newx'
#define Newx(v,n,t)     (v = (MEM_WRAP_CHECK_(n,t) (t*)MEM_LOG_ALLOC(n,t,safemalloc((MEM_SIZE)((n)*sizeof(t))))))
                              ^~~~~~~~~~~~~~~~~~~~
/usr/home/cpan/pit/bare/perl-5.14.4/lib/5.14.4/amd64-freebsd/CORE/handy.h:1043:30: note: expanded from macro 'MEM_WRAP_CHECK_'
#define MEM_WRAP_CHECK_(n,t) MEM_WRAP_CHECK(n,t),
                             ^~~~~~~~~~~~~~~~~~~
/usr/home/cpan/pit/bare/perl-5.14.4/lib/5.14.4/amd64-freebsd/CORE/handy.h:1040:29: note: expanded from macro 'MEM_WRAP_CHECK'
#define MEM_WRAP_CHECK(n,t) MEM_WRAP_CHECK_1(n,t,PL_memory_wrap)
                            ^~~~~~~~~~~~~~~~~~~~~~~~~~~~~~~~~~~~
/usr/home/cpan/pit/bare/perl-5.14.4/lib/5.14.4/amd64-freebsd/CORE/handy.h:1042:60: note: expanded from macro 'MEM_WRAP_CHECK_1'
        (void)(sizeof(t) > 1 && ((MEM_SIZE)(n)+0.0) > MEM_SIZE_MAX/sizeof(t) && (Perl_croak_nocontext("%s",(a)),0))
                                                    ~ ~~~~~~~~~~~~^~~~~~~~~~
In file included from lib/FFI/Platypus.xs:60:
include/ffi_platypus_call.h:415:25: warning: implicit conversion from 'unsigned long' to 'double' changes value from 9223372036854775807 to 9223372036854775808 [-Wimplicit-int-float-conversion]
                        Newx(ptr, count, int16_t);
                        ^~~~~~~~~~~~~~~~~~~~~~~~~
/usr/home/cpan/pit/bare/perl-5.14.4/lib/5.14.4/amd64-freebsd/CORE/handy.h:1131:27: note: expanded from macro 'Newx'
#define Newx(v,n,t)     (v = (MEM_WRAP_CHECK_(n,t) (t*)MEM_LOG_ALLOC(n,t,safemalloc((MEM_SIZE)((n)*sizeof(t))))))
                              ^~~~~~~~~~~~~~~~~~~~
/usr/home/cpan/pit/bare/perl-5.14.4/lib/5.14.4/amd64-freebsd/CORE/handy.h:1043:30: note: expanded from macro 'MEM_WRAP_CHECK_'
#define MEM_WRAP_CHECK_(n,t) MEM_WRAP_CHECK(n,t),
                             ^~~~~~~~~~~~~~~~~~~
/usr/home/cpan/pit/bare/perl-5.14.4/lib/5.14.4/amd64-freebsd/CORE/handy.h:1040:29: note: expanded from macro 'MEM_WRAP_CHECK'
#define MEM_WRAP_CHECK(n,t) MEM_WRAP_CHECK_1(n,t,PL_memory_wrap)
                            ^~~~~~~~~~~~~~~~~~~~~~~~~~~~~~~~~~~~
/usr/home/cpan/pit/bare/perl-5.14.4/lib/5.14.4/amd64-freebsd/CORE/handy.h:1042:60: note: expanded from macro 'MEM_WRAP_CHECK_1'
        (void)(sizeof(t) > 1 && ((MEM_SIZE)(n)+0.0) > MEM_SIZE_MAX/sizeof(t) && (Perl_croak_nocontext("%s",(a)),0))
                                                    ~ ~~~~~~~~~~~~^~~~~~~~~~
In file included from lib/FFI/Platypus.xs:60:
include/ffi_platypus_call.h:422:25: warning: implicit conversion from 'unsigned long' to 'double' changes value from 4611686018427387903 to 4611686018427387904 [-Wimplicit-int-float-conversion]
                        Newx(ptr, count, uint32_t);
                        ^~~~~~~~~~~~~~~~~~~~~~~~~~
/usr/home/cpan/pit/bare/perl-5.14.4/lib/5.14.4/amd64-freebsd/CORE/handy.h:1131:27: note: expanded from macro 'Newx'
#define Newx(v,n,t)     (v = (MEM_WRAP_CHECK_(n,t) (t*)MEM_LOG_ALLOC(n,t,safemalloc((MEM_SIZE)((n)*sizeof(t))))))
                              ^~~~~~~~~~~~~~~~~~~~
/usr/home/cpan/pit/bare/perl-5.14.4/lib/5.14.4/amd64-freebsd/CORE/handy.h:1043:30: note: expanded from macro 'MEM_WRAP_CHECK_'
#define MEM_WRAP_CHECK_(n,t) MEM_WRAP_CHECK(n,t),
                             ^~~~~~~~~~~~~~~~~~~
/usr/home/cpan/pit/bare/perl-5.14.4/lib/5.14.4/amd64-freebsd/CORE/handy.h:1040:29: note: expanded from macro 'MEM_WRAP_CHECK'
#define MEM_WRAP_CHECK(n,t) MEM_WRAP_CHECK_1(n,t,PL_memory_wrap)
                            ^~~~~~~~~~~~~~~~~~~~~~~~~~~~~~~~~~~~
/usr/home/cpan/pit/bare/perl-5.14.4/lib/5.14.4/amd64-freebsd/CORE/handy.h:1042:60: note: expanded from macro 'MEM_WRAP_CHECK_1'
        (void)(sizeof(t) > 1 && ((MEM_SIZE)(n)+0.0) > MEM_SIZE_MAX/sizeof(t) && (Perl_croak_nocontext("%s",(a)),0))
                                                    ~ ~~~~~~~~~~~~^~~~~~~~~~
In file included from lib/FFI/Platypus.xs:60:
include/ffi_platypus_call.h:429:25: warning: implicit conversion from 'unsigned long' to 'double' changes value from 4611686018427387903 to 4611686018427387904 [-Wimplicit-int-float-conversion]
                        Newx(ptr, count, int32_t);
                        ^~~~~~~~~~~~~~~~~~~~~~~~~
/usr/home/cpan/pit/bare/perl-5.14.4/lib/5.14.4/amd64-freebsd/CORE/handy.h:1131:27: note: expanded from macro 'Newx'
#define Newx(v,n,t)     (v = (MEM_WRAP_CHECK_(n,t) (t*)MEM_LOG_ALLOC(n,t,safemalloc((MEM_SIZE)((n)*sizeof(t))))))
                              ^~~~~~~~~~~~~~~~~~~~
/usr/home/cpan/pit/bare/perl-5.14.4/lib/5.14.4/amd64-freebsd/CORE/handy.h:1043:30: note: expanded from macro 'MEM_WRAP_CHECK_'
#define MEM_WRAP_CHECK_(n,t) MEM_WRAP_CHECK(n,t),
                             ^~~~~~~~~~~~~~~~~~~
/usr/home/cpan/pit/bare/perl-5.14.4/lib/5.14.4/amd64-freebsd/CORE/handy.h:1040:29: note: expanded from macro 'MEM_WRAP_CHECK'
#define MEM_WRAP_CHECK(n,t) MEM_WRAP_CHECK_1(n,t,PL_memory_wrap)
                            ^~~~~~~~~~~~~~~~~~~~~~~~~~~~~~~~~~~~
/usr/home/cpan/pit/bare/perl-5.14.4/lib/5.14.4/amd64-freebsd/CORE/handy.h:1042:60: note: expanded from macro 'MEM_WRAP_CHECK_1'
        (void)(sizeof(t) > 1 && ((MEM_SIZE)(n)+0.0) > MEM_SIZE_MAX/sizeof(t) && (Perl_croak_nocontext("%s",(a)),0))
                                                    ~ ~~~~~~~~~~~~^~~~~~~~~~
In file included from lib/FFI/Platypus.xs:60:
include/ffi_platypus_call.h:436:25: warning: implicit conversion from 'unsigned long' to 'double' changes value from 2305843009213693951 to 2305843009213693952 [-Wimplicit-int-float-conversion]
                        Newx(ptr, count, uint64_t);
                        ^~~~~~~~~~~~~~~~~~~~~~~~~~
/usr/home/cpan/pit/bare/perl-5.14.4/lib/5.14.4/amd64-freebsd/CORE/handy.h:1131:27: note: expanded from macro 'Newx'
#define Newx(v,n,t)     (v = (MEM_WRAP_CHECK_(n,t) (t*)MEM_LOG_ALLOC(n,t,safemalloc((MEM_SIZE)((n)*sizeof(t))))))
                              ^~~~~~~~~~~~~~~~~~~~
/usr/home/cpan/pit/bare/perl-5.14.4/lib/5.14.4/amd64-freebsd/CORE/handy.h:1043:30: note: expanded from macro 'MEM_WRAP_CHECK_'
#define MEM_WRAP_CHECK_(n,t) MEM_WRAP_CHECK(n,t),
                             ^~~~~~~~~~~~~~~~~~~
/usr/home/cpan/pit/bare/perl-5.14.4/lib/5.14.4/amd64-freebsd/CORE/handy.h:1040:29: note: expanded from macro 'MEM_WRAP_CHECK'
#define MEM_WRAP_CHECK(n,t) MEM_WRAP_CHECK_1(n,t,PL_memory_wrap)
                            ^~~~~~~~~~~~~~~~~~~~~~~~~~~~~~~~~~~~
/usr/home/cpan/pit/bare/perl-5.14.4/lib/5.14.4/amd64-freebsd/CORE/handy.h:1042:60: note: expanded from macro 'MEM_WRAP_CHECK_1'
        (void)(sizeof(t) > 1 && ((MEM_SIZE)(n)+0.0) > MEM_SIZE_MAX/sizeof(t) && (Perl_croak_nocontext("%s",(a)),0))
                                                    ~ ~~~~~~~~~~~~^~~~~~~~~~
In file included from lib/FFI/Platypus.xs:60:
include/ffi_platypus_call.h:443:25: warning: implicit conversion from 'unsigned long' to 'double' changes value from 2305843009213693951 to 2305843009213693952 [-Wimplicit-int-float-conversion]
                        Newx(ptr, count, int64_t);
                        ^~~~~~~~~~~~~~~~~~~~~~~~~
/usr/home/cpan/pit/bare/perl-5.14.4/lib/5.14.4/amd64-freebsd/CORE/handy.h:1131:27: note: expanded from macro 'Newx'
#define Newx(v,n,t)     (v = (MEM_WRAP_CHECK_(n,t) (t*)MEM_LOG_ALLOC(n,t,safemalloc((MEM_SIZE)((n)*sizeof(t))))))
                              ^~~~~~~~~~~~~~~~~~~~
/usr/home/cpan/pit/bare/perl-5.14.4/lib/5.14.4/amd64-freebsd/CORE/handy.h:1043:30: note: expanded from macro 'MEM_WRAP_CHECK_'
#define MEM_WRAP_CHECK_(n,t) MEM_WRAP_CHECK(n,t),
                             ^~~~~~~~~~~~~~~~~~~
/usr/home/cpan/pit/bare/perl-5.14.4/lib/5.14.4/amd64-freebsd/CORE/handy.h:1040:29: note: expanded from macro 'MEM_WRAP_CHECK'
#define MEM_WRAP_CHECK(n,t) MEM_WRAP_CHECK_1(n,t,PL_memory_wrap)
                            ^~~~~~~~~~~~~~~~~~~~~~~~~~~~~~~~~~~~
/usr/home/cpan/pit/bare/perl-5.14.4/lib/5.14.4/amd64-freebsd/CORE/handy.h:1042:60: note: expanded from macro 'MEM_WRAP_CHECK_1'
        (void)(sizeof(t) > 1 && ((MEM_SIZE)(n)+0.0) > MEM_SIZE_MAX/sizeof(t) && (Perl_croak_nocontext("%s",(a)),0))
                                                    ~ ~~~~~~~~~~~~^~~~~~~~~~
In file included from lib/FFI/Platypus.xs:60:
include/ffi_platypus_call.h:450:25: warning: implicit conversion from 'unsigned long' to 'double' changes value from 4611686018427387903 to 4611686018427387904 [-Wimplicit-int-float-conversion]
                        Newx(ptr, count, float);
                        ^~~~~~~~~~~~~~~~~~~~~~~
/usr/home/cpan/pit/bare/perl-5.14.4/lib/5.14.4/amd64-freebsd/CORE/handy.h:1131:27: note: expanded from macro 'Newx'
#define Newx(v,n,t)     (v = (MEM_WRAP_CHECK_(n,t) (t*)MEM_LOG_ALLOC(n,t,safemalloc((MEM_SIZE)((n)*sizeof(t))))))
                              ^~~~~~~~~~~~~~~~~~~~
/usr/home/cpan/pit/bare/perl-5.14.4/lib/5.14.4/amd64-freebsd/CORE/handy.h:1043:30: note: expanded from macro 'MEM_WRAP_CHECK_'
#define MEM_WRAP_CHECK_(n,t) MEM_WRAP_CHECK(n,t),
                             ^~~~~~~~~~~~~~~~~~~
/usr/home/cpan/pit/bare/perl-5.14.4/lib/5.14.4/amd64-freebsd/CORE/handy.h:1040:29: note: expanded from macro 'MEM_WRAP_CHECK'
#define MEM_WRAP_CHECK(n,t) MEM_WRAP_CHECK_1(n,t,PL_memory_wrap)
                            ^~~~~~~~~~~~~~~~~~~~~~~~~~~~~~~~~~~~
/usr/home/cpan/pit/bare/perl-5.14.4/lib/5.14.4/amd64-freebsd/CORE/handy.h:1042:60: note: expanded from macro 'MEM_WRAP_CHECK_1'
        (void)(sizeof(t) > 1 && ((MEM_SIZE)(n)+0.0) > MEM_SIZE_MAX/sizeof(t) && (Perl_croak_nocontext("%s",(a)),0))
                                                    ~ ~~~~~~~~~~~~^~~~~~~~~~
In file included from lib/FFI/Platypus.xs:60:
include/ffi_platypus_call.h:457:25: warning: implicit conversion from 'unsigned long' to 'double' changes value from 2305843009213693951 to 2305843009213693952 [-Wimplicit-int-float-conversion]
                        Newx(ptr, count, double);
                        ^~~~~~~~~~~~~~~~~~~~~~~~
/usr/home/cpan/pit/bare/perl-5.14.4/lib/5.14.4/amd64-freebsd/CORE/handy.h:1131:27: note: expanded from macro 'Newx'
#define Newx(v,n,t)     (v = (MEM_WRAP_CHECK_(n,t) (t*)MEM_LOG_ALLOC(n,t,safemalloc((MEM_SIZE)((n)*sizeof(t))))))
                              ^~~~~~~~~~~~~~~~~~~~
/usr/home/cpan/pit/bare/perl-5.14.4/lib/5.14.4/amd64-freebsd/CORE/handy.h:1043:30: note: expanded from macro 'MEM_WRAP_CHECK_'
#define MEM_WRAP_CHECK_(n,t) MEM_WRAP_CHECK(n,t),
                             ^~~~~~~~~~~~~~~~~~~
/usr/home/cpan/pit/bare/perl-5.14.4/lib/5.14.4/amd64-freebsd/CORE/handy.h:1040:29: note: expanded from macro 'MEM_WRAP_CHECK'
#define MEM_WRAP_CHECK(n,t) MEM_WRAP_CHECK_1(n,t,PL_memory_wrap)
                            ^~~~~~~~~~~~~~~~~~~~~~~~~~~~~~~~~~~~
/usr/home/cpan/pit/bare/perl-5.14.4/lib/5.14.4/amd64-freebsd/CORE/handy.h:1042:60: note: expanded from macro 'MEM_WRAP_CHECK_1'
        (void)(sizeof(t) > 1 && ((MEM_SIZE)(n)+0.0) > MEM_SIZE_MAX/sizeof(t) && (Perl_croak_nocontext("%s",(a)),0))
                                                    ~ ~~~~~~~~~~~~^~~~~~~~~~
In file included from lib/FFI/Platypus.xs:60:
include/ffi_platypus_call.h:464:25: warning: implicit conversion from 'unsigned long' to 'double' changes value from 2305843009213693951 to 2305843009213693952 [-Wimplicit-int-float-conversion]
                        Newx(ptr, count, void*);
                        ^~~~~~~~~~~~~~~~~~~~~~~
/usr/home/cpan/pit/bare/perl-5.14.4/lib/5.14.4/amd64-freebsd/CORE/handy.h:1131:27: note: expanded from macro 'Newx'
#define Newx(v,n,t)     (v = (MEM_WRAP_CHECK_(n,t) (t*)MEM_LOG_ALLOC(n,t,safemalloc((MEM_SIZE)((n)*sizeof(t))))))
                              ^~~~~~~~~~~~~~~~~~~~
/usr/home/cpan/pit/bare/perl-5.14.4/lib/5.14.4/amd64-freebsd/CORE/handy.h:1043:30: note: expanded from macro 'MEM_WRAP_CHECK_'
#define MEM_WRAP_CHECK_(n,t) MEM_WRAP_CHECK(n,t),
                             ^~~~~~~~~~~~~~~~~~~
/usr/home/cpan/pit/bare/perl-5.14.4/lib/5.14.4/amd64-freebsd/CORE/handy.h:1040:29: note: expanded from macro 'MEM_WRAP_CHECK'
#define MEM_WRAP_CHECK(n,t) MEM_WRAP_CHECK_1(n,t,PL_memory_wrap)
                            ^~~~~~~~~~~~~~~~~~~~~~~~~~~~~~~~~~~~
/usr/home/cpan/pit/bare/perl-5.14.4/lib/5.14.4/amd64-freebsd/CORE/handy.h:1042:60: note: expanded from macro 'MEM_WRAP_CHECK_1'
        (void)(sizeof(t) > 1 && ((MEM_SIZE)(n)+0.0) > MEM_SIZE_MAX/sizeof(t) && (Perl_croak_nocontext("%s",(a)),0))
                                                    ~ ~~~~~~~~~~~~^~~~~~~~~~
In file included from lib/FFI/Platypus.xs:60:
include/ffi_platypus_call.h:476:27: warning: implicit conversion from 'unsigned long' to 'double' changes value from 1152921504606846975 to 1152921504606846976 [-Wimplicit-int-float-conversion]
                          Newx(ptr, count, long double);
                          ^~~~~~~~~~~~~~~~~~~~~~~~~~~~~
/usr/home/cpan/pit/bare/perl-5.14.4/lib/5.14.4/amd64-freebsd/CORE/handy.h:1131:27: note: expanded from macro 'Newx'
#define Newx(v,n,t)     (v = (MEM_WRAP_CHECK_(n,t) (t*)MEM_LOG_ALLOC(n,t,safemalloc((MEM_SIZE)((n)*sizeof(t))))))
                              ^~~~~~~~~~~~~~~~~~~~
/usr/home/cpan/pit/bare/perl-5.14.4/lib/5.14.4/amd64-freebsd/CORE/handy.h:1043:30: note: expanded from macro 'MEM_WRAP_CHECK_'
#define MEM_WRAP_CHECK_(n,t) MEM_WRAP_CHECK(n,t),
                             ^~~~~~~~~~~~~~~~~~~
/usr/home/cpan/pit/bare/perl-5.14.4/lib/5.14.4/amd64-freebsd/CORE/handy.h:1040:29: note: expanded from macro 'MEM_WRAP_CHECK'
#define MEM_WRAP_CHECK(n,t) MEM_WRAP_CHECK_1(n,t,PL_memory_wrap)
                            ^~~~~~~~~~~~~~~~~~~~~~~~~~~~~~~~~~~~
/usr/home/cpan/pit/bare/perl-5.14.4/lib/5.14.4/amd64-freebsd/CORE/handy.h:1042:60: note: expanded from macro 'MEM_WRAP_CHECK_1'
        (void)(sizeof(t) > 1 && ((MEM_SIZE)(n)+0.0) > MEM_SIZE_MAX/sizeof(t) && (Perl_croak_nocontext("%s",(a)),0))
                                                    ~ ~~~~~~~~~~~~^~~~~~~~~~
In file included from lib/FFI/Platypus.xs:60:
include/ffi_platypus_call.h:491:25: warning: implicit conversion from 'unsigned long' to 'double' changes value from 2305843009213693951 to 2305843009213693952 [-Wimplicit-int-float-conversion]
                        Newx(ptr, count, float complex);
                        ^~~~~~~~~~~~~~~~~~~~~~~~~~~~~~~
/usr/home/cpan/pit/bare/perl-5.14.4/lib/5.14.4/amd64-freebsd/CORE/handy.h:1131:27: note: expanded from macro 'Newx'
#define Newx(v,n,t)     (v = (MEM_WRAP_CHECK_(n,t) (t*)MEM_LOG_ALLOC(n,t,safemalloc((MEM_SIZE)((n)*sizeof(t))))))
                              ^~~~~~~~~~~~~~~~~~~~
/usr/home/cpan/pit/bare/perl-5.14.4/lib/5.14.4/amd64-freebsd/CORE/handy.h:1043:30: note: expanded from macro 'MEM_WRAP_CHECK_'
#define MEM_WRAP_CHECK_(n,t) MEM_WRAP_CHECK(n,t),
                             ^~~~~~~~~~~~~~~~~~~
/usr/home/cpan/pit/bare/perl-5.14.4/lib/5.14.4/amd64-freebsd/CORE/handy.h:1040:29: note: expanded from macro 'MEM_WRAP_CHECK'
#define MEM_WRAP_CHECK(n,t) MEM_WRAP_CHECK_1(n,t,PL_memory_wrap)
                            ^~~~~~~~~~~~~~~~~~~~~~~~~~~~~~~~~~~~
/usr/home/cpan/pit/bare/perl-5.14.4/lib/5.14.4/amd64-freebsd/CORE/handy.h:1042:60: note: expanded from macro 'MEM_WRAP_CHECK_1'
        (void)(sizeof(t) > 1 && ((MEM_SIZE)(n)+0.0) > MEM_SIZE_MAX/sizeof(t) && (Perl_croak_nocontext("%s",(a)),0))
                                                    ~ ~~~~~~~~~~~~^~~~~~~~~~
In file included from lib/FFI/Platypus.xs:60:
include/ffi_platypus_call.h:499:25: warning: implicit conversion from 'unsigned long' to 'double' changes value from 1152921504606846975 to 1152921504606846976 [-Wimplicit-int-float-conversion]
                        Newx(ptr, count, double complex);
                        ^~~~~~~~~~~~~~~~~~~~~~~~~~~~~~~~
/usr/home/cpan/pit/bare/perl-5.14.4/lib/5.14.4/amd64-freebsd/CORE/handy.h:1131:27: note: expanded from macro 'Newx'
#define Newx(v,n,t)     (v = (MEM_WRAP_CHECK_(n,t) (t*)MEM_LOG_ALLOC(n,t,safemalloc((MEM_SIZE)((n)*sizeof(t))))))
                              ^~~~~~~~~~~~~~~~~~~~
/usr/home/cpan/pit/bare/perl-5.14.4/lib/5.14.4/amd64-freebsd/CORE/handy.h:1043:30: note: expanded from macro 'MEM_WRAP_CHECK_'
#define MEM_WRAP_CHECK_(n,t) MEM_WRAP_CHECK(n,t),
                             ^~~~~~~~~~~~~~~~~~~
/usr/home/cpan/pit/bare/perl-5.14.4/lib/5.14.4/amd64-freebsd/CORE/handy.h:1040:29: note: expanded from macro 'MEM_WRAP_CHECK'
#define MEM_WRAP_CHECK(n,t) MEM_WRAP_CHECK_1(n,t,PL_memory_wrap)
                            ^~~~~~~~~~~~~~~~~~~~~~~~~~~~~~~~~~~~
/usr/home/cpan/pit/bare/perl-5.14.4/lib/5.14.4/amd64-freebsd/CORE/handy.h:1042:60: note: expanded from macro 'MEM_WRAP_CHECK_1'
        (void)(sizeof(t) > 1 && ((MEM_SIZE)(n)+0.0) > MEM_SIZE_MAX/sizeof(t) && (Perl_croak_nocontext("%s",(a)),0))
                                                    ~ ~~~~~~~~~~~~^~~~~~~~~~
In file included from lib/FFI/Platypus.xs:60:
include/ffi_platypus_call.h:508:25: warning: implicit conversion from 'unsigned long' to 'double' changes value from 2305843009213693951 to 2305843009213693952 [-Wimplicit-int-float-conversion]
                        Newx(ptr, count, char *);
                        ^~~~~~~~~~~~~~~~~~~~~~~~
/usr/home/cpan/pit/bare/perl-5.14.4/lib/5.14.4/amd64-freebsd/CORE/handy.h:1131:27: note: expanded from macro 'Newx'
#define Newx(v,n,t)     (v = (MEM_WRAP_CHECK_(n,t) (t*)MEM_LOG_ALLOC(n,t,safemalloc((MEM_SIZE)((n)*sizeof(t))))))
                              ^~~~~~~~~~~~~~~~~~~~
/usr/home/cpan/pit/bare/perl-5.14.4/lib/5.14.4/amd64-freebsd/CORE/handy.h:1043:30: note: expanded from macro 'MEM_WRAP_CHECK_'
#define MEM_WRAP_CHECK_(n,t) MEM_WRAP_CHECK(n,t),
                             ^~~~~~~~~~~~~~~~~~~
/usr/home/cpan/pit/bare/perl-5.14.4/lib/5.14.4/amd64-freebsd/CORE/handy.h:1040:29: note: expanded from macro 'MEM_WRAP_CHECK'
#define MEM_WRAP_CHECK(n,t) MEM_WRAP_CHECK_1(n,t,PL_memory_wrap)
                            ^~~~~~~~~~~~~~~~~~~~~~~~~~~~~~~~~~~~
/usr/home/cpan/pit/bare/perl-5.14.4/lib/5.14.4/amd64-freebsd/CORE/handy.h:1042:60: note: expanded from macro 'MEM_WRAP_CHECK_1'
        (void)(sizeof(t) > 1 && ((MEM_SIZE)(n)+0.0) > MEM_SIZE_MAX/sizeof(t) && (Perl_croak_nocontext("%s",(a)),0))
                                                    ~ ~~~~~~~~~~~~^~~~~~~~~~
In file included from lib/FFI/Platypus.xs:60:
include/ffi_platypus_call.h:534:21: warning: implicit conversion from 'unsigned long' to 'double' changes value from 1152921504606846975 to 1152921504606846976 [-Wimplicit-int-float-conversion]
                    ffi_pl_heap_add_ptr(ptr);
                    ^~~~~~~~~~~~~~~~~~~~~~~~
include/ffi_platypus.h:344:3: note: expanded from macro 'ffi_pl_heap_add_ptr'
  Newx(n, 1, ffi_pl_heap);                  \
  ^~~~~~~~~~~~~~~~~~~~~~~
/usr/home/cpan/pit/bare/perl-5.14.4/lib/5.14.4/amd64-freebsd/CORE/handy.h:1131:27: note: expanded from macro 'Newx'
#define Newx(v,n,t)     (v = (MEM_WRAP_CHECK_(n,t) (t*)MEM_LOG_ALLOC(n,t,safemalloc((MEM_SIZE)((n)*sizeof(t))))))
                              ^~~~~~~~~~~~~~~~~~~~
/usr/home/cpan/pit/bare/perl-5.14.4/lib/5.14.4/amd64-freebsd/CORE/handy.h:1043:30: note: expanded from macro 'MEM_WRAP_CHECK_'
#define MEM_WRAP_CHECK_(n,t) MEM_WRAP_CHECK(n,t),
                             ^~~~~~~~~~~~~~~~~~~
/usr/home/cpan/pit/bare/perl-5.14.4/lib/5.14.4/amd64-freebsd/CORE/handy.h:1040:29: note: expanded from macro 'MEM_WRAP_CHECK'
#define MEM_WRAP_CHECK(n,t) MEM_WRAP_CHECK_1(n,t,PL_memory_wrap)
                            ^~~~~~~~~~~~~~~~~~~~~~~~~~~~~~~~~~~~
/usr/home/cpan/pit/bare/perl-5.14.4/lib/5.14.4/amd64-freebsd/CORE/handy.h:1042:60: note: expanded from macro 'MEM_WRAP_CHECK_1'
        (void)(sizeof(t) > 1 && ((MEM_SIZE)(n)+0.0) > MEM_SIZE_MAX/sizeof(t) && (Perl_croak_nocontext("%s",(a)),0))
                                                    ~ ~~~~~~~~~~~~^~~~~~~~~~
In file included from lib/FFI/Platypus.xs:60:
include/ffi_platypus_call.h:570:21: warning: implicit conversion from 'unsigned long' to 'double' changes value from 1152921504606846975 to 1152921504606846976 [-Wimplicit-int-float-conversion]
                    ffi_pl_heap_add_ptr(ptr);
                    ^~~~~~~~~~~~~~~~~~~~~~~~
include/ffi_platypus.h:344:3: note: expanded from macro 'ffi_pl_heap_add_ptr'
  Newx(n, 1, ffi_pl_heap);                  \
  ^~~~~~~~~~~~~~~~~~~~~~~
/usr/home/cpan/pit/bare/perl-5.14.4/lib/5.14.4/amd64-freebsd/CORE/handy.h:1131:27: note: expanded from macro 'Newx'
#define Newx(v,n,t)     (v = (MEM_WRAP_CHECK_(n,t) (t*)MEM_LOG_ALLOC(n,t,safemalloc((MEM_SIZE)((n)*sizeof(t))))))
                              ^~~~~~~~~~~~~~~~~~~~
/usr/home/cpan/pit/bare/perl-5.14.4/lib/5.14.4/amd64-freebsd/CORE/handy.h:1043:30: note: expanded from macro 'MEM_WRAP_CHECK_'
#define MEM_WRAP_CHECK_(n,t) MEM_WRAP_CHECK(n,t),
                             ^~~~~~~~~~~~~~~~~~~
/usr/home/cpan/pit/bare/perl-5.14.4/lib/5.14.4/amd64-freebsd/CORE/handy.h:1040:29: note: expanded from macro 'MEM_WRAP_CHECK'
#define MEM_WRAP_CHECK(n,t) MEM_WRAP_CHECK_1(n,t,PL_memory_wrap)
                            ^~~~~~~~~~~~~~~~~~~~~~~~~~~~~~~~~~~~
/usr/home/cpan/pit/bare/perl-5.14.4/lib/5.14.4/amd64-freebsd/CORE/handy.h:1042:60: note: expanded from macro 'MEM_WRAP_CHECK_1'
        (void)(sizeof(t) > 1 && ((MEM_SIZE)(n)+0.0) > MEM_SIZE_MAX/sizeof(t) && (Perl_croak_nocontext("%s",(a)),0))
                                                    ~ ~~~~~~~~~~~~^~~~~~~~~~
In file included from lib/FFI/Platypus.xs:60:
include/ffi_platypus_call.h:838:27: warning: implicit conversion from 'unsigned long' to 'double' changes value from 1152921504606846975 to 1152921504606846976 [-Wimplicit-int-float-conversion]
                          ffi_pl_long_double_to_perl(sv, &((long double*)ptr)[n]);
                          ^~~~~~~~~~~~~~~~~~~~~~~~~~~~~~~~~~~~~~~~~~~~~~~~~~~~~~~
include/ffi_platypus_guts.h:53:5: note: expanded from macro 'ffi_pl_long_double_to_perl'
    Newx(tmp, 1, long double);                                   \
    ^~~~~~~~~~~~~~~~~~~~~~~~~
/usr/home/cpan/pit/bare/perl-5.14.4/lib/5.14.4/amd64-freebsd/CORE/handy.h:1131:27: note: expanded from macro 'Newx'
#define Newx(v,n,t)     (v = (MEM_WRAP_CHECK_(n,t) (t*)MEM_LOG_ALLOC(n,t,safemalloc((MEM_SIZE)((n)*sizeof(t))))))
                              ^~~~~~~~~~~~~~~~~~~~
/usr/home/cpan/pit/bare/perl-5.14.4/lib/5.14.4/amd64-freebsd/CORE/handy.h:1043:30: note: expanded from macro 'MEM_WRAP_CHECK_'
#define MEM_WRAP_CHECK_(n,t) MEM_WRAP_CHECK(n,t),
                             ^~~~~~~~~~~~~~~~~~~
/usr/home/cpan/pit/bare/perl-5.14.4/lib/5.14.4/amd64-freebsd/CORE/handy.h:1040:29: note: expanded from macro 'MEM_WRAP_CHECK'
#define MEM_WRAP_CHECK(n,t) MEM_WRAP_CHECK_1(n,t,PL_memory_wrap)
                            ^~~~~~~~~~~~~~~~~~~~~~~~~~~~~~~~~~~~
/usr/home/cpan/pit/bare/perl-5.14.4/lib/5.14.4/amd64-freebsd/CORE/handy.h:1042:60: note: expanded from macro 'MEM_WRAP_CHECK_1'
        (void)(sizeof(t) > 1 && ((MEM_SIZE)(n)+0.0) > MEM_SIZE_MAX/sizeof(t) && (Perl_croak_nocontext("%s",(a)),0))
                                                    ~ ~~~~~~~~~~~~^~~~~~~~~~
In file included from lib/FFI/Platypus.xs:60:
include/ffi_platypus_call.h:904:25: warning: implicit conversion from 'unsigned long' to 'double' changes value from 1152921504606846975 to 1152921504606846976 [-Wimplicit-int-float-conversion]
                        ffi_pl_long_double_to_perl(arg2,(long double*)ptr);
                        ^~~~~~~~~~~~~~~~~~~~~~~~~~~~~~~~~~~~~~~~~~~~~~~~~~
include/ffi_platypus_guts.h:53:5: note: expanded from macro 'ffi_pl_long_double_to_perl'
    Newx(tmp, 1, long double);                                   \
    ^~~~~~~~~~~~~~~~~~~~~~~~~
/usr/home/cpan/pit/bare/perl-5.14.4/lib/5.14.4/amd64-freebsd/CORE/handy.h:1131:27: note: expanded from macro 'Newx'
#define Newx(v,n,t)     (v = (MEM_WRAP_CHECK_(n,t) (t*)MEM_LOG_ALLOC(n,t,safemalloc((MEM_SIZE)((n)*sizeof(t))))))
                              ^~~~~~~~~~~~~~~~~~~~
/usr/home/cpan/pit/bare/perl-5.14.4/lib/5.14.4/amd64-freebsd/CORE/handy.h:1043:30: note: expanded from macro 'MEM_WRAP_CHECK_'
#define MEM_WRAP_CHECK_(n,t) MEM_WRAP_CHECK(n,t),
                             ^~~~~~~~~~~~~~~~~~~
/usr/home/cpan/pit/bare/perl-5.14.4/lib/5.14.4/amd64-freebsd/CORE/handy.h:1040:29: note: expanded from macro 'MEM_WRAP_CHECK'
#define MEM_WRAP_CHECK(n,t) MEM_WRAP_CHECK_1(n,t,PL_memory_wrap)
                            ^~~~~~~~~~~~~~~~~~~~~~~~~~~~~~~~~~~~
/usr/home/cpan/pit/bare/perl-5.14.4/lib/5.14.4/amd64-freebsd/CORE/handy.h:1042:60: note: expanded from macro 'MEM_WRAP_CHECK_1'
        (void)(sizeof(t) > 1 && ((MEM_SIZE)(n)+0.0) > MEM_SIZE_MAX/sizeof(t) && (Perl_croak_nocontext("%s",(a)),0))
                                                    ~ ~~~~~~~~~~~~^~~~~~~~~~
lib/FFI/../../xs/Record.xs:53:5: warning: implicit conversion from 'unsigned long' to 'double' changes value from 2305843009213693951 to 2305843009213693952 [-Wimplicit-int-float-conversion]
    Newx(member, 1, ffi_pl_record_member);
    ^~~~~~~~~~~~~~~~~~~~~~~~~~~~~~~~~~~~~
/usr/home/cpan/pit/bare/perl-5.14.4/lib/5.14.4/amd64-freebsd/CORE/handy.h:1131:27: note: expanded from macro 'Newx'
#define Newx(v,n,t)     (v = (MEM_WRAP_CHECK_(n,t) (t*)MEM_LOG_ALLOC(n,t,safemalloc((MEM_SIZE)((n)*sizeof(t))))))
                              ^~~~~~~~~~~~~~~~~~~~
/usr/home/cpan/pit/bare/perl-5.14.4/lib/5.14.4/amd64-freebsd/CORE/handy.h:1043:30: note: expanded from macro 'MEM_WRAP_CHECK_'
#define MEM_WRAP_CHECK_(n,t) MEM_WRAP_CHECK(n,t),
                             ^~~~~~~~~~~~~~~~~~~
/usr/home/cpan/pit/bare/perl-5.14.4/lib/5.14.4/amd64-freebsd/CORE/handy.h:1040:29: note: expanded from macro 'MEM_WRAP_CHECK'
#define MEM_WRAP_CHECK(n,t) MEM_WRAP_CHECK_1(n,t,PL_memory_wrap)
                            ^~~~~~~~~~~~~~~~~~~~~~~~~~~~~~~~~~~~
/usr/home/cpan/pit/bare/perl-5.14.4/lib/5.14.4/amd64-freebsd/CORE/handy.h:1042:60: note: expanded from macro 'MEM_WRAP_CHECK_1'
        (void)(sizeof(t) > 1 && ((MEM_SIZE)(n)+0.0) > MEM_SIZE_MAX/sizeof(t) && (Perl_croak_nocontext("%s",(a)),0))
                                                    ~ ~~~~~~~~~~~~^~~~~~~~~~
lib/FFI/../../xs/Function.xs:56:5: warning: implicit conversion from 'unsigned long' to 'double' changes value from 2305843009213693951 to 2305843009213693952 [-Wimplicit-int-float-conversion]
    Newx(ffi_argument_types, items-6+extra_arguments, ffi_type*);
    ^~~~~~~~~~~~~~~~~~~~~~~~~~~~~~~~~~~~~~~~~~~~~~~~~~~~~~~~~~~~
/usr/home/cpan/pit/bare/perl-5.14.4/lib/5.14.4/amd64-freebsd/CORE/handy.h:1131:27: note: expanded from macro 'Newx'
#define Newx(v,n,t)     (v = (MEM_WRAP_CHECK_(n,t) (t*)MEM_LOG_ALLOC(n,t,safemalloc((MEM_SIZE)((n)*sizeof(t))))))
                              ^~~~~~~~~~~~~~~~~~~~
/usr/home/cpan/pit/bare/perl-5.14.4/lib/5.14.4/amd64-freebsd/CORE/handy.h:1043:30: note: expanded from macro 'MEM_WRAP_CHECK_'
#define MEM_WRAP_CHECK_(n,t) MEM_WRAP_CHECK(n,t),
                             ^~~~~~~~~~~~~~~~~~~
/usr/home/cpan/pit/bare/perl-5.14.4/lib/5.14.4/amd64-freebsd/CORE/handy.h:1040:29: note: expanded from macro 'MEM_WRAP_CHECK'
#define MEM_WRAP_CHECK(n,t) MEM_WRAP_CHECK_1(n,t,PL_memory_wrap)
                            ^~~~~~~~~~~~~~~~~~~~~~~~~~~~~~~~~~~~
/usr/home/cpan/pit/bare/perl-5.14.4/lib/5.14.4/amd64-freebsd/CORE/handy.h:1042:60: note: expanded from macro 'MEM_WRAP_CHECK_1'
        (void)(sizeof(t) > 1 && ((MEM_SIZE)(n)+0.0) > MEM_SIZE_MAX/sizeof(t) && (Perl_croak_nocontext("%s",(a)),0))
                                                    ~ ~~~~~~~~~~~~^~~~~~~~~~
In file included from lib/FFI/../../xs/Function.xs:192:
include/ffi_platypus_call.h:54:7: warning: implicit conversion from 'unsigned long' to 'double' changes value from 1152921504606846975 to 1152921504606846976 [-Wimplicit-int-float-conversion]
      ffi_pl_heap_add(buffer, buffer_size, char);
      ^~~~~~~~~~~~~~~~~~~~~~~~~~~~~~~~~~~~~~~~~~
include/ffi_platypus.h:336:3: note: expanded from macro 'ffi_pl_heap_add'
  Newx(n, 1, ffi_pl_heap);                  \
  ^~~~~~~~~~~~~~~~~~~~~~~
/usr/home/cpan/pit/bare/perl-5.14.4/lib/5.14.4/amd64-freebsd/CORE/handy.h:1131:27: note: expanded from macro 'Newx'
#define Newx(v,n,t)     (v = (MEM_WRAP_CHECK_(n,t) (t*)MEM_LOG_ALLOC(n,t,safemalloc((MEM_SIZE)((n)*sizeof(t))))))
                              ^~~~~~~~~~~~~~~~~~~~
/usr/home/cpan/pit/bare/perl-5.14.4/lib/5.14.4/amd64-freebsd/CORE/handy.h:1043:30: note: expanded from macro 'MEM_WRAP_CHECK_'
#define MEM_WRAP_CHECK_(n,t) MEM_WRAP_CHECK(n,t),
                             ^~~~~~~~~~~~~~~~~~~
/usr/home/cpan/pit/bare/perl-5.14.4/lib/5.14.4/amd64-freebsd/CORE/handy.h:1040:29: note: expanded from macro 'MEM_WRAP_CHECK'
#define MEM_WRAP_CHECK(n,t) MEM_WRAP_CHECK_1(n,t,PL_memory_wrap)
                            ^~~~~~~~~~~~~~~~~~~~~~~~~~~~~~~~~~~~
/usr/home/cpan/pit/bare/perl-5.14.4/lib/5.14.4/amd64-freebsd/CORE/handy.h:1042:60: note: expanded from macro 'MEM_WRAP_CHECK_1'
        (void)(sizeof(t) > 1 && ((MEM_SIZE)(n)+0.0) > MEM_SIZE_MAX/sizeof(t) && (Perl_croak_nocontext("%s",(a)),0))
                                                    ~ ~~~~~~~~~~~~^~~~~~~~~~
In file included from lib/FFI/../../xs/Function.xs:192:
include/ffi_platypus_call.h:219:17: warning: implicit conversion from 'unsigned long' to 'double' changes value from 576460752303423487 to 576460752303423488 [-Wimplicit-int-float-conversion]
                Newx(closure, 1, ffi_pl_closure);
                ^~~~~~~~~~~~~~~~~~~~~~~~~~~~~~~~
/usr/home/cpan/pit/bare/perl-5.14.4/lib/5.14.4/amd64-freebsd/CORE/handy.h:1131:27: note: expanded from macro 'Newx'
#define Newx(v,n,t)     (v = (MEM_WRAP_CHECK_(n,t) (t*)MEM_LOG_ALLOC(n,t,safemalloc((MEM_SIZE)((n)*sizeof(t))))))
                              ^~~~~~~~~~~~~~~~~~~~
/usr/home/cpan/pit/bare/perl-5.14.4/lib/5.14.4/amd64-freebsd/CORE/handy.h:1043:30: note: expanded from macro 'MEM_WRAP_CHECK_'
#define MEM_WRAP_CHECK_(n,t) MEM_WRAP_CHECK(n,t),
                             ^~~~~~~~~~~~~~~~~~~
/usr/home/cpan/pit/bare/perl-5.14.4/lib/5.14.4/amd64-freebsd/CORE/handy.h:1040:29: note: expanded from macro 'MEM_WRAP_CHECK'
#define MEM_WRAP_CHECK(n,t) MEM_WRAP_CHECK_1(n,t,PL_memory_wrap)
                            ^~~~~~~~~~~~~~~~~~~~~~~~~~~~~~~~~~~~
/usr/home/cpan/pit/bare/perl-5.14.4/lib/5.14.4/amd64-freebsd/CORE/handy.h:1042:60: note: expanded from macro 'MEM_WRAP_CHECK_1'
        (void)(sizeof(t) > 1 && ((MEM_SIZE)(n)+0.0) > MEM_SIZE_MAX/sizeof(t) && (Perl_croak_nocontext("%s",(a)),0))
                                                    ~ ~~~~~~~~~~~~^~~~~~~~~~
In file included from lib/FFI/../../xs/Function.xs:192:
include/ffi_platypus_call.h:408:25: warning: implicit conversion from 'unsigned long' to 'double' changes value from 9223372036854775807 to 9223372036854775808 [-Wimplicit-int-float-conversion]
                        Newx(ptr, count, uint16_t);
                        ^~~~~~~~~~~~~~~~~~~~~~~~~~
/usr/home/cpan/pit/bare/perl-5.14.4/lib/5.14.4/amd64-freebsd/CORE/handy.h:1131:27: note: expanded from macro 'Newx'
#define Newx(v,n,t)     (v = (MEM_WRAP_CHECK_(n,t) (t*)MEM_LOG_ALLOC(n,t,safemalloc((MEM_SIZE)((n)*sizeof(t))))))
                              ^~~~~~~~~~~~~~~~~~~~
/usr/home/cpan/pit/bare/perl-5.14.4/lib/5.14.4/amd64-freebsd/CORE/handy.h:1043:30: note: expanded from macro 'MEM_WRAP_CHECK_'
#define MEM_WRAP_CHECK_(n,t) MEM_WRAP_CHECK(n,t),
                             ^~~~~~~~~~~~~~~~~~~
/usr/home/cpan/pit/bare/perl-5.14.4/lib/5.14.4/amd64-freebsd/CORE/handy.h:1040:29: note: expanded from macro 'MEM_WRAP_CHECK'
#define MEM_WRAP_CHECK(n,t) MEM_WRAP_CHECK_1(n,t,PL_memory_wrap)
                            ^~~~~~~~~~~~~~~~~~~~~~~~~~~~~~~~~~~~
/usr/home/cpan/pit/bare/perl-5.14.4/lib/5.14.4/amd64-freebsd/CORE/handy.h:1042:60: note: expanded from macro 'MEM_WRAP_CHECK_1'
        (void)(sizeof(t) > 1 && ((MEM_SIZE)(n)+0.0) > MEM_SIZE_MAX/sizeof(t) && (Perl_croak_nocontext("%s",(a)),0))
                                                    ~ ~~~~~~~~~~~~^~~~~~~~~~
In file included from lib/FFI/../../xs/Function.xs:192:
include/ffi_platypus_call.h:415:25: warning: implicit conversion from 'unsigned long' to 'double' changes value from 9223372036854775807 to 9223372036854775808 [-Wimplicit-int-float-conversion]
                        Newx(ptr, count, int16_t);
                        ^~~~~~~~~~~~~~~~~~~~~~~~~
/usr/home/cpan/pit/bare/perl-5.14.4/lib/5.14.4/amd64-freebsd/CORE/handy.h:1131:27: note: expanded from macro 'Newx'
#define Newx(v,n,t)     (v = (MEM_WRAP_CHECK_(n,t) (t*)MEM_LOG_ALLOC(n,t,safemalloc((MEM_SIZE)((n)*sizeof(t))))))
                              ^~~~~~~~~~~~~~~~~~~~
/usr/home/cpan/pit/bare/perl-5.14.4/lib/5.14.4/amd64-freebsd/CORE/handy.h:1043:30: note: expanded from macro 'MEM_WRAP_CHECK_'
#define MEM_WRAP_CHECK_(n,t) MEM_WRAP_CHECK(n,t),
                             ^~~~~~~~~~~~~~~~~~~
/usr/home/cpan/pit/bare/perl-5.14.4/lib/5.14.4/amd64-freebsd/CORE/handy.h:1040:29: note: expanded from macro 'MEM_WRAP_CHECK'
#define MEM_WRAP_CHECK(n,t) MEM_WRAP_CHECK_1(n,t,PL_memory_wrap)
                            ^~~~~~~~~~~~~~~~~~~~~~~~~~~~~~~~~~~~
/usr/home/cpan/pit/bare/perl-5.14.4/lib/5.14.4/amd64-freebsd/CORE/handy.h:1042:60: note: expanded from macro 'MEM_WRAP_CHECK_1'
        (void)(sizeof(t) > 1 && ((MEM_SIZE)(n)+0.0) > MEM_SIZE_MAX/sizeof(t) && (Perl_croak_nocontext("%s",(a)),0))
                                                    ~ ~~~~~~~~~~~~^~~~~~~~~~
In file included from lib/FFI/../../xs/Function.xs:192:
include/ffi_platypus_call.h:422:25: warning: implicit conversion from 'unsigned long' to 'double' changes value from 4611686018427387903 to 4611686018427387904 [-Wimplicit-int-float-conversion]
                        Newx(ptr, count, uint32_t);
                        ^~~~~~~~~~~~~~~~~~~~~~~~~~
/usr/home/cpan/pit/bare/perl-5.14.4/lib/5.14.4/amd64-freebsd/CORE/handy.h:1131:27: note: expanded from macro 'Newx'
#define Newx(v,n,t)     (v = (MEM_WRAP_CHECK_(n,t) (t*)MEM_LOG_ALLOC(n,t,safemalloc((MEM_SIZE)((n)*sizeof(t))))))
                              ^~~~~~~~~~~~~~~~~~~~
/usr/home/cpan/pit/bare/perl-5.14.4/lib/5.14.4/amd64-freebsd/CORE/handy.h:1043:30: note: expanded from macro 'MEM_WRAP_CHECK_'
#define MEM_WRAP_CHECK_(n,t) MEM_WRAP_CHECK(n,t),
                             ^~~~~~~~~~~~~~~~~~~
/usr/home/cpan/pit/bare/perl-5.14.4/lib/5.14.4/amd64-freebsd/CORE/handy.h:1040:29: note: expanded from macro 'MEM_WRAP_CHECK'
#define MEM_WRAP_CHECK(n,t) MEM_WRAP_CHECK_1(n,t,PL_memory_wrap)
                            ^~~~~~~~~~~~~~~~~~~~~~~~~~~~~~~~~~~~
/usr/home/cpan/pit/bare/perl-5.14.4/lib/5.14.4/amd64-freebsd/CORE/handy.h:1042:60: note: expanded from macro 'MEM_WRAP_CHECK_1'
        (void)(sizeof(t) > 1 && ((MEM_SIZE)(n)+0.0) > MEM_SIZE_MAX/sizeof(t) && (Perl_croak_nocontext("%s",(a)),0))
                                                    ~ ~~~~~~~~~~~~^~~~~~~~~~
In file included from lib/FFI/../../xs/Function.xs:192:
include/ffi_platypus_call.h:429:25: warning: implicit conversion from 'unsigned long' to 'double' changes value from 4611686018427387903 to 4611686018427387904 [-Wimplicit-int-float-conversion]
                        Newx(ptr, count, int32_t);
                        ^~~~~~~~~~~~~~~~~~~~~~~~~
/usr/home/cpan/pit/bare/perl-5.14.4/lib/5.14.4/amd64-freebsd/CORE/handy.h:1131:27: note: expanded from macro 'Newx'
#define Newx(v,n,t)     (v = (MEM_WRAP_CHECK_(n,t) (t*)MEM_LOG_ALLOC(n,t,safemalloc((MEM_SIZE)((n)*sizeof(t))))))
                              ^~~~~~~~~~~~~~~~~~~~
/usr/home/cpan/pit/bare/perl-5.14.4/lib/5.14.4/amd64-freebsd/CORE/handy.h:1043:30: note: expanded from macro 'MEM_WRAP_CHECK_'
#define MEM_WRAP_CHECK_(n,t) MEM_WRAP_CHECK(n,t),
                             ^~~~~~~~~~~~~~~~~~~
/usr/home/cpan/pit/bare/perl-5.14.4/lib/5.14.4/amd64-freebsd/CORE/handy.h:1040:29: note: expanded from macro 'MEM_WRAP_CHECK'
#define MEM_WRAP_CHECK(n,t) MEM_WRAP_CHECK_1(n,t,PL_memory_wrap)
                            ^~~~~~~~~~~~~~~~~~~~~~~~~~~~~~~~~~~~
/usr/home/cpan/pit/bare/perl-5.14.4/lib/5.14.4/amd64-freebsd/CORE/handy.h:1042:60: note: expanded from macro 'MEM_WRAP_CHECK_1'
        (void)(sizeof(t) > 1 && ((MEM_SIZE)(n)+0.0) > MEM_SIZE_MAX/sizeof(t) && (Perl_croak_nocontext("%s",(a)),0))
                                                    ~ ~~~~~~~~~~~~^~~~~~~~~~
In file included from lib/FFI/../../xs/Function.xs:192:
include/ffi_platypus_call.h:436:25: warning: implicit conversion from 'unsigned long' to 'double' changes value from 2305843009213693951 to 2305843009213693952 [-Wimplicit-int-float-conversion]
                        Newx(ptr, count, uint64_t);
                        ^~~~~~~~~~~~~~~~~~~~~~~~~~
/usr/home/cpan/pit/bare/perl-5.14.4/lib/5.14.4/amd64-freebsd/CORE/handy.h:1131:27: note: expanded from macro 'Newx'
#define Newx(v,n,t)     (v = (MEM_WRAP_CHECK_(n,t) (t*)MEM_LOG_ALLOC(n,t,safemalloc((MEM_SIZE)((n)*sizeof(t))))))
                              ^~~~~~~~~~~~~~~~~~~~
/usr/home/cpan/pit/bare/perl-5.14.4/lib/5.14.4/amd64-freebsd/CORE/handy.h:1043:30: note: expanded from macro 'MEM_WRAP_CHECK_'
#define MEM_WRAP_CHECK_(n,t) MEM_WRAP_CHECK(n,t),
                             ^~~~~~~~~~~~~~~~~~~
/usr/home/cpan/pit/bare/perl-5.14.4/lib/5.14.4/amd64-freebsd/CORE/handy.h:1040:29: note: expanded from macro 'MEM_WRAP_CHECK'
#define MEM_WRAP_CHECK(n,t) MEM_WRAP_CHECK_1(n,t,PL_memory_wrap)
                            ^~~~~~~~~~~~~~~~~~~~~~~~~~~~~~~~~~~~
/usr/home/cpan/pit/bare/perl-5.14.4/lib/5.14.4/amd64-freebsd/CORE/handy.h:1042:60: note: expanded from macro 'MEM_WRAP_CHECK_1'
        (void)(sizeof(t) > 1 && ((MEM_SIZE)(n)+0.0) > MEM_SIZE_MAX/sizeof(t) && (Perl_croak_nocontext("%s",(a)),0))
                                                    ~ ~~~~~~~~~~~~^~~~~~~~~~
In file included from lib/FFI/../../xs/Function.xs:192:
include/ffi_platypus_call.h:443:25: warning: implicit conversion from 'unsigned long' to 'double' changes value from 2305843009213693951 to 2305843009213693952 [-Wimplicit-int-float-conversion]
                        Newx(ptr, count, int64_t);
                        ^~~~~~~~~~~~~~~~~~~~~~~~~
/usr/home/cpan/pit/bare/perl-5.14.4/lib/5.14.4/amd64-freebsd/CORE/handy.h:1131:27: note: expanded from macro 'Newx'
#define Newx(v,n,t)     (v = (MEM_WRAP_CHECK_(n,t) (t*)MEM_LOG_ALLOC(n,t,safemalloc((MEM_SIZE)((n)*sizeof(t))))))
                              ^~~~~~~~~~~~~~~~~~~~
/usr/home/cpan/pit/bare/perl-5.14.4/lib/5.14.4/amd64-freebsd/CORE/handy.h:1043:30: note: expanded from macro 'MEM_WRAP_CHECK_'
#define MEM_WRAP_CHECK_(n,t) MEM_WRAP_CHECK(n,t),
                             ^~~~~~~~~~~~~~~~~~~
/usr/home/cpan/pit/bare/perl-5.14.4/lib/5.14.4/amd64-freebsd/CORE/handy.h:1040:29: note: expanded from macro 'MEM_WRAP_CHECK'
#define MEM_WRAP_CHECK(n,t) MEM_WRAP_CHECK_1(n,t,PL_memory_wrap)
                            ^~~~~~~~~~~~~~~~~~~~~~~~~~~~~~~~~~~~
/usr/home/cpan/pit/bare/perl-5.14.4/lib/5.14.4/amd64-freebsd/CORE/handy.h:1042:60: note: expanded from macro 'MEM_WRAP_CHECK_1'
        (void)(sizeof(t) > 1 && ((MEM_SIZE)(n)+0.0) > MEM_SIZE_MAX/sizeof(t) && (Perl_croak_nocontext("%s",(a)),0))
                                                    ~ ~~~~~~~~~~~~^~~~~~~~~~
In file included from lib/FFI/../../xs/Function.xs:192:
include/ffi_platypus_call.h:450:25: warning: implicit conversion from 'unsigned long' to 'double' changes value from 4611686018427387903 to 4611686018427387904 [-Wimplicit-int-float-conversion]
                        Newx(ptr, count, float);
                        ^~~~~~~~~~~~~~~~~~~~~~~
/usr/home/cpan/pit/bare/perl-5.14.4/lib/5.14.4/amd64-freebsd/CORE/handy.h:1131:27: note: expanded from macro 'Newx'
#define Newx(v,n,t)     (v = (MEM_WRAP_CHECK_(n,t) (t*)MEM_LOG_ALLOC(n,t,safemalloc((MEM_SIZE)((n)*sizeof(t))))))
                              ^~~~~~~~~~~~~~~~~~~~
/usr/home/cpan/pit/bare/perl-5.14.4/lib/5.14.4/amd64-freebsd/CORE/handy.h:1043:30: note: expanded from macro 'MEM_WRAP_CHECK_'
#define MEM_WRAP_CHECK_(n,t) MEM_WRAP_CHECK(n,t),
                             ^~~~~~~~~~~~~~~~~~~
/usr/home/cpan/pit/bare/perl-5.14.4/lib/5.14.4/amd64-freebsd/CORE/handy.h:1040:29: note: expanded from macro 'MEM_WRAP_CHECK'
#define MEM_WRAP_CHECK(n,t) MEM_WRAP_CHECK_1(n,t,PL_memory_wrap)
                            ^~~~~~~~~~~~~~~~~~~~~~~~~~~~~~~~~~~~
/usr/home/cpan/pit/bare/perl-5.14.4/lib/5.14.4/amd64-freebsd/CORE/handy.h:1042:60: note: expanded from macro 'MEM_WRAP_CHECK_1'
        (void)(sizeof(t) > 1 && ((MEM_SIZE)(n)+0.0) > MEM_SIZE_MAX/sizeof(t) && (Perl_croak_nocontext("%s",(a)),0))
                                                    ~ ~~~~~~~~~~~~^~~~~~~~~~
In file included from lib/FFI/../../xs/Function.xs:192:
include/ffi_platypus_call.h:457:25: warning: implicit conversion from 'unsigned long' to 'double' changes value from 2305843009213693951 to 2305843009213693952 [-Wimplicit-int-float-conversion]
                        Newx(ptr, count, double);
                        ^~~~~~~~~~~~~~~~~~~~~~~~
/usr/home/cpan/pit/bare/perl-5.14.4/lib/5.14.4/amd64-freebsd/CORE/handy.h:1131:27: note: expanded from macro 'Newx'
#define Newx(v,n,t)     (v = (MEM_WRAP_CHECK_(n,t) (t*)MEM_LOG_ALLOC(n,t,safemalloc((MEM_SIZE)((n)*sizeof(t))))))
                              ^~~~~~~~~~~~~~~~~~~~
/usr/home/cpan/pit/bare/perl-5.14.4/lib/5.14.4/amd64-freebsd/CORE/handy.h:1043:30: note: expanded from macro 'MEM_WRAP_CHECK_'
#define MEM_WRAP_CHECK_(n,t) MEM_WRAP_CHECK(n,t),
                             ^~~~~~~~~~~~~~~~~~~
/usr/home/cpan/pit/bare/perl-5.14.4/lib/5.14.4/amd64-freebsd/CORE/handy.h:1040:29: note: expanded from macro 'MEM_WRAP_CHECK'
#define MEM_WRAP_CHECK(n,t) MEM_WRAP_CHECK_1(n,t,PL_memory_wrap)
                            ^~~~~~~~~~~~~~~~~~~~~~~~~~~~~~~~~~~~
/usr/home/cpan/pit/bare/perl-5.14.4/lib/5.14.4/amd64-freebsd/CORE/handy.h:1042:60: note: expanded from macro 'MEM_WRAP_CHECK_1'
        (void)(sizeof(t) > 1 && ((MEM_SIZE)(n)+0.0) > MEM_SIZE_MAX/sizeof(t) && (Perl_croak_nocontext("%s",(a)),0))
                                                    ~ ~~~~~~~~~~~~^~~~~~~~~~
In file included from lib/FFI/../../xs/Function.xs:192:
include/ffi_platypus_call.h:464:25: warning: implicit conversion from 'unsigned long' to 'double' changes value from 2305843009213693951 to 2305843009213693952 [-Wimplicit-int-float-conversion]
                        Newx(ptr, count, void*);
                        ^~~~~~~~~~~~~~~~~~~~~~~
/usr/home/cpan/pit/bare/perl-5.14.4/lib/5.14.4/amd64-freebsd/CORE/handy.h:1131:27: note: expanded from macro 'Newx'
#define Newx(v,n,t)     (v = (MEM_WRAP_CHECK_(n,t) (t*)MEM_LOG_ALLOC(n,t,safemalloc((MEM_SIZE)((n)*sizeof(t))))))
                              ^~~~~~~~~~~~~~~~~~~~
/usr/home/cpan/pit/bare/perl-5.14.4/lib/5.14.4/amd64-freebsd/CORE/handy.h:1043:30: note: expanded from macro 'MEM_WRAP_CHECK_'
#define MEM_WRAP_CHECK_(n,t) MEM_WRAP_CHECK(n,t),
                             ^~~~~~~~~~~~~~~~~~~
/usr/home/cpan/pit/bare/perl-5.14.4/lib/5.14.4/amd64-freebsd/CORE/handy.h:1040:29: note: expanded from macro 'MEM_WRAP_CHECK'
#define MEM_WRAP_CHECK(n,t) MEM_WRAP_CHECK_1(n,t,PL_memory_wrap)
                            ^~~~~~~~~~~~~~~~~~~~~~~~~~~~~~~~~~~~
/usr/home/cpan/pit/bare/perl-5.14.4/lib/5.14.4/amd64-freebsd/CORE/handy.h:1042:60: note: expanded from macro 'MEM_WRAP_CHECK_1'
        (void)(sizeof(t) > 1 && ((MEM_SIZE)(n)+0.0) > MEM_SIZE_MAX/sizeof(t) && (Perl_croak_nocontext("%s",(a)),0))
                                                    ~ ~~~~~~~~~~~~^~~~~~~~~~
In file included from lib/FFI/../../xs/Function.xs:192:
include/ffi_platypus_call.h:476:27: warning: implicit conversion from 'unsigned long' to 'double' changes value from 1152921504606846975 to 1152921504606846976 [-Wimplicit-int-float-conversion]
                          Newx(ptr, count, long double);
                          ^~~~~~~~~~~~~~~~~~~~~~~~~~~~~
/usr/home/cpan/pit/bare/perl-5.14.4/lib/5.14.4/amd64-freebsd/CORE/handy.h:1131:27: note: expanded from macro 'Newx'
#define Newx(v,n,t)     (v = (MEM_WRAP_CHECK_(n,t) (t*)MEM_LOG_ALLOC(n,t,safemalloc((MEM_SIZE)((n)*sizeof(t))))))
                              ^~~~~~~~~~~~~~~~~~~~
/usr/home/cpan/pit/bare/perl-5.14.4/lib/5.14.4/amd64-freebsd/CORE/handy.h:1043:30: note: expanded from macro 'MEM_WRAP_CHECK_'
#define MEM_WRAP_CHECK_(n,t) MEM_WRAP_CHECK(n,t),
                             ^~~~~~~~~~~~~~~~~~~
/usr/home/cpan/pit/bare/perl-5.14.4/lib/5.14.4/amd64-freebsd/CORE/handy.h:1040:29: note: expanded from macro 'MEM_WRAP_CHECK'
#define MEM_WRAP_CHECK(n,t) MEM_WRAP_CHECK_1(n,t,PL_memory_wrap)
                            ^~~~~~~~~~~~~~~~~~~~~~~~~~~~~~~~~~~~
/usr/home/cpan/pit/bare/perl-5.14.4/lib/5.14.4/amd64-freebsd/CORE/handy.h:1042:60: note: expanded from macro 'MEM_WRAP_CHECK_1'
        (void)(sizeof(t) > 1 && ((MEM_SIZE)(n)+0.0) > MEM_SIZE_MAX/sizeof(t) && (Perl_croak_nocontext("%s",(a)),0))
                                                    ~ ~~~~~~~~~~~~^~~~~~~~~~
In file included from lib/FFI/../../xs/Function.xs:192:
include/ffi_platypus_call.h:491:25: warning: implicit conversion from 'unsigned long' to 'double' changes value from 2305843009213693951 to 2305843009213693952 [-Wimplicit-int-float-conversion]
                        Newx(ptr, count, float complex);
                        ^~~~~~~~~~~~~~~~~~~~~~~~~~~~~~~
/usr/home/cpan/pit/bare/perl-5.14.4/lib/5.14.4/amd64-freebsd/CORE/handy.h:1131:27: note: expanded from macro 'Newx'
#define Newx(v,n,t)     (v = (MEM_WRAP_CHECK_(n,t) (t*)MEM_LOG_ALLOC(n,t,safemalloc((MEM_SIZE)((n)*sizeof(t))))))
                              ^~~~~~~~~~~~~~~~~~~~
/usr/home/cpan/pit/bare/perl-5.14.4/lib/5.14.4/amd64-freebsd/CORE/handy.h:1043:30: note: expanded from macro 'MEM_WRAP_CHECK_'
#define MEM_WRAP_CHECK_(n,t) MEM_WRAP_CHECK(n,t),
                             ^~~~~~~~~~~~~~~~~~~
/usr/home/cpan/pit/bare/perl-5.14.4/lib/5.14.4/amd64-freebsd/CORE/handy.h:1040:29: note: expanded from macro 'MEM_WRAP_CHECK'
#define MEM_WRAP_CHECK(n,t) MEM_WRAP_CHECK_1(n,t,PL_memory_wrap)
                            ^~~~~~~~~~~~~~~~~~~~~~~~~~~~~~~~~~~~
/usr/home/cpan/pit/bare/perl-5.14.4/lib/5.14.4/amd64-freebsd/CORE/handy.h:1042:60: note: expanded from macro 'MEM_WRAP_CHECK_1'
        (void)(sizeof(t) > 1 && ((MEM_SIZE)(n)+0.0) > MEM_SIZE_MAX/sizeof(t) && (Perl_croak_nocontext("%s",(a)),0))
                                                    ~ ~~~~~~~~~~~~^~~~~~~~~~
In file included from lib/FFI/../../xs/Function.xs:192:
include/ffi_platypus_call.h:499:25: warning: implicit conversion from 'unsigned long' to 'double' changes value from 1152921504606846975 to 1152921504606846976 [-Wimplicit-int-float-conversion]
                        Newx(ptr, count, double complex);
                        ^~~~~~~~~~~~~~~~~~~~~~~~~~~~~~~~
/usr/home/cpan/pit/bare/perl-5.14.4/lib/5.14.4/amd64-freebsd/CORE/handy.h:1131:27: note: expanded from macro 'Newx'
#define Newx(v,n,t)     (v = (MEM_WRAP_CHECK_(n,t) (t*)MEM_LOG_ALLOC(n,t,safemalloc((MEM_SIZE)((n)*sizeof(t))))))
                              ^~~~~~~~~~~~~~~~~~~~
/usr/home/cpan/pit/bare/perl-5.14.4/lib/5.14.4/amd64-freebsd/CORE/handy.h:1043:30: note: expanded from macro 'MEM_WRAP_CHECK_'
#define MEM_WRAP_CHECK_(n,t) MEM_WRAP_CHECK(n,t),
                             ^~~~~~~~~~~~~~~~~~~
/usr/home/cpan/pit/bare/perl-5.14.4/lib/5.14.4/amd64-freebsd/CORE/handy.h:1040:29: note: expanded from macro 'MEM_WRAP_CHECK'
#define MEM_WRAP_CHECK(n,t) MEM_WRAP_CHECK_1(n,t,PL_memory_wrap)
                            ^~~~~~~~~~~~~~~~~~~~~~~~~~~~~~~~~~~~
/usr/home/cpan/pit/bare/perl-5.14.4/lib/5.14.4/amd64-freebsd/CORE/handy.h:1042:60: note: expanded from macro 'MEM_WRAP_CHECK_1'
        (void)(sizeof(t) > 1 && ((MEM_SIZE)(n)+0.0) > MEM_SIZE_MAX/sizeof(t) && (Perl_croak_nocontext("%s",(a)),0))
                                                    ~ ~~~~~~~~~~~~^~~~~~~~~~
In file included from lib/FFI/../../xs/Function.xs:192:
include/ffi_platypus_call.h:508:25: warning: implicit conversion from 'unsigned long' to 'double' changes value from 2305843009213693951 to 2305843009213693952 [-Wimplicit-int-float-conversion]
                        Newx(ptr, count, char *);
                        ^~~~~~~~~~~~~~~~~~~~~~~~
/usr/home/cpan/pit/bare/perl-5.14.4/lib/5.14.4/amd64-freebsd/CORE/handy.h:1131:27: note: expanded from macro 'Newx'
#define Newx(v,n,t)     (v = (MEM_WRAP_CHECK_(n,t) (t*)MEM_LOG_ALLOC(n,t,safemalloc((MEM_SIZE)((n)*sizeof(t))))))
                              ^~~~~~~~~~~~~~~~~~~~
/usr/home/cpan/pit/bare/perl-5.14.4/lib/5.14.4/amd64-freebsd/CORE/handy.h:1043:30: note: expanded from macro 'MEM_WRAP_CHECK_'
#define MEM_WRAP_CHECK_(n,t) MEM_WRAP_CHECK(n,t),
                             ^~~~~~~~~~~~~~~~~~~
/usr/home/cpan/pit/bare/perl-5.14.4/lib/5.14.4/amd64-freebsd/CORE/handy.h:1040:29: note: expanded from macro 'MEM_WRAP_CHECK'
#define MEM_WRAP_CHECK(n,t) MEM_WRAP_CHECK_1(n,t,PL_memory_wrap)
                            ^~~~~~~~~~~~~~~~~~~~~~~~~~~~~~~~~~~~
/usr/home/cpan/pit/bare/perl-5.14.4/lib/5.14.4/amd64-freebsd/CORE/handy.h:1042:60: note: expanded from macro 'MEM_WRAP_CHECK_1'
        (void)(sizeof(t) > 1 && ((MEM_SIZE)(n)+0.0) > MEM_SIZE_MAX/sizeof(t) && (Perl_croak_nocontext("%s",(a)),0))
                                                    ~ ~~~~~~~~~~~~^~~~~~~~~~
In file included from lib/FFI/../../xs/Function.xs:192:
include/ffi_platypus_call.h:534:21: warning: implicit conversion from 'unsigned long' to 'double' changes value from 1152921504606846975 to 1152921504606846976 [-Wimplicit-int-float-conversion]
                    ffi_pl_heap_add_ptr(ptr);
                    ^~~~~~~~~~~~~~~~~~~~~~~~
include/ffi_platypus.h:344:3: note: expanded from macro 'ffi_pl_heap_add_ptr'
  Newx(n, 1, ffi_pl_heap);                  \
  ^~~~~~~~~~~~~~~~~~~~~~~
/usr/home/cpan/pit/bare/perl-5.14.4/lib/5.14.4/amd64-freebsd/CORE/handy.h:1131:27: note: expanded from macro 'Newx'
#define Newx(v,n,t)     (v = (MEM_WRAP_CHECK_(n,t) (t*)MEM_LOG_ALLOC(n,t,safemalloc((MEM_SIZE)((n)*sizeof(t))))))
                              ^~~~~~~~~~~~~~~~~~~~
/usr/home/cpan/pit/bare/perl-5.14.4/lib/5.14.4/amd64-freebsd/CORE/handy.h:1043:30: note: expanded from macro 'MEM_WRAP_CHECK_'
#define MEM_WRAP_CHECK_(n,t) MEM_WRAP_CHECK(n,t),
                             ^~~~~~~~~~~~~~~~~~~
/usr/home/cpan/pit/bare/perl-5.14.4/lib/5.14.4/amd64-freebsd/CORE/handy.h:1040:29: note: expanded from macro 'MEM_WRAP_CHECK'
#define MEM_WRAP_CHECK(n,t) MEM_WRAP_CHECK_1(n,t,PL_memory_wrap)
                            ^~~~~~~~~~~~~~~~~~~~~~~~~~~~~~~~~~~~
/usr/home/cpan/pit/bare/perl-5.14.4/lib/5.14.4/amd64-freebsd/CORE/handy.h:1042:60: note: expanded from macro 'MEM_WRAP_CHECK_1'
        (void)(sizeof(t) > 1 && ((MEM_SIZE)(n)+0.0) > MEM_SIZE_MAX/sizeof(t) && (Perl_croak_nocontext("%s",(a)),0))
                                                    ~ ~~~~~~~~~~~~^~~~~~~~~~
In file included from lib/FFI/../../xs/Function.xs:192:
include/ffi_platypus_call.h:570:21: warning: implicit conversion from 'unsigned long' to 'double' changes value from 1152921504606846975 to 1152921504606846976 [-Wimplicit-int-float-conversion]
                    ffi_pl_heap_add_ptr(ptr);
                    ^~~~~~~~~~~~~~~~~~~~~~~~
include/ffi_platypus.h:344:3: note: expanded from macro 'ffi_pl_heap_add_ptr'
  Newx(n, 1, ffi_pl_heap);                  \
  ^~~~~~~~~~~~~~~~~~~~~~~
/usr/home/cpan/pit/bare/perl-5.14.4/lib/5.14.4/amd64-freebsd/CORE/handy.h:1131:27: note: expanded from macro 'Newx'
#define Newx(v,n,t)     (v = (MEM_WRAP_CHECK_(n,t) (t*)MEM_LOG_ALLOC(n,t,safemalloc((MEM_SIZE)((n)*sizeof(t))))))
                              ^~~~~~~~~~~~~~~~~~~~
/usr/home/cpan/pit/bare/perl-5.14.4/lib/5.14.4/amd64-freebsd/CORE/handy.h:1043:30: note: expanded from macro 'MEM_WRAP_CHECK_'
#define MEM_WRAP_CHECK_(n,t) MEM_WRAP_CHECK(n,t),
                             ^~~~~~~~~~~~~~~~~~~
/usr/home/cpan/pit/bare/perl-5.14.4/lib/5.14.4/amd64-freebsd/CORE/handy.h:1040:29: note: expanded from macro 'MEM_WRAP_CHECK'
#define MEM_WRAP_CHECK(n,t) MEM_WRAP_CHECK_1(n,t,PL_memory_wrap)
                            ^~~~~~~~~~~~~~~~~~~~~~~~~~~~~~~~~~~~
/usr/home/cpan/pit/bare/perl-5.14.4/lib/5.14.4/amd64-freebsd/CORE/handy.h:1042:60: note: expanded from macro 'MEM_WRAP_CHECK_1'
        (void)(sizeof(t) > 1 && ((MEM_SIZE)(n)+0.0) > MEM_SIZE_MAX/sizeof(t) && (Perl_croak_nocontext("%s",(a)),0))
                                                    ~ ~~~~~~~~~~~~^~~~~~~~~~
In file included from lib/FFI/../../xs/Function.xs:192:
include/ffi_platypus_call.h:838:27: warning: implicit conversion from 'unsigned long' to 'double' changes value from 1152921504606846975 to 1152921504606846976 [-Wimplicit-int-float-conversion]
                          ffi_pl_long_double_to_perl(sv, &((long double*)ptr)[n]);
                          ^~~~~~~~~~~~~~~~~~~~~~~~~~~~~~~~~~~~~~~~~~~~~~~~~~~~~~~
include/ffi_platypus_guts.h:53:5: note: expanded from macro 'ffi_pl_long_double_to_perl'
    Newx(tmp, 1, long double);                                   \
    ^~~~~~~~~~~~~~~~~~~~~~~~~
/usr/home/cpan/pit/bare/perl-5.14.4/lib/5.14.4/amd64-freebsd/CORE/handy.h:1131:27: note: expanded from macro 'Newx'
#define Newx(v,n,t)     (v = (MEM_WRAP_CHECK_(n,t) (t*)MEM_LOG_ALLOC(n,t,safemalloc((MEM_SIZE)((n)*sizeof(t))))))
                              ^~~~~~~~~~~~~~~~~~~~
/usr/home/cpan/pit/bare/perl-5.14.4/lib/5.14.4/amd64-freebsd/CORE/handy.h:1043:30: note: expanded from macro 'MEM_WRAP_CHECK_'
#define MEM_WRAP_CHECK_(n,t) MEM_WRAP_CHECK(n,t),
                             ^~~~~~~~~~~~~~~~~~~
/usr/home/cpan/pit/bare/perl-5.14.4/lib/5.14.4/amd64-freebsd/CORE/handy.h:1040:29: note: expanded from macro 'MEM_WRAP_CHECK'
#define MEM_WRAP_CHECK(n,t) MEM_WRAP_CHECK_1(n,t,PL_memory_wrap)
                            ^~~~~~~~~~~~~~~~~~~~~~~~~~~~~~~~~~~~
/usr/home/cpan/pit/bare/perl-5.14.4/lib/5.14.4/amd64-freebsd/CORE/handy.h:1042:60: note: expanded from macro 'MEM_WRAP_CHECK_1'
        (void)(sizeof(t) > 1 && ((MEM_SIZE)(n)+0.0) > MEM_SIZE_MAX/sizeof(t) && (Perl_croak_nocontext("%s",(a)),0))
                                                    ~ ~~~~~~~~~~~~^~~~~~~~~~
In file included from lib/FFI/../../xs/Function.xs:192:
include/ffi_platypus_call.h:904:25: warning: implicit conversion from 'unsigned long' to 'double' changes value from 1152921504606846975 to 1152921504606846976 [-Wimplicit-int-float-conversion]
                        ffi_pl_long_double_to_perl(arg2,(long double*)ptr);
                        ^~~~~~~~~~~~~~~~~~~~~~~~~~~~~~~~~~~~~~~~~~~~~~~~~~
include/ffi_platypus_guts.h:53:5: note: expanded from macro 'ffi_pl_long_double_to_perl'
    Newx(tmp, 1, long double);                                   \
    ^~~~~~~~~~~~~~~~~~~~~~~~~
/usr/home/cpan/pit/bare/perl-5.14.4/lib/5.14.4/amd64-freebsd/CORE/handy.h:1131:27: note: expanded from macro 'Newx'
#define Newx(v,n,t)     (v = (MEM_WRAP_CHECK_(n,t) (t*)MEM_LOG_ALLOC(n,t,safemalloc((MEM_SIZE)((n)*sizeof(t))))))
                              ^~~~~~~~~~~~~~~~~~~~
/usr/home/cpan/pit/bare/perl-5.14.4/lib/5.14.4/amd64-freebsd/CORE/handy.h:1043:30: note: expanded from macro 'MEM_WRAP_CHECK_'
#define MEM_WRAP_CHECK_(n,t) MEM_WRAP_CHECK(n,t),
                             ^~~~~~~~~~~~~~~~~~~
/usr/home/cpan/pit/bare/perl-5.14.4/lib/5.14.4/amd64-freebsd/CORE/handy.h:1040:29: note: expanded from macro 'MEM_WRAP_CHECK'
#define MEM_WRAP_CHECK(n,t) MEM_WRAP_CHECK_1(n,t,PL_memory_wrap)
                            ^~~~~~~~~~~~~~~~~~~~~~~~~~~~~~~~~~~~
/usr/home/cpan/pit/bare/perl-5.14.4/lib/5.14.4/amd64-freebsd/CORE/handy.h:1042:60: note: expanded from macro 'MEM_WRAP_CHECK_1'
        (void)(sizeof(t) > 1 && ((MEM_SIZE)(n)+0.0) > MEM_SIZE_MAX/sizeof(t) && (Perl_croak_nocontext("%s",(a)),0))
                                                    ~ ~~~~~~~~~~~~^~~~~~~~~~
In file included from lib/FFI/../../xs/Function.xs:192:
include/ffi_platypus_call.h:1124:13: warning: implicit conversion from 'unsigned long' to 'double' changes value from 1152921504606846975 to 1152921504606846976 [-Wimplicit-int-float-conversion]
            Newx(ptr, 1, long double);
            ^~~~~~~~~~~~~~~~~~~~~~~~~
/usr/home/cpan/pit/bare/perl-5.14.4/lib/5.14.4/amd64-freebsd/CORE/handy.h:1131:27: note: expanded from macro 'Newx'
#define Newx(v,n,t)     (v = (MEM_WRAP_CHECK_(n,t) (t*)MEM_LOG_ALLOC(n,t,safemalloc((MEM_SIZE)((n)*sizeof(t))))))
                              ^~~~~~~~~~~~~~~~~~~~
/usr/home/cpan/pit/bare/perl-5.14.4/lib/5.14.4/amd64-freebsd/CORE/handy.h:1043:30: note: expanded from macro 'MEM_WRAP_CHECK_'
#define MEM_WRAP_CHECK_(n,t) MEM_WRAP_CHECK(n,t),
                             ^~~~~~~~~~~~~~~~~~~
/usr/home/cpan/pit/bare/perl-5.14.4/lib/5.14.4/amd64-freebsd/CORE/handy.h:1040:29: note: expanded from macro 'MEM_WRAP_CHECK'
#define MEM_WRAP_CHECK(n,t) MEM_WRAP_CHECK_1(n,t,PL_memory_wrap)
                            ^~~~~~~~~~~~~~~~~~~~~~~~~~~~~~~~~~~~
/usr/home/cpan/pit/bare/perl-5.14.4/lib/5.14.4/amd64-freebsd/CORE/handy.h:1042:60: note: expanded from macro 'MEM_WRAP_CHECK_1'
        (void)(sizeof(t) > 1 && ((MEM_SIZE)(n)+0.0) > MEM_SIZE_MAX/sizeof(t) && (Perl_croak_nocontext("%s",(a)),0))
                                                    ~ ~~~~~~~~~~~~^~~~~~~~~~
In file included from lib/FFI/../../xs/Function.xs:192:
include/ffi_platypus_call.h:1329:21: warning: implicit conversion from 'unsigned long' to 'double' changes value from 1152921504606846975 to 1152921504606846976 [-Wimplicit-int-float-conversion]
                    ffi_pl_long_double_to_perl(value, (long double*)result.pointer);
                    ^~~~~~~~~~~~~~~~~~~~~~~~~~~~~~~~~~~~~~~~~~~~~~~~~~~~~~~~~~~~~~~
include/ffi_platypus_guts.h:53:5: note: expanded from macro 'ffi_pl_long_double_to_perl'
    Newx(tmp, 1, long double);                                   \
    ^~~~~~~~~~~~~~~~~~~~~~~~~
/usr/home/cpan/pit/bare/perl-5.14.4/lib/5.14.4/amd64-freebsd/CORE/handy.h:1131:27: note: expanded from macro 'Newx'
#define Newx(v,n,t)     (v = (MEM_WRAP_CHECK_(n,t) (t*)MEM_LOG_ALLOC(n,t,safemalloc((MEM_SIZE)((n)*sizeof(t))))))
                              ^~~~~~~~~~~~~~~~~~~~
/usr/home/cpan/pit/bare/perl-5.14.4/lib/5.14.4/amd64-freebsd/CORE/handy.h:1043:30: note: expanded from macro 'MEM_WRAP_CHECK_'
#define MEM_WRAP_CHECK_(n,t) MEM_WRAP_CHECK(n,t),
                             ^~~~~~~~~~~~~~~~~~~
/usr/home/cpan/pit/bare/perl-5.14.4/lib/5.14.4/amd64-freebsd/CORE/handy.h:1040:29: note: expanded from macro 'MEM_WRAP_CHECK'
#define MEM_WRAP_CHECK(n,t) MEM_WRAP_CHECK_1(n,t,PL_memory_wrap)
                            ^~~~~~~~~~~~~~~~~~~~~~~~~~~~~~~~~~~~
/usr/home/cpan/pit/bare/perl-5.14.4/lib/5.14.4/amd64-freebsd/CORE/handy.h:1042:60: note: expanded from macro 'MEM_WRAP_CHECK_1'
        (void)(sizeof(t) > 1 && ((MEM_SIZE)(n)+0.0) > MEM_SIZE_MAX/sizeof(t) && (Perl_croak_nocontext("%s",(a)),0))
                                                    ~ ~~~~~~~~~~~~^~~~~~~~~~
In file included from lib/FFI/../../xs/Function.xs:192:
include/ffi_platypus_call.h:1396:17: warning: implicit conversion from 'unsigned long' to 'double' changes value from 2305843009213693951 to 2305843009213693952 [-Wimplicit-int-float-conversion]
                Newx(sv, count, SV*);
                ^~~~~~~~~~~~~~~~~~~~
/usr/home/cpan/pit/bare/perl-5.14.4/lib/5.14.4/amd64-freebsd/CORE/handy.h:1131:27: note: expanded from macro 'Newx'
#define Newx(v,n,t)     (v = (MEM_WRAP_CHECK_(n,t) (t*)MEM_LOG_ALLOC(n,t,safemalloc((MEM_SIZE)((n)*sizeof(t))))))
                              ^~~~~~~~~~~~~~~~~~~~
/usr/home/cpan/pit/bare/perl-5.14.4/lib/5.14.4/amd64-freebsd/CORE/handy.h:1043:30: note: expanded from macro 'MEM_WRAP_CHECK_'
#define MEM_WRAP_CHECK_(n,t) MEM_WRAP_CHECK(n,t),
                             ^~~~~~~~~~~~~~~~~~~
/usr/home/cpan/pit/bare/perl-5.14.4/lib/5.14.4/amd64-freebsd/CORE/handy.h:1040:29: note: expanded from macro 'MEM_WRAP_CHECK'
#define MEM_WRAP_CHECK(n,t) MEM_WRAP_CHECK_1(n,t,PL_memory_wrap)
                            ^~~~~~~~~~~~~~~~~~~~~~~~~~~~~~~~~~~~
/usr/home/cpan/pit/bare/perl-5.14.4/lib/5.14.4/amd64-freebsd/CORE/handy.h:1042:60: note: expanded from macro 'MEM_WRAP_CHECK_1'
        (void)(sizeof(t) > 1 && ((MEM_SIZE)(n)+0.0) > MEM_SIZE_MAX/sizeof(t) && (Perl_croak_nocontext("%s",(a)),0))
                                                    ~ ~~~~~~~~~~~~^~~~~~~~~~
In file included from lib/FFI/../../xs/Function.xs:192:
include/ffi_platypus_call.h:1485:23: warning: implicit conversion from 'unsigned long' to 'double' changes value from 1152921504606846975 to 1152921504606846976 [-Wimplicit-int-float-conversion]
                      ffi_pl_long_double_to_perl(sv[i], &((long double*)result.pointer)[i]);
                      ^~~~~~~~~~~~~~~~~~~~~~~~~~~~~~~~~~~~~~~~~~~~~~~~~~~~~~~~~~~~~~~~~~~~~
include/ffi_platypus_guts.h:53:5: note: expanded from macro 'ffi_pl_long_double_to_perl'
    Newx(tmp, 1, long double);                                   \
    ^~~~~~~~~~~~~~~~~~~~~~~~~
/usr/home/cpan/pit/bare/perl-5.14.4/lib/5.14.4/amd64-freebsd/CORE/handy.h:1131:27: note: expanded from macro 'Newx'
#define Newx(v,n,t)     (v = (MEM_WRAP_CHECK_(n,t) (t*)MEM_LOG_ALLOC(n,t,safemalloc((MEM_SIZE)((n)*sizeof(t))))))
                              ^~~~~~~~~~~~~~~~~~~~
/usr/home/cpan/pit/bare/perl-5.14.4/lib/5.14.4/amd64-freebsd/CORE/handy.h:1043:30: note: expanded from macro 'MEM_WRAP_CHECK_'
#define MEM_WRAP_CHECK_(n,t) MEM_WRAP_CHECK(n,t),
                             ^~~~~~~~~~~~~~~~~~~
/usr/home/cpan/pit/bare/perl-5.14.4/lib/5.14.4/amd64-freebsd/CORE/handy.h:1040:29: note: expanded from macro 'MEM_WRAP_CHECK'
#define MEM_WRAP_CHECK(n,t) MEM_WRAP_CHECK_1(n,t,PL_memory_wrap)
                            ^~~~~~~~~~~~~~~~~~~~~~~~~~~~~~~~~~~~
/usr/home/cpan/pit/bare/perl-5.14.4/lib/5.14.4/amd64-freebsd/CORE/handy.h:1042:60: note: expanded from macro 'MEM_WRAP_CHECK_1'
        (void)(sizeof(t) > 1 && ((MEM_SIZE)(n)+0.0) > MEM_SIZE_MAX/sizeof(t) && (Perl_croak_nocontext("%s",(a)),0))
                                                    ~ ~~~~~~~~~~~~^~~~~~~~~~
lib/FFI/../../xs/TypeParser.xs:248:5: warning: implicit conversion from 'unsigned long' to 'double' changes value from 2305843009213693951 to 2305843009213693952 [-Wimplicit-int-float-conversion]
    Newx(ffi_argument_types, items-3, ffi_type*);
    ^~~~~~~~~~~~~~~~~~~~~~~~~~~~~~~~~~~~~~~~~~~~
/usr/home/cpan/pit/bare/perl-5.14.4/lib/5.14.4/amd64-freebsd/CORE/handy.h:1131:27: note: expanded from macro 'Newx'
#define Newx(v,n,t)     (v = (MEM_WRAP_CHECK_(n,t) (t*)MEM_LOG_ALLOC(n,t,safemalloc((MEM_SIZE)((n)*sizeof(t))))))
                              ^~~~~~~~~~~~~~~~~~~~
/usr/home/cpan/pit/bare/perl-5.14.4/lib/5.14.4/amd64-freebsd/CORE/handy.h:1043:30: note: expanded from macro 'MEM_WRAP_CHECK_'
#define MEM_WRAP_CHECK_(n,t) MEM_WRAP_CHECK(n,t),
                             ^~~~~~~~~~~~~~~~~~~
/usr/home/cpan/pit/bare/perl-5.14.4/lib/5.14.4/amd64-freebsd/CORE/handy.h:1040:29: note: expanded from macro 'MEM_WRAP_CHECK'
#define MEM_WRAP_CHECK(n,t) MEM_WRAP_CHECK_1(n,t,PL_memory_wrap)
                            ^~~~~~~~~~~~~~~~~~~~~~~~~~~~~~~~~~~~
/usr/home/cpan/pit/bare/perl-5.14.4/lib/5.14.4/amd64-freebsd/CORE/handy.h:1042:60: note: expanded from macro 'MEM_WRAP_CHECK_1'
        (void)(sizeof(t) > 1 && ((MEM_SIZE)(n)+0.0) > MEM_SIZE_MAX/sizeof(t) && (Perl_croak_nocontext("%s",(a)),0))
                                                    ~ ~~~~~~~~~~~~^~~~~~~~~~
68 warnings generated.
cc -c  -Iinclude -I/usr/local/include  -DHAS_FPSETMASK -DHAS_FLOATINGPOINT_H -fno-strict-aliasing -pipe -fstack-protector -I/usr/local/include -O2    -DVERSION=\"2.06_01\"  -DXS_VERSION=\"2.06_01\" -DPIC -fPIC "-I/usr/home/cpan/pit/bare/perl-5.14.4/lib/5.14.4/amd64-freebsd/CORE"   xs/cast.c -o xs/cast.o
cc -c  -Iinclude -I/usr/local/include  -DHAS_FPSETMASK -DHAS_FLOATINGPOINT_H -fno-strict-aliasing -pipe -fstack-protector -I/usr/local/include -O2    -DVERSION=\"2.06_01\"  -DXS_VERSION=\"2.06_01\" -DPIC -fPIC "-I/usr/home/cpan/pit/bare/perl-5.14.4/lib/5.14.4/amd64-freebsd/CORE"   xs/closure.c -o xs/closure.o
cc -c  -Iinclude -I/usr/local/include  -DHAS_FPSETMASK -DHAS_FLOATINGPOINT_H -fno-strict-aliasing -pipe -fstack-protector -I/usr/local/include -O2    -DVERSION=\"2.06_01\"  -DXS_VERSION=\"2.06_01\" -DPIC -fPIC "-I/usr/home/cpan/pit/bare/perl-5.14.4/lib/5.14.4/amd64-freebsd/CORE"   xs/complex.c -o xs/complex.o
cc -c  -Iinclude -I/usr/local/include  -DHAS_FPSETMASK -DHAS_FLOATINGPOINT_H -fno-strict-aliasing -pipe -fstack-protector -I/usr/local/include -O2    -DVERSION=\"2.06_01\"  -DXS_VERSION=\"2.06_01\" -DPIC -fPIC "-I/usr/home/cpan/pit/bare/perl-5.14.4/lib/5.14.4/amd64-freebsd/CORE"   xs/custom.c -o xs/custom.o
cc -c  -Iinclude -I/usr/local/include  -DHAS_FPSETMASK -DHAS_FLOATINGPOINT_H -fno-strict-aliasing -pipe -fstack-protector -I/usr/local/include -O2    -DVERSION=\"2.06_01\"  -DXS_VERSION=\"2.06_01\" -DPIC -fPIC "-I/usr/home/cpan/pit/bare/perl-5.14.4/lib/5.14.4/amd64-freebsd/CORE"   xs/meta.c -o xs/meta.o
cc -c  -Iinclude -I/usr/local/include  -DHAS_FPSETMASK -DHAS_FLOATINGPOINT_H -fno-strict-aliasing -pipe -fstack-protector -I/usr/local/include -O2    -DVERSION=\"2.06_01\"  -DXS_VERSION=\"2.06_01\" -DPIC -fPIC "-I/usr/home/cpan/pit/bare/perl-5.14.4/lib/5.14.4/amd64-freebsd/CORE"   xs/names.c -o xs/names.o
cc -c  -Iinclude -I/usr/local/include  -DHAS_FPSETMASK -DHAS_FLOATINGPOINT_H -fno-strict-aliasing -pipe -fstack-protector -I/usr/local/include -O2    -DVERSION=\"2.06_01\"  -DXS_VERSION=\"2.06_01\" -DPIC -fPIC "-I/usr/home/cpan/pit/bare/perl-5.14.4/lib/5.14.4/amd64-freebsd/CORE"   xs/perl_math_int64.c -o xs/perl_math_int64.o
cc -c  -Iinclude -I/usr/local/include  -DHAS_FPSETMASK -DHAS_FLOATINGPOINT_H -fno-strict-aliasing -pipe -fstack-protector -I/usr/local/include -O2    -DVERSION=\"2.06_01\"  -DXS_VERSION=\"2.06_01\" -DPIC -fPIC "-I/usr/home/cpan/pit/bare/perl-5.14.4/lib/5.14.4/amd64-freebsd/CORE"   xs/record_opaque.c -o xs/record_opaque.o
cc -c  -Iinclude -I/usr/local/include  -DHAS_FPSETMASK -DHAS_FLOATINGPOINT_H -fno-strict-aliasing -pipe -fstack-protector -I/usr/local/include -O2    -DVERSION=\"2.06_01\"  -DXS_VERSION=\"2.06_01\" -DPIC -fPIC "-I/usr/home/cpan/pit/bare/perl-5.14.4/lib/5.14.4/amd64-freebsd/CORE"   xs/record_simple.c -o xs/record_simple.o
cc -c  -Iinclude -I/usr/local/include  -DHAS_FPSETMASK -DHAS_FLOATINGPOINT_H -fno-strict-aliasing -pipe -fstack-protector -I/usr/local/include -O2    -DVERSION=\"2.06_01\"  -DXS_VERSION=\"2.06_01\" -DPIC -fPIC "-I/usr/home/cpan/pit/bare/perl-5.14.4/lib/5.14.4/amd64-freebsd/CORE"   xs/record_string.c -o xs/record_string.o
cc -c  -Iinclude -I/usr/local/include  -DHAS_FPSETMASK -DHAS_FLOATINGPOINT_H -fno-strict-aliasing -pipe -fstack-protector -I/usr/local/include -O2    -DVERSION=\"2.06_01\"  -DXS_VERSION=\"2.06_01\" -DPIC -fPIC "-I/usr/home/cpan/pit/bare/perl-5.14.4/lib/5.14.4/amd64-freebsd/CORE"   xs/windl.c -o xs/windl.o
rm -f blib/arch/auto/FFI/Platypus/Platypus.so
LD_RUN_PATH="/usr/local/lib" cc  -L/usr/local/lib -shared  -L/usr/local/lib -fstack-protector  lib/FFI/Platypus.o xs/cast.o xs/closure.o xs/complex.o xs/custom.o xs/meta.o xs/names.o xs/perl_math_int64.o xs/record_opaque.o xs/record_simple.o xs/record_string.o xs/windl.o  -o blib/arch/auto/FFI/Platypus/Platypus.so    -L/usr/local/lib -lffi    
chmod 755 blib/arch/auto/FFI/Platypus/Platypus.so
Skip blib/lib/FFI/Probe/Runner/Builder.pm (unchanged)
Skip blib/lib/FFI/Platypus/Type/PointerSizeBuffer.pm (unchanged)
Skip blib/lib/FFI/Temp.pm (unchanged)
Skip blib/lib/FFI/Platypus/TypeParser.pm (unchanged)
Skip blib/lib/FFI/Probe/Runner.pm (unchanged)
Skip blib/lib/FFI/Platypus/DL.pm (unchanged)
Skip blib/lib/FFI/Platypus/TypeParser/Version1.pm (unchanged)
Skip blib/lib/FFI/Platypus/ShareConfig.pm (unchanged)
Skip blib/lib/FFI/Platypus/Record/Meta.pm (unchanged)
Skip blib/lib/FFI/Platypus/Constant.pm (unchanged)
Skip blib/lib/FFI/Build/Plugin.pm (unchanged)
Skip blib/lib/FFI/Build/File/C.pm (unchanged)
Skip blib/lib/FFI/Platypus/Lang/Win32.pm (unchanged)
Skip blib/lib/FFI/Build/Platform.pm (unchanged)
Skip blib/lib/FFI/Platypus/API.pm (unchanged)
Skip blib/lib/FFI/Platypus/Function.pm (unchanged)
Skip blib/lib/FFI/Build.pm (unchanged)
Skip blib/lib/FFI/Platypus/Lang/ASM.pm (unchanged)
Skip blib/lib/FFI/Build/PluginData.pm (unchanged)
Skip blib/lib/FFI/Platypus/TypeParser/Version2.pm (unchanged)
Skip blib/lib/FFI/Build/File/Library.pm (unchanged)
Skip blib/lib/FFI/typemap (unchanged)
Skip blib/lib/FFI/Build/File/CXX.pm (unchanged)
Skip blib/lib/FFI/Probe.pm (unchanged)
Skip blib/lib/FFI/Platypus/TypeParser/Version0.pm (unchanged)
Skip blib/lib/FFI/Build/MM.pm (unchanged)
Skip blib/lib/FFI/Platypus/Record/TieArray.pm (unchanged)
Skip blib/lib/FFI/Platypus/Lang.pm (unchanged)
Skip blib/lib/FFI/Platypus/Internal.pm (unchanged)
Skip blib/lib/FFI/Platypus/Legacy.pm (unchanged)
Skip blib/lib/FFI/Platypus/Buffer.pm (unchanged)
Skip blib/lib/FFI/Platypus/Closure.pm (unchanged)
Skip blib/lib/FFI/Platypus/Record.pm (unchanged)
Skip blib/lib/FFI/Platypus.pm (unchanged)
Skip blib/lib/FFI/Platypus/Bundle.pm (unchanged)
Skip blib/lib/FFI/Platypus/Type/WideString.pm (unchanged)
Skip blib/lib/FFI/Platypus/Lang/C.pm (unchanged)
Skip blib/lib/FFI/Build/File/Base.pm (unchanged)
Skip blib/lib/FFI/Probe/Runner/Result.pm (unchanged)
Skip blib/lib/FFI/Platypus/Type.pm (unchanged)
Skip blib/lib/FFI/Platypus/Type/StringPointer.pm (unchanged)
Skip blib/lib/FFI/Platypus/Memory.pm (unchanged)
Skip blib/lib/FFI/Build/File/Object.pm (unchanged)
Skip blib/lib/FFI/Platypus/Type/StringArray.pm (unchanged)
CC ffi/constant.c
CC ffi/memory.c
CC ffi/record_meta.c
LD blib/lib/auto/share/dist/FFI-Platypus/lib/libplfill.so
CC t/ffi/align.c
CC t/ffi/align_array.c
CC t/ffi/align_fixed.c
CC t/ffi/align_string.c
CC t/ffi/basic.c
CC t/ffi/closure.c
CC t/ffi/color.c
CC t/ffi/complex_double.c
CC t/ffi/complex_float.c
CC t/ffi/double.c
CC t/ffi/float.c
CC t/ffi/gh117.c
CC t/ffi/gh174.c
CC t/ffi/longdouble.c
CC t/ffi/memcmp4.c
CC t/ffi/meta.c
CC t/ffi/pointer.c
CC t/ffi/record.c
CC t/ffi/sint16.c
CC t/ffi/sint32.c
CC t/ffi/sint64.c
CC t/ffi/sint8.c
CC t/ffi/string.c
CC t/ffi/string_array.c
CC t/ffi/uint16.c
CC t/ffi/uint32.c
CC t/ffi/uint64.c
CC t/ffi/uint8.c
CC t/ffi/variadic.c
LD t/ffi/libtest.so
PERL_DL_NONLAZY=1 "/usr/home/cpan/pit/bare/perl-5.14.4/bin/perl" "-MExtUtils::Command::MM" "-MTest::Harness" "-e" "undef *Test::Harness::Switches; test_harness(0, 'blib/lib', 'blib/arch')" t/*.t
# 
# 
# 
# HARNESS_ACTIVE=1
# HARNESS_VERSION=3.44
# PERL5LIB=/usr/home/cpan/pit/bare/conf/perl-5.14.4/.cpanplus/5.14.4/build/iS5Qq7aj69/FFI-Platypus-2.06_01/blib/lib:/usr/home/cpan/pit/bare/conf/perl-5.14.4/.cpanplus/5.14.4/build/iS5Qq7aj69/FFI-Platypus-2.06_01/blib/arch:/usr/home/cpan/pit/jail/hkwY8TOF9K/lib/perl5/5.14.4/amd64-freebsd:/usr/home/cpan/pit/jail/hkwY8TOF9K/lib/perl5/5.14.4:/usr/home/cpan/pit/jail/hkwY8TOF9K/lib/perl5/amd64-freebsd:/usr/home/cpan/pit/jail/hkwY8TOF9K/lib/perl5:/usr/home/cpan/pit/jail/hkwY8TOF9K/lib/perl5:/usr/home/cpan/pit/bare/conf/perl-5.14.4/.cpanplus/5.14.4/build/iS5Qq7aj69/FFI-Platypus-2.06_01/blib/lib:/usr/home/cpan/pit/bare/conf/perl-5.14.4/.cpanplus/5.14.4/build/iS5Qq7aj69/FFI-Platypus-2.06_01/blib/arch
# PERL5_CPANPLUS_IS_RUNNING=30844
# PERL5_CPANPLUS_IS_VERSION=0.9914
# PERL5_MINISMOKEBOX=0.68
# PERL5_YACSMOKE_BASE=/usr/home/cpan/pit/bare/conf/perl-5.14.4
# PERL_DL_NONLAZY=1
# PERL_EXTUTILS_AUTOINSTALL=--defaultdeps
# PERL_LOCAL_LIB_ROOT=/usr/home/cpan/pit/jail/hkwY8TOF9K
# PERL_MB_OPT=--install_base "/usr/home/cpan/pit/jail/hkwY8TOF9K"
# PERL_MM_OPT=INSTALL_BASE=/usr/home/cpan/pit/jail/hkwY8TOF9K
# PERL_MM_USE_DEFAULT=1
# PERL_USE_UNSAFE_INC=0
# SHELL=/usr/local/bin/bash
# 
# 
# 
# PERL5LIB path
# /usr/home/cpan/pit/bare/conf/perl-5.14.4/.cpanplus/5.14.4/build/iS5Qq7aj69/FFI-Platypus-2.06_01/blib/lib
# /usr/home/cpan/pit/bare/conf/perl-5.14.4/.cpanplus/5.14.4/build/iS5Qq7aj69/FFI-Platypus-2.06_01/blib/arch
# /usr/home/cpan/pit/jail/hkwY8TOF9K/lib/perl5/5.14.4/amd64-freebsd
# /usr/home/cpan/pit/jail/hkwY8TOF9K/lib/perl5/5.14.4
# /usr/home/cpan/pit/jail/hkwY8TOF9K/lib/perl5/amd64-freebsd
# /usr/home/cpan/pit/jail/hkwY8TOF9K/lib/perl5
# /usr/home/cpan/pit/jail/hkwY8TOF9K/lib/perl5
# /usr/home/cpan/pit/bare/conf/perl-5.14.4/.cpanplus/5.14.4/build/iS5Qq7aj69/FFI-Platypus-2.06_01/blib/lib
# /usr/home/cpan/pit/bare/conf/perl-5.14.4/.cpanplus/5.14.4/build/iS5Qq7aj69/FFI-Platypus-2.06_01/blib/arch
# 
# 
# 
# perl                  5.014004 freebsd amd64-freebsd
# Alien::Base           -
# Alien::FFI            -
# Capture::Tiny         0.48
# Devel::Hide           -
# ExtUtils::CBuilder    0.280236
# ExtUtils::MakeMaker   7.64
# ExtUtils::ParseXS     3.44
# FFI::CheckLib         0.31
# File::Spec::Functions 3.75
# IPC::Cmd              1.04
# JSON::PP              4.06
# List::Util            1.63
# Math::LongDouble      -
# PkgConfig             -
# Test2::API            1.302191
# Test2::V0             0.000145
# autodie               2.1001
# constant              1.33
# forks                 -
# parent                0.225
# 
# 
# 
# mode : system
# Alien::FFI::pkgconfig->VERSION      = 
# Alien::FFI::pkgconfig->install_type = system
# Alien::FFI::pkgconfig->cflags       = -I/usr/local/include 
# Alien::FFI::pkgconfig->libs         = -L/usr/local/lib -lffi 
# Alien::FFI::pkgconfig->version      = 3.4.2
# 
# 
# 
# ffi.platypus.memory.strdup_impl =libc
# ffi.platypus.memory.strndup_impl=libc
# 
# 
# 
# Types:
#   double   : double, float complex
#   float    : float
#   longdouble : double complex, long double, long double complex
#   sint16   : int16_t, short, signed short
#   sint32   : blksize_t, int, int32_t, senum, signed int, wchar_t, wint_t
#   sint64   : blkcnt_t, int64_t, intmax_t, intptr_t, long, long long, off_t, ptrdiff_t, signed long, signed long long, ssize_t, time_t
#   sint8    : char, int8_t, signed char
#   uint16   : mode_t, uint16_t, unsigned short, ushort
#   uint32   : enum, gid_t, uid_t, uint, uint32_t, unsigned int
#   uint64   : dev_t, ino_t, nlink_t, size_t, uint64_t, uintmax_t, uintptr_t, ulong, unsigned long, unsigned long long
#   uint8    : bool, uchar, uint8_t, unsigned char
# 
# 
# 
# ABIs:
#   default_abi          2
#   efi64                3
#   gnuw64               4
#   unix64               2
#   win64                3
# 
# 
# 
# Probes:
#   bigendian64          0
#   recordvalue          1
#   longdouble           1
#   complex              1
#   abi                  1
#   bigendian            0
#   alloca               1
#   variadic             1
#   strnlen              1
# 
# 
# 
# [PLATFORM]
# osname            : freebsd
# cc                : cc
# cxx               : c++
# cxxld             : c++
# for               : ---
# ld                : cc
# ccflags           : -DPIC -fPIC -DHAS_FPSETMASK -DHAS_FLOATINGPOINT_H -fno-strict-aliasing -pipe -fstack-protector -I/usr/local/include -O2 -I/usr/home/cpan/pit/bare/conf/perl-5.14.4/.cpanplus/5.14.4/build/iS5Qq7aj69/FFI-Platypus-2.06_01/blib/lib/auto/share/dist/FFI-Platypus/include
# ldflags           : -shared -L/usr/local/lib -fstack-protector
# object suffix     : .o
# library prefix    : lib
# library suffix    : .so
# cc mm works       : -MM
# 
# 
# 
t/00_diag.t .............................. ok
t/ffi_build.t ............................ ok
t/ffi_build_file_base.t .................. ok
t/ffi_build_file_c.t ..................... ok
t/ffi_build_file_cxx.t ................... ok
t/ffi_build_file_library.t ............... ok
t/ffi_build_file_object.t ................ ok
t/ffi_build_mm.t ......................... ok
t/ffi_build_platform.t ................... ok
t/ffi_build_plugin.t ..................... ok
t/ffi_build_plugindata.t ................. ok
t/ffi_platypus.t ......................... ok
t/ffi_platypus_api.t ..................... ok
t/ffi_platypus_buffer.t .................. ok
t/ffi_platypus_bundle.t .................. ok
t/ffi_platypus_closure.t ................. ok
t/ffi_platypus_constant.t ................ ok
t/ffi_platypus_dl.t ...................... ok
t/ffi_platypus_function.t ................ ok
t/ffi_platypus_function_wrapper.t ........ ok
t/ffi_platypus_internal.t ................ ok
t/ffi_platypus_lang.t .................... ok
t/ffi_platypus_lang_asm.t ................ ok
t/ffi_platypus_lang_c.t .................. ok
t/ffi_platypus_lang_win32.t .............. ok
t/ffi_platypus_legacy.t .................. ok
t/ffi_platypus_memory.t .................. ok
t/ffi_platypus_record.t .................. ok
t/ffi_platypus_record_meta.t ............. ok
t/ffi_platypus_record_tiearray.t ......... ok
t/ffi_platypus_shareconfig.t ............. ok
t/ffi_platypus_type.t .................... ok
t/ffi_platypus_type_pointersizebuffer.t .. ok
t/ffi_platypus_type_stringarray.t ........ ok
t/ffi_platypus_type_stringpointer.t ...... ok
t/ffi_platypus_type_widestring.t ......... ok
t/ffi_platypus_typeparser.t .............. ok
t/ffi_platypus_typeparser_version0.t ..... ok
t/ffi_platypus_typeparser_version1.t ..... ok
t/ffi_platypus_typeparser_version2.t ..... ok
t/ffi_probe.t ............................ ok
t/ffi_probe_runner.t ..................... ok
t/ffi_probe_runner_builder.t ............. ok
t/ffi_probe_runner_result.t .............. ok
t/ffi_temp.t ............................. ok
t/forks.t ................................ skipped: Test requires forks
t/gh117.t ................................ ok
t/gh129.t ................................ ok
t/gh323.t ................................ ok
t/memory.t ............................... skipped: tested only in CI
t/threads.t .............................. skipped: Test requires a threading Perl
t/type_complex_double.t .................. ok
t/type_complex_float.t ................... ok
t/type_custom.t .......................... ok
t/type_double.t .......................... ok
t/type_float.t ........................... ok
t/type_longdouble.t ...................... ok
t/type_longdouble__array.t ............... ok
t/type_longdouble__hide.t ................ skipped: test requires Devel::Hide 0.0010
t/type_longdouble__ptr.t ................. ok
t/type_opaque.t .......................... ok
t/type_record.t .......................... ok
t/type_record_value.t .................... ok
t/type_sint16.t .......................... ok
t/type_sint32.t .......................... ok
t/type_sint64.t .......................... ok
t/type_sint8.t ........................... ok
t/type_string.t .......................... ok
t/type_uint16.t .......................... ok
t/type_uint32.t .......................... ok
t/type_uint64.t .......................... ok
t/type_uint8.t ........................... ok
All tests successful.
Files=72, Tests=317, 30 wallclock secs ( 0.39 usr  0.77 sys + 17.45 cusr  8.20 csys = 26.81 CPU)
Result: PASS


PREREQUISITES:

Here is a list of prerequisites you specified and versions we
managed to load:

	  Module Name                        Have     Want
	  Capture::Tiny                      0.48        0
	  ExtUtils::CBuilder             0.280236        0
	  ExtUtils::MakeMaker                7.64     7.12
	  FFI::CheckLib                      0.31     0.05
	  File::Spec::Functions              3.75        0
	  IPC::Cmd                           1.04        0
	  JSON::PP                           4.06        0
	  List::Util                         1.63     1.45
	  Test2::API                     1.302191 1.302015
	  Test2::V0                      0.000145 0.000121
	  autodie                          2.1001        0
	  constant                           1.33     1.32
	  parent                            0.225        0

Perl module toolchain versions installed:
	Module Name                        Have
	CPANPLUS                         0.9914
	CPANPLUS::Dist::Build              0.90
	Cwd                                3.75
	ExtUtils::CBuilder             0.280236
	ExtUtils::Command                  7.64
	ExtUtils::Install                  2.20
	ExtUtils::MakeMaker                7.64
	ExtUtils::Manifest                 1.73
	ExtUtils::ParseXS                  3.44
	File::Spec                         3.75
	Module::Build                    0.4231
	Pod::Parser                        1.37
	Pod::Simple                        3.16
	Test2                          1.302191
	Test::Harness                      3.44
	Test::More                     1.302191
	version                          0.9929

******************************** NOTE ********************************
The comments above are created mechanically, possibly without manual
checking by the sender.  As there are many people performing automatic
tests on each upload to CPAN, it is likely that you will receive
identical messages about the same problem.

If you believe that the message is mistaken, please reply to the first
one with correction and/or additional informations, and do not take
it personally.  We appreciate your patience. :)
**********************************************************************

Additional comments:


This report was machine-generated by CPANPLUS::Dist::YACSmoke 1.08.
Powered by minismokebox version 0.68

CPANPLUS is prefering Build.PL

------------------------------
ENVIRONMENT AND OTHER CONTEXT
------------------------------

Environment variables:

    AUTOMATED_TESTING = 1
    NONINTERACTIVE_TESTING = 1
    PATH = /sbin:/bin:/usr/sbin:/usr/bin:/usr/local/sbin:/usr/local/bin:/home/cpan/bin
    PERL5LIB = /usr/home/cpan/pit/jail/hkwY8TOF9K/lib/perl5:/usr/home/cpan/pit/bare/conf/perl-5.14.4/.cpanplus/5.14.4/build/iS5Qq7aj69/FFI-Platypus-2.06_01/blib/lib:/usr/home/cpan/pit/bare/conf/perl-5.14.4/.cpanplus/5.14.4/build/iS5Qq7aj69/FFI-Platypus-2.06_01/blib/arch
    PERL5_CPANPLUS_IS_RUNNING = 30844
    PERL5_CPANPLUS_IS_VERSION = 0.9914
    PERL5_MINISMOKEBOX = 0.68
    PERL5_YACSMOKE_BASE = /usr/home/cpan/pit/bare/conf/perl-5.14.4
    PERL_EXTUTILS_AUTOINSTALL = --defaultdeps
    PERL_LOCAL_LIB_ROOT = /usr/home/cpan/pit/jail/hkwY8TOF9K
    PERL_MB_OPT = --install_base "/usr/home/cpan/pit/jail/hkwY8TOF9K"
    PERL_MM_OPT = INSTALL_BASE=/usr/home/cpan/pit/jail/hkwY8TOF9K
    PERL_MM_USE_DEFAULT = 1
    SHELL = /usr/local/bin/bash
    TERM = screen

Perl special variables (and OS-specific diagnostics, for MSWin32):

    Perl: $^X = /usr/home/cpan/pit/bare/perl-5.14.4/bin/perl
    UID:  $<  = 1002
    EUID: $>  = 1002
    GID:  $(  = 1002 1002
    EGID: $)  = 1002 1002


-------------------------------


--

Summary of my perl5 (revision 5 version 14 subversion 4) configuration:
   
  Platform:
    osname=freebsd, osvers=12.3-release, archname=amd64-freebsd
    uname='freebsd fforc 12.3-release freebsd 12.3-release r371126 generic amd64 '
    config_args='-des -Dprefix=/usr/home/cpan/pit/bare/perl-5.14.4'
    hint=recommended, useposix=true, d_sigaction=define
    useithreads=undef, usemultiplicity=undef
    useperlio=define, d_sfio=undef, uselargefiles=define, usesocks=undef
    use64bitint=define, use64bitall=define, uselongdouble=undef
    usemymalloc=n, bincompat5005=undef
  Compiler:
    cc='cc', ccflags ='-DHAS_FPSETMASK -DHAS_FLOATINGPOINT_H -fno-strict-aliasing -pipe -fstack-protector -I/usr/local/include',
    optimize='-O2',
    cppflags='-DHAS_FPSETMASK -DHAS_FLOATINGPOINT_H -fno-strict-aliasing -pipe -fstack-protector -I/usr/local/include'
    ccversion='', gccversion='FreeBSD Clang 10.0.1 (git@github.com:llvm/llvm-project.git llvmorg-10.0.1-0-gef32c611aa2)', gccosandvers=''
    intsize=4, longsize=8, ptrsize=8, doublesize=8, byteorder=12345678
    d_longlong=define, longlongsize=8, d_longdbl=define, longdblsize=16
    ivtype='long', ivsize=8, nvtype='double', nvsize=8, Off_t='off_t', lseeksize=8
    alignbytes=8, prototype=define
  Linker and Libraries:
    ld='cc', ldflags ='-Wl,-E  -fstack-protector -L/usr/local/lib'
    libpth=/usr/lib /usr/local/lib
    libs=-lgdbm -ldl -lm -lcrypt -lutil -lc
    perllibs=-ldl -lm -lcrypt -lutil -lc
    libc=, so=so, useshrplib=false, libperl=libperl.a
    gnulibc_version=''
  Dynamic Linking:
    dlsrc=dl_dlopen.xs, dlext=so, d_dlsymun=undef, ccdlflags=' '
    cccdlflags='-DPIC -fPIC', lddlflags='-shared  -L/usr/local/lib -fstack-protector'


Characteristics of this binary (from libperl): 
  Compile-time options: PERL_DONT_CREATE_GVSV PERL_MALLOC_WRAP
                        PERL_PRESERVE_IVUV USE_64_BIT_ALL USE_64_BIT_INT
                        USE_LARGE_FILES USE_PERLIO USE_PERL_ATOF
  Locally applied patches:
	Devel::PatchPerl 2.08
  Built under freebsd
  Compiled at Dec  8 2021 06:56:27
  %ENV:
    PERL5LIB="/usr/home/cpan/pit/jail/hkwY8TOF9K/lib/perl5:/usr/home/cpan/pit/bare/conf/perl-5.14.4/.cpanplus/5.14.4/build/iS5Qq7aj69/FFI-Platypus-2.06_01/blib/lib:/usr/home/cpan/pit/bare/conf/perl-5.14.4/.cpanplus/5.14.4/build/iS5Qq7aj69/FFI-Platypus-2.06_01/blib/arch"
    PERL5_CPANPLUS_IS_RUNNING="30844"
    PERL5_CPANPLUS_IS_VERSION="0.9914"
    PERL5_MINISMOKEBOX="0.68"
    PERL5_YACSMOKE_BASE="/usr/home/cpan/pit/bare/conf/perl-5.14.4"
    PERL_EXTUTILS_AUTOINSTALL="--defaultdeps"
    PERL_LOCAL_LIB_ROOT="/usr/home/cpan/pit/jail/hkwY8TOF9K"
    PERL_MB_OPT="--install_base "/usr/home/cpan/pit/jail/hkwY8TOF9K""
    PERL_MM_OPT="INSTALL_BASE=/usr/home/cpan/pit/jail/hkwY8TOF9K"
    PERL_MM_USE_DEFAULT="1"
  @INC:
    /usr/home/cpan/pit/jail/hkwY8TOF9K/lib/perl5/5.14.4/amd64-freebsd
    /usr/home/cpan/pit/jail/hkwY8TOF9K/lib/perl5/5.14.4
    /usr/home/cpan/pit/jail/hkwY8TOF9K/lib/perl5/amd64-freebsd
    /usr/home/cpan/pit/jail/hkwY8TOF9K/lib/perl5
    /usr/home/cpan/pit/bare/conf/perl-5.14.4/.cpanplus/5.14.4/build/iS5Qq7aj69/FFI-Platypus-2.06_01/blib/lib
    /usr/home/cpan/pit/bare/conf/perl-5.14.4/.cpanplus/5.14.4/build/iS5Qq7aj69/FFI-Platypus-2.06_01/blib/arch
    /usr/home/cpan/pit/bare/perl-5.14.4/lib/site_perl/5.14.4/amd64-freebsd
    /usr/home/cpan/pit/bare/perl-5.14.4/lib/site_perl/5.14.4
    /usr/home/cpan/pit/bare/perl-5.14.4/lib/5.14.4/amd64-freebsd
    /usr/home/cpan/pit/bare/perl-5.14.4/lib/5.14.4
    .