Crypt-ScryptKDF v0.010 Perl 5 v5.32.0 evbarm-netbsd
- Status
- Pass
- From
- Nigel Horne
- Dist
-
Crypt-ScryptKDF v0.010
- Platform
- Perl 5 v5.32.0 evbarm-netbsd
- Date
- 2020-07-18 10:59:58
- ID
- d25326e6-c8e5-11ea-8ba7-87b9dcc487a6
This distribution has been tested as part of the CPAN Testers
project, supporting the Perl programming language. See
http://wiki.cpantesters.org/ for more information or email
questions to cpan-testers-discuss@perl.org
--
Dear Karel Miko,
This is a computer-generated report for Crypt-ScryptKDF-0.010
on perl 5.32.0, created by CPAN-Reporter-1.2018.
Thank you for uploading your work to CPAN. Congratulations!
All tests were successful.
Sections of this report:
* Tester comments
* Program output
* Prerequisites
* Environment and other context
------------------------------
TESTER COMMENTS
------------------------------
Additional comments from tester:
this report is from an automated smoke testing program
and was not reviewed by a human for accuracy
------------------------------
PROGRAM OUTPUT
------------------------------
Output from './Build test':
t/compile.t ....... ok
t/interface.t ..... ok
t/internal.t ...... ok
t/test_vectors.t .. ok
All tests successful.
Files=4, Tests=39, 16 wallclock secs ( 0.25 usr 0.28 sys + 11.01 cusr 3.41 csys = 14.95 CPU)
Result: PASS
------------------------------
PREREQUISITES
------------------------------
Prerequisite modules loaded:
requires:
Module Need Have
------------------ ----- --------
Exporter 5.59 5.74
MIME::Base64 0 3.15
perl 5.006 5.032000
build_requires:
Module Need Have
------------------ ----- --------
ExtUtils::CBuilder 0 0.280234
MIME::Base64 0 3.15
Module::Build 0 0.4231
Test::More 0 1.302175
configure_requires:
Module Need Have
------------------ ----- --------
Module::Build 0 0.4231
------------------------------
ENVIRONMENT AND OTHER CONTEXT
------------------------------
Environment variables:
AUTOMATED_TESTING = 1
PATH = /home/njh/perl5/perlbrew/bin:/home/njh/perl5/perlbrew/perls/perl-5.32.0/bin:/usr/bin:/bin:/usr/pkg/bin:/usr/local/bin
PERL5LIB = /var/tmp/build/CryptX-0.068-0/blib/arch:/var/tmp/build/CryptX-0.068-0/blib/lib:/var/tmp/build/Bytes-Random-Secure-0.29-1/blib/arch:/var/tmp/build/Bytes-Random-Secure-0.29-1/blib/lib:/var/tmp/build/Math-Random-ISAAC-1.004-1/blib/arch:/var/tmp/build/Math-Random-ISAAC-1.004-1/blib/lib:/var/tmp/build/Test-NoWarnings-1.04-8/blib/arch:/var/tmp/build/Test-NoWarnings-1.04-8/blib/lib:/var/tmp/build/Crypt-Random-Seed-0.03-1/blib/arch:/var/tmp/build/Crypt-Random-Seed-0.03-1/blib/lib:/var/tmp/build/Crypt-Random-TESHA2-0.01-1/blib/arch:/var/tmp/build/Crypt-Random-TESHA2-0.01-1/blib/lib
PERL5OPT =
PERL5_CPANPLUS_IS_RUNNING = 7328
PERL5_CPAN_IS_RUNNING = 7328
PERLBREW_HOME = /home/njh/.perlbrew
PERLBREW_MANPATH = /home/njh/perl5/perlbrew/perls/perl-5.32.0/man
PERLBREW_PATH = /home/njh/perl5/perlbrew/bin:/home/njh/perl5/perlbrew/perls/perl-5.32.0/bin
PERLBREW_PERL = perl-5.32.0
PERLBREW_ROOT = /home/njh/perl5/perlbrew
PERLBREW_SHELLRC_VERSION = 0.88
PERLBREW_VERSION = 0.88
PERL_USE_UNSAFE_INC = 1
SHELL = /usr/pkg/bin/bash
TMPDIR = /tmp/testwrapper.18182
Perl special variables (and OS-specific diagnostics, for MSWin32):
$^X = /mnt/nas/home/pi2c/njh/perl5/perlbrew/perls/perl-5.32.0/bin/perl5.32.0
$UID/$EUID = 1000 / 1000
$GID = 1000 1000 0
$EGID = 1000 1000 0
Perl module toolchain versions installed:
Module Have
------------------- --------
CPAN 2.27
CPAN::Meta 2.150010
Cwd 3.78
ExtUtils::CBuilder 0.280234
ExtUtils::Command 7.44
ExtUtils::Install 2.14
ExtUtils::MakeMaker 7.44
ExtUtils::Manifest 1.72
ExtUtils::ParseXS 3.40
File::Spec 3.78
JSON 4.02
JSON::PP 4.04
Module::Build 0.4231
Module::Signature n/a
Parse::CPAN::Meta 2.150010
Test::Harness 3.42
Test::More 1.302175
YAML 1.30
YAML::Syck 1.32
version 0.9924
--
Summary of my perl5 (revision 5 version 32 subversion 0) configuration:
Platform:
osname=netbsd
osvers=8.0_beta
archname=evbarm-netbsd
uname='netbsd pi2c.bandsman.co.uk 8.0_beta netbsd 8.0_beta (rpi2.201710161240z) evbarm '
config_args='-de -Dprefix=/home/njh/perl5/perlbrew/perls/perl-5.32.0 -Dusedevel -Accflags= -Aeval:scriptdir=/home/njh/perl5/perlbrew/perls/perl-5.32.0/bin'
hint=recommended
useposix=true
d_sigaction=define
useithreads=undef
usemultiplicity=undef
use64bitint=undef
use64bitall=undef
uselongdouble=undef
usemymalloc=n
default_inc_excludes_dot=define
bincompat5005=undef
Compiler:
cc='cc'
ccflags ='-fwrapv -fno-strict-aliasing -pipe -fstack-protector-strong -I/usr/pkg/include -D_FORTIFY_SOURCE=2'
optimize='-O'
cppflags='-fwrapv -fno-strict-aliasing -pipe -fstack-protector-strong -I/usr/pkg/include'
ccversion=''
gccversion='5.4.0'
gccosandvers=''
intsize=4
longsize=4
ptrsize=4
doublesize=8
byteorder=1234
doublekind=3
d_longlong=define
longlongsize=8
d_longdbl=define
longdblsize=8
longdblkind=0
ivtype='long'
ivsize=4
nvtype='double'
nvsize=8
Off_t='off_t'
lseeksize=8
alignbytes=8
prototype=define
Linker and Libraries:
ld='cc'
ldflags =' -Wl,-rpath,/usr/pkg/lib -Wl,-rpath,/usr/local/lib -fstack-protector-strong -L/usr/pkg/lib'
libpth=/usr/include/gcc-5 /usr/lib /usr/pkg/lib /lib
libs=-lpthread -lm -lcrypt -lutil -lc -lposix
perllibs=-lpthread -lm -lcrypt -lutil -lc -lposix
libc=/lib/libc.so
so=so
useshrplib=false
libperl=libperl.a
gnulibc_version=''
Dynamic Linking:
dlsrc=dl_dlopen.xs
dlext=so
d_dlsymun=undef
ccdlflags='-Wl,-E '
cccdlflags='-DPIC -fPIC '
lddlflags='-shared -L/usr/pkg/lib -fstack-protector-strong'
Characteristics of this binary (from libperl):
Compile-time options:
HAS_TIMES
PERLIO_LAYERS
PERL_COPY_ON_WRITE
PERL_DONT_CREATE_GVSV
PERL_MALLOC_WRAP
PERL_OP_PARENT
PERL_PRESERVE_IVUV
PERL_USE_DEVEL
USE_LARGE_FILES
USE_LOCALE
USE_LOCALE_COLLATE
USE_LOCALE_CTYPE
USE_LOCALE_NUMERIC
USE_LOCALE_TIME
USE_PERLIO
USE_PERL_ATOF
Locally applied patches:
Devel::PatchPerl 1.52
Built under netbsd
Compiled at Jul 8 2020 00:44:42
%ENV:
PERL5LIB="/var/tmp/build/CryptX-0.068-0/blib/arch:/var/tmp/build/CryptX-0.068-0/blib/lib:/var/tmp/build/Bytes-Random-Secure-0.29-1/blib/arch:/var/tmp/build/Bytes-Random-Secure-0.29-1/blib/lib:/var/tmp/build/Math-Random-ISAAC-1.004-1/blib/arch:/var/tmp/build/Math-Random-ISAAC-1.004-1/blib/lib:/var/tmp/build/Test-NoWarnings-1.04-8/blib/arch:/var/tmp/build/Test-NoWarnings-1.04-8/blib/lib:/var/tmp/build/Crypt-Random-Seed-0.03-1/blib/arch:/var/tmp/build/Crypt-Random-Seed-0.03-1/blib/lib:/var/tmp/build/Crypt-Random-TESHA2-0.01-1/blib/arch:/var/tmp/build/Crypt-Random-TESHA2-0.01-1/blib/lib"
PERL5OPT=""
PERL5_CPANPLUS_IS_RUNNING="7328"
PERL5_CPAN_IS_RUNNING="7328"
PERLBREW_HOME="/home/njh/.perlbrew"
PERLBREW_MANPATH="/home/njh/perl5/perlbrew/perls/perl-5.32.0/man"
PERLBREW_PATH="/home/njh/perl5/perlbrew/bin:/home/njh/perl5/perlbrew/perls/perl-5.32.0/bin"
PERLBREW_PERL="perl-5.32.0"
PERLBREW_ROOT="/home/njh/perl5/perlbrew"
PERLBREW_SHELLRC_VERSION="0.88"
PERLBREW_VERSION="0.88"
PERL_USE_UNSAFE_INC="1"
@INC:
/var/tmp/build/CryptX-0.068-0/blib/arch
/var/tmp/build/CryptX-0.068-0/blib/lib
/var/tmp/build/Bytes-Random-Secure-0.29-1/blib/arch
/var/tmp/build/Bytes-Random-Secure-0.29-1/blib/lib
/var/tmp/build/Math-Random-ISAAC-1.004-1/blib/arch
/var/tmp/build/Math-Random-ISAAC-1.004-1/blib/lib
/var/tmp/build/Test-NoWarnings-1.04-8/blib/arch
/var/tmp/build/Test-NoWarnings-1.04-8/blib/lib
/var/tmp/build/Crypt-Random-Seed-0.03-1/blib/arch
/var/tmp/build/Crypt-Random-Seed-0.03-1/blib/lib
/var/tmp/build/Crypt-Random-TESHA2-0.01-1/blib/arch
/var/tmp/build/Crypt-Random-TESHA2-0.01-1/blib/lib
/home/njh/perl5/perlbrew/perls/perl-5.32.0/lib/site_perl/5.32.0/evbarm-netbsd
/home/njh/perl5/perlbrew/perls/perl-5.32.0/lib/site_perl/5.32.0
/home/njh/perl5/perlbrew/perls/perl-5.32.0/lib/5.32.0/evbarm-netbsd
/home/njh/perl5/perlbrew/perls/perl-5.32.0/lib/5.32.0
.