Text-ANSI-Printf v1.03 Perl 5 v5.32.0 riscv-freebsd
- Status
- Pass
- From
- Ryan Voots
- Dist
-
Text-ANSI-Printf v1.03
- Platform
- Perl 5 v5.32.0 riscv-freebsd
- Date
- 2020-11-07 00:47:32
- ID
- d1e08460-2092-11eb-94e6-2fd9b38bf3b3
This distribution has been tested as part of the CPAN Testers
project, supporting the Perl programming language. See
http://wiki.cpantesters.org/ for more information or email
questions to cpan-testers-discuss@perl.org
--
Dear Kaz Utashiro,
This is a computer-generated report for Text-ANSI-Printf-1.03
on perl 5.32.0, created by CPAN-Reporter-1.2018.
Thank you for uploading your work to CPAN. Congratulations!
All tests were successful.
Sections of this report:
* Tester comments
* Program output
* Prerequisites
* Environment and other context
------------------------------
TESTER COMMENTS
------------------------------
Additional comments from tester:
this report is from an automated smoke testing program
and was not reviewed by a human for accuracy
------------------------------
PROGRAM OUTPUT
------------------------------
Output from './Build test':
t/00_compile.t .... ok
t/01_simple.t ..... ok
t/02_export.t ..... ok
t/03_shorten.t .... ok
t/04_backspace.t .. ok
All tests successful.
Files=5, Tests=79, 9 wallclock secs ( 0.56 usr 0.36 sys + 6.69 cusr 1.85 csys = 9.46 CPU)
Result: PASS
------------------------------
PREREQUISITES
------------------------------
Prerequisite modules loaded:
requires:
Module Need Have
---------------------- ------- --------
perl v5.14.0 5.032000
Text::ANSI::Fold 2.02 2.04
Text::ANSI::Fold::Util 0 0.04
Text::VisualPrintf 3.11 3.11
build_requires:
Module Need Have
---------------------- ------- --------
Test::More 0.98 1.302183
configure_requires:
Module Need Have
---------------------- ------- --------
Module::Build::Tiny 0.035 0.039
------------------------------
ENVIRONMENT AND OTHER CONTEXT
------------------------------
Environment variables:
AUTOMATED_TESTING = 1
PATH = /home/ryan/perl5/perlbrew/bin:/home/ryan/perl5/perlbrew/perls/perl-5.32.0/bin:/sbin:/bin:/usr/sbin:/usr/bin:/usr/local/sbin:/usr/local/bin:/home/ryan/bin
PERL5LIB =
PERL5OPT =
PERL5_CPANPLUS_IS_RUNNING = 40669
PERL5_CPAN_IS_RUNNING = 40669
PERL5_CPAN_IS_RUNNING_IN_RECURSION = 17107,40669
PERLBREW_HOME = /home/ryan/.perlbrew
PERLBREW_MANPATH = /home/ryan/perl5/perlbrew/perls/perl-5.32.0/man
PERLBREW_PATH = /home/ryan/perl5/perlbrew/bin:/home/ryan/perl5/perlbrew/perls/perl-5.32.0/bin
PERLBREW_PERL = perl-5.32.0
PERLBREW_ROOT = /home/ryan/perl5/perlbrew
PERLBREW_SHELLRC_VERSION = 0.89
PERLBREW_VERSION = 0.89
PERL_CR_SMOKER_CURRENT = Text-ANSI-Printf-1.03
PERL_EXTUTILS_AUTOINSTALL = --defaultdeps
PERL_MM_USE_DEFAULT = 1
PERL_USE_UNSAFE_INC = 1
SHELL = /usr/local/bin/bash
TERM = screen.xterm-256color
Perl special variables (and OS-specific diagnostics, for MSWin32):
$^X = /usr/home/ryan/perl5/perlbrew/perls/perl-5.32.0/bin/perl
$UID/$EUID = 1001 / 1001
$GID = 1001 1001 0
$EGID = 1001 1001 0
Perl module toolchain versions installed:
Module Have
------------------- --------
CPAN 2.28
CPAN::Meta 2.150010
Cwd 3.78
ExtUtils::CBuilder 0.280234
ExtUtils::Command 7.52
ExtUtils::Install 2.14
ExtUtils::MakeMaker 7.52
ExtUtils::Manifest 1.72
ExtUtils::ParseXS 3.40
File::Spec 3.78
JSON 4.02
JSON::PP 4.04
Module::Build 0.4231
Module::Signature n/a
Parse::CPAN::Meta 2.150010
Test::Harness 3.42
Test::More 1.302183
YAML 1.30
YAML::Syck n/a
version 0.9924
--
Summary of my perl5 (revision 5 version 32 subversion 0) configuration:
Platform:
osname=freebsd
osvers=13.0-current
archname=riscv-freebsd
uname='freebsd freebsd-riscv 13.0-current freebsd 13.0-current #0 r367119: wed oct 28 22:41:32 utc 2020 root@freebsd-head-riscv64-build.jail.ci.freebsd.org:usrobjusrsrcriscv.riscv64sysqemu riscv '
config_args='-de -Dprefix=/home/ryan/perl5/perlbrew/perls/perl-5.32.0 -Aeval:scriptdir=/home/ryan/perl5/perlbrew/perls/perl-5.32.0/bin'
hint=recommended
useposix=true
d_sigaction=define
useithreads=undef
usemultiplicity=undef
use64bitint=define
use64bitall=define
uselongdouble=undef
usemymalloc=n
default_inc_excludes_dot=define
bincompat5005=undef
Compiler:
cc='cc'
ccflags ='-DHAS_FPSETMASK -DHAS_FLOATINGPOINT_H -fno-strict-aliasing -pipe -fstack-protector-strong -I/usr/local/include'
optimize='-O2'
cppflags='-DHAS_FPSETMASK -DHAS_FLOATINGPOINT_H -fno-strict-aliasing -pipe -fstack-protector-strong -I/usr/local/include'
ccversion=''
gccversion='FreeBSD Clang 11.0.0 (git@github.com:llvm/llvm-project.git llvmorg-11.0.0-0-g176249bd673)'
gccosandvers=''
intsize=4
longsize=8
ptrsize=8
doublesize=8
byteorder=12345678
doublekind=3
d_longlong=define
longlongsize=8
d_longdbl=define
longdblsize=16
longdblkind=1
ivtype='long'
ivsize=8
nvtype='double'
nvsize=8
Off_t='off_t'
lseeksize=8
alignbytes=8
prototype=define
Linker and Libraries:
ld='cc'
ldflags ='-Wl,-E -fstack-protector-strong -L/usr/local/lib'
libpth=/usr/lib /usr/local/lib /usr/lib/clang/11.0.0/lib /usr/lib
libs=-lpthread -ldl -lm -lcrypt -lutil -lc
perllibs=-lpthread -ldl -lm -lcrypt -lutil -lc
libc=
so=so
useshrplib=false
libperl=libperl.a
gnulibc_version=''
Dynamic Linking:
dlsrc=dl_dlopen.xs
dlext=so
d_dlsymun=undef
ccdlflags=' '
cccdlflags='-DPIC -fPIC'
lddlflags='-shared -L/usr/local/lib -fstack-protector-strong'
Characteristics of this binary (from libperl):
Compile-time options:
HAS_TIMES
PERLIO_LAYERS
PERL_COPY_ON_WRITE
PERL_DONT_CREATE_GVSV
PERL_MALLOC_WRAP
PERL_OP_PARENT
PERL_PRESERVE_IVUV
USE_64_BIT_ALL
USE_64_BIT_INT
USE_LARGE_FILES
USE_LOCALE
USE_LOCALE_COLLATE
USE_LOCALE_CTYPE
USE_LOCALE_NUMERIC
USE_LOCALE_TIME
USE_PERLIO
USE_PERL_ATOF
Built under freebsd
Compiled at Oct 30 2020 09:03:59
%ENV:
PERL5LIB=""
PERL5OPT=""
PERL5_CPANPLUS_IS_RUNNING="40669"
PERL5_CPAN_IS_RUNNING="40669"
PERL5_CPAN_IS_RUNNING_IN_RECURSION="17107,40669"
PERLBREW_HOME="/home/ryan/.perlbrew"
PERLBREW_MANPATH="/home/ryan/perl5/perlbrew/perls/perl-5.32.0/man"
PERLBREW_PATH="/home/ryan/perl5/perlbrew/bin:/home/ryan/perl5/perlbrew/perls/perl-5.32.0/bin"
PERLBREW_PERL="perl-5.32.0"
PERLBREW_ROOT="/home/ryan/perl5/perlbrew"
PERLBREW_SHELLRC_VERSION="0.89"
PERLBREW_VERSION="0.89"
PERL_CR_SMOKER_CURRENT="Text-ANSI-Printf-1.03"
PERL_EXTUTILS_AUTOINSTALL="--defaultdeps"
PERL_MM_USE_DEFAULT="1"
PERL_USE_UNSAFE_INC="1"
@INC:
/home/ryan/perl5/perlbrew/perls/perl-5.32.0/lib/site_perl/5.32.0/riscv-freebsd
/home/ryan/perl5/perlbrew/perls/perl-5.32.0/lib/site_perl/5.32.0
/home/ryan/perl5/perlbrew/perls/perl-5.32.0/lib/5.32.0/riscv-freebsd
/home/ryan/perl5/perlbrew/perls/perl-5.32.0/lib/5.32.0
.