FFI-Platypus v2.07 Perl 5 v5.32.1 MSWin32-x64-multi-thread

Status
Pass
From
gregor herrmann
Dist
FFI-Platypus v2.07
Platform
Perl 5 v5.32.1 MSWin32-x64-multi-thread
Date
2023-04-09 23:38:10
ID
d0776157-6e71-1014-93bb-31d3cf5ae919
This distribution has been tested as part of the CPAN Testers
project, supporting the Perl programming language.  See
http://wiki.cpantesters.org/ for more information or email
questions to cpan-testers-discuss@perl.org


--
Dear PLICEASE,

This is a computer-generated report for FFI-Platypus-2.07
on perl 5.32.1, created by App::cpanminus::reporter 0.18 (1.7046).

Thank you for uploading your work to CPAN.  Congratulations!
All tests were successful.

Sections of this report:

    * Tester comments
    * Program output
    * Prerequisites
    * Environment and other context

------------------------------
TESTER COMMENTS
------------------------------

Additional comments from tester:

none provided

------------------------------
PROGRAM OUTPUT
------------------------------

Output from '':

Building and testing FFI-Platypus-2.07
XX src/dlrun.c
XX bin/
CC src/dlrun.c
LD src/dlrun.o
VV bin/dlrun.exe
UN src/dlrun.o
PR header."stdlib.h"=1
PR header."stdint.h"=1
PR header."sys/types.h"=1
PR header."sys/stat.h"=1
PR header."unistd.h"=1
PR header."alloca.h"=0
PR header."dlfcn.h"=0
PR header."limits.h"=1
PR header."stddef.h"=1
PR header."wchar.h"=1
PR header."signal.h"=1
PR header."inttypes.h"=1
PR header."windows.h"=1
PR header."sys/cygwin.h"=0
PR header."string.h"=1
PR header."psapi.h"=1
PR header."stdio.h"=1
PR header."stdbool.h"=1
PR header."complex.h"=1
PR type.char.align=1
PR type.char.sign=signed
PR type.char.size=1
PR type.signed char.align=1
PR type.signed char.sign=signed
PR type.signed char.size=1
PR type.unsigned char.align=1
PR type.unsigned char.sign=unsigned
PR type.unsigned char.size=1
PR type.short.align=2
PR type.short.sign=signed
PR type.short.size=2
PR type.signed short.align=2
PR type.signed short.sign=signed
PR type.signed short.size=2
PR type.unsigned short.align=2
PR type.unsigned short.sign=unsigned
PR type.unsigned short.size=2
PR type.int.align=4
PR type.int.sign=signed
PR type.int.size=4
PR type.signed int.align=4
PR type.signed int.sign=signed
PR type.signed int.size=4
PR type.unsigned int.align=4
PR type.unsigned int.sign=unsigned
PR type.unsigned int.size=4
PR type.long.align=4
PR type.long.sign=signed
PR type.long.size=4
PR type.signed long.align=4
PR type.signed long.sign=signed
PR type.signed long.size=4
PR type.unsigned long.align=4
PR type.unsigned long.sign=unsigned
PR type.unsigned long.size=4
PR type.uint8_t.align=1
PR type.uint8_t.sign=unsigned
PR type.uint8_t.size=1
PR type.int8_t.align=1
PR type.int8_t.sign=signed
PR type.int8_t.size=1
PR type.uint16_t.align=2
PR type.uint16_t.sign=unsigned
PR type.uint16_t.size=2
PR type.int16_t.align=2
PR type.int16_t.sign=signed
PR type.int16_t.size=2
PR type.uint32_t.align=4
PR type.uint32_t.sign=unsigned
PR type.uint32_t.size=4
PR type.int32_t.align=4
PR type.int32_t.sign=signed
PR type.int32_t.size=4
PR type.uint64_t.align=8
PR type.uint64_t.sign=unsigned
PR type.uint64_t.size=8
PR type.int64_t.align=8
PR type.int64_t.sign=signed
PR type.int64_t.size=8
PR type.size_t.align=8
PR type.size_t.sign=unsigned
PR type.size_t.size=8
PR type.ssize_t.align=8
PR type.ssize_t.sign=signed
PR type.ssize_t.size=8
PR type.SSIZE_T.align=8
PR type.SSIZE_T.sign=signed
PR type.SSIZE_T.size=8
PR type.float.align=4
PR type.float.size=4
PR type.double.align=8
PR type.double.size=8
PR type.long double.align=16
PR type.long double.size=16
PR type.float complex.align=4
PR type.float complex.size=8
PR type.double complex.align=8
PR type.double complex.size=16
PR type.long double complex.align=16
PR type.long double complex.size=32
PR type.bool.align=1
PR type.bool.sign=unsigned
PR type.bool.size=1
PR type._Bool.align=1
PR type._Bool.sign=unsigned
PR type._Bool.size=1
PR type.pointer.align=8
PR type.pointer.size=8
PR type.uintptr_t.align=8
PR type.uintptr_t.sign=unsigned
PR type.uintptr_t.size=8
PR type.intptr_t.align=8
PR type.intptr_t.sign=signed
PR type.intptr_t.size=8
PR type.enum.align=4
PR type.enum.sign=unsigned
PR type.enum.size=4
PR type.senum.align=4
PR type.senum.sign=signed
PR type.senum.size=4
PR type.intmax_t.align=8
PR type.intmax_t.sign=signed
PR type.intmax_t.size=8
PR type.uintmax_t.align=8
PR type.uintmax_t.sign=unsigned
PR type.uintmax_t.size=8
PR type.long long.align=8
PR type.long long.sign=signed
PR type.long long.size=8
PR type.signed long long.align=8
PR type.signed long long.sign=signed
PR type.signed long long.size=8
PR type.unsigned long long.align=8
PR type.unsigned long long.sign=unsigned
PR type.unsigned long long.size=8
PR type.dev_t.align=4
PR type.dev_t.sign=unsigned
PR type.dev_t.size=4
PR type.ino_t.align=2
PR type.ino_t.sign=unsigned
PR type.ino_t.size=2
PR type.mode_t.align=2
PR type.mode_t.sign=unsigned
PR type.mode_t.size=2
PR type.off_t.align=4
PR type.off_t.sign=signed
PR type.off_t.size=4
PR type.time_t.align=8
PR type.time_t.sign=signed
PR type.time_t.size=8
PR type.ptrdiff_t.align=8
PR type.ptrdiff_t.sign=signed
PR type.ptrdiff_t.size=8
PR type.wchar_t.align=2
PR type.wchar_t.sign=unsigned
PR type.wchar_t.size=2
PR type.wint_t.align=2
PR type.wint_t.sign=unsigned
PR type.wint_t.size=2
PR probe.abi=1
PR probe.alloca=1
PR probe.complex=1
PR probe.longdouble=1
PR probe.recordvalue=1
PR probe.strnlen=1
PR probe.variadic=1
PR abi.win64=1
PR abi.gnuw64=2
PR abi.default_abi=2
cp lib/FFI/Platypus/DL.pm blib\lib\FFI\Platypus\DL.pm
cp lib/FFI/Build/Plugin.pm blib\lib\FFI\Build\Plugin.pm
cp lib/FFI/Build/File/Object.pm blib\lib\FFI\Build\File\Object.pm
cp lib/FFI/Build/PluginData.pm blib\lib\FFI\Build\PluginData.pm
cp lib/FFI/Platypus/Lang.pm blib\lib\FFI\Platypus\Lang.pm
cp lib/FFI/Build.pm blib\lib\FFI\Build.pm
cp lib/FFI/Build/Platform.pm blib\lib\FFI\Build\Platform.pm
cp lib/FFI/Build/MM.pm blib\lib\FFI\Build\MM.pm
cp lib/FFI/Platypus.pm blib\lib\FFI\Platypus.pm
cp lib/FFI/Platypus/Internal.pm blib\lib\FFI\Platypus\Internal.pm
cp lib/FFI/Platypus/Closure.pm blib\lib\FFI\Platypus\Closure.pm
cp lib/FFI/Platypus/Bundle.pm blib\lib\FFI\Platypus\Bundle.pm
cp lib/FFI/Platypus/Buffer.pm blib\lib\FFI\Platypus\Buffer.pm
cp lib/FFI/Platypus/API.pm blib\lib\FFI\Platypus\API.pm
cp lib/FFI/Platypus/Function.pm blib\lib\FFI\Platypus\Function.pm
cp lib/FFI/Build/File/C.pm blib\lib\FFI\Build\File\C.pm
cp lib/FFI/Build/File/Base.pm blib\lib\FFI\Build\File\Base.pm
cp lib/FFI/Platypus/Lang/ASM.pm blib\lib\FFI\Platypus\Lang\ASM.pm
cp lib/FFI/Build/File/CXX.pm blib\lib\FFI\Build\File\CXX.pm
cp lib/FFI/Build/File/Library.pm blib\lib\FFI\Build\File\Library.pm
cp lib/FFI/Platypus/Constant.pm blib\lib\FFI\Platypus\Constant.pm
cp lib/FFI/Platypus/Type/StringPointer.pm blib\lib\FFI\Platypus\Type\StringPointer.pm
cp lib/FFI/Platypus/Record/Meta.pm blib\lib\FFI\Platypus\Record\Meta.pm
cp lib/FFI/Platypus/TypeParser/Version2.pm blib\lib\FFI\Platypus\TypeParser\Version2.pm
cp lib/FFI/Platypus/ShareConfig.pm blib\lib\FFI\Platypus\ShareConfig.pm
cp lib/FFI/Platypus/TypeParser/Version1.pm blib\lib\FFI\Platypus\TypeParser\Version1.pm
cp lib/FFI/Platypus/Type/WideString.pm blib\lib\FFI\Platypus\Type\WideString.pm
cp lib/FFI/Platypus/TypeParser/Version0.pm blib\lib\FFI\Platypus\TypeParser\Version0.pm
cp lib/FFI/Platypus/TypeParser.pm blib\lib\FFI\Platypus\TypeParser.pm
cp lib/FFI/Platypus/Legacy.pm blib\lib\FFI\Platypus\Legacy.pm
cp lib/FFI/Platypus/Type/PointerSizeBuffer.pm blib\lib\FFI\Platypus\Type\PointerSizeBuffer.pm
cp lib/FFI/Platypus/Memory.pm blib\lib\FFI\Platypus\Memory.pm
cp lib/FFI/Platypus/Record.pm blib\lib\FFI\Platypus\Record.pm
cp lib/FFI/Platypus/Record/TieArray.pm blib\lib\FFI\Platypus\Record\TieArray.pm
cp lib/FFI/Platypus/Type.pm blib\lib\FFI\Platypus\Type.pm
cp lib/FFI/Platypus/Lang/C.pm blib\lib\FFI\Platypus\Lang\C.pm
cp lib/FFI/Platypus/Type/StringArray.pm blib\lib\FFI\Platypus\Type\StringArray.pm
cp lib/FFI/Platypus/Lang/Win32.pm blib\lib\FFI\Platypus\Lang\Win32.pm
cp lib/FFI/typemap blib\lib\FFI\typemap
cp lib/FFI/Probe/Runner/Result.pm blib\lib\FFI\Probe\Runner\Result.pm
cp lib/FFI/Probe/Runner/Builder.pm blib\lib\FFI\Probe\Runner\Builder.pm
cp lib/FFI/Probe/Runner.pm blib\lib\FFI\Probe\Runner.pm
cp lib/FFI/Probe.pm blib\lib\FFI\Probe.pm
cp lib/FFI/Temp.pm blib\lib\FFI\Temp.pm
Running Mkbootstrap for lib/FFI/Platypus ()
"C:\Strawberry\perl\bin\perl.exe" -MExtUtils::Command -e chmod -- 644 "lib/FFI/Platypus.bs"
"C:\Strawberry\perl\bin\perl.exe" -MExtUtils::Command::MM -e cp_nonempty -- lib/FFI/Platypus.bs blib\arch\auto\FFI\Platypus\Platypus.bs 644
"C:\Strawberry\perl\bin\perl.exe" "C:\Strawberry\perl\site\lib\ExtUtils/xsubpp"  -typemap C:\STRAWB~1\perl\lib\ExtUtils\typemap  lib/FFI/Platypus.xs > lib/FFI/Platypus.xsc
"C:\Strawberry\perl\bin\perl.exe" -MExtUtils::Command -e mv -- lib/FFI/Platypus.xsc lib/FFI/Platypus.c
"C:\Strawberry\perl\bin\perl.exe" "C:\Strawberry\perl\site\lib\ExtUtils/xsubpp"  -typemap C:\STRAWB~1\perl\lib\ExtUtils\typemap lib/FFI/Platypus.xs > lib/FFI/Platypus.xsc
"C:\Strawberry\perl\bin\perl.exe" -MExtUtils::Command -e mv -- lib/FFI/Platypus.xsc lib/FFI/Platypus.c
gcc -c  -Iinclude \
-DWIN32 -DWIN64 -D__USE_MINGW_ANSI_STDIO -DPERL_TEXTMODE_SCRIPTS -DPERL_IMPLICIT_CONTEXT -DPERL_IMPLICIT_SYS -DUSE_PERLIO -fwrapv -fno-strict-aliasing -mms-bitfields -s -O2 \
  -DVERSION=\"2.07\" \
-DXS_VERSION=\"2.07\"  "-IC:\STRAWB~1\perl\lib\CORE"   lib/FFI/Platypus.c -o lib/FFI/Platypus.o
gcc -c  -Iinclude -DWIN32 -DWIN64 -D__USE_MINGW_ANSI_STDIO -DPERL_TEXTMODE_SCRIPTS -DPERL_IMPLICIT_CONTEXT -DPERL_IMPLICIT_SYS -DUSE_PERLIO -fwrapv -fno-strict-aliasing -mms-bitfields -s -O2   -DVERSION=\"2.07\" -DXS_VERSION=\"2.07\"  "-IC:\STRAWB~1\perl\lib\CORE"   xs/cast.c -o xs/cast.o
gcc -c  -Iinclude -DWIN32 -DWIN64 -D__USE_MINGW_ANSI_STDIO -DPERL_TEXTMODE_SCRIPTS -DPERL_IMPLICIT_CONTEXT -DPERL_IMPLICIT_SYS -DUSE_PERLIO -fwrapv -fno-strict-aliasing -mms-bitfields -s -O2   -DVERSION=\"2.07\" -DXS_VERSION=\"2.07\"  "-IC:\STRAWB~1\perl\lib\CORE"   xs/closure.c -o xs/closure.o
gcc -c  -Iinclude -DWIN32 -DWIN64 -D__USE_MINGW_ANSI_STDIO -DPERL_TEXTMODE_SCRIPTS -DPERL_IMPLICIT_CONTEXT -DPERL_IMPLICIT_SYS -DUSE_PERLIO -fwrapv -fno-strict-aliasing -mms-bitfields -s -O2   -DVERSION=\"2.07\" -DXS_VERSION=\"2.07\"  "-IC:\STRAWB~1\perl\lib\CORE"   xs/complex.c -o xs/complex.o
gcc -c  -Iinclude -DWIN32 -DWIN64 -D__USE_MINGW_ANSI_STDIO -DPERL_TEXTMODE_SCRIPTS -DPERL_IMPLICIT_CONTEXT -DPERL_IMPLICIT_SYS -DUSE_PERLIO -fwrapv -fno-strict-aliasing -mms-bitfields -s -O2   -DVERSION=\"2.07\" -DXS_VERSION=\"2.07\"  "-IC:\STRAWB~1\perl\lib\CORE"   xs/custom.c -o xs/custom.o
gcc -c  -Iinclude -DWIN32 -DWIN64 -D__USE_MINGW_ANSI_STDIO -DPERL_TEXTMODE_SCRIPTS -DPERL_IMPLICIT_CONTEXT -DPERL_IMPLICIT_SYS -DUSE_PERLIO -fwrapv -fno-strict-aliasing -mms-bitfields -s -O2   -DVERSION=\"2.07\" -DXS_VERSION=\"2.07\"  "-IC:\STRAWB~1\perl\lib\CORE"   xs/meta.c -o xs/meta.o
gcc -c  -Iinclude -DWIN32 -DWIN64 -D__USE_MINGW_ANSI_STDIO -DPERL_TEXTMODE_SCRIPTS -DPERL_IMPLICIT_CONTEXT -DPERL_IMPLICIT_SYS -DUSE_PERLIO -fwrapv -fno-strict-aliasing -mms-bitfields -s -O2   -DVERSION=\"2.07\" -DXS_VERSION=\"2.07\"  "-IC:\STRAWB~1\perl\lib\CORE"   xs/names.c -o xs/names.o
gcc -c  -Iinclude -DWIN32 -DWIN64 -D__USE_MINGW_ANSI_STDIO -DPERL_TEXTMODE_SCRIPTS -DPERL_IMPLICIT_CONTEXT -DPERL_IMPLICIT_SYS -DUSE_PERLIO -fwrapv -fno-strict-aliasing -mms-bitfields -s -O2   -DVERSION=\"2.07\" -DXS_VERSION=\"2.07\"  "-IC:\STRAWB~1\perl\lib\CORE"   xs/perl_math_int64.c -o xs/perl_math_int64.o
gcc -c  -Iinclude -DWIN32 -DWIN64 -D__USE_MINGW_ANSI_STDIO -DPERL_TEXTMODE_SCRIPTS -DPERL_IMPLICIT_CONTEXT -DPERL_IMPLICIT_SYS -DUSE_PERLIO -fwrapv -fno-strict-aliasing -mms-bitfields -s -O2   -DVERSION=\"2.07\" -DXS_VERSION=\"2.07\"  "-IC:\STRAWB~1\perl\lib\CORE"   xs/record_opaque.c -o xs/record_opaque.o
gcc -c  -Iinclude -DWIN32 -DWIN64 -D__USE_MINGW_ANSI_STDIO -DPERL_TEXTMODE_SCRIPTS -DPERL_IMPLICIT_CONTEXT -DPERL_IMPLICIT_SYS -DUSE_PERLIO -fwrapv -fno-strict-aliasing -mms-bitfields -s -O2   -DVERSION=\"2.07\" -DXS_VERSION=\"2.07\"  "-IC:\STRAWB~1\perl\lib\CORE"   xs/record_simple.c -o xs/record_simple.o
gcc -c  -Iinclude -DWIN32 -DWIN64 -D__USE_MINGW_ANSI_STDIO -DPERL_TEXTMODE_SCRIPTS -DPERL_IMPLICIT_CONTEXT -DPERL_IMPLICIT_SYS -DUSE_PERLIO -fwrapv -fno-strict-aliasing -mms-bitfields -s -O2   -DVERSION=\"2.07\" -DXS_VERSION=\"2.07\"  "-IC:\STRAWB~1\perl\lib\CORE"   xs/record_string.c -o xs/record_string.o
gcc -c  -Iinclude -DWIN32 -DWIN64 -D__USE_MINGW_ANSI_STDIO -DPERL_TEXTMODE_SCRIPTS -DPERL_IMPLICIT_CONTEXT -DPERL_IMPLICIT_SYS -DUSE_PERLIO -fwrapv -fno-strict-aliasing -mms-bitfields -s -O2   -DVERSION=\"2.07\" -DXS_VERSION=\"2.07\"  "-IC:\STRAWB~1\perl\lib\CORE"   xs/windl.c -o xs/windl.o
"C:\Strawberry\perl\bin\perl.exe" -MExtUtils::Mksymlists \
     -e "Mksymlists('NAME'=>\"FFI::Platypus\", 'DLBASE' => 'Platypus', 'DL_FUNCS' => {  }, 'FUNCLIST' => [], 'IMPORTS' => {  }, 'DL_VARS' => [], 'FILE' => q[lib/FFI/Platypus]);"
g++ lib/FFI/Platypus.def -o blib\arch\auto\FFI\Platypus\Platypus.xs.dll -LC:/Strawberry/c/lib/pkgconfig/../../lib/../lib -mdll -s -L"C:\STRAWB~1\perl\lib\CORE" -L"C:\STRAWB~1\c\lib" lib/FFI/Platypus.o xs/cast.o xs/closure.o xs/complex.o xs/custom.o xs/meta.o xs/names.o xs/perl_math_int64.o xs/record_opaque.o xs/record_simple.o xs/record_string.o xs/windl.o   "C:\STRAWB~1\perl\lib\CORE\libperl532.a" "C:\Strawberry\c\lib\pkgconfig\..\..\lib\..\lib\libffi.a" "C:\STRAWB~1\c\x86_64-w64-mingw32\lib\libpsapi.a" "C:\STRAWB~1\c\x86_64-w64-mingw32\lib\libmoldname.a" "C:\STRAWB~1\c\x86_64-w64-mingw32\lib\libkernel32.a" "C:\STRAWB~1\c\x86_64-w64-mingw32\lib\libuser32.a" "C:\STRAWB~1\c\x86_64-w64-mingw32\lib\libgdi32.a" "C:\STRAWB~1\c\x86_64-w64-mingw32\lib\libwinspool.a" "C:\STRAWB~1\c\x86_64-w64-mingw32\lib\libcomdlg32.a" "C:\STRAWB~1\c\x86_64-w64-mingw32\lib\libadvapi32.a" "C:\STRAWB~1\c\x86_64-w64-mingw32\lib\libshell32.a" "C:\STRAWB~1\c\x86_64-w64-mingw32\lib\libole32.a" "C:\STRAWB~1\c\x86_64-w64-mingw32\lib\liboleaut32.a" "C:\STRAWB~1\c\x86_64-w64-mingw32\lib\libnetapi32.a" "C:\STRAWB~1\c\x86_64-w64-mingw32\lib\libuuid.a" "C:\STRAWB~1\c\x86_64-w64-mingw32\lib\libws2_32.a" "C:\STRAWB~1\c\x86_64-w64-mingw32\lib\libmpr.a" "C:\STRAWB~1\c\x86_64-w64-mingw32\lib\libwinmm.a" "C:\STRAWB~1\c\x86_64-w64-mingw32\lib\libversion.a" "C:\STRAWB~1\c\x86_64-w64-mingw32\lib\libodbc32.a" "C:\STRAWB~1\c\x86_64-w64-mingw32\lib\libodbccp32.a" "C:\STRAWB~1\c\x86_64-w64-mingw32\lib\libcomctl32.a" -Wl,--enable-auto-image-base
"C:\Strawberry\perl\bin\perl.exe" -MExtUtils::Command -e chmod -- 755 blib\arch\auto\FFI\Platypus\Platypus.xs.dll
CC ffi/constant.c
CC ffi/memory.c
CC ffi/record_meta.c
LD blib/lib/auto/share/dist/FFI-Platypus/lib/plfill.dll
"C:\Strawberry\perl\bin\perl.exe" -MExtUtils::Command::MM -e cp_nonempty -- lib/FFI/Platypus.bs blib\arch\auto\FFI\Platypus\Platypus.bs 644
CC t/ffi/align.c
CC t/ffi/align_array.c
CC t/ffi/align_fixed.c
CC t/ffi/align_string.c
CC t/ffi/basic.c
CC t/ffi/closure.c
CC t/ffi/color.c
CC t/ffi/complex_double.c
CC t/ffi/complex_float.c
CC t/ffi/double.c
CC t/ffi/float.c
CC t/ffi/gh117.c
CC t/ffi/gh174.c
CC t/ffi/longdouble.c
CC t/ffi/memcmp4.c
CC t/ffi/meta.c
CC t/ffi/pointer.c
CC t/ffi/record.c
CC t/ffi/sint16.c
CC t/ffi/sint32.c
CC t/ffi/sint64.c
CC t/ffi/sint8.c
CC t/ffi/string.c
CC t/ffi/string_array.c
CC t/ffi/uint16.c
CC t/ffi/uint32.c
CC t/ffi/uint64.c
CC t/ffi/uint8.c
CC t/ffi/variadic.c
LD t/ffi/test.dll
"C:\Strawberry\perl\bin\perl.exe" "-MExtUtils::Command::MM" "-MTest::Harness" "-e" "undef *Test::Harness::Switches; test_harness(0, 'blib\lib', 'blib\arch')" t/*.t
# 
# 
# 
# HARNESS_ACTIVE=1
# HARNESS_VERSION=3.42
# PERL5LIB=C:\Users\gregor\.cpanm\work\1681075733.17400\FFI-Platypus-2.07\blib\lib;C:\Users\gregor\.cpanm\work\1681075733.17400\FFI-Platypus-2.07\blib\arch
# PERL_MM_USE_DEFAULT=1
# PERL_USE_UNSAFE_INC=1
# 
# 
# 
# PERL5LIB path
# C:\Users\gregor\.cpanm\work\1681075733.17400\FFI-Platypus-2.07\blib\lib
# C:\Users\gregor\.cpanm\work\1681075733.17400\FFI-Platypus-2.07\blib\arch
# 
# 
# 
# perl                  5.032001 MSWin32 MSWin32-x64-multi-thread
# Alien::Base           2.78
# Alien::FFI            -
# Capture::Tiny         0.48
# Devel::Hide           0.0015
# ExtUtils::CBuilder    0.280236
# ExtUtils::MakeMaker   7.70
# ExtUtils::ParseXS     3.44
# FFI::CheckLib         0.31
# File::Spec::Functions 3.78
# IPC::Cmd              1.04
# JSON::PP              4.06
# List::Util            1.55
# Math::LongDouble      -
# PkgConfig             0.25026
# Test2::API            1.302183
# Test2::V0             0.000139
# autodie               2.34
# constant              1.33
# forks                 -
# parent                0.238
# 
# 
# 
# mode : system
# Alien::FFI::PkgConfigPP->VERSION      = 
# Alien::FFI::PkgConfigPP->install_type = system
# Alien::FFI::PkgConfigPP->cflags       = 
# Alien::FFI::PkgConfigPP->libs         = -LC:/Strawberry/c/lib/pkgconfig/../../lib/../lib -lffi
# Alien::FFI::PkgConfigPP->version      = 3.3
# 
# 
# 
# ffi.platypus.memory.strdup_impl =libc
# ffi.platypus.memory.strndup_impl=ffi
# 
# 
# 
# Types:
#   double   : double, float complex
#   float    : float
#   longdouble : double complex, long double, long double complex
#   sint16   : int16_t, short, signed short
#   sint32   : int, int32_t, long, off_t, senum, signed int, signed long
#   sint64   : int64_t, intmax_t, intptr_t, long long, ptrdiff_t, signed long long, ssize_t, time_t
#   sint8    : char, int8_t, signed char
#   uint16   : ino_t, mode_t, uint16_t, unsigned short, ushort, wchar_t, wint_t
#   uint32   : dev_t, enum, uint, uint32_t, ulong, unsigned int, unsigned long
#   uint64   : size_t, uint64_t, uintmax_t, uintptr_t, unsigned long long
#   uint8    : bool, uchar, uint8_t, unsigned char
# 
# 
# 
# ABIs:
#   default_abi          2
#   gnuw64               2
#   win64                1
# 
# 
# 
# Probes:
#   variadic             1
#   strnlen              1
#   bigendian            0
#   alloca               1
#   longdouble           1
#   abi                  1
#   bigendian64          0
#   recordvalue          1
#   complex              1
# 
# 
# 
# [PLATFORM]
# osname            : MSWin32
# cc                : gcc
# cxx               : g++
# cxxld             : g++
# for               : gfortran
# ld                : g++
# ccflags           : -DWIN32 -DWIN64 -D__USE_MINGW_ANSI_STDIO -DPERL_TEXTMODE_SCRIPTS -DPERL_IMPLICIT_CONTEXT -DPERL_IMPLICIT_SYS -DUSE_PERLIO -fwrapv -fno-strict-aliasing -mms-bitfields -s -O2 -IC:\Users\gregor\.cpanm\work\1681075733.17400\FFI-Platypus-2.07\blib\lib\auto\share\dist\FFI-Platypus\include
# ldflags           : -mdll -s -LC:\STRAWB~1\perl\lib\CORE -LC:\STRAWB~1\c\lib -Wl,--enable-auto-import -Wl,--export-all-symbols -Wl,--enable-auto-image-base
# object suffix     : .o
# library prefix    : 
# library suffix    : .dll
# cc mm works       : -MM
# 
# 
# 
t/00_diag.t .............................. ok
t/ffi_build.t ............................ ok
t/ffi_build_file_base.t .................. ok
t/ffi_build_file_c.t ..................... ok
t/ffi_build_file_cxx.t ................... ok
t/ffi_build_file_library.t ............... ok
t/ffi_build_file_object.t ................ ok
t/ffi_build_mm.t ......................... ok
t/ffi_build_platform.t ................... ok
t/ffi_build_plugin.t ..................... ok
t/ffi_build_plugindata.t ................. ok
t/ffi_platypus.t ......................... ok
t/ffi_platypus_api.t ..................... ok
t/ffi_platypus_buffer.t .................. ok
cannot unlink file for C:\Users\gregor\.cpanm\work\1681075733.17400\FFI-Platypus-2.07\.tmp\a29r8Na6up\lib\auto\share\dist\Foo-Bar1\bar1.dll: Permission denied at t/lib/Test/Cleanup.pm line 27.
cannot remove directory for C:\Users\gregor\.cpanm\work\1681075733.17400\FFI-Platypus-2.07\.tmp\a29r8Na6up\lib\auto\share\dist\Foo-Bar1: Directory not empty at t/lib/Test/Cleanup.pm line 27.
cannot remove directory for C:\Users\gregor\.cpanm\work\1681075733.17400\FFI-Platypus-2.07\.tmp\a29r8Na6up\lib\auto\share\dist: Directory not empty at t/lib/Test/Cleanup.pm line 27.
cannot remove directory for C:\Users\gregor\.cpanm\work\1681075733.17400\FFI-Platypus-2.07\.tmp\a29r8Na6up\lib\auto\share: Directory not empty at t/lib/Test/Cleanup.pm line 27.
cannot remove directory for C:\Users\gregor\.cpanm\work\1681075733.17400\FFI-Platypus-2.07\.tmp\a29r8Na6up\lib\auto: Directory not empty at t/lib/Test/Cleanup.pm line 27.
cannot remove directory for C:\Users\gregor\.cpanm\work\1681075733.17400\FFI-Platypus-2.07\.tmp\a29r8Na6up\lib: Directory not empty at t/lib/Test/Cleanup.pm line 27.
cannot remove directory for C:\Users\gregor\.cpanm\work\1681075733.17400\FFI-Platypus-2.07\.tmp\a29r8Na6up: Directory not empty at t/lib/Test/Cleanup.pm line 27.
cannot unlink file for C:\Users\gregor\.cpanm\work\1681075733.17400\FFI-Platypus-2.07\.tmp\GJmsgbd9sK\lib\auto\share\dist\Foo-Bar2\bar2.dll: Permission denied at t/lib/Test/Cleanup.pm line 27.
cannot remove directory for C:\Users\gregor\.cpanm\work\1681075733.17400\FFI-Platypus-2.07\.tmp\GJmsgbd9sK\lib\auto\share\dist\Foo-Bar2: Directory not empty at t/lib/Test/Cleanup.pm line 27.
cannot remove directory for C:\Users\gregor\.cpanm\work\1681075733.17400\FFI-Platypus-2.07\.tmp\GJmsgbd9sK\lib\auto\share\dist: Directory not empty at t/lib/Test/Cleanup.pm line 27.
cannot remove directory for C:\Users\gregor\.cpanm\work\1681075733.17400\FFI-Platypus-2.07\.tmp\GJmsgbd9sK\lib\auto\share: Directory not empty at t/lib/Test/Cleanup.pm line 27.
cannot remove directory for C:\Users\gregor\.cpanm\work\1681075733.17400\FFI-Platypus-2.07\.tmp\GJmsgbd9sK\lib\auto: Directory not empty at t/lib/Test/Cleanup.pm line 27.
cannot remove directory for C:\Users\gregor\.cpanm\work\1681075733.17400\FFI-Platypus-2.07\.tmp\GJmsgbd9sK\lib: Directory not empty at t/lib/Test/Cleanup.pm line 27.
cannot remove directory for C:\Users\gregor\.cpanm\work\1681075733.17400\FFI-Platypus-2.07\.tmp\GJmsgbd9sK: Directory not empty at t/lib/Test/Cleanup.pm line 27.
cannot unlink file for C:\Users\gregor\.cpanm\work\1681075733.17400\FFI-Platypus-2.07\.tmp\6BMsxL7swA\lib\auto\share\dist\Foo-Bar3\bar3.dll: Permission denied at t/lib/Test/Cleanup.pm line 27.
cannot remove directory for C:\Users\gregor\.cpanm\work\1681075733.17400\FFI-Platypus-2.07\.tmp\6BMsxL7swA\lib\auto\share\dist\Foo-Bar3: Directory not empty at t/lib/Test/Cleanup.pm line 27.
cannot remove directory for C:\Users\gregor\.cpanm\work\1681075733.17400\FFI-Platypus-2.07\.tmp\6BMsxL7swA\lib\auto\share\dist: Directory not empty at t/lib/Test/Cleanup.pm line 27.
cannot remove directory for C:\Users\gregor\.cpanm\work\1681075733.17400\FFI-Platypus-2.07\.tmp\6BMsxL7swA\lib\auto\share: Directory not empty at t/lib/Test/Cleanup.pm line 27.
cannot remove directory for C:\Users\gregor\.cpanm\work\1681075733.17400\FFI-Platypus-2.07\.tmp\6BMsxL7swA\lib\auto: Directory not empty at t/lib/Test/Cleanup.pm line 27.
cannot remove directory for C:\Users\gregor\.cpanm\work\1681075733.17400\FFI-Platypus-2.07\.tmp\6BMsxL7swA\lib: Directory not empty at t/lib/Test/Cleanup.pm line 27.
cannot remove directory for C:\Users\gregor\.cpanm\work\1681075733.17400\FFI-Platypus-2.07\.tmp\6BMsxL7swA: Directory not empty at t/lib/Test/Cleanup.pm line 27.
cannot unlink file for C:\Users\gregor\.cpanm\work\1681075733.17400\FFI-Platypus-2.07\.tmp\atJHbGacOV\ffi\_build\foo.dll: Permission denied at t/lib/Test/Cleanup.pm line 27.
cannot remove directory for C:\Users\gregor\.cpanm\work\1681075733.17400\FFI-Platypus-2.07\.tmp\atJHbGacOV\ffi\_build: Directory not empty at t/lib/Test/Cleanup.pm line 27.
cannot remove directory for C:\Users\gregor\.cpanm\work\1681075733.17400\FFI-Platypus-2.07\.tmp\atJHbGacOV\ffi: Directory not empty at t/lib/Test/Cleanup.pm line 27.
cannot remove directory for C:\Users\gregor\.cpanm\work\1681075733.17400\FFI-Platypus-2.07\.tmp\atJHbGacOV: Directory not empty at t/lib/Test/Cleanup.pm line 27.
cannot unlink file for C:\Users\gregor\.cpanm\work\1681075733.17400\FFI-Platypus-2.07\.tmp\a29r8Na6up\lib\auto\share\dist\Foo-Bar1\bar1.dll: Permission denied at C:/Strawberry/perl/lib/File/Temp.pm line 2643.
cannot remove directory for C:\Users\gregor\.cpanm\work\1681075733.17400\FFI-Platypus-2.07\.tmp\a29r8Na6up\lib\auto\share\dist\Foo-Bar1: Directory not empty at C:/Strawberry/perl/lib/File/Temp.pm line 2643.
cannot remove directory for C:\Users\gregor\.cpanm\work\1681075733.17400\FFI-Platypus-2.07\.tmp\a29r8Na6up\lib\auto\share\dist: Directory not empty at C:/Strawberry/perl/lib/File/Temp.pm line 2643.
cannot remove directory for C:\Users\gregor\.cpanm\work\1681075733.17400\FFI-Platypus-2.07\.tmp\a29r8Na6up\lib\auto\share: Directory not empty at C:/Strawberry/perl/lib/File/Temp.pm line 2643.
cannot remove directory for C:\Users\gregor\.cpanm\work\1681075733.17400\FFI-Platypus-2.07\.tmp\a29r8Na6up\lib\auto: Directory not empty at C:/Strawberry/perl/lib/File/Temp.pm line 2643.
cannot remove directory for C:\Users\gregor\.cpanm\work\1681075733.17400\FFI-Platypus-2.07\.tmp\a29r8Na6up\lib: Directory not empty at C:/Strawberry/perl/lib/File/Temp.pm line 2643.
cannot remove directory for C:/Users/gregor/.cpanm/work/1681075733.17400/FFI-Platypus-2.07/.tmp/a29r8Na6up: Directory not empty at C:/Strawberry/perl/lib/File/Temp.pm line 2643.
cannot unlink file for C:\Users\gregor\.cpanm\work\1681075733.17400\FFI-Platypus-2.07\.tmp\GJmsgbd9sK\lib\auto\share\dist\Foo-Bar2\bar2.dll: Permission denied at C:/Strawberry/perl/lib/File/Temp.pm line 2643.
cannot remove directory for C:\Users\gregor\.cpanm\work\1681075733.17400\FFI-Platypus-2.07\.tmp\GJmsgbd9sK\lib\auto\share\dist\Foo-Bar2: Directory not empty at C:/Strawberry/perl/lib/File/Temp.pm line 2643.
cannot remove directory for C:\Users\gregor\.cpanm\work\1681075733.17400\FFI-Platypus-2.07\.tmp\GJmsgbd9sK\lib\auto\share\dist: Directory not empty at C:/Strawberry/perl/lib/File/Temp.pm line 2643.
cannot remove directory for C:\Users\gregor\.cpanm\work\1681075733.17400\FFI-Platypus-2.07\.tmp\GJmsgbd9sK\lib\auto\share: Directory not empty at C:/Strawberry/perl/lib/File/Temp.pm line 2643.
cannot remove directory for C:\Users\gregor\.cpanm\work\1681075733.17400\FFI-Platypus-2.07\.tmp\GJmsgbd9sK\lib\auto: Directory not empty at C:/Strawberry/perl/lib/File/Temp.pm line 2643.
cannot remove directory for C:\Users\gregor\.cpanm\work\1681075733.17400\FFI-Platypus-2.07\.tmp\GJmsgbd9sK\lib: Directory not empty at C:/Strawberry/perl/lib/File/Temp.pm line 2643.
cannot remove directory for C:/Users/gregor/.cpanm/work/1681075733.17400/FFI-Platypus-2.07/.tmp/GJmsgbd9sK: Directory not empty at C:/Strawberry/perl/lib/File/Temp.pm line 2643.
cannot unlink file for C:\Users\gregor\.cpanm\work\1681075733.17400\FFI-Platypus-2.07\.tmp\6BMsxL7swA\lib\auto\share\dist\Foo-Bar3\bar3.dll: Permission denied at C:/Strawberry/perl/lib/File/Temp.pm line 2643.
cannot remove directory for C:\Users\gregor\.cpanm\work\1681075733.17400\FFI-Platypus-2.07\.tmp\6BMsxL7swA\lib\auto\share\dist\Foo-Bar3: Directory not empty at C:/Strawberry/perl/lib/File/Temp.pm line 2643.
cannot remove directory for C:\Users\gregor\.cpanm\work\1681075733.17400\FFI-Platypus-2.07\.tmp\6BMsxL7swA\lib\auto\share\dist: Directory not empty at C:/Strawberry/perl/lib/File/Temp.pm line 2643.
cannot remove directory for C:\Users\gregor\.cpanm\work\1681075733.17400\FFI-Platypus-2.07\.tmp\6BMsxL7swA\lib\auto\share: Directory not empty at C:/Strawberry/perl/lib/File/Temp.pm line 2643.
cannot remove directory for C:\Users\gregor\.cpanm\work\1681075733.17400\FFI-Platypus-2.07\.tmp\6BMsxL7swA\lib\auto: Directory not empty at C:/Strawberry/perl/lib/File/Temp.pm line 2643.
cannot remove directory for C:\Users\gregor\.cpanm\work\1681075733.17400\FFI-Platypus-2.07\.tmp\6BMsxL7swA\lib: Directory not empty at C:/Strawberry/perl/lib/File/Temp.pm line 2643.
cannot remove directory for C:/Users/gregor/.cpanm/work/1681075733.17400/FFI-Platypus-2.07/.tmp/6BMsxL7swA: Directory not empty at C:/Strawberry/perl/lib/File/Temp.pm line 2643.
cannot unlink file for C:\Users\gregor\.cpanm\work\1681075733.17400\FFI-Platypus-2.07\.tmp\atJHbGacOV\ffi\_build\foo.dll: Permission denied at C:/Strawberry/perl/lib/File/Temp.pm line 2643.
cannot remove directory for C:\Users\gregor\.cpanm\work\1681075733.17400\FFI-Platypus-2.07\.tmp\atJHbGacOV\ffi\_build: Directory not empty at C:/Strawberry/perl/lib/File/Temp.pm line 2643.
cannot remove directory for C:\Users\gregor\.cpanm\work\1681075733.17400\FFI-Platypus-2.07\.tmp\atJHbGacOV\ffi: Directory not empty at C:/Strawberry/perl/lib/File/Temp.pm line 2643.
cannot remove directory for C:/Users/gregor/.cpanm/work/1681075733.17400/FFI-Platypus-2.07/.tmp/atJHbGacOV: Directory not empty at C:/Strawberry/perl/lib/File/Temp.pm line 2643.
t/ffi_platypus_bundle.t .................. ok
t/ffi_platypus_closure.t ................. ok
t/ffi_platypus_constant.t ................ ok
t/ffi_platypus_dl.t ...................... ok
t/ffi_platypus_function.t ................ ok
t/ffi_platypus_function_wrapper.t ........ ok
t/ffi_platypus_internal.t ................ ok
t/ffi_platypus_lang.t .................... ok
t/ffi_platypus_lang_asm.t ................ ok
t/ffi_platypus_lang_c.t .................. ok
t/ffi_platypus_lang_win32.t .............. ok
t/ffi_platypus_legacy.t .................. ok
t/ffi_platypus_memory.t .................. ok
t/ffi_platypus_record.t .................. ok
t/ffi_platypus_record_meta.t ............. ok
t/ffi_platypus_record_tiearray.t ......... ok
t/ffi_platypus_shareconfig.t ............. ok
t/ffi_platypus_type.t .................... ok
t/ffi_platypus_type_pointersizebuffer.t .. ok
t/ffi_platypus_type_stringarray.t ........ ok
t/ffi_platypus_type_stringpointer.t ...... ok
t/ffi_platypus_type_widestring.t ......... ok
t/ffi_platypus_typeparser.t .............. ok
t/ffi_platypus_typeparser_version0.t ..... ok
t/ffi_platypus_typeparser_version1.t ..... ok
t/ffi_platypus_typeparser_version2.t ..... ok
t/ffi_probe.t ............................ ok
t/ffi_probe_runner.t ..................... ok
t/ffi_probe_runner_builder.t ............. ok
t/ffi_probe_runner_result.t .............. ok
t/ffi_temp.t ............................. ok
t/forks.t ................................ skipped: Test requires forks
t/gh117.t ................................ ok
t/gh129.t ................................ ok
t/gh323.t ................................ ok
t/memory.t ............................... skipped: tested only in CI
t/threads.t .............................. ok
t/type_complex_double.t .................. ok
t/type_complex_float.t ................... ok
t/type_custom.t .......................... ok
t/type_double.t .......................... ok
t/type_float.t ........................... ok
t/type_longdouble.t ...................... ok
t/type_longdouble__array.t ............... ok
t/type_longdouble__hide.t ................ ok
t/type_longdouble__ptr.t ................. ok
t/type_opaque.t .......................... ok
t/type_record.t .......................... ok
t/type_record_value.t .................... ok
t/type_sint16.t .......................... ok
t/type_sint32.t .......................... ok
t/type_sint64.t .......................... ok
t/type_sint8.t ........................... ok
t/type_string.t .......................... ok
t/type_uint16.t .......................... ok
t/type_uint32.t .......................... ok
t/type_uint64.t .......................... ok
t/type_uint8.t ........................... ok
All tests successful.
Files=72, Tests=322, 30 wallclock secs ( 0.14 usr +  0.05 sys =  0.19 CPU)
Result: PASS

------------------------------
PREREQUISITES
------------------------------

Prerequisite modules loaded:

    No requirements found

------------------------------
ENVIRONMENT AND OTHER CONTEXT
------------------------------

Environment variables:

    COMSPEC = C:\Windows\system32\cmd.exe
    NUMBER_OF_PROCESSORS = 12
    PATH = C:\Windows\system32;C:\Windows;C:\Windows\System32\Wbem;C:\Windows\System32\WindowsPowerShell\v1.0\;C:\Windows\System32\OpenSSH\;C:\Program Files (x86)\BOND\BIBLIO_CLIENT\BIN\;C:\Program Files\TortoiseGit\bin;C:\Strawberry\c\bin;C:\Strawberry\perl\site\bin;C:\Strawberry\perl\bin;C:\Program Files (x86)\Gpg4win\..\GnuPG\bin;C:\Program Files\dotnet\;C:\Users\gregor\AppData\Local\Microsoft\WindowsApps;C:\Users\gregor\AppData\Local\Gpg4win\..\GnuPG\bin;C:\Users\gregor\AppData\Local\Pandoc\;C:\Users\gregor\AppData\Local\Programs\MiKTeX\miktex\bin\x64\
    PROCESSOR_IDENTIFIER = AMD64 Family 25 Model 80 Stepping 0, AuthenticAMD
    TEMP = C:\Users\gregor\AppData\Local\Temp
    TMPDIR = C:\Users\gregor\AppData\Local\Temp

Perl special variables (and OS-specific diagnostics, for MSWin32):

    EGID = 0
    EUID = 0
    EXECUTABLE_NAME = C:\Strawberry\perl\bin\perl.exe
    GID = 0
    UID = 0
    Win32::FsType = NTFS
    Win32::GetOSName = Win10
    Win32::GetOSVersion = , 10, 0, 22621, 2, 0, 0, 256, 1
    Win32::IsAdminUser = 0

Perl module toolchain versions installed:

    Module              Have    
    ------------------- --------
    CPAN                2.34    
    CPAN::Meta          2.150010
    Cwd                 3.78    
    ExtUtils::CBuilder  0.280236
    ExtUtils::Command   7.70    
    ExtUtils::Install   2.22    
    ExtUtils::MakeMaker 7.70    
    ExtUtils::Manifest  1.73    
    ExtUtils::ParseXS   3.44    
    File::Spec          3.78    
    JSON                4.10    
    JSON::PP            4.16    
    Module::Build       0.4232  
    Module::Signature   0.88    
    Parse::CPAN::Meta   2.150010
    Test::Harness       3.44    
    Test::More          1.302194
    YAML                1.30    
    YAML::Syck          n/a     
    version             0.9929  


--

Summary of my perl5 (revision 5 version 32 subversion 1) configuration:
   
  Platform:
    osname=MSWin32
    osvers=10.0.19042.746
    archname=MSWin32-x64-multi-thread
    uname='Win32 strawberry-perl 5.32.1.1 #1 Sun Jan 24 15:00:15 2021 x64'
    config_args='undef'
    hint=recommended
    useposix=true
    d_sigaction=undef
    useithreads=define
    usemultiplicity=define
    use64bitint=define
    use64bitall=undef
    uselongdouble=undef
    usemymalloc=n
    default_inc_excludes_dot=define
    bincompat5005=undef
  Compiler:
    cc='gcc'
    ccflags =' -DWIN32 -DWIN64 -D__USE_MINGW_ANSI_STDIO -DPERL_TEXTMODE_SCRIPTS -DPERL_IMPLICIT_CONTEXT -DPERL_IMPLICIT_SYS -DUSE_PERLIO -fwrapv -fno-strict-aliasing -mms-bitfields'
    optimize='-s -O2'
    cppflags='-DWIN32'
    ccversion=''
    gccversion='8.3.0'
    gccosandvers=''
    intsize=4
    longsize=4
    ptrsize=8
    doublesize=8
    byteorder=12345678
    doublekind=3
    d_longlong=define
    longlongsize=8
    d_longdbl=define
    longdblsize=16
    longdblkind=3
    ivtype='long long'
    ivsize=8
    nvtype='double'
    nvsize=8
    Off_t='long long'
    lseeksize=8
    alignbytes=8
    prototype=define
  Linker and Libraries:
    ld='g++'
    ldflags ='-s -L"C:\STRAWB~1\perl\lib\CORE" -L"C:\STRAWB~1\c\lib"'
    libpth=C:\STRAWB~1\c\lib C:\STRAWB~1\c\x86_64-w64-mingw32\lib C:\STRAWB~1\c\lib\gcc\x86_64-w64-mingw32\8.3.0
    libs= -lmoldname -lkernel32 -luser32 -lgdi32 -lwinspool -lcomdlg32 -ladvapi32 -lshell32 -lole32 -loleaut32 -lnetapi32 -luuid -lws2_32 -lmpr -lwinmm -lversion -lodbc32 -lodbccp32 -lcomctl32
    perllibs= -lmoldname -lkernel32 -luser32 -lgdi32 -lwinspool -lcomdlg32 -ladvapi32 -lshell32 -lole32 -loleaut32 -lnetapi32 -luuid -lws2_32 -lmpr -lwinmm -lversion -lodbc32 -lodbccp32 -lcomctl32
    libc=
    so=dll
    useshrplib=true
    libperl=libperl532.a
    gnulibc_version=''
  Dynamic Linking:
    dlsrc=dl_win32.xs
    dlext=xs.dll
    d_dlsymun=undef
    ccdlflags=' '
    cccdlflags=' '
    lddlflags='-mdll -s -L"C:\STRAWB~1\perl\lib\CORE" -L"C:\STRAWB~1\c\lib"'


Characteristics of this binary (from libperl): 
  Compile-time options:
    HAS_TIMES
    HAVE_INTERP_INTERN
    MULTIPLICITY
    PERLIO_LAYERS
    PERL_COPY_ON_WRITE
    PERL_DONT_CREATE_GVSV
    PERL_IMPLICIT_CONTEXT
    PERL_IMPLICIT_SYS
    PERL_MALLOC_WRAP
    PERL_OP_PARENT
    PERL_PRESERVE_IVUV
    USE_64_BIT_INT
    USE_ITHREADS
    USE_LARGE_FILES
    USE_LOCALE
    USE_LOCALE_COLLATE
    USE_LOCALE_CTYPE
    USE_LOCALE_NUMERIC
    USE_LOCALE_TIME
    USE_PERLIO
    USE_PERL_ATOF
  Built under MSWin32
  Compiled at Jan 24 2021 15:05:42
  @INC:
    C:/Strawberry/perl/site/lib/MSWin32-x64-multi-thread
    C:/Strawberry/perl/site/lib
    C:/Strawberry/perl/vendor/lib
    C:/Strawberry/perl/lib