Import-Base v1.004 Perl 5 v5.14.1 x86_64-linux

Status
Pass
From
Nedzad Hrnjica (NHRNJICA)
Dist
Import-Base v1.004
Platform
Perl 5 v5.14.1 x86_64-linux
Date
2022-08-15 22:44:23
ID
ceeda36c-1ceb-11ed-bf16-a7ea23f29030
This distribution has been tested as part of the CPAN Testers
project, supporting the Perl programming language.  See
http://wiki.cpantesters.org/ for more information or email
questions to cpan-testers-discuss@perl.org


--
Dear PREACTION,

This is a computer-generated report for Import-Base-1.004
on perl 5.14.1, created by App::cpanminus::reporter 0.17 (1.7046).

Thank you for uploading your work to CPAN.  Congratulations!
All tests were successful.

Sections of this report:

    * Tester comments
    * Program output
    * Prerequisites
    * Environment and other context

------------------------------
TESTER COMMENTS
------------------------------

Additional comments from tester:

none provided

------------------------------
PROGRAM OUTPUT
------------------------------

Output from '':

Building and testing Import-Base-1.004
cp lib/Import/Base.pm blib/lib/Import/Base.pm
Manifying 1 pod document
PERL_DL_NONLAZY=1 "/home/liveapp/.plenv/versions/5.14.1/bin/perl5.14.1" "-MExtUtils::Command::MM" "-MTest::Harness" "-e" "undef *Test::Harness::Switches; test_harness(0, 'blib/lib', 'blib/arch')" t/*.t t/use-case/*.t
t/00-compile.t ......... ok
# 
# Versions for all modules listed in MYMETA.json (including optional ones):
# 
# === Configure Requires ===
# 
#     Module              Want Have
#     ------------------- ---- ----
#     ExtUtils::MakeMaker  any 7.64
# 
# === Build Requires ===
# 
#     Module              Want Have
#     ------------------- ---- ----
#     ExtUtils::MakeMaker  any 7.64
# 
# === Test Requires ===
# 
#     Module              Want     Have
#     ------------------- ---- --------
#     Carp                 any     1.50
#     ExtUtils::MakeMaker  any     7.64
#     File::Spec           any     3.75
#     IO::Handle           any     1.48
#     IPC::Open3           any     1.09
#     Test::More           any 1.302191
# 
# === Test Recommends ===
# 
#     Module         Want     Have
#     ---------- -------- --------
#     CPAN::Meta 2.120900 2.150010
# 
# === Runtime Requires ===
# 
#     Module              Want     Have
#     --------------- -------- --------
#     Import::Into    1.002005 1.002005
#     Module::Runtime      any    0.016
#     mro                  any     1.07
#     strict               any     1.04
#     warnings             any     1.12
# 
t/00-report-prereqs.t .. ok
t/base.t ............... ok
t/exclude.t ............ ok
t/export.t ............. ok
t/order.t .............. ok
t/runtime.t ............ ok
t/subrefs.t ............ ok
t/use-case/dancer2.t ... skipped: Test requires Dancer2 >= 0.166001_01
t/use-case/moo.t ....... ok
t/version.t ............ ok
All tests successful.
Files=11, Tests=17,  1 wallclock secs ( 0.04 usr  0.02 sys +  0.59 cusr  0.10 csys =  0.75 CPU)
Result: PASS

------------------------------
PREREQUISITES
------------------------------

Prerequisite modules loaded:

runtime:

    Module              Need     Have    
    ------------------- -------- --------
    Import::Into        1.002005 1.002005
    Module::Runtime     0        0.016   
    mro                 0        1.07    
    perl                5.010    5.014001
    strict              0        1.04    
    warnings            0        1.12    

configure:

    Module              Need     Have    
    ------------------- -------- --------
    ExtUtils::MakeMaker 0        7.64    


------------------------------
ENVIRONMENT AND OTHER CONTEXT
------------------------------

Environment variables:

    LANG = C.UTF-8
    PATH = /home/liveapp/.plenv/versions/5.14.1/bin:/home/liveapp/.plenv/libexec:/home/liveapp/.plenv/plugins/perl-build/bin:/home/liveapp/.plenv/shims:/home/liveapp/.plenv/bin:/usr/local/sbin:/usr/local/bin:/usr/sbin:/usr/bin:/sbin:/bin:/usr/games:/usr/local/games:/snap/bin
    PERL_CPANM_HOME = /home/liveapp/cpantesters.new/5.14.1/.cpanm_temp
    SHELL = /bin/bash
    TERM = xterm-256color

Perl special variables (and OS-specific diagnostics, for MSWin32):

    EGID = 1001 27 1001
    EUID = 1001
    EXECUTABLE_NAME = /home/liveapp/.plenv/versions/5.14.1/bin/perl5.14.1
    GID = 1001 27 1001
    UID = 1001

Perl module toolchain versions installed:

    Module              Have    
    ------------------- --------
    CPAN                1.9600  
    CPAN::Meta          2.150010
    Cwd                 3.75    
    ExtUtils::CBuilder  0.280236
    ExtUtils::Command   7.64    
    ExtUtils::Install   2.06    
    ExtUtils::MakeMaker 7.64    
    ExtUtils::Manifest  1.70    
    ExtUtils::ParseXS   3.44    
    File::Spec          3.75    
    JSON                n/a     
    JSON::PP            4.11    
    Module::Build       0.4231  
    Module::Signature   n/a     
    Parse::CPAN::Meta   2.150010
    Test::Harness       3.44    
    Test::More          1.302191
    YAML                n/a     
    YAML::Syck          n/a     
    version             0.9929  


--

Summary of my perl5 (revision 5 version 14 subversion 1) configuration:
   
  Platform:
    osname=linux, osvers=5.4.0-91-generic, archname=x86_64-linux
    uname='linux supremeadmin 5.4.0-91-generic #102-ubuntu smp fri nov 5 16:31:28 utc 2021 x86_64 x86_64 x86_64 gnulinux '
    config_args='-Dprefix=/home/liveapp/.plenv/versions/5.14.1 -de -Dversiononly -A'eval:scriptdir=/home/liveapp/.plenv/versions/5.14.1/bin''
    hint=recommended, useposix=true, d_sigaction=define
    useithreads=undef, usemultiplicity=undef
    useperlio=define, d_sfio=undef, uselargefiles=define, usesocks=undef
    use64bitint=define, use64bitall=define, uselongdouble=undef
    usemymalloc=n, bincompat5005=undef
  Compiler:
    cc='cc', ccflags ='-fwrapv -fno-strict-aliasing -pipe -fstack-protector -I/usr/local/include -D_LARGEFILE_SOURCE -D_FILE_OFFSET_BITS=64',
    optimize='-O2',
    cppflags='-fwrapv -fno-strict-aliasing -pipe -fstack-protector -I/usr/local/include'
    ccversion='', gccversion='9.4.0', gccosandvers=''
    intsize=4, longsize=8, ptrsize=8, doublesize=8, byteorder=12345678
    d_longlong=define, longlongsize=8, d_longdbl=define, longdblsize=16
    ivtype='long', ivsize=8, nvtype='double', nvsize=8, Off_t='off_t', lseeksize=8
    alignbytes=8, prototype=define
  Linker and Libraries:
    ld='cc', ldflags =' -fstack-protector -L/usr/local/lib'
    libpth=/usr/local/lib /lib/x86_64-linux-gnu /lib/../lib /usr/lib/x86_64-linux-gnu /usr/lib/../lib /lib /usr/lib
    libs=-lnsl -ldl -lm -lcrypt -lutil -lc
    perllibs=-lnsl -ldl -lm -lcrypt -lutil -lc
    libc=libc-2.31.so, so=so, useshrplib=false, libperl=libperl.a
    gnulibc_version='2.31'
  Dynamic Linking:
    dlsrc=dl_dlopen.xs, dlext=so, d_dlsymun=undef, ccdlflags='-Wl,-E'
    cccdlflags='-fPIC', lddlflags='-shared -O2 -L/usr/local/lib -fstack-protector'


Characteristics of this binary (from libperl): 
  Compile-time options: PERL_DONT_CREATE_GVSV PERL_MALLOC_WRAP
                        PERL_PRESERVE_IVUV USE_64_BIT_ALL USE_64_BIT_INT
                        USE_LARGE_FILES USE_PERLIO USE_PERL_ATOF
  Locally applied patches:
	Devel::PatchPerl 2.08
  Built under linux
  Compiled at Aug  8 2022 07:14:45
  %ENV:
    PERL_CPANM_HOME="/home/liveapp/cpantesters.new/5.14.1/.cpanm_temp"
  @INC:
    /home/liveapp/.plenv/versions/5.14.1/lib/perl5/site_perl/5.14.1/x86_64-linux
    /home/liveapp/.plenv/versions/5.14.1/lib/perl5/site_perl/5.14.1
    /home/liveapp/.plenv/versions/5.14.1/lib/perl5/5.14.1/x86_64-linux
    /home/liveapp/.plenv/versions/5.14.1/lib/perl5/5.14.1
    .