Perl-Critic v1.152 Perl 5 v5.30.3 darwin-2level
- Status
- Pass
- From
- Stanislaw Pusep
- Dist
-
Perl-Critic v1.152
- Platform
- Perl 5 v5.30.3 darwin-2level
- Date
- 2023-10-17 19:24:35
- ID
- ce6f3b66-6d22-11ee-b78f-850b8e573f85
This distribution has been tested as part of the CPAN Testers
project, supporting the Perl programming language. See
http://wiki.cpantesters.org/ for more information or email
questions to cpan-testers-discuss@perl.org
--
Dear PETDANCE,
This is a computer-generated report for Perl-Critic-1.152
on perl 5.30.3, created by App::cpanminus::reporter 0.21 (1.7044).
Thank you for uploading your work to CPAN. Congratulations!
All tests were successful.
Sections of this report:
* Tester comments
* Program output
* Prerequisites
* Environment and other context
------------------------------
TESTER COMMENTS
------------------------------
Additional comments from tester:
none provided
------------------------------
PROGRAM OUTPUT
------------------------------
Output from '':
Building and testing Perl-Critic-1.152
Building Perl-Critic
Generating t/ControlStructures/ProhibitNegativeExpressionsInUnlessAndUntilConditions.run.
Done.
Generating t/NamingConventions/Capitalization.run.
Done.
Generating t/Variables/RequireLocalizedPunctuationVars.run.
Done.
# Testing Perl::Critic 1.152 with PPI 1.277 under Perl 5.030003, /Users/stan/perl5/perlbrew/perls/perl-5.30.3/bin/perl
t/00_modules.t ................................ ok
t/00_versions.t ............................... ok
t/01_config.t ................................. ok
t/01_config_bad_perlcriticrc.t ................ ok
t/01_policy_config.t .......................... ok
t/02_policy.t ................................. ok
t/03_annotations.t ............................ ok
t/03_pragmas.t ................................ ok
t/04_options_processor.t ...................... ok
t/05_utils.t .................................. ok
t/05_utils_perl.t ............................. ok
t/05_utils_pod.t .............................. ok
t/05_utils_ppi.t .............................. ok
t/06_violation.t .............................. ok
t/07_command.t ................................ ok
t/07_perlcritic.t ............................. ok
t/08_document.t ............................... ok
t/09_theme.t .................................. ok
t/10_user_profile.t ........................... ok
t/11_policy_factory.t ......................... ok
t/12_policy_listing.t ......................... ok
t/12_theme_listing.t .......................... ok
t/13_bundled_policies.t ....................... ok
t/14_policy_parameter_behavior_boolean.t ...... ok
t/14_policy_parameter_behavior_enumeration.t .. ok
t/14_policy_parameter_behavior_integer.t ...... ok
t/14_policy_parameter_behavior_list_string.t .. ok
t/14_policy_parameter_behavior_string.t ....... ok
t/14_policy_parameters.t ...................... ok
t/15_statistics.t ............................. ok
t/16_roundtrip_defaults.t ..................... ok
t/20_policies.t ............................... ok
t/20_policy_pod_spelling.t .................... ok
t/20_policy_prohibit_evil_modules.t ........... ok
t/20_policy_prohibit_hard_tabs.t .............. ok
t/20_policy_prohibit_trailing_whitespace.t .... ok
t/20_policy_require_consistent_newlines.t ..... ok
t/20_policy_require_tidy_code.t ............... ok
Unhandled type: REGEXP at /Users/stan/perl5/perlbrew/perls/perl-5.30.3/lib/site_perl/5.30.3/Devel/Cycle.pm line 107.
t/92_memory_leaks.t ........................... ok
t/gh-734.t .................................... ok
All tests successful.
Files=40, Tests=8182, 46 wallclock secs ( 0.69 usr 0.14 sys + 40.98 cusr 4.36 csys = 46.17 CPU)
Result: PASS
------------------------------
PREREQUISITES
------------------------------
Prerequisite modules loaded:
runtime:
Module Need Have
------------------------- -------- --------
B::Keywords 1.23 1.26
Carp 0 1.50
charnames 0 1.45
Config::Tiny 2 2.30
English 0 1.10
Exception::Class 1.23 1.45
Exporter 5.63 5.77
File::Basename 0 2.85
File::Find 0 1.36
File::Path 0 2.18
File::Spec 0 3.75
File::Spec::Unix 0 3.75
File::Temp 0 0.2311
File::Which 0 1.27
Getopt::Long 0 2.54
List::SomeUtils 0.55 0.59
List::Util 0 1.63
Module::Pluggable 3.1 5.2
overload 0 1.30
parent 0 0.241
perl 5.010001 5.030003
Perl::Tidy 0 20230912
Pod::PlainText 0 2.07
Pod::Select 0 1.66
Pod::Spell 1 1.26
Pod::Usage 0 2.03
PPI 1.277 1.277
PPI::Document 1.277 1.277
PPI::Document::File 1.277 1.277
PPI::Node 1.277 1.277
PPI::Token::Quote::Single 1.277 1.277
PPI::Token::Whitespace 1.277 1.277
PPIx::QuoteLike 0 0.023
PPIx::Regexp 0.027 0.088
PPIx::Regexp::Util 0.068 0.088
PPIx::Utils::Traversal 0.003 0.003
Readonly 2 2.05
Scalar::Util 0 1.63
strict 0 1.11
String::Format 1.18 1.18
Term::ANSIColor 2.02 5.01
Test::Builder 0.92 1.302195
Text::ParseWords 3 3.31
version 0.77 0.9930
warnings 0 1.44
configure:
Module Need Have
------------------------- -------- --------
B::Keywords 1.23 1.26
base 0 2.27
Carp 0 1.50
English 0 1.10
Exporter 5.63 5.77
lib 0 0.65
List::SomeUtils 0.55 0.59
Module::Build 0.4204 0.4234
------------------------------
ENVIRONMENT AND OTHER CONTEXT
------------------------------
Environment variables:
LANG = en_US.UTF-8
LC_ALL = en_US.UTF-8
LDFLAGS = -L/usr/local/opt/curl/lib
PATH = /Users/stan/perl5/perlbrew/bin:/Users/stan/perl5/perlbrew/perls/perl-5.30.3/bin:/Users/stan/perl5/perlbrew/bin:/Users/stan/perl5/perlbrew/perls/perl-5.38.0/bin:/usr/local/opt/mysql-client/bin:/usr/local/opt/curl/bin:/usr/local/bin:/usr/local/sbin:/usr/local/bin:/System/Cryptexes/App/usr/bin:/usr/bin:/bin:/usr/sbin:/sbin:/Applications/Little Snitch.app/Contents/Components:/opt/X11/bin:/var/run/com.apple.security.cryptexd/codex.system/bootstrap/usr/local/bin:/var/run/com.apple.security.cryptexd/codex.system/bootstrap/usr/bin:/var/run/com.apple.security.cryptexd/codex.system/bootstrap/usr/appleinternal/bin:/Users/stan/.vim/bin:/Users/stan/bin:/Users/stan/node_modules/.bin:/usr/local/sbin:/usr/local/opt/mysql-client/bin:/usr/local/opt/curl/bin:/Applications/kitty.app/Contents/MacOS
PERL5LIB =
PERLBREW_HOME = /Users/stan/.perlbrew
PERLBREW_LIB =
PERLBREW_MANPATH = /Users/stan/perl5/perlbrew/perls/perl-5.30.3/man
PERLBREW_PATH = /Users/stan/perl5/perlbrew/bin:/Users/stan/perl5/perlbrew/perls/perl-5.30.3/bin
PERLBREW_PERL = perl-5.30.3
PERLBREW_ROOT = /Users/stan/perl5/perlbrew
PERLBREW_SHELLRC_VERSION = 0.92
PERLBREW_VERSION = 0.92
PERL_LOCAL_LIB_ROOT =
PERL_MM_USE_DEFAULT = 1
SHELL = /usr/local/bin/zsh
TERM = screen-256color
TMPDIR = /var/folders/tk/hx6fvpsj3yzbyd1k1br945mc0000gn/T/
Perl special variables (and OS-specific diagnostics, for MSWin32):
EGID = 20 20 12 61 79 80 81 98 701 33 100 204 250 395 398 101 400
EUID = 501
EXECUTABLE_NAME = /Users/stan/perl5/perlbrew/perls/perl-5.30.3/bin/perl
GID = 20 20 12 61 79 80 81 98 701 33 100 204 250 395 398 101 400
UID = 501
Perl module toolchain versions installed:
Module Have
------------------- --------
CPAN 2.36
CPAN::Meta 2.150010
Cwd 3.75
ExtUtils::CBuilder 0.280236
ExtUtils::Command 7.70
ExtUtils::Install 2.22
ExtUtils::MakeMaker 7.70
ExtUtils::Manifest 1.75
ExtUtils::ParseXS 3.51
File::Spec 3.75
JSON 4.10
JSON::PP 4.16
Module::Build 0.4234
Module::Signature n/a
Parse::CPAN::Meta 2.150010
Test::Harness 3.48
Test::More 1.302195
YAML 1.30
YAML::Syck n/a
version 0.9930
--
Summary of my perl5 (revision 5 version 30 subversion 3) configuration:
Platform:
osname=darwin
osvers=21.3.0
archname=darwin-2level
uname='darwin imac.fritz.box 21.3.0 darwin kernel version 21.3.0: wed jan 5 21:37:58 pst 2022; root:xnu-8019.80.24~20release_x86_64 x86_64 '
config_args='-de -Dprefix=/Users/stan/perl5/perlbrew/perls/perl-5.30.3 -Aeval:scriptdir=/Users/stan/perl5/perlbrew/perls/perl-5.30.3/bin'
hint=recommended
useposix=true
d_sigaction=define
useithreads=undef
usemultiplicity=undef
use64bitint=define
use64bitall=define
uselongdouble=undef
usemymalloc=n
default_inc_excludes_dot=define
bincompat5005=undef
Compiler:
cc='cc'
ccflags ='-fno-common -DPERL_DARWIN -mmacosx-version-min=12.2 -fno-strict-aliasing -pipe -fstack-protector-strong -I/usr/local/include -DPERL_USE_SAFE_PUTENV'
optimize='-O3'
cppflags='-fno-common -DPERL_DARWIN -mmacosx-version-min=12.2 -fno-strict-aliasing -pipe -fstack-protector-strong -I/usr/local/include'
ccversion=''
gccversion='Apple LLVM 13.0.0 (clang-1300.0.29.30)'
gccosandvers=''
intsize=4
longsize=8
ptrsize=8
doublesize=8
byteorder=12345678
doublekind=3
d_longlong=define
longlongsize=8
d_longdbl=define
longdblsize=16
longdblkind=3
ivtype='long'
ivsize=8
nvtype='double'
nvsize=8
Off_t='off_t'
lseeksize=8
alignbytes=8
prototype=define
Linker and Libraries:
ld='cc'
ldflags =' -mmacosx-version-min=12.2 -fstack-protector-strong -L/usr/local/lib'
libpth=/usr/local/lib /Library/Developer/CommandLineTools/usr/lib/clang/13.0.0/lib /Library/Developer/CommandLineTools/SDKs/MacOSX.sdk/usr/lib /Library/Developer/CommandLineTools/usr/lib /usr/lib
libs=-lgdbm -ldb
perllibs=
libc=
so=dylib
useshrplib=false
libperl=libperl.a
gnulibc_version=''
Dynamic Linking:
dlsrc=dl_dlopen.xs
dlext=bundle
d_dlsymun=undef
ccdlflags=' '
cccdlflags=' '
lddlflags=' -mmacosx-version-min=12.2 -bundle -undefined dynamic_lookup -L/usr/local/lib -fstack-protector-strong'
Characteristics of this binary (from libperl):
Compile-time options:
HAS_TIMES
PERLIO_LAYERS
PERL_COPY_ON_WRITE
PERL_DONT_CREATE_GVSV
PERL_MALLOC_WRAP
PERL_OP_PARENT
PERL_PRESERVE_IVUV
PERL_USE_SAFE_PUTENV
USE_64_BIT_ALL
USE_64_BIT_INT
USE_LARGE_FILES
USE_LOCALE
USE_LOCALE_COLLATE
USE_LOCALE_CTYPE
USE_LOCALE_NUMERIC
USE_LOCALE_TIME
USE_PERLIO
USE_PERL_ATOF
Locally applied patches:
Devel::PatchPerl 2.08
Built under darwin
Compiled at Feb 10 2022 22:33:25
%ENV:
PERL5LIB=""
PERLBREW_HOME="/Users/stan/.perlbrew"
PERLBREW_LIB=""
PERLBREW_MANPATH="/Users/stan/perl5/perlbrew/perls/perl-5.30.3/man"
PERLBREW_PATH="/Users/stan/perl5/perlbrew/bin:/Users/stan/perl5/perlbrew/perls/perl-5.30.3/bin"
PERLBREW_PERL="perl-5.30.3"
PERLBREW_ROOT="/Users/stan/perl5/perlbrew"
PERLBREW_SHELLRC_VERSION="0.92"
PERLBREW_VERSION="0.92"
PERL_LOCAL_LIB_ROOT=""
PERL_MM_USE_DEFAULT="1"
@INC:
/Users/stan/perl5/perlbrew/perls/perl-5.30.3/lib/site_perl/5.30.3/darwin-2level
/Users/stan/perl5/perlbrew/perls/perl-5.30.3/lib/site_perl/5.30.3
/Users/stan/perl5/perlbrew/perls/perl-5.30.3/lib/5.30.3/darwin-2level
/Users/stan/perl5/perlbrew/perls/perl-5.30.3/lib/5.30.3