Yancy v1.083 Perl 5 v5.20.2 amd64-freebsd

Status
Pass
From
David Cantrell (DCANTRELL)
Dist
Yancy v1.083
Platform
Perl 5 v5.20.2 amd64-freebsd
Date
2021-11-03 23:00:14
ID
cdfee84e-3cf9-11ec-a8c0-ec756db9133c
This distribution has been tested as part of the CPAN Testers
project, supporting the Perl programming language.  See
http://wiki.cpantesters.org/ for more information or email
questions to cpan-testers-discuss@perl.org


--
Dear Doug Bell,

This is a computer-generated report for Yancy-1.083
on perl 5.20.2, created by CPAN-Reporter-1.2018.

Thank you for uploading your work to CPAN.  Congratulations!
All tests were successful.

Sections of this report:

    * Tester comments
    * Program output
    * Prerequisites
    * Environment and other context

------------------------------
TESTER COMMENTS
------------------------------

Additional comments from tester:

this report is from an automated smoke testing program
and was not reviewed by a human for accuracy

------------------------------
PROGRAM OUTPUT
------------------------------

Output from '/usr/bin/make test':

Skip blib/lib/auto/share/dist/Yancy/update_resources.sh (unchanged)
PERL_DL_NONLAZY=1 "/usr/home/david/cpantesting/perl-5.20.2/bin/perl" "-MExtUtils::Command::MM" "-MTest::Harness" "-e" "undef *Test::Harness::Switches; test_harness(0, 'blib/lib', 'blib/arch')" t/*.t t/backend/*.t t/command/backend/*.t t/controller/*.t t/examples/*.t t/plugin/*.t t/plugin/auth/*.t t/plugin/form/*.t
t/00-compile.t ............... ok
# 
# Versions for all modules listed in MYMETA.json (including optional ones):
# 
# === Configure Requires ===
# 
#     Module                  Want Have
#     ----------------------- ---- ----
#     ExtUtils::MakeMaker      any 7.62
#     File::ShareDir::Install 0.06 0.13
# 
# === Configure Suggests ===
# 
#     Module      Want Have
#     -------- ------- ----
#     JSON::PP 2.27300 4.05
# 
# === Build Requires ===
# 
#     Module              Want Have
#     ------------------- ---- ----
#     ExtUtils::MakeMaker  any 7.62
# 
# === Test Requires ===
# 
#     Module                  Want     Have
#     ------------------- -------- --------
#     ExtUtils::MakeMaker      any     7.62
#     File::Spec               any  3.48_01
#     File::Temp            0.2307   0.2311
#     IO::Handle               any     1.35
#     IPC::Open3               any     1.16
#     Test::More          1.001005 1.302183
# 
# === Test Recommends ===
# 
#     Module         Want     Have
#     ---------- -------- --------
#     CPAN::Meta 2.120900 2.143240
# 
# === Runtime Requires ===
# 
#     Module                           Want     Have
#     ---------------------------- -------- --------
#     Class::Method::Modifiers          any     2.13
#     Digest                            any     1.17
#     Exporter                          any     5.71
#     File::Spec::Functions             any  3.48_01
#     FindBin                           any     1.51
#     JSON::Validator                  5.00     5.02
#     Mojolicious                         9     9.22
#     Mojolicious::Plugin::I18N         1.6      1.6
#     Mojolicious::Plugin::OpenAPI     5.00     5.00
#     Role::Tiny                   2.000001 2.002004
#     Scalar::Util                      any     1.60
#     Sys::Hostname                     any     1.18
#     Text::Balanced                    any     2.02
# 
t/00-report-prereqs.t ........ ok
x-view is deprecated and will be removed in v2. Use Yancy::Model or your database's CREATE VIEW instead. at /usr/home/david/cpantesting/perl-5.20.2/.cpan/build/Yancy-1.083-W9ETJr/blib/lib/Yancy/Model/Schema.pm line 281.
t/api.t ...................... ok
t/app.t ...................... ok
t/backend/dbic.t ............. skipped: DBIx::Class >= 0.082842 required for this test
t/backend/memory.t ........... ok
t/backend/mysql.t ............ skipped: Mojo::mysql >= 1.0 required for this test
t/backend/pg.t ............... skipped: Mojo::Pg >= 3.0 required for this test
t/backend/sqlite.t ........... skipped: DBD::SQLite >= 1.56 required for this test
x-view is deprecated and will be removed in v2. Use Yancy::Model or your database's CREATE VIEW instead. at /usr/home/david/cpantesting/perl-5.20.2/.cpan/build/Yancy-1.083-W9ETJr/blib/lib/Yancy/Model/Schema.pm line 281.
t/command/backend/copy.t ..... ok
x-view is deprecated and will be removed in v2. Use Yancy::Model or your database's CREATE VIEW instead. at /usr/home/david/cpantesting/perl-5.20.2/.cpan/build/Yancy-1.083-W9ETJr/blib/lib/Yancy/Model/Schema.pm line 281.
t/config.t ................... ok
x-view is deprecated and will be removed in v2. Use Yancy::Model or your database's CREATE VIEW instead. at /usr/home/david/cpantesting/perl-5.20.2/.cpan/build/Yancy-1.083-W9ETJr/blib/lib/Yancy/Model/Schema.pm line 281.
t/controller/multi_tenant.t .. ok
x-view is deprecated and will be removed in v2. Use Yancy::Model or your database's CREATE VIEW instead. at /usr/home/david/cpantesting/perl-5.20.2/.cpan/build/Yancy-1.083-W9ETJr/blib/lib/Yancy/Model/Schema.pm line 281.
t/controller/yancy.t ......... ok
t/examples/doc-site.t ........ skipped: Set TEST_YANCY_EXAMPLES to run these tests
t/examples/limited-editor.t .. skipped: Set TEST_YANCY_EXAMPLES to run these tests
t/examples/test-app.t ........ skipped: Set TEST_YANCY_EXAMPLES to run these tests
t/examples/todo-app.t ........ skipped: Set TEST_YANCY_EXAMPLES to run these tests
x-view is deprecated and will be removed in v2. Use Yancy::Model or your database's CREATE VIEW instead. at /usr/home/david/cpantesting/perl-5.20.2/.cpan/build/Yancy-1.083-W9ETJr/blib/lib/Yancy/Model/Schema.pm line 281.
[2021-11-03 22:59:23.46777] [84402] [fatal] [a2WnkiLReiz8] Unknown filter: DOES.NOT.EXIST (schema: user, field: email) at /usr/home/david/cpantesting/perl-5.20.2/.cpan/build/Yancy-1.083-W9ETJr/blib/lib/Mojolicious/Plugin/Yancy.pm line 868.

t/filter.t ................... ok
x-view is deprecated and will be removed in v2. Use Yancy::Model or your database's CREATE VIEW instead. at /usr/home/david/cpantesting/perl-5.20.2/.cpan/build/Yancy-1.083-W9ETJr/blib/lib/Yancy/Model/Schema.pm line 281.
t/helpers.t .................. ok
x-view is deprecated and will be removed in v2. Use Yancy::Model or your database's CREATE VIEW instead. at /usr/home/david/cpantesting/perl-5.20.2/.cpan/build/Yancy-1.083-W9ETJr/blib/lib/Yancy/Model/Schema.pm line 281.
t/i18n.t ..................... ok
t/model.t .................... ok
x-view is deprecated and will be removed in v2. Use Yancy::Model or your database's CREATE VIEW instead. at /usr/home/david/cpantesting/perl-5.20.2/.cpan/build/Yancy-1.083-W9ETJr/blib/lib/Yancy/Model/Schema.pm line 281.
t/plugin/auth.t .............. ok
x-view is deprecated and will be removed in v2. Use Yancy::Model or your database's CREATE VIEW instead. at /usr/home/david/cpantesting/perl-5.20.2/.cpan/build/Yancy-1.083-W9ETJr/blib/lib/Yancy/Model/Schema.pm line 281.
The Auth::Basic plugin is deprecated and will be removed in Yancy v2.000. Please migrate to the Auth::Password module.
 at /usr/home/david/cpantesting/perl-5.20.2/.cpan/build/Yancy-1.083-W9ETJr/blib/lib/Yancy/Plugin/Auth/Basic.pm line 256.
t/plugin/auth/basic.t ........ ok
x-view is deprecated and will be removed in v2. Use Yancy::Model or your database's CREATE VIEW instead. at /usr/home/david/cpantesting/perl-5.20.2/.cpan/build/Yancy-1.083-W9ETJr/blib/lib/Yancy/Model/Schema.pm line 281.
t/plugin/auth/github.t ....... ok
x-view is deprecated and will be removed in v2. Use Yancy::Model or your database's CREATE VIEW instead. at /usr/home/david/cpantesting/perl-5.20.2/.cpan/build/Yancy-1.083-W9ETJr/blib/lib/Yancy/Model/Schema.pm line 281.
t/plugin/auth/oauth2.t ....... ok
x-view is deprecated and will be removed in v2. Use Yancy::Model or your database's CREATE VIEW instead. at /usr/home/david/cpantesting/perl-5.20.2/.cpan/build/Yancy-1.083-W9ETJr/blib/lib/Yancy/Model/Schema.pm line 281.
t/plugin/auth/password.t ..... ok
x-view is deprecated and will be removed in v2. Use Yancy::Model or your database's CREATE VIEW instead. at /usr/home/david/cpantesting/perl-5.20.2/.cpan/build/Yancy-1.083-W9ETJr/blib/lib/Yancy/Model/Schema.pm line 281.
t/plugin/auth/token.t ........ ok
t/plugin/editor.t ............ ok
x-view is deprecated and will be removed in v2. Use Yancy::Model or your database's CREATE VIEW instead. at /usr/home/david/cpantesting/perl-5.20.2/.cpan/build/Yancy-1.083-W9ETJr/blib/lib/Yancy/Model/Schema.pm line 281.
[2021-11-03 23:00:01.64791] [84464] [warn] *** Cannot verify that admin editor is behind authentication.
Add a Yancy Auth plugin, add a `route` to the Yancy plugin config,
or set `editor.require_user => undef` to silence this warning

t/plugin/file.t .............. ok
x-view is deprecated and will be removed in v2. Use Yancy::Model or your database's CREATE VIEW instead. at /usr/home/david/cpantesting/perl-5.20.2/.cpan/build/Yancy-1.083-W9ETJr/blib/lib/Yancy/Model/Schema.pm line 281.
[2021-11-03 23:00:07.06901] [84547] [warn] [-xF5_scVYCwI] form_for() called with incomplete request. CSRF token may not validate!
t/plugin/form/bootstrap4.t ... ok
x-view is deprecated and will be removed in v2. Use Yancy::Model or your database's CREATE VIEW instead. at /usr/home/david/cpantesting/perl-5.20.2/.cpan/build/Yancy-1.083-W9ETJr/blib/lib/Yancy/Model/Schema.pm line 281.
t/plugin/roles.t ............. ok
    # Can't locate DBI.pm in @INC (you may need to install the DBI module) (@INC contains: /usr/home/david/cpantesting/perl-5.20.2/.cpan/build/Yancy-1.083-W9ETJr/t/lib /usr/home/david/cpantesting/perl-5.20.2/.cpan/build/Yancy-1.083-W9ETJr/blib/lib /usr/home/david/cpantesting/perl-5.20.2/.cpan/build/Yancy-1.083-W9ETJr/blib/arch /home/david/cpantesting/perl-5.20.2/lib/site_perl/5.20.2/amd64-freebsd /home/david/cpantesting/perl-5.20.2/lib/site_perl/5.20.2 /home/david/cpantesting/perl-5.20.2/lib/5.20.2/amd64-freebsd /home/david/cpantesting/perl-5.20.2/lib/5.20.2 .) at /usr/home/david/cpantesting/perl-5.20.2/.cpan/build/Yancy-1.083-W9ETJr/blib/lib/Yancy/Backend/Role/DBI.pm line 27.
    # BEGIN failed--compilation aborted at /usr/home/david/cpantesting/perl-5.20.2/.cpan/build/Yancy-1.083-W9ETJr/blib/lib/Yancy/Backend/Role/DBI.pm line 27.
    # Compilation failed in require at /home/david/cpantesting/perl-5.20.2/lib/site_perl/5.20.2/Role/Tiny.pm line 51.
    # Compilation failed in require at /home/david/cpantesting/perl-5.20.2/lib/site_perl/5.20.2/Mojo/Base.pm line 134.
    # BEGIN failed--compilation aborted at /usr/home/david/cpantesting/perl-5.20.2/.cpan/build/Yancy-1.083-W9ETJr/blib/lib/Yancy/Backend/Sqlite.pm line 108.
    # Compilation failed in require at t/register.t line 21.
    # Could not load Pg backend: Mojo::Pg version 4.03 or higher required
    # BEGIN failed--compilation aborted at /usr/home/david/cpantesting/perl-5.20.2/.cpan/build/Yancy-1.083-W9ETJr/blib/lib/Yancy/Backend/Pg.pm line 128.
    # Compilation failed in require at t/register.t line 37.
    # Could not load Mysql backend: Mojo::mysql version 1.05 or higher required
    # BEGIN failed--compilation aborted at /usr/home/david/cpantesting/perl-5.20.2/.cpan/build/Yancy-1.083-W9ETJr/blib/lib/Yancy/Backend/Mysql.pm line 119.
    # Compilation failed in require at t/register.t line 53.
t/register.t ................. ok
t/util.t ..................... ok
All tests successful.
Files=33, Tests=201, 128 wallclock secs ( 0.65 usr  0.29 sys + 61.42 cusr  6.69 csys = 69.05 CPU)
Result: PASS

------------------------------
PREREQUISITES
------------------------------

Prerequisite modules loaded:

requires:

    Module                       Need     Have    
    ---------------------------- -------- --------
    Class::Method::Modifiers     0        2.13    
    Digest                       0        1.17    
    Exporter                     0        5.71    
    File::Spec::Functions        0        3.48_01 
    FindBin                      0        1.51    
    JSON::Validator              5.00     5.02    
    Mojolicious                  9        9.22    
    Mojolicious::Plugin::I18N    1.6      1.6     
    Mojolicious::Plugin::OpenAPI 5.00     5.00    
    perl                         5.016    5.020002
    Role::Tiny                   2.000001 2.002004
    Scalar::Util                 0        1.60    
    Sys::Hostname                0        1.18    
    Text::Balanced               0        2.02    

build_requires:

    Module                       Need     Have    
    ---------------------------- -------- --------
    ExtUtils::MakeMaker          0        7.62    
    File::Spec                   0        3.48_01 
    File::Temp                   0.2307   0.2311  
    IO::Handle                   0        1.35    
    IPC::Open3                   0        1.16    
    Test::More                   1.001005 1.302183

configure_requires:

    Module                       Need     Have    
    ---------------------------- -------- --------
    ExtUtils::MakeMaker          0        7.62    
    File::ShareDir::Install      0.06     0.13    


------------------------------
ENVIRONMENT AND OTHER CONTEXT
------------------------------

Environment variables:

    AUTOMATED_TESTING = 1
    LANG = en_GB.UTF-8
    NONINTERACTIVE_TESTING = 1
    PATH = /home/david/perl5/perlbrew/bin:/home/david/perl5/perlbrew/perls/perl-5.30.2/bin:/sbin:/bin:/usr/sbin:/usr/bin:/usr/local/sbin:/usr/local/bin:/home/david/bin
    PERL = 5.20.2
    PERL5LIB = 
    PERL5OPT = 
    PERL5_CPANPLUS_IS_RUNNING = 81996
    PERL5_CPAN_IS_RUNNING = 81996
    PERLBREW_HOME = /home/david/.perlbrew
    PERLBREW_MANPATH = /home/david/perl5/perlbrew/perls/perl-5.30.2/man
    PERLBREW_PATH = /home/david/perl5/perlbrew/bin:/home/david/perl5/perlbrew/perls/perl-5.30.2/bin
    PERLBREW_PERL = perl-5.30.2
    PERLBREW_ROOT = /home/david/perl5/perlbrew
    PERLBREW_SHELLRC_VERSION = 0.89
    PERLBREW_VERSION = 0.89
    PERLVER = 5.20.2
    PERL_INLINE_DIRECTORY = /home/david/.Inline-5.20.2
    PERL_MM_USE_DEFAULT = 1
    PERL_USE_UNSAFE_INC = 0
    SHELL = /usr/local/bin/bash
    TERM = screen

Perl special variables (and OS-specific diagnostics, for MSWin32):

    $^X = /usr/home/david/cpantesting/perl-5.20.2/bin/perl
    $UID/$EUID = 1001 / 1001
    $GID = 1001 1001 0
    $EGID = 1001 1001 0

Perl module toolchain versions installed:

    Module              Have    
    ------------------- --------
    CPAN                2.05    
    CPAN::Meta          2.143240
    Cwd                 3.48_01 
    ExtUtils::CBuilder  0.280217
    ExtUtils::Command   7.62    
    ExtUtils::Install   2.06    
    ExtUtils::MakeMaker 7.62    
    ExtUtils::Manifest  1.70    
    ExtUtils::ParseXS   3.35    
    File::Spec          3.48_01 
    JSON                4.03    
    JSON::PP            4.05    
    Module::Build       0.4231  
    Module::Signature   n/a     
    Parse::CPAN::Meta   1.4414  
    Test::Harness       3.30    
    Test::More          1.302183
    YAML                n/a     
    YAML::Syck          n/a     
    version             0.9909  


--

Summary of my perl5 (revision 5 version 20 subversion 2) configuration:
   
  Platform:
    osname=freebsd, osvers=12.2-release, archname=amd64-freebsd
    uname='freebsd cpantesting-freebsd 12.2-release freebsd 12.2-release r366954 generic amd64 '
    config_args='-de -Dprefix=/home/david/cpantesting/perl-5.20.2'
    hint=recommended, useposix=true, d_sigaction=define
    useithreads=undef, usemultiplicity=undef
    use64bitint=define, use64bitall=define, uselongdouble=undef
    usemymalloc=n, bincompat5005=undef
  Compiler:
    cc='cc', ccflags ='-DHAS_FPSETMASK -DHAS_FLOATINGPOINT_H -fno-strict-aliasing -pipe -fstack-protector -I/usr/local/include',
    optimize='-O',
    cppflags='-DHAS_FPSETMASK -DHAS_FLOATINGPOINT_H -fno-strict-aliasing -pipe -fstack-protector -I/usr/local/include'
    ccversion='', gccversion='FreeBSD Clang 10.0.1 (git@github.com:llvm/llvm-project.git llvmorg-10.0.1-0-gef32c611aa2)', gccosandvers=''
    intsize=4, longsize=8, ptrsize=8, doublesize=8, byteorder=12345678
    d_longlong=define, longlongsize=8, d_longdbl=define, longdblsize=16
    ivtype='long', ivsize=8, nvtype='double', nvsize=8, Off_t='off_t', lseeksize=8
    alignbytes=8, prototype=define
  Linker and Libraries:
    ld='cc', ldflags ='-Wl,-E  -fstack-protector -L/usr/local/lib'
    libpth=/usr/lib /usr/local/lib /usr/lib/clang/10.0.1/lib /usr/lib
    libs=-lgdbm -ldl -lm -lcrypt -lutil -lc
    perllibs=-ldl -lm -lcrypt -lutil -lc
    libc=, so=so, useshrplib=false, libperl=libperl.a
    gnulibc_version=''
  Dynamic Linking:
    dlsrc=dl_dlopen.xs, dlext=so, d_dlsymun=undef, ccdlflags=' '
    cccdlflags='-DPIC -fPIC', lddlflags='-shared  -L/usr/local/lib -fstack-protector'


Characteristics of this binary (from libperl): 
  Compile-time options: HAS_TIMES PERLIO_LAYERS PERL_DONT_CREATE_GVSV
                        PERL_HASH_FUNC_ONE_AT_A_TIME_HARD PERL_MALLOC_WRAP
                        PERL_NEW_COPY_ON_WRITE PERL_PRESERVE_IVUV
                        USE_64_BIT_ALL USE_64_BIT_INT USE_LARGE_FILES
                        USE_LOCALE USE_LOCALE_COLLATE USE_LOCALE_CTYPE
                        USE_LOCALE_NUMERIC USE_PERLIO USE_PERL_ATOF
  Built under freebsd
  Compiled at Dec 11 2020 09:52:34
  %ENV:
    PERL="5.20.2"
    PERL5LIB=""
    PERL5OPT=""
    PERL5_CPANPLUS_IS_RUNNING="81996"
    PERL5_CPAN_IS_RUNNING="81996"
    PERLBREW_HOME="/home/david/.perlbrew"
    PERLBREW_MANPATH="/home/david/perl5/perlbrew/perls/perl-5.30.2/man"
    PERLBREW_PATH="/home/david/perl5/perlbrew/bin:/home/david/perl5/perlbrew/perls/perl-5.30.2/bin"
    PERLBREW_PERL="perl-5.30.2"
    PERLBREW_ROOT="/home/david/perl5/perlbrew"
    PERLBREW_SHELLRC_VERSION="0.89"
    PERLBREW_VERSION="0.89"
    PERLVER="5.20.2"
    PERL_INLINE_DIRECTORY="/home/david/.Inline-5.20.2"
    PERL_MM_USE_DEFAULT="1"
    PERL_USE_UNSAFE_INC="0"
  @INC:
    /home/david/cpantesting/perl-5.20.2/lib/site_perl/5.20.2/amd64-freebsd
    /home/david/cpantesting/perl-5.20.2/lib/site_perl/5.20.2
    /home/david/cpantesting/perl-5.20.2/lib/5.20.2/amd64-freebsd
    /home/david/cpantesting/perl-5.20.2/lib/5.20.2
    .