Path-Tiny v0.144 Perl 5 v5.22.4 darwin-2level
- Status
- Pass
- From
- Abe Timmerman
- Dist
-
Path-Tiny v0.144
- Platform
- Perl 5 v5.22.4 darwin-2level
- Date
- 2023-11-12 08:09:29
- ID
- cde08b22-8132-11ee-b6a6-adfb3fe3cd06
This distribution has been tested as part of the CPAN Testers
project, supporting the Perl programming language. See
http://wiki.cpantesters.org/ for more information or email
questions to cpan-testers-discuss@perl.org
--
Dear David Golden,
This is a computer-generated report for Path-Tiny-0.144
on perl 5.22.4, created by CPAN-Reporter-1.2019.
Thank you for uploading your work to CPAN. Congratulations!
All tests were successful.
Sections of this report:
* Tester comments
* Program output
* Prerequisites
* Environment and other context
------------------------------
TESTER COMMENTS
------------------------------
Additional comments from tester:
none provided
------------------------------
PROGRAM OUTPUT
------------------------------
Output from '/usr/bin/make test':
PERL_DL_NONLAZY=1 "/opt/perl/perl5.22.4/bin/perl" "-MExtUtils::Command::MM" "-MTest::Harness" "-e" "undef *Test::Harness::Switches; test_harness(0, 'blib/lib', 'blib/arch')" t/*.t
#
# Versions for all modules listed in MYMETA.json (including optional ones):
#
# === Configure Requires ===
#
# Module Want Have
# ------------------- ---- ----
# ExtUtils::MakeMaker 6.17 7.70
#
# === Configure Suggests ===
#
# Module Want Have
# -------- ------- ----
# JSON::PP 2.27300 4.16
#
# === Build Requires ===
#
# Module Want Have
# ------------------- ---- ----
# ExtUtils::MakeMaker any 7.70
#
# === Test Requires ===
#
# Module Want Have
# --------------------- ---- --------
# Digest::MD5 any 2.54
# ExtUtils::MakeMaker any 7.70
# File::Basename any 2.85
# File::Spec 0.86 3.56_02
# File::Spec::Functions any 3.56_02
# File::Spec::Unix any 3.56_02
# File::Temp 0.19 0.2304
# Test::More 0.96 1.001014
# lib any 0.63
# open any 1.10
#
# === Test Recommends ===
#
# Module Want Have
# ------------------ -------- --------
# CPAN::Meta 2.120900 2.150001
# Test::FailWarnings any missing
# Test::MockRandom any missing
#
# === Runtime Requires ===
#
# Module Want Have
# ------------------ ---- -------
# Carp any 1.36
# Cwd any 3.56_02
# Digest 1.03 1.17_01
# Digest::SHA 5.45 5.95_01
# Encode any 3.20
# Exporter 5.57 5.72
# Fcntl any 1.13
# File::Compare any 1.1006
# File::Copy any 2.30
# File::Glob any 1.24
# File::Path 2.07 2.09
# File::Spec 0.86 3.56_02
# File::Temp 0.19 0.2304
# File::stat any 1.07
# constant any 1.33
# overload any 1.26
# strict any 1.09
# warnings any 1.34
# warnings::register any 1.04
#
# === Runtime Recommends ===
#
# Module Want Have
# ------------- ---- -------
# Unicode::UTF8 0.58 missing
#
t/00-report-prereqs.t ............. ok
t/basename.t ...................... ok
t/basic.t ......................... ok
t/children.t ...................... ok
t/chmod.t ......................... ok
t/digest.t ........................ ok
t/exception.t ..................... ok
t/exports.t ....................... ok
t/filesystem.t .................... ok
t/has_same_bytes.t ................ ok
t/input_output.t .................. ok
t/input_output_no_PU_UU.t ......... ok
t/input_output_no_UU.t ............ ok
t/locking.t ....................... ok
t/mkdir.t ......................... ok
t/mkpath.t ........................ ok
t/mutable_tree_while_iterating.t .. ok
t/normalize.t ..................... ok
t/overloading.t ................... ok
t/parent.t ........................ ok
t/recurse.t ....................... ok
t/rel-abs.t ....................... ok
t/sig_die.t ....................... ok
t/size.t .......................... ok
t/subsumes.t ...................... ok
t/symlinks.t ...................... ok
t/temp.t .......................... ok
t/visit.t ......................... ok
t/zz-atomic.t ..................... skipped: Test::MockRandom required for atomicity tests
t/zzz-spec.t ...................... ok
All tests successful.
Files=30, Tests=1769, 1 wallclock secs ( 0.07 usr 0.03 sys + 0.60 cusr 0.17 csys = 0.87 CPU)
Result: PASS
------------------------------
PREREQUISITES
------------------------------
Prerequisite modules loaded:
requires:
Module Need Have
--------------------- -------- --------
Carp 0 1.36
constant 0 1.33
Cwd 0 3.56_02
Digest 1.03 1.17_01
Digest::SHA 5.45 5.95_01
Encode 0 3.20
Exporter 5.57 5.72
Fcntl 0 1.13
File::Compare 0 1.1006
File::Copy 0 2.30
File::Glob 0 1.24
File::Path 2.07 2.09
File::Spec 0.86 3.56_02
File::stat 0 1.07
File::Temp 0.19 0.2304
overload 0 1.26
perl 5.008001 5.022004
strict 0 1.09
warnings 0 1.34
warnings::register 0 1.04
build_requires:
Module Need Have
--------------------- -------- --------
Digest::MD5 0 2.54
ExtUtils::MakeMaker 0 7.70
File::Basename 0 2.85
File::Spec 0.86 3.56_02
File::Spec::Functions 0 3.56_02
File::Spec::Unix 0 3.56_02
File::Temp 0.19 0.2304
lib 0 0.63
open 0 1.10
Test::More 0.96 1.001014
configure_requires:
Module Need Have
--------------------- -------- --------
ExtUtils::MakeMaker 6.17 7.70
perl 5.008001 5.022004
opt_requires:
Module Need Have
--------------------- -------- --------
! Unicode::UTF8 0.58 n/a
opt_build_requires:
Module Need Have
--------------------- -------- --------
CPAN::Meta 2.120900 2.150001
! Test::FailWarnings 0 n/a
! Test::MockRandom 0 n/a
------------------------------
ENVIRONMENT AND OTHER CONTEXT
------------------------------
Environment variables:
NONINTERACTIVE_TESTING = 1
PATH = /opt/homebrew/opt/perl/bin:/opt/homebrew/bin:/opt/homebrew/sbin:/Users/abeltje/bin:/Users/abeltje/xsbin:/usr/local/bin:/usr/bin:/bin:/usr/local/sbin/:/usr/sbin:/sbin
PERL5LIB = /Users/abeltje/.cpan/build/Net-DNS-1.40-e5hK1U/blib/arch:/Users/abeltje/.cpan/build/Net-DNS-1.40-e5hK1U/blib/lib:lib
PERL5OPT =
PERL5_CPANPLUS_IS_RUNNING = 40677
PERL5_CPAN_IS_RUNNING = 40677
PERL_MM_USE_DEFAULT = 1
SHELL = /bin/bash
TERM = screen-256color
TMPDIR = /var/folders/mk/6yqfnld12zbgp3gq6j52f3z40000gn/T/
VERSIONER_PERL_VERSION = 5.30
Perl special variables (and OS-specific diagnostics, for MSWin32):
$^X = /opt/perl/perl5.22.4/bin/perl
$UID/$EUID = 501 / 501
$GID = 20 20 12 61 79 80 81 98 702 33 100 204 250 395 398 399 400
$EGID = 20 20 12 61 79 80 81 98 702 33 100 204 250 395 398 399 400
Perl module toolchain versions installed:
Module Have
------------------- ----------
CPAN 2.36
CPAN::Meta 2.150001
Cwd 3.56_02
ExtUtils::CBuilder 0.280221
ExtUtils::Command 7.70
ExtUtils::Install 2.06
ExtUtils::MakeMaker 7.70
ExtUtils::Manifest 1.70
ExtUtils::ParseXS 3.28
File::Spec 3.56_02
JSON n/a
JSON::PP 4.16
Module::Build 0.4234
Module::Signature n/a
Parse::CPAN::Meta 1.4414_001
Test2 n/a
Test::Harness 3.35_01
Test::More 1.001014
YAML 1.30
YAML::Syck n/a
version 0.9909
--
Summary of my perl5 (revision 5 version 22 subversion 4) configuration:
Derived from: a26666a1317770d8a2228ac3657ba58020c3511f
Platform:
osname=darwin, osvers=23.1.0, archname=darwin-2level
uname='darwin idefix.fritz.box 23.1.0 darwin kernel version 23.1.0: mon oct 9 21:27:24 pdt 2023; root:xnu-10002.41.9~6release_arm64_t6000 arm64 '
config_args='-des -Dprefix=/opt/perl/perl5.22.4'
hint=recommended, useposix=true, d_sigaction=define
useithreads=undef, usemultiplicity=undef
use64bitint=define, use64bitall=define, uselongdouble=undef
usemymalloc=n, bincompat5005=undef
Compiler:
cc='cc', ccflags ='-fno-common -DPERL_DARWIN -mmacosx-version-min=14.1 -DNO_THREAD_SAFE_QUERYLOCALE -DNO_POSIX_2008_LOCALE -fno-strict-aliasing -pipe -fstack-protector-strong -I/usr/local/include',
optimize='-O3',
cppflags='-fno-common -DPERL_DARWIN -mmacosx-version-min=14.1 -DNO_THREAD_SAFE_QUERYLOCALE -DNO_POSIX_2008_LOCALE -fno-strict-aliasing -pipe -fstack-protector-strong -I/usr/local/include'
ccversion='', gccversion='Apple LLVM 15.0.0 (clang-1500.0.40.1)', gccosandvers=''
intsize=4, longsize=8, ptrsize=8, doublesize=8, byteorder=12345678, doublekind=3
d_longlong=define, longlongsize=8, d_longdbl=define, longdblsize=8, longdblkind=0
ivtype='long', ivsize=8, nvtype='double', nvsize=8, Off_t='off_t', lseeksize=8
alignbytes=8, prototype=define
Linker and Libraries:
ld='cc', ldflags =' -mmacosx-version-min=14.1 -fstack-protector-strong -L/usr/local/lib'
libpth=/usr/local/lib /Library/Developer/CommandLineTools/usr/lib/clang/15.0.0/lib /Library/Developer/CommandLineTools/SDKs/MacOSX.sdk/usr/lib /Library/Developer/CommandLineTools/usr/lib /usr/lib
libs=
perllibs=
libc=, so=dylib, useshrplib=false, libperl=libperl.a
gnulibc_version=''
Dynamic Linking:
dlsrc=dl_dlopen.xs, dlext=bundle, d_dlsymun=undef, ccdlflags=' '
cccdlflags=' ', lddlflags=' -mmacosx-version-min=14.1 -bundle -undefined dynamic_lookup -L/usr/local/lib -fstack-protector-strong'
Characteristics of this binary (from libperl):
Compile-time options: HAS_TIMES PERLIO_LAYERS PERL_DONT_CREATE_GVSV
PERL_HASH_FUNC_ONE_AT_A_TIME_HARD PERL_MALLOC_WRAP
PERL_NEW_COPY_ON_WRITE PERL_PRESERVE_IVUV
USE_64_BIT_ALL USE_64_BIT_INT USE_LARGE_FILES
USE_LOCALE USE_LOCALE_COLLATE USE_LOCALE_CTYPE
USE_LOCALE_NUMERIC USE_LOCALE_TIME USE_PERLIO
USE_PERL_ATOF
Locally applied patches:
uncommitted-changes
Built under darwin
Compiled at Nov 12 2023 08:40:42
%ENV:
PERL5LIB="/Users/abeltje/.cpan/build/Net-DNS-1.40-e5hK1U/blib/arch:/Users/abeltje/.cpan/build/Net-DNS-1.40-e5hK1U/blib/lib:lib"
PERL5OPT=""
PERL5_CPANPLUS_IS_RUNNING="40677"
PERL5_CPAN_IS_RUNNING="40677"
PERL_MM_USE_DEFAULT="1"
@INC:
/Users/abeltje/.cpan/build/Net-DNS-1.40-e5hK1U/blib/arch
/Users/abeltje/.cpan/build/Net-DNS-1.40-e5hK1U/blib/lib
lib
/opt/perl/perl5.22.4/lib/site_perl/5.22.4/darwin-2level
/opt/perl/perl5.22.4/lib/site_perl/5.22.4
/opt/perl/perl5.22.4/lib/5.22.4/darwin-2level
/opt/perl/perl5.22.4/lib/5.22.4
.