FunctionalPerl v0.72.65 Perl 5 v5.20.3 x86_64-linux
- Status
- Pass
- From
- Slaven Rezić
- Dist
-
FunctionalPerl v0.72.65
- Platform
- Perl 5 v5.20.3 x86_64-linux
- Date
- 2021-05-23 04:10:24
- ID
- cc2eb2fa-bb7c-11eb-802a-008d1f24ea8f
This distribution has been tested as part of the CPAN Testers
project, supporting the Perl programming language. See
http://wiki.cpantesters.org/ for more information or email
questions to cpan-testers-discuss@perl.org
--
Dear Christian Jaeger,
This is a computer-generated report for FunctionalPerl-0.72.65
on perl 5.20.3, created by CPAN-Reporter-1.2018.
Thank you for uploading your work to CPAN. Congratulations!
All tests were successful.
Sections of this report:
* Tester comments
* Program output
* Prerequisites
* Environment and other context
------------------------------
TESTER COMMENTS
------------------------------
Additional comments from tester:
none provided
------------------------------
PROGRAM OUTPUT
------------------------------
Output from '/usr/bin/make test':
PERL_DL_NONLAZY=1 "/opt/perl-5.20.3/bin/perl" "-MExtUtils::Command::MM" "-MTest::Harness" "-e" "undef *Test::Harness::Switches; test_harness(0, 'blib/lib', 'blib/arch')" t/*.t
t/csv_to_xml.t ........................... ok
t/dbi.t .................................. ok
t/examples-csv-to-json.t ................. ok
times for fib: user = 0.06, system = 0, cuser = 0, csystem = 0
times for fibonacci: user = 0.04, system = 0, cuser = 0, csystem = 0
t/examples-fibs.t ........................ ok
t/examples-functional-classes.t .......... ok
not activating since running in test mode at examples//../lib/FP/Repl/Trap.pm line 47.
t/examples-hiring-without-whiteboards.t .. ok
not activating since running in test mode at examples//../lib/FP/Repl/Trap.pm line 47.
t/examples-logic.t ....................... ok
t/examples-perlweekly-111-1.t ............ skipped: Perl v5.32.1 required--this is only v5.20.3, stopped at (eval 76) line 2.
times: user = 0.00999999999999998, system = 0.01, cuser = 0, csystem = 0
times: user = 0.02, system = 0, cuser = 0, csystem = 0
times: user = 0.00999999999999998, system = 0, cuser = 0, csystem = 0
t/examples-perlweekly-113-1.t ............ ok
t/examples-perlweekly-113-2.t ............ ok
t/examples-primes.t ...................... ok
t/functional_XML-t-div.t ................. ok
t/functional_XML-test.t .................. ok
not activating since running in test mode at ../.htmlgen//../lib/FP/Repl/AutoTrap.pm line 64.
t/htmlgen.t .............................. ok
not activating since running in test mode at intro//../lib/FP/Repl/AutoTrap.pm line 64.
t/intro-basics.t ......................... ok
t/perl-goto-leak.t ....................... ok
t/perl-weaken-coderef-correctness.t ...... ok
t/perl-weaken-coderef.t .................. ok
Argument "2/8" isn't numeric in numeric eq (==) at lib/FP/Collection.pm line 104.
Argument "2/8" isn't numeric in numeric eq (==) at lib/FP/Collection.pm line 104.
Argument "3/8" isn't numeric in numeric eq (==) at lib/FP/Collection.pm line 104.
Argument "2/8" isn't numeric in numeric eq (==) at lib/FP/Collection.pm line 104.
Argument "3/8" isn't numeric in numeric eq (==) at lib/FP/Collection.pm line 104.
Argument "2/8" isn't numeric in numeric eq (==) at lib/FP/Collection.pm line 104.
t/pod_snippets.t ......................... ok
t/predicates.t ........................... ok
t/repl.t ................................. ok
not activating since running in test mode at lib/FP/Repl/AutoTrap.pm line 64.
not activating since running in test mode at lib/FP/Repl/Trap.pm line 47.
Reference is already weak at lib/FP/Stream.pm line 769.
t/require_and_run_tests.t ................ ok
t/skip-internal.t ........................ ok
t/skip-leak.t ............................ ok
t/skip.t ................................. ok
t/testlazy.t ............................. ok
t/testlazy10.t ........................... ok
times for T: user = 0.06, system = 0, cuser = 0, csystem = 0
times for TC: user = 0.04, system = 0, cuser = 0, csystem = 0
skipping test on older perl at intro/.expansion-more_tailcalls line 220.
t/trampoline-fix.t ....................... ok
All tests successful.
Files=28, Tests=175, 14 wallclock secs ( 0.12 usr 0.24 sys + 9.93 cusr 3.76 csys = 14.05 CPU)
Result: PASS
------------------------------
PREREQUISITES
------------------------------
Prerequisite modules loaded:
requires:
Module Need Have
------------------- -------- --------
autobox 0 v3.0.1
base 0 2.22
Digest 0 1.19
File::Path 0 2.18
Getopt::Long 0 2.52
Import::Into 0 1.002005
Math::BigInt 0 1.999818
NEXT 0 0.68
overload 0 1.22
perl 5.016004 5.020003
PerlIO::utf8_strict 0 0.008
Safe::Isa 0 1.000010
Scalar::Util 0 1.56
Symbol 0 1.07
Test::More 0.96 1.302185
utf8 0 1.13_01
warnings 0 1.23
build_requires:
Module Need Have
------------------- -------- --------
BSD::Resource 0 1.2911
Capture::Tiny 0 0.48
DBD::CSV 0 0.58
DBI 0 1.643
ExtUtils::MakeMaker 0 7.62
Sub::Util 0 1.56
Test::Pod::Snippets 0 0.07
Test::Requires 0 0.11
Text::CSV 0 2.00
URI 0 5.09
configure_requires:
Module Need Have
------------------- -------- --------
ExtUtils::MakeMaker 0 7.62
------------------------------
ENVIRONMENT AND OTHER CONTEXT
------------------------------
Environment variables:
LANG = en_US.UTF-8
PATH = /usr/local/bin:/usr/bin:/bin:/usr/local/sbin:/usr/sbin:/sbin:/home/cpansand/bin/linux-gnu:/home/cpansand/bin/sh:/home/cpansand/bin:/usr/games:/home/cpansand/devel:/home/eserte/src/srezic-misc/scripts
PERL5LIB =
PERL5OPT =
PERL5_CPANPLUS_IS_RUNNING = 9165
PERL5_CPAN_IS_RUNNING = 9165
PERL5_CPAN_IS_RUNNING_IN_RECURSION = 7600,9165
PERLDOC = -MPod::Perldoc::ToTextOverstrike
PERL_BATCH = yes
PERL_CANARY_STABILITY_NOPROMPT = 1
PERL_CPAN_REPORTER_CONFIG = /var/tmp/cpansmoker-1023/2021052304/cpanreporter_000_config.ini
PERL_EXTUTILS_AUTOINSTALL = --defaultdeps
PERL_USE_UNSAFE_INC = 1
SHELL = /usr/bin/zsh
TERM = screen
TMPDIR = /var/tmp/cpansmoker-1023/2021052304
Perl special variables (and OS-specific diagnostics, for MSWin32):
$^X = /opt/perl-5.20.3/bin/perl
$UID/$EUID = 1023 / 1023
$GID = 1023 1023
$EGID = 1023 1023
Perl module toolchain versions installed:
Module Have
------------------- --------
CPAN 2.28
CPAN::Meta 2.150010
Cwd 3.75
ExtUtils::CBuilder 0.280236
ExtUtils::Command 7.62
ExtUtils::Install 2.20
ExtUtils::MakeMaker 7.62
ExtUtils::Manifest 1.73
ExtUtils::ParseXS 3.35
File::Spec 3.75
JSON 4.03
JSON::PP 4.06
Module::Build 0.4231
Module::Signature 0.87
Parse::CPAN::Meta 2.150010
Test::Harness 3.42
Test::More 1.302185
YAML 1.30
YAML::Syck 1.34
version 0.9929
--
Summary of my perl5 (revision 5 version 20 subversion 3) configuration:
Platform:
osname=linux, osvers=4.15.0-55-generic, archname=x86_64-linux
uname='linux ubuntu18 4.15.0-55-generic #60-ubuntu smp tue jul 2 18:22:20 utc 2019 x86_64 x86_64 x86_64 gnulinux '
config_args='-ds -e -Dprefix=/opt/perl-5.20.3 -Dcf_email=srezic@cpan.org'
hint=recommended, useposix=true, d_sigaction=define
useithreads=undef, usemultiplicity=undef
use64bitint=define, use64bitall=define, uselongdouble=undef
usemymalloc=n, bincompat5005=undef
Compiler:
cc='cc', ccflags ='-fwrapv -fno-strict-aliasing -pipe -fstack-protector -I/usr/local/include -D_LARGEFILE_SOURCE -D_FILE_OFFSET_BITS=64',
optimize='-O2',
cppflags='-fwrapv -fno-strict-aliasing -pipe -fstack-protector -I/usr/local/include'
ccversion='', gccversion='7.4.0', gccosandvers=''
intsize=4, longsize=8, ptrsize=8, doublesize=8, byteorder=12345678
d_longlong=define, longlongsize=8, d_longdbl=define, longdblsize=16
ivtype='long', ivsize=8, nvtype='double', nvsize=8, Off_t='off_t', lseeksize=8
alignbytes=8, prototype=define
Linker and Libraries:
ld='cc', ldflags =' -fstack-protector -L/usr/local/lib'
libpth=/usr/local/lib /usr/lib/gcc/x86_64-linux-gnu/7/include-fixed /usr/include/x86_64-linux-gnu /usr/lib /lib/x86_64-linux-gnu /lib/../lib /usr/lib/x86_64-linux-gnu /usr/lib/../lib /lib
libs=-lpthread -lnsl -lgdbm -ldb -ldl -lm -lcrypt -lutil -lc
perllibs=-lpthread -lnsl -ldl -lm -lcrypt -lutil -lc
libc=libc-2.27.so, so=so, useshrplib=false, libperl=libperl.a
gnulibc_version='2.27'
Dynamic Linking:
dlsrc=dl_dlopen.xs, dlext=so, d_dlsymun=undef, ccdlflags='-Wl,-E'
cccdlflags='-fPIC', lddlflags='-shared -O2 -L/usr/local/lib -fstack-protector'
Characteristics of this binary (from libperl):
Compile-time options: HAS_TIMES PERLIO_LAYERS PERL_DONT_CREATE_GVSV
PERL_HASH_FUNC_ONE_AT_A_TIME_HARD PERL_MALLOC_WRAP
PERL_NEW_COPY_ON_WRITE PERL_PRESERVE_IVUV
USE_64_BIT_ALL USE_64_BIT_INT USE_LARGE_FILES
USE_LOCALE USE_LOCALE_COLLATE USE_LOCALE_CTYPE
USE_LOCALE_NUMERIC USE_PERLIO USE_PERL_ATOF
Built under linux
Compiled at Aug 6 2019 20:48:38
%ENV:
PERL5LIB=""
PERL5OPT=""
PERL5_CPANPLUS_IS_RUNNING="9165"
PERL5_CPAN_IS_RUNNING="9165"
PERL5_CPAN_IS_RUNNING_IN_RECURSION="7600,9165"
PERLDOC="-MPod::Perldoc::ToTextOverstrike"
PERL_BATCH="yes"
PERL_CANARY_STABILITY_NOPROMPT="1"
PERL_CPAN_REPORTER_CONFIG="/var/tmp/cpansmoker-1023/2021052304/cpanreporter_000_config.ini"
PERL_EXTUTILS_AUTOINSTALL="--defaultdeps"
PERL_USE_UNSAFE_INC="1"
@INC:
/opt/perl-5.20.3/lib/site_perl/5.20.3/x86_64-linux
/opt/perl-5.20.3/lib/site_perl/5.20.3
/opt/perl-5.20.3/lib/5.20.3/x86_64-linux
/opt/perl-5.20.3/lib/5.20.3
.