App-Greple v9.23 Perl 5 v5.41.13 aarch64-freebsd
- Status
- Pass
- From
- Slaven Rezić
- Dist
-
App-Greple v9.23
- Platform
- Perl 5 v5.41.13 aarch64-freebsd
- Date
- 2025-06-11 09:02:26
- ID
- cb976516-46a2-11f0-bf05-4d376e8775ea
This distribution has been tested as part of the CPAN Testers
project, supporting the Perl programming language. See
http://wiki.cpantesters.org/ for more information or email
questions to cpan-testers-discuss@perl.org
--
Dear Kaz Utashiro,
This is a computer-generated report for App-Greple-9.23
on perl 5.41.13, created by CPAN-Reporter-1.2020.
Thank you for uploading your work to CPAN. Congratulations!
All tests were successful.
Sections of this report:
* Tester comments
* Program output
* Prerequisites
* Environment and other context
------------------------------
TESTER COMMENTS
------------------------------
Additional comments from tester:
none provided
------------------------------
PROGRAM OUTPUT
------------------------------
Output from './Build test':
# Testing App::Greple 9.23, Perl v5.41.13, /usr/perl5.41.13/bin/perl5.41.13
t/00_load.t ............. ok
t/01_run.t .............. ok
t/02_search.t ........... ok
t/03_ja.t ............... ok
t/05_reverse_regions.t .. ok
t/06_matchcount.t ....... ok
t/08_region.t ........... ok
t/09_filter.t ........... ok
t/10_select.t ........... ok
t/11_block.t ............ ok
utf8 "\xFE" does not map to Unicode at t/runner/Runner.pm line 53.
utf8 "\xFE" does not map to Unicode at t/runner/Runner.pm line 53.
utf8 "\xFE" does not map to Unicode at t/runner/Runner.pm line 53.
t/12_error.t ............ ok
t/13_max.t .............. ok
t/14_no_color.t ......... ok
t/15_encoding.t ......... ok
t/16_callback.t ......... ok
t/17_style.t ............ ok
t/line/00_load.t ........ ok
t/line/02_search.t ...... ok
t/select/00_load.t ...... ok
t/select/01_select.t .... ok
All tests successful.
Test Summary Report
-------------------
t/09_filter.t (Wstat: 0 Tests: 3 Failed: 0)
TODO passed: 1
Files=20, Tests=174, 16 wallclock secs ( 0.09 usr 0.07 sys + 13.34 cusr 2.88 csys = 16.38 CPU)
Result: PASS
------------------------------
PREREQUISITES
------------------------------
Prerequisite modules loaded:
requires:
Module Need Have
------------------------ ------- --------
Getopt::EX v2.2.1 2.2.2
Hash::Util 0 0.32
List::BinarySearch 0 0.25
List::Util 1.45 1.69
perl v5.18.2 5.041013
Term::ANSIColor::Concise 2.08 2.08
build_requires:
Module Need Have
------------------------ ------- --------
Test::More 0.98 1.302214
configure_requires:
Module Need Have
------------------------ ------- --------
Module::Build::Tiny 0.035 0.052
------------------------------
ENVIRONMENT AND OTHER CONTEXT
------------------------------
Environment variables:
LANG = C.UTF-8
PATH = /usr/local/bin:/usr/bin:/bin:/usr/local/sbin:/usr/sbin:/sbin:/home/cpansand/bin/sh:/home/cpansand/bin:/usr/games:/home/cpansand/devel:/home/eserte/src/srezic-misc/scripts
PERL5LIB =
PERL5OPT =
PERL5_CPANPLUS_IS_RUNNING = 61366
PERL5_CPAN_IS_RUNNING = 61366
PERL5_CPAN_IS_RUNNING_IN_RECURSION = 60992,61366
PERL_BATCH = yes
PERL_CANARY_STABILITY_NOPROMPT = 1
PERL_CPAN_REPORTER_CONFIG = /var/tmp/cpansmoker-1023/2025061108/cpanreporter_000_config.ini
PERL_EXTUTILS_AUTOINSTALL = --defaultdeps
PERL_USE_UNSAFE_INC = 1
SHELL = /bin/sh
TMPDIR = /var/tmp/cpansmoker-1023/2025061108
Perl special variables (and OS-specific diagnostics, for MSWin32):
$^X = /usr/perl5.41.13/bin/perl5.41.13
$UID/$EUID = 1023 / 1023
$GID = 1023 1023
$EGID = 1023 1023
Perl module toolchain versions installed:
Module Have
------------------- --------
CPAN 2.38
CPAN::Meta 2.150010
Cwd 3.94
ExtUtils::CBuilder 0.280241
ExtUtils::Command 7.76
ExtUtils::Install 2.22
ExtUtils::MakeMaker 7.76
ExtUtils::Manifest 1.75
ExtUtils::ParseXS 3.57
File::Spec 3.94
JSON 4.10
JSON::PP 4.16
Module::Build 0.4234
Module::Signature n/a
Parse::CPAN::Meta 2.150010
Test2 1.302214
Test::Harness 3.50
Test::More 1.302214
YAML 1.31
YAML::Syck 1.34
version 0.9933
--
Summary of my perl5 (revision 5 version 41 subversion 13) configuration:
Platform:
osname=freebsd
osvers=14.3-stable
archname=aarch64-freebsd
uname='freebsd cloud9.bbbike.org 14.3-stable freebsd 14.3-stable stable14-n271565-5c10e8eae0f0 generic arm64 '
config_args='-ds -e -Dprefix=/usr/perl5.41.13 -Uinstallusrbinperl -Dusedevel -Dusemallocwrap=no -Dcf_email=srezic@cpan.org -Doptimize=-O2 -pipe'
hint=recommended
useposix=true
d_sigaction=define
useithreads=undef
usemultiplicity=undef
use64bitint=define
use64bitall=define
uselongdouble=undef
usemymalloc=n
default_inc_excludes_dot=define
Compiler:
cc='cc'
ccflags ='-DHAS_FPSETMASK -DHAS_FLOATINGPOINT_H -DNO_POSIX_2008_LOCALE -fno-strict-aliasing -pipe -fstack-protector-strong -I/usr/local/include'
optimize='-O2 -pipe'
cppflags='-DHAS_FPSETMASK -DHAS_FLOATINGPOINT_H -DNO_POSIX_2008_LOCALE -fno-strict-aliasing -pipe -fstack-protector-strong -I/usr/local/include'
ccversion=''
gccversion='FreeBSD Clang 19.1.7 (https://github.com/llvm/llvm-project.git llvmorg-19.1.7-0-gcd708029e0b2)'
gccosandvers=''
intsize=4
longsize=8
ptrsize=8
doublesize=8
byteorder=12345678
doublekind=3
d_longlong=define
longlongsize=8
d_longdbl=define
longdblsize=16
longdblkind=1
ivtype='long'
ivsize=8
nvtype='double'
nvsize=8
Off_t='off_t'
lseeksize=8
alignbytes=8
prototype=define
Linker and Libraries:
ld='cc'
ldflags ='-Wl,-E -fstack-protector-strong -L/usr/local/lib'
libpth=/usr/lib /usr/local/lib /usr/lib/clang/19/lib
libs=-lpthread -lgdbm -ldl -lm -lcrypt -lutil -lc
perllibs=-lpthread -ldl -lm -lcrypt -lutil -lc
libc=
so=so
useshrplib=false
libperl=libperl.a
gnulibc_version=''
Dynamic Linking:
dlsrc=dl_dlopen.xs
dlext=so
d_dlsymun=undef
ccdlflags=' '
cccdlflags='-DPIC -fPIC'
lddlflags='-shared -L/usr/local/lib -fstack-protector-strong'
Characteristics of this binary (from libperl):
Compile-time options:
HAS_LONG_DOUBLE
HAS_STRTOLD
HAS_TIMES
PERLIO_LAYERS
PERL_COPY_ON_WRITE
PERL_DONT_CREATE_GVSV
PERL_HASH_FUNC_SIPHASH13
PERL_HASH_USE_SBOX32
PERL_OP_PARENT
PERL_PRESERVE_IVUV
PERL_USE_DEVEL
PERL_USE_SAFE_PUTENV
USE_64_BIT_ALL
USE_64_BIT_INT
USE_LARGE_FILES
USE_LOCALE
USE_LOCALE_COLLATE
USE_LOCALE_CTYPE
USE_LOCALE_NUMERIC
USE_LOCALE_TIME
USE_PERLIO
USE_PERL_ATOF
Built under freebsd
Compiled at May 31 2025 16:25:29
%ENV:
PERL5LIB=""
PERL5OPT=""
PERL5_CPANPLUS_IS_RUNNING="61366"
PERL5_CPAN_IS_RUNNING="61366"
PERL5_CPAN_IS_RUNNING_IN_RECURSION="60992,61366"
PERL_BATCH="yes"
PERL_CANARY_STABILITY_NOPROMPT="1"
PERL_CPAN_REPORTER_CONFIG="/var/tmp/cpansmoker-1023/2025061108/cpanreporter_000_config.ini"
PERL_EXTUTILS_AUTOINSTALL="--defaultdeps"
PERL_USE_UNSAFE_INC="1"
@INC:
/usr/perl5.41.13/lib/site_perl/5.41.13/aarch64-freebsd
/usr/perl5.41.13/lib/site_perl/5.41.13
/usr/perl5.41.13/lib/5.41.13/aarch64-freebsd
/usr/perl5.41.13/lib/5.41.13
.