CryptX v0.084 Perl 5 v5.34.1 darwin-thread-multi-2level

Status
Pass
From
Gintautas Grigelionis
Dist
CryptX v0.084
Platform
Perl 5 v5.34.1 darwin-thread-multi-2level
Date
2024-10-19 15:28:30
ID
cb6347e0-8e2e-11ef-af44-a57ccbd64b0b
This distribution has been tested as part of the CPAN Testers
project, supporting the Perl programming language.  See
http://wiki.cpantesters.org/ for more information or email
questions to cpan-testers-discuss@perl.org


--
Dear Karel Miko,

This is a computer-generated report for CryptX-0.084
on perl 5.34.1, created by CPAN-Reporter-1.2019.

Thank you for uploading your work to CPAN.  Congratulations!
All tests were successful.

Sections of this report:

    * Tester comments
    * Program output
    * Prerequisites
    * Environment and other context

------------------------------
TESTER COMMENTS
------------------------------

Additional comments from tester:

none provided

------------------------------
PROGRAM OUTPUT
------------------------------

Output from '/usr/bin/make test':

"/usr/bin/perl" -MExtUtils::Command::MM -e 'cp_nonempty' -- CryptX.bs blib/arch/auto/CryptX/CryptX.bs 644
PERL_DL_NONLAZY=1 "/usr/bin/perl" "-MExtUtils::Command::MM" "-MTest::Harness" "-e" "undef *Test::Harness::Switches; test_harness(0, 'blib/lib', 'blib/arch')" t/*.t
# Testing CryptX 0.084, Perl 5.034001 darwin /usr/bin/perl
# osname       = darwin
# osvers       = 23.0
# archname     = darwin-thread-multi-2level
# uname        = uname
# myarchname   = i386-darwin
# myuname      = darwin svjpp.p1s.plx.sd.apple.com 23.0 darwin kernel version 22.1.0: thu dec 15 17:42:24 pst 2022; root:xnu-8792.41.9.100.2~1development_x86_64 x86_64 
# gccversion   = Apple LLVM 15.0.0 (clang-1500.3.9.1) [+internal-os]
# ccversion    = 
# cc           = cc
# intsize      = 4
# longsize     = 8
# longlongsize = 8
# ptrsize      = 8
# byteorder    = 12345678
# 
# LibTomCrypt 1.18.2-develop (www.libtom.net)
# LibTomCrypt is public domain software.
# 
# 
# Endianness: little (64-bit words)
# Clean stack: disabled
# 
# Ciphers built-in:
#    Blowfish
#    RC2
#    RC5
#    RC6
#    Safer+
#    Safer
#    Rijndael
#    XTEA
#    Twofish (tables)
#    DES
#    DES-X
#    3DES
#    SM4
#    CAST5
#    Noekeon
#    Skipjack
#    Khazad
#    Anubis  (tweaked)
#    KSEED
#    KASUMI
#    MULTI2
#    Camellia
#    IDEA
#    Serpent
#    TEA
# Stream ciphers built-in:
#    ChaCha
#    Salsa20
#    XSalsa20
#    Sosemanuk
#    Rabbit
#    RC4
#    SOBER128
# 
# Hashes built-in:
#    SHA3
#    KECCAK
#    SHA-512
#    SHA-384
#    SHA-512/256
#    SHA-256
#    SHA-512/224
#    SHA-224
#    TIGER
#    SHA1
#    MD5
#    MD4
#    MD2
#    RIPEMD128
#    RIPEMD160
#    RIPEMD256
#    RIPEMD320
#    WHIRLPOOL
#    BLAKE2S
#    BLAKE2B
#    CHC_HASH
# 
# Block Chaining Modes:
#    CFB
#    OFB
#    ECB
#    CBC
#    CTR
#    LRW (tables) 
#    F8
#    XTS
# 
# MACs:
#    HMAC
#    OMAC
#    PMAC
#    PELICAN
#    XCBC
#    F9
#    POLY1305
#    BLAKE2S MAC
#    BLAKE2B MAC
# 
# ENC + AUTH modes:
#    EAX
#    OCB
#    OCB3
#    CCM
#    GCM (tables) 
#    CHACHA20POLY1305
# 
# PRNG:
#    Yarrow (LTC_YARROW_AES=2)
#    SPRNG
#    RC4
#    ChaCha20
#    Fortuna (LTC_FORTUNA_POOLS=32, LTC_FORTUNA_RESEED_RATELIMIT_STATIC, LTC_FORTUNA_WD=10)
#    SOBER128
# 
# PK Crypto:
#    RSA (with blinding and CRT hardening)
#    DH
#    ECC (with blinding)
#    DSA
#    Ed25519
#    X25519
#    LTC_PK_MAX_RETRIES=20
# 
# MPI (Math):
#    LTC_MPI
#    LTM_DESC
#    LTC_MILLER_RABIN_REPS=40
# 
# Compiler:
#    Clang compiler 16.0.0 (clang-1600.0.26.3).
#    x86-64 detected.
# 
# Various others:  ARGTYPE=4  ADLER32  AES-NI  BASE64  BASE64-URL-SAFE  BASE32  BASE16  BCRYPT  LTC_BCRYPT_DEFAULT_ROUNDS=10  CRC32  DER  LTC_DER_MAX_RECURSION=30  PKCS#1  PKCS#5  PKCS#8  PKCS#12  PADDING  HKDF  PBES1  PBES2  PEM  LTC_PEM_DECODE_BUFSZ=80  LTC_PEM_READ_BUFSIZE=8192  SSH  OpenSSH-PEM  LTC_DEVRANDOM  LTC_TRY_URANDOM_FIRST  LTC_RNG_GET_BYTES  LTC_RNG_MAKE_PRNG  LTC_HASH_HELPERS  LTC_FILE_READ_BUFSIZE=8192  LTC_FAST  LTC_ROx_BUILTIN  LTC_NO_TEST  LTC_ECC_SHAMIR 
# 
# MP_PROVIDER  = LibTomMath
# MP_DIGIT_BIT = 60
# 
t/001_compile.t ..................... ok
t/002_all_pm.t ...................... skipped: set AUTHOR_MODE to enable this test (developer only!)
t/003_all_pm_pod.t .................. skipped: set AUTHOR_MODE to enable this test (developer only!)
t/004_all_pm_pod_spelling.t ......... skipped: set AUTHOR_MODE to enable this test (developer only!)
t/005_all_pm_pod_coverage.t ......... skipped: set AUTHOR_MODE to enable this test (developer only!)
t/auth_enc_ccm.t .................... ok
t/auth_enc_ccm_test_vector_ltc.t .... ok
t/auth_enc_chacha20poly1305.t ....... ok
t/auth_enc_eax.t .................... ok
t/auth_enc_eax_test_vector_ltc.t .... ok
t/auth_enc_gcm.t .................... ok
t/auth_enc_gcm_test_vector_ltc.t .... ok
t/auth_enc_ocb.t .................... ok
t/auth_enc_ocb_test_vectors_ietf.t .. ok
t/checksum.t ........................ ok
t/cipher_aes.t ...................... ok
t/cipher_aes_test_vectors_bc.t ...... ok
t/cipher_anubis.t ................... ok
t/cipher_blowfish.t ................. ok
t/cipher_camellia.t ................. ok
t/cipher_cast5.t .................... ok
t/cipher_des.t ...................... ok
t/cipher_des_ede.t .................. ok
t/cipher_idea.t ..................... ok
t/cipher_idea_compat.t .............. ok
t/cipher_kasumi.t ................... ok
t/cipher_khazad.t ................... ok
t/cipher_multi2.t ................... ok
t/cipher_multi2_rounds.t ............ ok
t/cipher_noekeon.t .................. ok
t/cipher_rc2.t ...................... ok
t/cipher_rc5.t ...................... ok
t/cipher_rc6.t ...................... ok
t/cipher_safer_k128.t ............... ok
t/cipher_safer_k64.t ................ ok
t/cipher_safer_sk128.t .............. ok
t/cipher_safer_sk64.t ............... ok
t/cipher_saferp.t ................... ok
t/cipher_seed.t ..................... ok
t/cipher_seed_test_vectors_bc.t ..... ok
t/cipher_serpent.t .................. ok
t/cipher_serpent_compat.t ........... ok
t/cipher_skipjack.t ................. ok
t/cipher_stream.t ................... ok
t/cipher_stream_rabbit.t ............ ok
t/cipher_stream_salsa20.t ........... ok
t/cipher_test_vectors_ltc.t ......... ok
t/cipher_test_vectors_openssl.t ..... ok
t/cipher_twofish.t .................. ok
t/cipher_twofish_test_vectors_bc.t .. ok
t/cipher_xtea.t ..................... ok
t/cipher_xtea_test_vectors_bc.t ..... ok
t/crypt-misc.t ...................... ok
t/digest_blake2b_160.t .............. ok
t/digest_blake2b_256.t .............. ok
t/digest_blake2b_384.t .............. ok
t/digest_blake2b_512.t .............. ok
t/digest_blake2s_128.t .............. ok
t/digest_blake2s_160.t .............. ok
t/digest_blake2s_224.t .............. ok
t/digest_blake2s_256.t .............. ok
t/digest_chaes.t .................... ok
t/digest_keccak224.t ................ ok
t/digest_keccak256.t ................ ok
t/digest_keccak384.t ................ ok
t/digest_keccak512.t ................ ok
t/digest_md2.t ...................... ok
t/digest_md4.t ...................... ok
t/digest_md5.t ...................... ok
t/digest_ripemd128.t ................ ok
t/digest_ripemd160.t ................ ok
t/digest_ripemd256.t ................ ok
t/digest_ripemd320.t ................ ok
t/digest_sha1.t ..................... ok
t/digest_sha224.t ................... ok
t/digest_sha256.t ................... ok
t/digest_sha384.t ................... ok
t/digest_sha3_224.t ................. ok
t/digest_sha3_256.t ................. ok
t/digest_sha3_384.t ................. ok
t/digest_sha3_512.t ................. ok
t/digest_sha512.t ................... ok
t/digest_sha512_224.t ............... ok
t/digest_sha512_256.t ............... ok
t/digest_shake.t .................... ok
t/digest_test_vectors_ltc.t ......... ok
t/digest_tiger192.t ................. ok
t/digest_whirlpool.t ................ ok
t/jwk.t ............................. ok
t/key_derivation.t .................. ok
t/mac_blake2b.t ..................... ok
t/mac_blake2s.t ..................... ok
t/mac_f9.t .......................... ok
t/mac_hmac.t ........................ ok
t/mac_hmac_nist.t ................... ok
t/mac_hmac_test_vectors_ltc.t ....... ok
t/mac_omac.t ........................ ok
t/mac_omac_test_vectors_ltc.t ....... ok
t/mac_pelican.t ..................... ok
t/mac_pmac.t ........................ ok
t/mac_pmac_test_vectors_ltc.t ....... ok
t/mac_poly1305.t .................... ok
t/mac_xcbc.t ........................ ok
# Math::BigInt VERSION=2.003003
t/mbi_ltm_01load.t .................. ok
t/mbi_ltm_bigfltpm.t ................ ok
t/mbi_ltm_bigintg.t ................. ok
t/mbi_ltm_bigintpm.t ................ ok
t/mbi_ltm_biglog.t .................. ok
t/mbi_ltm_bigroot.t ................. ok
t/mbi_ltm_bugs.t .................... ok
# use64=1 ivsize=8 ivtype=long use64bitint=define
t/mbi_ltm_mbi-from-big-scalar.t ..... ok
t/mbi_ltm_since_1.999837.t .......... ok
t/mbi_ltm_since_1.999842.t .......... ok
t/mbi_ltm_storable.t ................ ok
t/mode_cbc.t ........................ ok
t/mode_cfb.t ........................ ok
t/mode_ctr.t ........................ ok
t/mode_ecb.t ........................ ok
t/mode_ofb.t ........................ ok
t/pk_dh.t ........................... ok
t/pk_dsa.t .......................... ok
t/pk_dsa_test_vectors_openssl.t ..... ok
t/pk_ecc.t .......................... ok
t/pk_ecc_test_vectors_openssl.t ..... ok
t/pk_ed25519.t ...................... ok
t/pk_enc_pem.t ...................... ok
t/pk_rsa.t .......................... ok
t/pk_rsa_test_vectors_openssl.t ..... ok
t/pk_x25519.t ....................... ok
t/pkcs8.t ........................... ok
t/prng.t ............................ ok
t/prng_chacha20.t ................... ok
t/prng_fortuna.t .................... ok
t/prng_rc4.t ........................ ok
t/prng_sober128.t ................... ok
t/prng_yarrow.t ..................... ok
t/sshkey.t .......................... ok
All tests successful.
Files=137, Tests=25253, 16 wallclock secs ( 1.12 usr  0.28 sys + 13.83 cusr  1.85 csys = 17.08 CPU)
Result: PASS

------------------------------
PREREQUISITES
------------------------------

Prerequisite modules loaded:

requires:

    Module              Need  Have    
    ------------------- ----- --------
    Math::BigInt        0     2.003003
    perl                5.006 5.034001

build_requires:

    Module              Need  Have    
    ------------------- ----- --------
    ExtUtils::MakeMaker 0     7.70    
    Test::More          0     1.302204

configure_requires:

    Module              Need  Have    
    ------------------- ----- --------
    ExtUtils::MakeMaker 0     7.70    


------------------------------
ENVIRONMENT AND OTHER CONTEXT
------------------------------

Environment variables:

    LANG = sv_SE.UTF-8
    PATH = /usr/local/bin:/System/Cryptexes/App/usr/bin:/usr/bin:/bin:/usr/sbin:/sbin:/var/run/com.apple.security.cryptexd/codex.system/bootstrap/usr/local/bin:/var/run/com.apple.security.cryptexd/codex.system/bootstrap/usr/bin:/var/run/com.apple.security.cryptexd/codex.system/bootstrap/usr/appleinternal/bin:/opt/X11/bin:/Library/Apple/usr/bin:/usr/local/MacGPG2/bin:/Library/TeX/texbin
    PERL5LIB = /Users/gintas/.cpan/build/Term-Cap-1.18-1/blib/arch:/Users/gintas/.cpan/build/Term-Cap-1.18-1/blib/lib:/Users/gintas/.cpan/build/Text-ParseWords-3.31-1/blib/arch:/Users/gintas/.cpan/build/Text-ParseWords-3.31-1/blib/lib
    PERL5OPT = 
    PERL5_CPANPLUS_IS_RUNNING = 29153
    PERL5_CPAN_IS_RUNNING = 29153
    PERL_USE_UNSAFE_INC = 1
    SHELL = /bin/bash
    TERM = xterm-256color
    TMPDIR = /var/folders/y9/7vddvyqs64j1pfp28_p_6dfm0000gq/T/

Perl special variables (and OS-specific diagnostics, for MSWin32):

    $^X = /usr/bin/perl
    $UID/$EUID = 503 / 503
    $GID = 20 20 12 61 79 80 81 98 701 702 33 100 204 250 395 398 399 400
    $EGID = 20 20 12 61 79 80 81 98 701 702 33 100 204 250 395 398 399 400

Perl module toolchain versions installed:

    Module              Have    
    ------------------- --------
    CPAN                2.36    
    CPAN::Meta          2.150010
    Cwd                 3.80    
    ExtUtils::CBuilder  0.280236
    ExtUtils::Command   7.70    
    ExtUtils::Install   2.22    
    ExtUtils::MakeMaker 7.70    
    ExtUtils::Manifest  1.75    
    ExtUtils::ParseXS   3.51    
    File::Spec          3.80    
    JSON                4.10    
    JSON::PP            4.16    
    Module::Build       0.4234  
    Module::Signature   0.89    
    Parse::CPAN::Meta   2.150010
    Test2               1.302204
    Test::Harness       3.50    
    Test::More          1.302204
    YAML                1.31    
    YAML::Syck          1.32    
    version             0.9933  


--

Summary of my perl5 (revision 5 version 34 subversion 1) configuration:
   
  Platform:
    osname=darwin
    osvers=23.0
    archname=darwin-thread-multi-2level
    uname='darwin svjpp.p1s.plx.sd.apple.com 23.0 darwin kernel version 22.1.0: thu dec 15 17:42:24 pst 2022; root:xnu-8792.41.9.100.2~1development_x86_64 x86_64 '
    config_args='-ds -e -Dprefix=/usr -Dccflags=-g  -pipe  -Dldflags= -Dman3ext=3pm -Duseithreads -Duseshrplib -Dinc_version_list=none -Dcc=cc'
    hint=recommended
    useposix=true
    d_sigaction=define
    useithreads=define
    usemultiplicity=define
    use64bitint=define
    use64bitall=define
    uselongdouble=undef
    usemymalloc=n
    default_inc_excludes_dot=define
  Compiler:
    cc='cc'
    ccflags =' -g -pipe -fno-strict-aliasing -fstack-protector-strong -DPERL_USE_SAFE_PUTENV'
    optimize='-Os'
    cppflags='-g -pipe -fno-strict-aliasing -fstack-protector-strong'
    ccversion=''
    gccversion='Apple LLVM 15.0.0 (clang-1500.3.9.1) [+internal-os]'
    gccosandvers=''
    intsize=4
    longsize=8
    ptrsize=8
    doublesize=8
    byteorder=12345678
    doublekind=3
    d_longlong=define
    longlongsize=8
    d_longdbl=define
    longdblsize=16
    longdblkind=3
    ivtype='long'
    ivsize=8
    nvtype='double'
    nvsize=8
    Off_t='off_t'
    lseeksize=8
    alignbytes=8
    prototype=define
  Linker and Libraries:
    ld='cc'
    ldflags =' -fstack-protector-strong'
    libpth=/AppleInternal/Library/BuildRoots/91a344b1-f985-11ee-b563-fe8bc7981bff/Applications/Xcode.app/Contents/Developer/Platforms/MacOSX.platform/Developer/SDKs/MacOSX14.5.Internal.sdk/usr/local/lib /AppleInternal/Library/BuildRoots/91a344b1-f985-11ee-b563-fe8bc7981bff/Applications/Xcode.app/Contents/Developer/Toolchains/OSX14.5.xctoolchain/usr/lib/clang/15.0.0/lib /AppleInternal/Library/BuildRoots/91a344b1-f985-11ee-b563-fe8bc7981bff/Applications/Xcode.app/Contents/Developer/Platforms/MacOSX.platform/Developer/SDKs/MacOSX14.5.Internal.sdk/usr/lib /AppleInternal/Library/BuildRoots/91a344b1-f985-11ee-b563-fe8bc7981bff/Applications/Xcode.app/Contents/Developer/Toolchains/XcodeDefault.xctoolchain/usr/lib /usr/lib /usr/local/lib
    libs= 
    perllibs=
    libc=
    so=dylib
    useshrplib=true
    libperl=libperl.dylib
    gnulibc_version=''
  Dynamic Linking:
    dlsrc=dl_dlopen.xs
    dlext=bundle
    d_dlsymun=undef
    ccdlflags=' '
    cccdlflags=' '
    lddlflags=' -bundle -undefined dynamic_lookup -fstack-protector-strong'


Characteristics of this binary (from libperl): 
  Compile-time options:
    HAS_TIMES
    MULTIPLICITY
    PERLIO_LAYERS
    PERL_COPY_ON_WRITE
    PERL_DONT_CREATE_GVSV
    PERL_IMPLICIT_CONTEXT
    PERL_MALLOC_WRAP
    PERL_OP_PARENT
    PERL_PRESERVE_IVUV
    PERL_USE_SAFE_PUTENV
    USE_64_BIT_ALL
    USE_64_BIT_INT
    USE_ITHREADS
    USE_LARGE_FILES
    USE_LOCALE
    USE_LOCALE_COLLATE
    USE_LOCALE_CTYPE
    USE_LOCALE_NUMERIC
    USE_LOCALE_TIME
    USE_PERLIO
    USE_PERL_ATOF
    USE_REENTRANT_API
    USE_THREAD_SAFE_LOCALE
  Locally applied patches:
    /Library/Perl/Updates/<version> comes before system perl directories
    installprivlib and installarchlib points to the Updates directory
  Built under darwin
  Compiled at Apr 13 2024 07:30:56
  %ENV:
    PERL5LIB="/Users/gintas/.cpan/build/Term-Cap-1.18-1/blib/arch:/Users/gintas/.cpan/build/Term-Cap-1.18-1/blib/lib:/Users/gintas/.cpan/build/Text-ParseWords-3.31-1/blib/arch:/Users/gintas/.cpan/build/Text-ParseWords-3.31-1/blib/lib"
    PERL5OPT=""
    PERL5_CPANPLUS_IS_RUNNING="29153"
    PERL5_CPAN_IS_RUNNING="29153"
    PERL_USE_UNSAFE_INC="1"
  @INC:
    /Users/gintas/.cpan/build/Term-Cap-1.18-1/blib/arch
    /Users/gintas/.cpan/build/Term-Cap-1.18-1/blib/lib
    /Users/gintas/.cpan/build/Text-ParseWords-3.31-1/blib/arch
    /Users/gintas/.cpan/build/Text-ParseWords-3.31-1/blib/lib
    /Library/Perl/5.34/darwin-thread-multi-2level
    /Library/Perl/5.34
    /Network/Library/Perl/5.34/darwin-thread-multi-2level
    /Network/Library/Perl/5.34
    /Library/Perl/Updates/5.34.1/darwin-thread-multi-2level
    /Library/Perl/Updates/5.34.1
    /System/Library/Perl/5.34/darwin-thread-multi-2level
    /System/Library/Perl/5.34
    /System/Library/Perl/Extras/5.34/darwin-thread-multi-2level
    /System/Library/Perl/Extras/5.34
    .