Yancy v1.087 Perl 5 v5.34.0 armv6l-linux
- Status
- Pass
- From
- gregor herrmann
- Dist
-
Yancy v1.087
- Platform
- Perl 5 v5.34.0 armv6l-linux
- Date
- 2021-12-15 16:55:22
- ID
- cacc82b4-5dc7-11ec-8884-b2659594bed4
This distribution has been tested as part of the CPAN Testers
project, supporting the Perl programming language. See
http://wiki.cpantesters.org/ for more information or email
questions to cpan-testers-discuss@perl.org
--
Dear Doug Bell,
This is a computer-generated report for Yancy-1.087
on perl 5.34.0, created by CPAN-Reporter-1.2018.
Thank you for uploading your work to CPAN. Congratulations!
All tests were successful.
Sections of this report:
* Tester comments
* Program output
* Prerequisites
* Environment and other context
------------------------------
TESTER COMMENTS
------------------------------
Additional comments from tester:
this report is from an automated smoke testing program
and was not reviewed by a human for accuracy
------------------------------
PROGRAM OUTPUT
------------------------------
Output from '/usr/bin/make test':
Skip blib/lib/auto/share/dist/Yancy/update_resources.sh (unchanged)
PERL_DL_NONLAZY=1 "/srv/smoker/perl5/perlbrew/perls/perl-5.34.0/bin/perl" "-MExtUtils::Command::MM" "-MTest::Harness" "-e" "undef *Test::Harness::Switches; test_harness(0, 'blib/lib', 'blib/arch')" t/*.t t/backend/*.t t/command/backend/*.t t/controller/*.t t/examples/*.t t/plugin/*.t t/plugin/auth/*.t t/plugin/form/*.t
t/00-compile.t ............... ok
#
# Versions for all modules listed in MYMETA.json (including optional ones):
#
# === Configure Requires ===
#
# Module Want Have
# ----------------------- ---- -------
# ExtUtils::MakeMaker any 7.63_11
# File::ShareDir::Install 0.06 0.13
#
# === Configure Suggests ===
#
# Module Want Have
# -------- ------- ----
# JSON::PP 2.27300 4.06
#
# === Build Requires ===
#
# Module Want Have
# ------------------- ---- -------
# ExtUtils::MakeMaker any 7.63_11
#
# === Test Requires ===
#
# Module Want Have
# ------------------- -------- --------
# ExtUtils::MakeMaker any 7.63_11
# File::Spec any 3.80
# File::Temp 0.2307 0.2311
# IO::Handle any 1.48
# IPC::Open3 any 1.21
# Test::More 1.001005 1.302188
#
# === Test Recommends ===
#
# Module Want Have
# ---------- -------- --------
# CPAN::Meta 2.120900 2.150010
#
# === Runtime Requires ===
#
# Module Want Have
# ---------------------------- -------- --------
# Class::Method::Modifiers any 2.13
# Digest any 1.20
# Exporter any 5.76
# File::Spec::Functions any 3.80
# FindBin any 1.52
# JSON::Validator 5.00 5.04
# Mojolicious 9 9.22
# Mojolicious::Plugin::I18N 1.6 1.6
# Mojolicious::Plugin::OpenAPI 5.00 5.02
# Role::Tiny 2.000001 2.002004
# Scalar::Util any 1.60
# Sys::Hostname any 1.23
# Text::Balanced any 2.04
#
t/00-report-prereqs.t ........ ok
x-view is deprecated and will be removed in v2. Use Yancy::Model or your database's CREATE VIEW instead. at /srv/smoker/cpan/build/Yancy-1.087-0/blib/lib/Yancy/Model/Schema.pm line 283.
t/api.t ...................... ok
t/app.t ...................... ok
DBIx::Class::Storage::DBI::SQLite::_dbi_attrs_for_bind(): Non-integer value supplied for column 'me.id' despite the integer datatype at /srv/smoker/cpan/build/Yancy-1.087-0/blib/lib/Yancy/Backend/Dbic.pm line 174
datatype mismatch: bind param (0) DOES_NOT_EXIST as integer at /srv/smoker/perl5/perlbrew/perls/perl-5.34.0/lib/site_perl/5.34.0/DBIx/Class/Storage/DBI.pm line 1958.
datatype mismatch: bind param (0) DOES_NOT_EXIST as integer at /srv/smoker/perl5/perlbrew/perls/perl-5.34.0/lib/site_perl/5.34.0/DBIx/Class/Storage/DBI.pm line 1958.
datatype mismatch: bind param (0) DOES_NOT_EXIST as integer at /srv/smoker/perl5/perlbrew/perls/perl-5.34.0/lib/site_perl/5.34.0/DBIx/Class/Storage/DBI.pm line 1958.
datatype mismatch: bind param (0) DOES_NOT_EXIST as integer at /srv/smoker/perl5/perlbrew/perls/perl-5.34.0/lib/site_perl/5.34.0/DBIx/Class/Storage/DBI.pm line 1958.
datatype mismatch: bind param (0) DOES_NOT_EXIST as integer at /srv/smoker/perl5/perlbrew/perls/perl-5.34.0/lib/site_perl/5.34.0/DBIx/Class/Storage/DBI.pm line 1958.
datatype mismatch: bind param (0) DOES_NOT_EXIST as integer at /srv/smoker/perl5/perlbrew/perls/perl-5.34.0/lib/site_perl/5.34.0/DBIx/Class/Storage/DBI.pm line 1958.
t/backend/dbic.t ............. ok
t/backend/memory.t ........... ok
t/backend/mysql.t ............ skipped: set TEST_ONLINE_MYSQL to enable this test
t/backend/pg.t ............... skipped: set TEST_ONLINE_PG to enable this test
t/backend/sqlite.t ........... ok
x-view is deprecated and will be removed in v2. Use Yancy::Model or your database's CREATE VIEW instead. at /srv/smoker/cpan/build/Yancy-1.087-0/blib/lib/Yancy/Model/Schema.pm line 283.
t/command/backend/copy.t ..... ok
x-view is deprecated and will be removed in v2. Use Yancy::Model or your database's CREATE VIEW instead. at /srv/smoker/cpan/build/Yancy-1.087-0/blib/lib/Yancy/Model/Schema.pm line 283.
t/config.t ................... ok
x-view is deprecated and will be removed in v2. Use Yancy::Model or your database's CREATE VIEW instead. at /srv/smoker/cpan/build/Yancy-1.087-0/blib/lib/Yancy/Model/Schema.pm line 283.
t/controller/multi_tenant.t .. ok
x-view is deprecated and will be removed in v2. Use Yancy::Model or your database's CREATE VIEW instead. at /srv/smoker/cpan/build/Yancy-1.087-0/blib/lib/Yancy/Model/Schema.pm line 283.
t/controller/yancy.t ......... ok
t/examples/doc-site.t ........ skipped: Set TEST_YANCY_EXAMPLES to run these tests
t/examples/limited-editor.t .. skipped: Set TEST_YANCY_EXAMPLES to run these tests
t/examples/test-app.t ........ skipped: Set TEST_YANCY_EXAMPLES to run these tests
t/examples/todo-app.t ........ skipped: Set TEST_YANCY_EXAMPLES to run these tests
x-view is deprecated and will be removed in v2. Use Yancy::Model or your database's CREATE VIEW instead. at /srv/smoker/cpan/build/Yancy-1.087-0/blib/lib/Yancy/Model/Schema.pm line 283.
[2021-12-15 17:45:07.08548] [10901] [fatal] [VaV8-vERP3Pp] Unknown filter: DOES.NOT.EXIST (schema: user, field: email) at /srv/smoker/cpan/build/Yancy-1.087-0/blib/lib/Mojolicious/Plugin/Yancy.pm line 889.
t/filter.t ................... ok
x-view is deprecated and will be removed in v2. Use Yancy::Model or your database's CREATE VIEW instead. at /srv/smoker/cpan/build/Yancy-1.087-0/blib/lib/Yancy/Model/Schema.pm line 283.
t/helpers.t .................. ok
x-view is deprecated and will be removed in v2. Use Yancy::Model or your database's CREATE VIEW instead. at /srv/smoker/cpan/build/Yancy-1.087-0/blib/lib/Yancy/Model/Schema.pm line 283.
t/i18n.t ..................... ok
t/model.t .................... ok
x-view is deprecated and will be removed in v2. Use Yancy::Model or your database's CREATE VIEW instead. at /srv/smoker/cpan/build/Yancy-1.087-0/blib/lib/Yancy/Model/Schema.pm line 283.
t/plugin/auth.t .............. ok
x-view is deprecated and will be removed in v2. Use Yancy::Model or your database's CREATE VIEW instead. at /srv/smoker/cpan/build/Yancy-1.087-0/blib/lib/Yancy/Model/Schema.pm line 283.
The Auth::Basic plugin is deprecated and will be removed in Yancy v2.000. Please migrate to the Auth::Password module.
at /srv/smoker/cpan/build/Yancy-1.087-0/blib/lib/Yancy/Plugin/Auth/Basic.pm line 256.
t/plugin/auth/basic.t ........ ok
x-view is deprecated and will be removed in v2. Use Yancy::Model or your database's CREATE VIEW instead. at /srv/smoker/cpan/build/Yancy-1.087-0/blib/lib/Yancy/Model/Schema.pm line 283.
t/plugin/auth/github.t ....... ok
x-view is deprecated and will be removed in v2. Use Yancy::Model or your database's CREATE VIEW instead. at /srv/smoker/cpan/build/Yancy-1.087-0/blib/lib/Yancy/Model/Schema.pm line 283.
t/plugin/auth/oauth2.t ....... ok
x-view is deprecated and will be removed in v2. Use Yancy::Model or your database's CREATE VIEW instead. at /srv/smoker/cpan/build/Yancy-1.087-0/blib/lib/Yancy/Model/Schema.pm line 283.
t/plugin/auth/password.t ..... ok
x-view is deprecated and will be removed in v2. Use Yancy::Model or your database's CREATE VIEW instead. at /srv/smoker/cpan/build/Yancy-1.087-0/blib/lib/Yancy/Model/Schema.pm line 283.
t/plugin/auth/token.t ........ ok
t/plugin/editor.t ............ ok
x-view is deprecated and will be removed in v2. Use Yancy::Model or your database's CREATE VIEW instead. at /srv/smoker/cpan/build/Yancy-1.087-0/blib/lib/Yancy/Model/Schema.pm line 283.
[2021-12-15 17:52:41.75966] [11305] [warn] *** Cannot verify that admin editor is behind authentication.
Add a Yancy Auth plugin, add a `route` to the Yancy plugin config,
or set `editor.require_user => undef` to silence this warning
t/plugin/file.t .............. ok
x-view is deprecated and will be removed in v2. Use Yancy::Model or your database's CREATE VIEW instead. at /srv/smoker/cpan/build/Yancy-1.087-0/blib/lib/Yancy/Model/Schema.pm line 283.
[2021-12-15 17:53:17.88712] [11313] [warn] [yyAO7UNJvbhe] form_for() called with incomplete request. CSRF token may not validate!
t/plugin/form/bootstrap4.t ... ok
x-view is deprecated and will be removed in v2. Use Yancy::Model or your database's CREATE VIEW instead. at /srv/smoker/cpan/build/Yancy-1.087-0/blib/lib/Yancy/Model/Schema.pm line 283.
t/plugin/roles.t ............. ok
t/register.t ................. ok
t/util.t ..................... ok
All tests successful.
Files=33, Tests=236, 1434 wallclock secs ( 9.49 usr 1.58 sys + 1273.85 cusr 29.90 csys = 1314.82 CPU)
Result: PASS
------------------------------
PREREQUISITES
------------------------------
Prerequisite modules loaded:
requires:
Module Need Have
---------------------------- -------- --------
Class::Method::Modifiers 0 2.13
Digest 0 1.20
Exporter 0 5.76
File::Spec::Functions 0 3.80
FindBin 0 1.52
JSON::Validator 5.00 5.04
Mojolicious 9 9.22
Mojolicious::Plugin::I18N 1.6 1.6
Mojolicious::Plugin::OpenAPI 5.00 5.02
perl 5.016 5.034000
Role::Tiny 2.000001 2.002004
Scalar::Util 0 1.60
Sys::Hostname 0 1.23
Text::Balanced 0 2.04
build_requires:
Module Need Have
---------------------------- -------- --------
ExtUtils::MakeMaker 0 7.63_11
File::Spec 0 3.80
File::Temp 0.2307 0.2311
IO::Handle 0 1.48
IPC::Open3 0 1.21
Test::More 1.001005 1.302188
configure_requires:
Module Need Have
---------------------------- -------- --------
ExtUtils::MakeMaker 0 7.63_11
File::ShareDir::Install 0.06 0.13
------------------------------
ENVIRONMENT AND OTHER CONTEXT
------------------------------
Environment variables:
AUTOMATED_TESTING = 1
LC_CTYPE = de_AT.utf8
LD_LIBRARY_PATH = /usr/lib/libeatmydata
NONINTERACTIVE_TESTING = 1
PATH = /srv/smoker/bin:/usr/lib/ccache:/srv/smoker/perl5/perlbrew/bin:/srv/smoker/perl5/perlbrew/perls/perl-5.34.0/bin:/usr/local/bin:/usr/bin:/bin:/usr/local/games:/usr/games
PERL5LIB =
PERL5OPT =
PERL5_CPANPLUS_IS_RUNNING = 8161
PERL5_CPAN_IS_RUNNING = 8161
PERL5_CPAN_IS_RUNNING_IN_RECURSION = 13659,8161
PERLBREW_HOME = /srv/smoker/.perlbrew
PERLBREW_MANPATH = /srv/smoker/perl5/perlbrew/perls/perl-5.34.0/man
PERLBREW_PATH = /srv/smoker/perl5/perlbrew/bin:/srv/smoker/perl5/perlbrew/perls/perl-5.34.0/bin
PERLBREW_PERL = perl-5.34.0
PERLBREW_ROOT = /srv/smoker/perl5/perlbrew
PERLBREW_SHELLRC_VERSION = 0.94
PERLBREW_VERSION = 0.94
PERL_CPANM_OPT = --prompt --configure-timeout 300 --test-timeout 9000 --build-timeout 18000 --verify --from https://www.cpan.org
PERL_CR_SMOKER_CURRENT = Yancy-1.087
PERL_EXTUTILS_AUTOINSTALL = --defaultdeps
PERL_MM_USE_DEFAULT = 1
PERL_TEST_TIME_OUT_FACTOR = 3
PERL_TEST_TIME_OUT_FACTOR = 3
PERL_USE_UNSAFE_INC = 1
SHELL = /bin/bash
TERM = screen-256color
Perl special variables (and OS-specific diagnostics, for MSWin32):
$^X = /srv/smoker/perl5/perlbrew/perls/perl-5.34.0/bin/perl
$UID/$EUID = 1111 / 1111
$GID = 65534 65534
$EGID = 65534 65534
Perl module toolchain versions installed:
Module Have
------------------- --------
CPAN 2.30
CPAN::Meta 2.150010
Cwd 3.80
ExtUtils::CBuilder 0.280236
ExtUtils::Command 7.63_11
ExtUtils::Install 2.20
ExtUtils::MakeMaker 7.63_11
ExtUtils::Manifest 1.73
ExtUtils::ParseXS 3.43
File::Spec 3.80
JSON 4.03
JSON::PP 4.06
Module::Build 0.4231
Module::Signature 0.87
Parse::CPAN::Meta 2.150010
Test::Harness 3.43_03
Test::More 1.302188
YAML 1.30
YAML::Syck 1.34
version 0.9928
--
Summary of my perl5 (revision 5 version 34 subversion 0) configuration:
Platform:
osname=linux
osvers=5.10.17+
archname=armv6l-linux
uname='linux smoker 5.10.17+ #1414 fri apr 30 13:16:27 bst 2021 armv6l gnulinux '
config_args='-de -Dprefix=/srv/smoker/perl5/perlbrew/perls/perl-5.34.0 -Aeval:scriptdir=/srv/smoker/perl5/perlbrew/perls/perl-5.34.0/bin'
hint=recommended
useposix=true
d_sigaction=define
useithreads=undef
usemultiplicity=undef
use64bitint=undef
use64bitall=undef
uselongdouble=undef
usemymalloc=n
default_inc_excludes_dot=define
Compiler:
cc='cc'
ccflags ='-fwrapv -fno-strict-aliasing -pipe -fstack-protector-strong -I/usr/local/include -D_LARGEFILE_SOURCE -D_FILE_OFFSET_BITS=64 -D_FORTIFY_SOURCE=2'
optimize='-O2'
cppflags='-fwrapv -fno-strict-aliasing -pipe -fstack-protector-strong -I/usr/local/include'
ccversion=''
gccversion='10.2.1 20210110'
gccosandvers=''
intsize=4
longsize=4
ptrsize=4
doublesize=8
byteorder=1234
doublekind=3
d_longlong=define
longlongsize=8
d_longdbl=define
longdblsize=8
longdblkind=0
ivtype='long'
ivsize=4
nvtype='double'
nvsize=8
Off_t='off_t'
lseeksize=8
alignbytes=8
prototype=define
Linker and Libraries:
ld='cc'
ldflags =' -fstack-protector-strong -L/usr/local/lib'
libpth=/usr/local/lib /usr/lib/arm-linux-gnueabihf /usr/lib /lib/arm-linux-gnueabihf /lib
libs=-lpthread -lnsl -ldb -ldl -lm -lcrypt -lutil -lc
perllibs=-lpthread -lnsl -ldl -lm -lcrypt -lutil -lc
libc=libc-2.31.so
so=so
useshrplib=false
libperl=libperl.a
gnulibc_version='2.31'
Dynamic Linking:
dlsrc=dl_dlopen.xs
dlext=so
d_dlsymun=undef
ccdlflags='-Wl,-E'
cccdlflags='-fPIC'
lddlflags='-shared -O2 -L/usr/local/lib -fstack-protector-strong'
Characteristics of this binary (from libperl):
Compile-time options:
HAS_TIMES
PERLIO_LAYERS
PERL_COPY_ON_WRITE
PERL_DONT_CREATE_GVSV
PERL_MALLOC_WRAP
PERL_OP_PARENT
PERL_PRESERVE_IVUV
USE_LARGE_FILES
USE_LOCALE
USE_LOCALE_COLLATE
USE_LOCALE_CTYPE
USE_LOCALE_NUMERIC
USE_LOCALE_TIME
USE_PERLIO
USE_PERL_ATOF
Built under linux
Compiled at May 21 2021 03:02:12
%ENV:
PERL5LIB=""
PERL5OPT=""
PERL5_CPANPLUS_IS_RUNNING="8161"
PERL5_CPAN_IS_RUNNING="8161"
PERL5_CPAN_IS_RUNNING_IN_RECURSION="13659,8161"
PERLBREW_HOME="/srv/smoker/.perlbrew"
PERLBREW_MANPATH="/srv/smoker/perl5/perlbrew/perls/perl-5.34.0/man"
PERLBREW_PATH="/srv/smoker/perl5/perlbrew/bin:/srv/smoker/perl5/perlbrew/perls/perl-5.34.0/bin"
PERLBREW_PERL="perl-5.34.0"
PERLBREW_ROOT="/srv/smoker/perl5/perlbrew"
PERLBREW_SHELLRC_VERSION="0.94"
PERLBREW_VERSION="0.94"
PERL_CPANM_OPT="--prompt --configure-timeout 300 --test-timeout 9000 --build-timeout 18000 --verify --from https://www.cpan.org"
PERL_CR_SMOKER_CURRENT="Yancy-1.087"
PERL_EXTUTILS_AUTOINSTALL="--defaultdeps"
PERL_MM_USE_DEFAULT="1"
PERL_TEST_TIME_OUT_FACTOR="3"
PERL_USE_UNSAFE_INC="1"
@INC:
/srv/smoker/perl5/perlbrew/perls/perl-5.34.0/lib/site_perl/5.34.0/armv6l-linux
/srv/smoker/perl5/perlbrew/perls/perl-5.34.0/lib/site_perl/5.34.0
/srv/smoker/perl5/perlbrew/perls/perl-5.34.0/lib/5.34.0/armv6l-linux
/srv/smoker/perl5/perlbrew/perls/perl-5.34.0/lib/5.34.0
.