Encode v3.21 Perl 5 v5.12.3 x86_64-linux
- Status
- Pass
- From
- Slaven Rezić
- Dist
-
Encode v3.21
- Platform
- Perl 5 v5.12.3 x86_64-linux
- Date
- 2025-02-01 22:06:27
- ID
- c86d42a4-e0e8-11ef-abe8-19e86d8775ea
This distribution has been tested as part of the CPAN Testers
project, supporting the Perl programming language. See
http://wiki.cpantesters.org/ for more information or email
questions to cpan-testers-discuss@perl.org
--
Dear Dan Kogai,
This is a computer-generated report for Encode-3.21
on perl 5.12.3, created by CPAN-Reporter-1.2020.
Thank you for uploading your work to CPAN. Congratulations!
All tests were successful.
Sections of this report:
* Tester comments
* Program output
* Prerequisites
* Environment and other context
------------------------------
TESTER COMMENTS
------------------------------
Additional comments from tester:
none provided
------------------------------
PROGRAM OUTPUT
------------------------------
Output from '/usr/bin/make test':
"/opt/perl-5.12.3/bin/perl" -MExtUtils::Command::MM -e 'cp_nonempty' -- Encode.bs blib/arch/auto/Encode/Encode.bs 644
make[1]: Entering directory '/home/cpansand/.cpan/build/2025020121/Encode-3.21-0/Byte'
"/opt/perl-5.12.3/bin/perl" -MExtUtils::Command::MM -e 'cp_nonempty' -- Byte.bs ../blib/arch/auto/Encode/Byte/Byte.bs 644
make[1]: Leaving directory '/home/cpansand/.cpan/build/2025020121/Encode-3.21-0/Byte'
make[1]: Entering directory '/home/cpansand/.cpan/build/2025020121/Encode-3.21-0/CN'
"/opt/perl-5.12.3/bin/perl" -MExtUtils::Command::MM -e 'cp_nonempty' -- CN.bs ../blib/arch/auto/Encode/CN/CN.bs 644
make[1]: Leaving directory '/home/cpansand/.cpan/build/2025020121/Encode-3.21-0/CN'
make[1]: Entering directory '/home/cpansand/.cpan/build/2025020121/Encode-3.21-0/EBCDIC'
"/opt/perl-5.12.3/bin/perl" -MExtUtils::Command::MM -e 'cp_nonempty' -- EBCDIC.bs ../blib/arch/auto/Encode/EBCDIC/EBCDIC.bs 644
make[1]: Leaving directory '/home/cpansand/.cpan/build/2025020121/Encode-3.21-0/EBCDIC'
make[1]: Entering directory '/home/cpansand/.cpan/build/2025020121/Encode-3.21-0/JP'
"/opt/perl-5.12.3/bin/perl" -MExtUtils::Command::MM -e 'cp_nonempty' -- JP.bs ../blib/arch/auto/Encode/JP/JP.bs 644
make[1]: Leaving directory '/home/cpansand/.cpan/build/2025020121/Encode-3.21-0/JP'
make[1]: Entering directory '/home/cpansand/.cpan/build/2025020121/Encode-3.21-0/KR'
"/opt/perl-5.12.3/bin/perl" -MExtUtils::Command::MM -e 'cp_nonempty' -- KR.bs ../blib/arch/auto/Encode/KR/KR.bs 644
make[1]: Leaving directory '/home/cpansand/.cpan/build/2025020121/Encode-3.21-0/KR'
make[1]: Entering directory '/home/cpansand/.cpan/build/2025020121/Encode-3.21-0/Symbol'
"/opt/perl-5.12.3/bin/perl" -MExtUtils::Command::MM -e 'cp_nonempty' -- Symbol.bs ../blib/arch/auto/Encode/Symbol/Symbol.bs 644
make[1]: Leaving directory '/home/cpansand/.cpan/build/2025020121/Encode-3.21-0/Symbol'
make[1]: Entering directory '/home/cpansand/.cpan/build/2025020121/Encode-3.21-0/TW'
"/opt/perl-5.12.3/bin/perl" -MExtUtils::Command::MM -e 'cp_nonempty' -- TW.bs ../blib/arch/auto/Encode/TW/TW.bs 644
make[1]: Leaving directory '/home/cpansand/.cpan/build/2025020121/Encode-3.21-0/TW'
make[1]: Entering directory '/home/cpansand/.cpan/build/2025020121/Encode-3.21-0/Unicode'
"/opt/perl-5.12.3/bin/perl" -MExtUtils::Command::MM -e 'cp_nonempty' -- Unicode.bs ../blib/arch/auto/Encode/Unicode/Unicode.bs 644
make[1]: Leaving directory '/home/cpansand/.cpan/build/2025020121/Encode-3.21-0/Unicode'
make[1]: Entering directory '/home/cpansand/.cpan/build/2025020121/Encode-3.21-0/Byte'
"/opt/perl-5.12.3/bin/perl" -MExtUtils::Command::MM -e 'cp_nonempty' -- Byte.bs ../blib/arch/auto/Encode/Byte/Byte.bs 644
No tests defined for Encode::Byte extension.
make[1]: Leaving directory '/home/cpansand/.cpan/build/2025020121/Encode-3.21-0/Byte'
make[1]: Entering directory '/home/cpansand/.cpan/build/2025020121/Encode-3.21-0/CN'
"/opt/perl-5.12.3/bin/perl" -MExtUtils::Command::MM -e 'cp_nonempty' -- CN.bs ../blib/arch/auto/Encode/CN/CN.bs 644
No tests defined for Encode::CN extension.
make[1]: Leaving directory '/home/cpansand/.cpan/build/2025020121/Encode-3.21-0/CN'
make[1]: Entering directory '/home/cpansand/.cpan/build/2025020121/Encode-3.21-0/EBCDIC'
"/opt/perl-5.12.3/bin/perl" -MExtUtils::Command::MM -e 'cp_nonempty' -- EBCDIC.bs ../blib/arch/auto/Encode/EBCDIC/EBCDIC.bs 644
No tests defined for Encode::EBCDIC extension.
make[1]: Leaving directory '/home/cpansand/.cpan/build/2025020121/Encode-3.21-0/EBCDIC'
make[1]: Entering directory '/home/cpansand/.cpan/build/2025020121/Encode-3.21-0/JP'
"/opt/perl-5.12.3/bin/perl" -MExtUtils::Command::MM -e 'cp_nonempty' -- JP.bs ../blib/arch/auto/Encode/JP/JP.bs 644
No tests defined for Encode::JP extension.
make[1]: Leaving directory '/home/cpansand/.cpan/build/2025020121/Encode-3.21-0/JP'
make[1]: Entering directory '/home/cpansand/.cpan/build/2025020121/Encode-3.21-0/KR'
"/opt/perl-5.12.3/bin/perl" -MExtUtils::Command::MM -e 'cp_nonempty' -- KR.bs ../blib/arch/auto/Encode/KR/KR.bs 644
No tests defined for Encode::KR extension.
make[1]: Leaving directory '/home/cpansand/.cpan/build/2025020121/Encode-3.21-0/KR'
make[1]: Entering directory '/home/cpansand/.cpan/build/2025020121/Encode-3.21-0/Symbol'
"/opt/perl-5.12.3/bin/perl" -MExtUtils::Command::MM -e 'cp_nonempty' -- Symbol.bs ../blib/arch/auto/Encode/Symbol/Symbol.bs 644
No tests defined for Encode::Symbol extension.
make[1]: Leaving directory '/home/cpansand/.cpan/build/2025020121/Encode-3.21-0/Symbol'
make[1]: Entering directory '/home/cpansand/.cpan/build/2025020121/Encode-3.21-0/TW'
"/opt/perl-5.12.3/bin/perl" -MExtUtils::Command::MM -e 'cp_nonempty' -- TW.bs ../blib/arch/auto/Encode/TW/TW.bs 644
No tests defined for Encode::TW extension.
make[1]: Leaving directory '/home/cpansand/.cpan/build/2025020121/Encode-3.21-0/TW'
make[1]: Entering directory '/home/cpansand/.cpan/build/2025020121/Encode-3.21-0/Unicode'
"/opt/perl-5.12.3/bin/perl" -MExtUtils::Command::MM -e 'cp_nonempty' -- Unicode.bs ../blib/arch/auto/Encode/Unicode/Unicode.bs 644
No tests defined for Encode::Unicode extension.
make[1]: Leaving directory '/home/cpansand/.cpan/build/2025020121/Encode-3.21-0/Unicode'
PERL_DL_NONLAZY=1 "/opt/perl-5.12.3/bin/perl" "-MExtUtils::Command::MM" "-MTest::Harness" "-e" "undef *Test::Harness::Switches; test_harness(0, 'blib/lib', 'blib/arch')" t/*.t
t/Aliases.t ................ ok
t/at-cn.t .................. ok
t/at-tw.t .................. ok
t/CJKT.t ................... ok
t/cow.t .................... ok
t/decode.t ................. ok
t/enc_data.t ............... ok
t/enc_eucjp.t .............. ok
t/enc_module.t ............. ok
t/enc_utf8.t ............... ok
t/Encode.t ................. ok
t/Encoder.t ................ ok
t/encoding-locale.t ........ ok
t/encoding.t ............... ok
t/fallback.t ............... ok
t/from_to.t ................ ok
t/grow.t ................... ok
t/gsm0338.t ................ ok
t/guess.t .................. ok
t/isa.t .................... ok
t/jis7-fallback.t .......... ok
t/jperl.t .................. ok
t/magic.t .................. ok
t/mime-header.t ............ ok
t/mime-name.t .............. ok
t/mime_header_iso2022jp.t .. ok
t/perlio.t ................. ok
t/piconv.t ................. ok
t/rt113164.t ............... ok
t/rt65541.t ................ ok
t/rt76824.t ................ ok
t/rt85489.t ................ ok
t/rt86327.t ................ ok
t/taint.t .................. ok
t/truncated_utf8.t ......... ok
t/undef.t .................. ok
t/Unicode.t ................ ok
t/Unicode_trailing_nul.t ... ok
t/use-Encode-Alias.t ....... ok
UTF-16 surrogate 0xd800 at t/utf32warnings.t line 33.
UTF-16 surrogate 0xd800 at t/utf32warnings.t line 76.
UTF-16 surrogate 0xd800 at t/utf32warnings.t line 260.
t/utf32warnings.t .......... ok
t/utf8ref.t ................ ok
t/utf8strict.t ............. ok
t/utf8warnings.t ........... ok
t/whatwg-aliases.t ......... skipped: For maintainers only
t/xml.t .................... ok
All tests successful.
Test Summary Report
-------------------
t/truncated_utf8.t (Wstat: 0 Tests: 9 Failed: 0)
TODO passed: 9
Files=45, Tests=7836, 5 wallclock secs ( 0.49 usr 0.13 sys + 4.28 cusr 0.59 csys = 5.49 CPU)
Result: PASS
------------------------------
PREREQUISITES
------------------------------
Prerequisite modules loaded:
requires:
Module Need Have
------------------- ----- --------
Exporter 5.57 5.64_01
parent 0.221 0.223
Storable 0 2.22
build_requires:
Module Need Have
------------------- ----- --------
ExtUtils::MakeMaker 0 7.70
Test::More 0.92 1.302209
configure_requires:
Module Need Have
------------------- ----- --------
ExtUtils::MakeMaker 0 7.70
------------------------------
ENVIRONMENT AND OTHER CONTEXT
------------------------------
Environment variables:
LANG = en_US.UTF-8
PATH = /usr/local/bin:/usr/bin:/bin:/usr/local/sbin:/usr/sbin:/sbin:/home/cpansand/bin/linux-gnu:/home/cpansand/bin/sh:/home/cpansand/bin:/usr/games:/home/cpansand/devel:/home/eserte/src/srezic-misc/scripts
PERL5LIB =
PERL5OPT =
PERL5_CPANPLUS_IS_RUNNING = 3796990
PERL5_CPAN_IS_RUNNING = 3796990
PERL5_CPAN_IS_RUNNING_IN_RECURSION = 3796441,3796990
PERLDOC = -MPod::Perldoc::ToTextOverstrike
PERL_BATCH = yes
PERL_CANARY_STABILITY_NOPROMPT = 1
PERL_CPAN_REPORTER_CONFIG = /var/tmp/cpansmoker-1023/2025020121/cpanreporter_000_config.ini
PERL_EXTUTILS_AUTOINSTALL = --defaultdeps
PERL_USE_UNSAFE_INC = 1
SHELL = /usr/bin/zsh
TERM = screen
TMPDIR = /var/tmp/cpansmoker-1023/2025020121
Perl special variables (and OS-specific diagnostics, for MSWin32):
$^X = /opt/perl-5.12.3/bin/perl
$UID/$EUID = 1023 / 1023
$GID = 1023 1023
$EGID = 1023 1023
Perl module toolchain versions installed:
Module Have
------------------- --------
CPAN 2.38
CPAN::Meta 2.143240
Cwd 3.31
ExtUtils::CBuilder 0.27
ExtUtils::Command 7.70
ExtUtils::Install 2.06
ExtUtils::MakeMaker 7.70
ExtUtils::Manifest 1.70
ExtUtils::ParseXS 2.21
File::Spec 3.31_01
JSON 4.10
JSON::PP 2.27203
Module::Build 0.4234
Module::Signature n/a
Parse::CPAN::Meta 1.4414
Test2 1.302209
Test::Harness 3.50
Test::More 1.302209
YAML 1.31
YAML::Syck 1.34
version 0.9933
--
Summary of my perl5 (revision 5 version 12 subversion 3) configuration:
Platform:
osname=linux, osvers=5.14.0-503.22.1.el9_5.x86_64, archname=x86_64-linux
uname='linux cloud1.bbbike.org 5.14.0-503.22.1.el9_5.x86_64 #1 smp preempt_dynamic wed jan 22 13:59:07 utc 2025 x86_64 x86_64 x86_64 gnulinux '
config_args='-ds -e -Dprefix=/opt/perl-5.12.3 -Uinstallusrbinperl -Dcf_email=srezic@cpan.org'
hint=recommended, useposix=true, d_sigaction=define
useithreads=undef, usemultiplicity=undef
useperlio=define, d_sfio=undef, uselargefiles=define, usesocks=undef
use64bitint=define, use64bitall=define, uselongdouble=undef
usemymalloc=n, bincompat5005=undef
Compiler:
cc='cc', ccflags ='-fwrapv -fno-strict-aliasing -pipe -fstack-protector -I/usr/local/include -D_LARGEFILE_SOURCE -D_FILE_OFFSET_BITS=64',
optimize='-O2',
cppflags='-fwrapv -fno-strict-aliasing -pipe -fstack-protector -I/usr/local/include'
ccversion='', gccversion='11.5.0 20240719 (Red Hat 11.5.0-2)', gccosandvers=''
intsize=4, longsize=8, ptrsize=8, doublesize=8, byteorder=12345678
d_longlong=define, longlongsize=8, d_longdbl=define, longdblsize=16
ivtype='long', ivsize=8, nvtype='double', nvsize=8, Off_t='off_t', lseeksize=8
alignbytes=8, prototype=define
Linker and Libraries:
ld='cc', ldflags =' -fstack-protector -L/usr/local/lib'
libpth=/usr/local/lib /lib/../lib64 /usr/lib/../lib64 /lib /usr/lib /lib64 /usr/lib64 /usr/local/lib64
libs=-ldb -ldl -lm -lcrypt -lutil -lc
perllibs=-ldl -lm -lcrypt -lutil -lc
libc=/lib/../lib64/libc.so.6, so=so, useshrplib=false, libperl=libperl.a
gnulibc_version='2.34'
Dynamic Linking:
dlsrc=dl_dlopen.xs, dlext=so, d_dlsymun=undef, ccdlflags='-Wl,-E'
cccdlflags='-fPIC', lddlflags='-shared -O2 -L/usr/local/lib -fstack-protector'
Characteristics of this binary (from libperl):
Compile-time options: PERL_DONT_CREATE_GVSV PERL_MALLOC_WRAP USE_64_BIT_ALL
USE_64_BIT_INT USE_LARGE_FILES USE_PERLIO
USE_PERL_ATOF
Locally applied patches:
Devel::PatchPerl 2.08
Built under linux
Compiled at Feb 1 2025 21:35:12
%ENV:
PERL5LIB=""
PERL5OPT=""
PERL5_CPANPLUS_IS_RUNNING="3796990"
PERL5_CPAN_IS_RUNNING="3796990"
PERL5_CPAN_IS_RUNNING_IN_RECURSION="3796441,3796990"
PERLDOC="-MPod::Perldoc::ToTextOverstrike"
PERL_BATCH="yes"
PERL_CANARY_STABILITY_NOPROMPT="1"
PERL_CPAN_REPORTER_CONFIG="/var/tmp/cpansmoker-1023/2025020121/cpanreporter_000_config.ini"
PERL_EXTUTILS_AUTOINSTALL="--defaultdeps"
PERL_USE_UNSAFE_INC="1"
@INC:
/opt/perl-5.12.3/lib/site_perl/5.12.3/x86_64-linux
/opt/perl-5.12.3/lib/site_perl/5.12.3
/opt/perl-5.12.3/lib/5.12.3/x86_64-linux
/opt/perl-5.12.3/lib/5.12.3
.