Encode v3.16 Perl 5 v5.14.4 x86_64-linux

Status
Pass
From
Slaven Rezić
Dist
Encode v3.16
Platform
Perl 5 v5.14.4 x86_64-linux
Date
2021-10-13 08:58:49
ID
c83e71f6-2c03-11ec-a153-1e431f24ea8f
This distribution has been tested as part of the CPAN Testers
project, supporting the Perl programming language.  See
http://wiki.cpantesters.org/ for more information or email
questions to cpan-testers-discuss@perl.org


--
Dear Dan Kogai,

This is a computer-generated report for Encode-3.16
on perl 5.14.4, created by CPAN-Reporter-1.2018.

Thank you for uploading your work to CPAN.  Congratulations!
All tests were successful.

Sections of this report:

    * Tester comments
    * Program output
    * Prerequisites
    * Environment and other context

------------------------------
TESTER COMMENTS
------------------------------

Additional comments from tester:

none provided

------------------------------
PROGRAM OUTPUT
------------------------------

Output from '/usr/bin/make test':

"/opt/perl-5.14.4/bin/perl" -MExtUtils::Command::MM -e 'cp_nonempty' -- Encode.bs blib/arch/auto/Encode/Encode.bs 644
make[1]: Entering directory '/home/cpansand/.cpan/build/2021101310/Encode-3.16-klxIOi/Byte'
"/opt/perl-5.14.4/bin/perl" -MExtUtils::Command::MM -e 'cp_nonempty' -- Byte.bs ../blib/arch/auto/Encode/Byte/Byte.bs 644
make[1]: Leaving directory '/home/cpansand/.cpan/build/2021101310/Encode-3.16-klxIOi/Byte'
make[1]: Entering directory '/home/cpansand/.cpan/build/2021101310/Encode-3.16-klxIOi/CN'
"/opt/perl-5.14.4/bin/perl" -MExtUtils::Command::MM -e 'cp_nonempty' -- CN.bs ../blib/arch/auto/Encode/CN/CN.bs 644
make[1]: Leaving directory '/home/cpansand/.cpan/build/2021101310/Encode-3.16-klxIOi/CN'
make[1]: Entering directory '/home/cpansand/.cpan/build/2021101310/Encode-3.16-klxIOi/EBCDIC'
"/opt/perl-5.14.4/bin/perl" -MExtUtils::Command::MM -e 'cp_nonempty' -- EBCDIC.bs ../blib/arch/auto/Encode/EBCDIC/EBCDIC.bs 644
make[1]: Leaving directory '/home/cpansand/.cpan/build/2021101310/Encode-3.16-klxIOi/EBCDIC'
make[1]: Entering directory '/home/cpansand/.cpan/build/2021101310/Encode-3.16-klxIOi/JP'
"/opt/perl-5.14.4/bin/perl" -MExtUtils::Command::MM -e 'cp_nonempty' -- JP.bs ../blib/arch/auto/Encode/JP/JP.bs 644
make[1]: Leaving directory '/home/cpansand/.cpan/build/2021101310/Encode-3.16-klxIOi/JP'
make[1]: Entering directory '/home/cpansand/.cpan/build/2021101310/Encode-3.16-klxIOi/KR'
"/opt/perl-5.14.4/bin/perl" -MExtUtils::Command::MM -e 'cp_nonempty' -- KR.bs ../blib/arch/auto/Encode/KR/KR.bs 644
make[1]: Leaving directory '/home/cpansand/.cpan/build/2021101310/Encode-3.16-klxIOi/KR'
make[1]: Entering directory '/home/cpansand/.cpan/build/2021101310/Encode-3.16-klxIOi/Symbol'
"/opt/perl-5.14.4/bin/perl" -MExtUtils::Command::MM -e 'cp_nonempty' -- Symbol.bs ../blib/arch/auto/Encode/Symbol/Symbol.bs 644
make[1]: Leaving directory '/home/cpansand/.cpan/build/2021101310/Encode-3.16-klxIOi/Symbol'
make[1]: Entering directory '/home/cpansand/.cpan/build/2021101310/Encode-3.16-klxIOi/TW'
"/opt/perl-5.14.4/bin/perl" -MExtUtils::Command::MM -e 'cp_nonempty' -- TW.bs ../blib/arch/auto/Encode/TW/TW.bs 644
make[1]: Leaving directory '/home/cpansand/.cpan/build/2021101310/Encode-3.16-klxIOi/TW'
make[1]: Entering directory '/home/cpansand/.cpan/build/2021101310/Encode-3.16-klxIOi/Unicode'
"/opt/perl-5.14.4/bin/perl" -MExtUtils::Command::MM -e 'cp_nonempty' -- Unicode.bs ../blib/arch/auto/Encode/Unicode/Unicode.bs 644
make[1]: Leaving directory '/home/cpansand/.cpan/build/2021101310/Encode-3.16-klxIOi/Unicode'
make[1]: Entering directory '/home/cpansand/.cpan/build/2021101310/Encode-3.16-klxIOi/Byte'
"/opt/perl-5.14.4/bin/perl" -MExtUtils::Command::MM -e 'cp_nonempty' -- Byte.bs ../blib/arch/auto/Encode/Byte/Byte.bs 644
No tests defined for Encode::Byte extension.
make[1]: Leaving directory '/home/cpansand/.cpan/build/2021101310/Encode-3.16-klxIOi/Byte'
make[1]: Entering directory '/home/cpansand/.cpan/build/2021101310/Encode-3.16-klxIOi/CN'
"/opt/perl-5.14.4/bin/perl" -MExtUtils::Command::MM -e 'cp_nonempty' -- CN.bs ../blib/arch/auto/Encode/CN/CN.bs 644
No tests defined for Encode::CN extension.
make[1]: Leaving directory '/home/cpansand/.cpan/build/2021101310/Encode-3.16-klxIOi/CN'
make[1]: Entering directory '/home/cpansand/.cpan/build/2021101310/Encode-3.16-klxIOi/EBCDIC'
"/opt/perl-5.14.4/bin/perl" -MExtUtils::Command::MM -e 'cp_nonempty' -- EBCDIC.bs ../blib/arch/auto/Encode/EBCDIC/EBCDIC.bs 644
No tests defined for Encode::EBCDIC extension.
make[1]: Leaving directory '/home/cpansand/.cpan/build/2021101310/Encode-3.16-klxIOi/EBCDIC'
make[1]: Entering directory '/home/cpansand/.cpan/build/2021101310/Encode-3.16-klxIOi/JP'
"/opt/perl-5.14.4/bin/perl" -MExtUtils::Command::MM -e 'cp_nonempty' -- JP.bs ../blib/arch/auto/Encode/JP/JP.bs 644
No tests defined for Encode::JP extension.
make[1]: Leaving directory '/home/cpansand/.cpan/build/2021101310/Encode-3.16-klxIOi/JP'
make[1]: Entering directory '/home/cpansand/.cpan/build/2021101310/Encode-3.16-klxIOi/KR'
"/opt/perl-5.14.4/bin/perl" -MExtUtils::Command::MM -e 'cp_nonempty' -- KR.bs ../blib/arch/auto/Encode/KR/KR.bs 644
No tests defined for Encode::KR extension.
make[1]: Leaving directory '/home/cpansand/.cpan/build/2021101310/Encode-3.16-klxIOi/KR'
make[1]: Entering directory '/home/cpansand/.cpan/build/2021101310/Encode-3.16-klxIOi/Symbol'
"/opt/perl-5.14.4/bin/perl" -MExtUtils::Command::MM -e 'cp_nonempty' -- Symbol.bs ../blib/arch/auto/Encode/Symbol/Symbol.bs 644
No tests defined for Encode::Symbol extension.
make[1]: Leaving directory '/home/cpansand/.cpan/build/2021101310/Encode-3.16-klxIOi/Symbol'
make[1]: Entering directory '/home/cpansand/.cpan/build/2021101310/Encode-3.16-klxIOi/TW'
"/opt/perl-5.14.4/bin/perl" -MExtUtils::Command::MM -e 'cp_nonempty' -- TW.bs ../blib/arch/auto/Encode/TW/TW.bs 644
No tests defined for Encode::TW extension.
make[1]: Leaving directory '/home/cpansand/.cpan/build/2021101310/Encode-3.16-klxIOi/TW'
make[1]: Entering directory '/home/cpansand/.cpan/build/2021101310/Encode-3.16-klxIOi/Unicode'
"/opt/perl-5.14.4/bin/perl" -MExtUtils::Command::MM -e 'cp_nonempty' -- Unicode.bs ../blib/arch/auto/Encode/Unicode/Unicode.bs 644
No tests defined for Encode::Unicode extension.
make[1]: Leaving directory '/home/cpansand/.cpan/build/2021101310/Encode-3.16-klxIOi/Unicode'
PERL_DL_NONLAZY=1 "/opt/perl-5.14.4/bin/perl" "-MExtUtils::Command::MM" "-MTest::Harness" "-e" "undef *Test::Harness::Switches; test_harness(0, 'blib/lib', 'blib/arch')" t/*.t
t/Aliases.t ................ ok
t/at-cn.t .................. ok
t/at-tw.t .................. ok
t/CJKT.t ................... ok
t/cow.t .................... ok
t/decode.t ................. ok
t/enc_data.t ............... ok
t/enc_eucjp.t .............. ok
t/enc_module.t ............. ok
t/enc_utf8.t ............... ok
t/Encode.t ................. ok
t/Encoder.t ................ ok
t/encoding-locale.t ........ ok
t/encoding.t ............... ok
t/fallback.t ............... ok
t/from_to.t ................ ok
t/grow.t ................... ok
t/gsm0338.t ................ ok
t/guess.t .................. ok
t/isa.t .................... ok
t/jis7-fallback.t .......... ok
t/jperl.t .................. ok
t/magic.t .................. ok
t/mime-header.t ............ ok
t/mime-name.t .............. ok
t/mime_header_iso2022jp.t .. ok
t/perlio.t ................. ok
t/piconv.t ................. ok
t/rt113164.t ............... ok
t/rt65541.t ................ ok
t/rt76824.t ................ ok
t/rt85489.t ................ ok
t/rt86327.t ................ ok
t/taint.t .................. ok
t/truncated_utf8.t ......... ok
t/undef.t .................. ok
t/Unicode.t ................ ok
# temp file: /var/tmp/cpansmoker-1023/2021101310/Jmn3yZWVox
t/Unicode_trailing_nul.t ... ok
t/use-Encode-Alias.t ....... ok
t/utf8ref.t ................ ok
t/utf8strict.t ............. ok
t/utf8warnings.t ........... ok
t/whatwg-aliases.t ......... skipped: For maintainers only
t/xml.t .................... ok
All tests successful.

Test Summary Report
-------------------
t/truncated_utf8.t       (Wstat: 0 Tests: 9 Failed: 0)
  TODO passed:   9
Files=44, Tests=7778,  4 wallclock secs ( 0.47 usr  0.05 sys +  4.22 cusr  0.24 csys =  4.98 CPU)
Result: PASS

------------------------------
PREREQUISITES
------------------------------

Prerequisite modules loaded:

requires:

    Module              Need  Have    
    ------------------- ----- --------
    Exporter            5.57  5.74    
    parent              0.221 0.238   
    Storable            0     3.25    

build_requires:

    Module              Need  Have    
    ------------------- ----- --------
    ExtUtils::MakeMaker 0     7.62    
    Test::More          0.92  1.302188

configure_requires:

    Module              Need  Have    
    ------------------- ----- --------
    ExtUtils::MakeMaker 0     7.62    


------------------------------
ENVIRONMENT AND OTHER CONTEXT
------------------------------

Environment variables:

    LANG = en_US.UTF-8
    PATH = /usr/local/bin:/usr/bin:/bin:/usr/local/sbin:/usr/sbin:/sbin:/home/cpansand/bin/linux-gnu:/home/cpansand/bin/sh:/home/cpansand/bin:/usr/games:/home/cpansand/devel:/home/eserte/src/srezic-misc/scripts
    PERL5LIB = 
    PERL5OPT = 
    PERL5_CPANPLUS_IS_RUNNING = 7282
    PERL5_CPAN_IS_RUNNING = 7282
    PERL5_CPAN_IS_RUNNING_IN_RECURSION = 3159,7282
    PERLDOC = -MPod::Perldoc::ToTextOverstrike
    PERL_BATCH = yes
    PERL_CANARY_STABILITY_NOPROMPT = 1
    PERL_CPAN_REPORTER_CONFIG = /var/tmp/cpansmoker-1023/2021101310/cpanreporter_000_config.ini
    PERL_EXTUTILS_AUTOINSTALL = --defaultdeps
    SHELL = /usr/bin/zsh
    TERM = screen
    TMPDIR = /var/tmp/cpansmoker-1023/2021101310

Perl special variables (and OS-specific diagnostics, for MSWin32):

    $^X = /opt/perl-5.14.4/bin/perl
    $UID/$EUID = 1023 / 1023
    $GID = 1023 1023
    $EGID = 1023 1023

Perl module toolchain versions installed:

    Module              Have     
    ------------------- ---------
    CPAN                1.9600_01
    CPAN::Meta          2.150010 
    Cwd                 3.75     
    ExtUtils::CBuilder  0.280236 
    ExtUtils::Command   7.62     
    ExtUtils::Install   2.06     
    ExtUtils::MakeMaker 7.62     
    ExtUtils::Manifest  1.70     
    ExtUtils::ParseXS   3.35     
    File::Spec          3.75     
    JSON                4.03     
    JSON::PP            4.06     
    Module::Build       0.4231   
    Module::Signature   n/a      
    Parse::CPAN::Meta   2.150010 
    Test::Harness       3.42     
    Test::More          1.302188 
    YAML                1.30     
    YAML::Syck          1.34     
    version             0.9929   


--

Summary of my perl5 (revision 5 version 14 subversion 4) configuration:
   
  Platform:
    osname=linux, osvers=4.15.0-154-generic, archname=x86_64-linux
    uname='linux cloud6.bbbike.org 4.15.0-154-generic #161-ubuntu smp fri jul 30 13:04:17 utc 2021 x86_64 x86_64 x86_64 gnulinux '
    config_args='-ds -e -Dprefix=/opt/perl-5.14.4 -Dcf_email=srezic@cpan.org'
    hint=recommended, useposix=true, d_sigaction=define
    useithreads=undef, usemultiplicity=undef
    useperlio=define, d_sfio=undef, uselargefiles=define, usesocks=undef
    use64bitint=define, use64bitall=define, uselongdouble=undef
    usemymalloc=n, bincompat5005=undef
  Compiler:
    cc='cc', ccflags ='-fwrapv -fno-strict-aliasing -pipe -fstack-protector -I/usr/local/include -D_LARGEFILE_SOURCE -D_FILE_OFFSET_BITS=64',
    optimize='-O2',
    cppflags='-fwrapv -fno-strict-aliasing -pipe -fstack-protector -I/usr/local/include'
    ccversion='', gccversion='7.5.0', gccosandvers=''
    intsize=4, longsize=8, ptrsize=8, doublesize=8, byteorder=12345678
    d_longlong=define, longlongsize=8, d_longdbl=define, longdblsize=16
    ivtype='long', ivsize=8, nvtype='double', nvsize=8, Off_t='off_t', lseeksize=8
    alignbytes=8, prototype=define
  Linker and Libraries:
    ld='cc', ldflags =' -fstack-protector -L/usr/local/lib'
    libpth=/usr/local/lib /lib/x86_64-linux-gnu /lib/../lib /usr/lib/x86_64-linux-gnu /usr/lib/../lib /lib /usr/lib
    libs=-lnsl -lgdbm -ldb -ldl -lm -lcrypt -lutil -lc
    perllibs=-lnsl -ldl -lm -lcrypt -lutil -lc
    libc=libc-2.27.so, so=so, useshrplib=false, libperl=libperl.a
    gnulibc_version='2.27'
  Dynamic Linking:
    dlsrc=dl_dlopen.xs, dlext=so, d_dlsymun=undef, ccdlflags='-Wl,-E'
    cccdlflags='-fPIC', lddlflags='-shared -O2 -L/usr/local/lib -fstack-protector'


Characteristics of this binary (from libperl): 
  Compile-time options: PERL_DONT_CREATE_GVSV PERL_MALLOC_WRAP
                        PERL_PRESERVE_IVUV USE_64_BIT_ALL USE_64_BIT_INT
                        USE_LARGE_FILES USE_PERLIO USE_PERL_ATOF
  Locally applied patches:
	Devel::PatchPerl 2.08
  Built under linux
  Compiled at Sep  5 2021 12:34:24
  %ENV:
    PERL5LIB=""
    PERL5OPT=""
    PERL5_CPANPLUS_IS_RUNNING="7282"
    PERL5_CPAN_IS_RUNNING="7282"
    PERL5_CPAN_IS_RUNNING_IN_RECURSION="3159,7282"
    PERLDOC="-MPod::Perldoc::ToTextOverstrike"
    PERL_BATCH="yes"
    PERL_CANARY_STABILITY_NOPROMPT="1"
    PERL_CPAN_REPORTER_CONFIG="/var/tmp/cpansmoker-1023/2021101310/cpanreporter_000_config.ini"
    PERL_EXTUTILS_AUTOINSTALL="--defaultdeps"
  @INC:
    /opt/perl-5.14.4/lib/site_perl/5.14.4/x86_64-linux
    /opt/perl-5.14.4/lib/site_perl/5.14.4
    /opt/perl-5.14.4/lib/5.14.4/x86_64-linux
    /opt/perl-5.14.4/lib/5.14.4
    .