Catmandu-AlephX v1.07 Perl 5 v5.22.1 amd64-freebsd

Status
Pass
From
Slaven Rezić (SREZIC)
Dist
Catmandu-AlephX v1.07
Platform
Perl 5 v5.22.1 amd64-freebsd
Date
2018-01-25 14:05:21
ID
c7e45d3c-01d8-11e8-ad1e-b2398669d609
This distribution has been tested as part of the CPAN Testers
project, supporting the Perl programming language.  See
http://wiki.cpantesters.org/ for more information or email
questions to cpan-testers-discuss@perl.org


--
Dear Patrick Hochstenbach,

This is a computer-generated report for Catmandu-AlephX-1.07
on perl 5.22.1, created by CPAN-Reporter-1.2018.

Thank you for uploading your work to CPAN.  Congratulations!
All tests were successful.

Sections of this report:

    * Tester comments
    * Program output
    * Prerequisites
    * Environment and other context

------------------------------
TESTER COMMENTS
------------------------------

Additional comments from tester:

none provided

------------------------------
PROGRAM OUTPUT
------------------------------

Output from './Build test':

t/Catmandu/AlephX.t ...................... ok
t/Catmandu/AlephX/Metadata.t ............. ok
t/Catmandu/AlephX/Metadata/MARC.t ........ ok
t/Catmandu/AlephX/Metadata/MARC/Aleph.t .. ok
t/Catmandu/AlephX/Op/BorAuth.t ........... ok
t/Catmandu/AlephX/Op/BorInfo.t ........... ok
t/Catmandu/AlephX/Op/CircStatM.t ......... ok
t/Catmandu/AlephX/Op/CircStatus.t ........ ok
t/Catmandu/AlephX/Op/CreateItem.t ........ ok
t/Catmandu/AlephX/Op/Find.t .............. ok
t/Catmandu/AlephX/Op/FindDoc.t ........... ok
t/Catmandu/AlephX/Op/GetHolding.t ........ ok
t/Catmandu/AlephX/Op/HoldReq.t ........... ok
t/Catmandu/AlephX/Op/HoldReqCancel.t ..... ok
t/Catmandu/AlephX/Op/IllBorInfo.t ........ ok
t/Catmandu/AlephX/Op/IllGetDoc.t ......... ok
t/Catmandu/AlephX/Op/IllGetDocShort.t .... ok
t/Catmandu/AlephX/Op/IllLoanInfo.t ....... ok
t/Catmandu/AlephX/Op/ItemData.t .......... ok
t/Catmandu/AlephX/Op/ItemDataMulti.t ..... ok
t/Catmandu/AlephX/Op/Present.t ........... ok
t/Catmandu/AlephX/Op/PublishAvail.t ...... ok
t/Catmandu/AlephX/Op/ReadItem.t .......... ok
t/Catmandu/AlephX/Op/Renew.t ............. ok
t/Catmandu/AlephX/Op/UpdateDoc.t ......... ok
t/Catmandu/AlephX/Op/UpdateItem.t ........ ok
t/Catmandu/AlephX/Op/UserAuth.t .......... ok
t/Catmandu/AlephX/Record.t ............... ok
t/Catmandu/AlephX/Record/Present.t ....... ok
t/Catmandu/AlephX/Response.t ............. ok
t/Catmandu/AlephX/UserAgent.t ............ ok
t/Catmandu/AlephX/UserAgent/LWP.t ........ ok
t/Catmandu/AlephX/XPath/Helper.t ......... ok
t/Catmandu/Importer/AlephX.t ............. ok
t/Catmandu/Store/AlephX.t ................ ok
t/author-pod-syntax.t .................... skipped: these tests are for testing by the author
All tests successful.
Files=36, Tests=70,  6 wallclock secs ( 0.00 usr  0.15 sys +  0.51 cusr  4.40 csys =  5.05 CPU)
Result: PASS

------------------------------
PREREQUISITES
------------------------------

Prerequisite modules loaded:

requires:

    Module                      Need    Have    
    --------------------------- ------- --------
    Carp                        0       1.38    
    Catmandu                    0       1.07    
    Data::Util                  0       0.66    
    LWP::UserAgent              0       6.29    
    Moo                         0       2.003003
    perl                        v5.10.1 5.022001
    Software::License           0       0.103010
    Test::Exception             0.43    0.43    
    Test::More                  0.99    1.302120
    URI::Escape                 0       3.31    
    XML::LibXML                 0       2.0131  
    XML::LibXML::XPathContext   0       2.0131  

build_requires:

    Module                      Need    Have    
    --------------------------- ------- --------
    Log::Any::Adapter::Log4perl 0       0.08    
    Log::Any::Test              1.03    1.705   
    Log::Log4perl               0       1.49    
    Test::Deep                  0.112   1.127   
    Test::Exception             0.43    0.43    
    Test::LWP::UserAgent        0       0.030   
    Test::More                  0.99    1.302120
    Test::Pod                   0       1.51    

configure_requires:

    Module                      Need    Have    
    --------------------------- ------- --------
    Module::Build::Tiny         0.034   0.039   


------------------------------
ENVIRONMENT AND OTHER CONTEXT
------------------------------

Environment variables:

    LC_ALL = de_DE.ISO8859-1
    PATH = /usr/local/bin:/usr/bin:/bin:/usr/local/sbin:/usr/sbin:/sbin:/home/cpansand/bin/freebsd10.3:/home/cpansand/bin/sh:/home/cpansand/bin:/usr/games:/home/cpansand/devel:/home/eserte/src/srezic-misc/scripts
    PERL5LIB = 
    PERL5OPT = 
    PERL5_CPANPLUS_IS_RUNNING = 47207
    PERL5_CPAN_IS_RUNNING = 47207
    PERL5_CPAN_IS_RUNNING_IN_RECURSION = 42974,47207
    PERLDOC = -MPod::Perldoc::ToTextOverstrike
    PERL_BATCH = yes
    PERL_CANARY_STABILITY_NOPROMPT = 1
    PERL_CPAN_REPORTER_CONFIG = /var/tmp/cpansmoker-1023/2018012512/cpanreporter_000_config.ini
    PERL_EXTUTILS_AUTOINSTALL = --defaultdeps
    SHELL = /usr/local/bin/zsh
    TERM = screen
    TMPDIR = /var/tmp/cpansmoker-1023/2018012512

Perl special variables (and OS-specific diagnostics, for MSWin32):

    $^X = /usr/perl5.22.1p/bin/perl5.22.1
    $UID/$EUID = 1023 / 1023
    $GID = 1023 1023
    $EGID = 1023 1023

Perl module toolchain versions installed:

    Module              Have    
    ------------------- --------
    CPAN                2.16    
    CPAN::Meta          2.150010
    Cwd                 3.62    
    ExtUtils::CBuilder  0.280226
    ExtUtils::Command   7.24    
    ExtUtils::Install   2.14    
    ExtUtils::MakeMaker 7.24    
    ExtUtils::Manifest  1.70    
    ExtUtils::ParseXS   3.30    
    File::Spec          3.62    
    JSON                2.97000 
    JSON::PP            2.97000 
    Module::Build       0.4224  
    Module::Signature   0.81    
    Parse::CPAN::Meta   2.150010
    Test::Harness       3.39    
    Test::More          1.302120
    YAML                1.24    
    YAML::Syck          1.30    
    version             0.9917  


--

Summary of my perl5 (revision 5 version 22 subversion 1) configuration:
   
  Platform:
    osname=freebsd, osvers=10.1-release, archname=amd64-freebsd
    uname='freebsd cvrsnica-freebsd-101.herceg.de 10.1-release freebsd 10.1-release #0 r274401: tue nov 11 21:02:49 utc 2014 root@releng1.nyi.freebsd.org:usrobjusrsrcsysgeneric amd64 '
    config_args='-ds -e -Dprefix=/usr/perl5.22.1p -Dcf_email=srezic@cpan.org'
    hint=recommended, useposix=true, d_sigaction=define
    useithreads=undef, usemultiplicity=undef
    use64bitint=define, use64bitall=define, uselongdouble=undef
    usemymalloc=n, bincompat5005=undef
  Compiler:
    cc='cc', ccflags ='-DHAS_FPSETMASK -DHAS_FLOATINGPOINT_H -fno-strict-aliasing -pipe -fstack-protector -I/usr/local/include -D_FORTIFY_SOURCE=2',
    optimize='-O',
    cppflags='-DHAS_FPSETMASK -DHAS_FLOATINGPOINT_H -fno-strict-aliasing -pipe -fstack-protector -I/usr/local/include'
    ccversion='', gccversion='4.2.1 Compatible FreeBSD Clang 3.4.1 (tags/RELEASE_34/dot1-final 208032)', gccosandvers=''
    intsize=4, longsize=8, ptrsize=8, doublesize=8, byteorder=12345678, doublekind=3
    d_longlong=define, longlongsize=8, d_longdbl=define, longdblsize=16, longdblkind=3
    ivtype='long', ivsize=8, nvtype='double', nvsize=8, Off_t='off_t', lseeksize=8
    alignbytes=8, prototype=define
  Linker and Libraries:
    ld='cc', ldflags ='-pthread -Wl,-E  -fstack-protector -L/usr/local/lib'
    libpth=/usr/lib /usr/local/lib /usr/include/clang/3.4.1 /usr/lib
    libs=-lpthread -lgdbm -lm -lcrypt -lutil -lc
    perllibs=-lpthread -lm -lcrypt -lutil -lc
    libc=, so=so, useshrplib=false, libperl=libperl.a
    gnulibc_version=''
  Dynamic Linking:
    dlsrc=dl_dlopen.xs, dlext=so, d_dlsymun=undef, ccdlflags=' '
    cccdlflags='-DPIC -fPIC', lddlflags='-shared  -L/usr/local/lib -fstack-protector'


Characteristics of this binary (from libperl): 
  Compile-time options: HAS_TIMES PERLIO_LAYERS PERL_DONT_CREATE_GVSV
                        PERL_HASH_FUNC_ONE_AT_A_TIME_HARD PERL_MALLOC_WRAP
                        PERL_NEW_COPY_ON_WRITE PERL_PRESERVE_IVUV
                        USE_64_BIT_ALL USE_64_BIT_INT USE_LARGE_FILES
                        USE_LOCALE USE_LOCALE_COLLATE USE_LOCALE_CTYPE
                        USE_LOCALE_NUMERIC USE_LOCALE_TIME USE_PERLIO
                        USE_PERL_ATOF
  Built under freebsd
  Compiled at Dec 15 2015 07:47:22
  %ENV:
    PERL5LIB=""
    PERL5OPT=""
    PERL5_CPANPLUS_IS_RUNNING="47207"
    PERL5_CPAN_IS_RUNNING="47207"
    PERL5_CPAN_IS_RUNNING_IN_RECURSION="42974,47207"
    PERLDOC="-MPod::Perldoc::ToTextOverstrike"
    PERL_BATCH="yes"
    PERL_CANARY_STABILITY_NOPROMPT="1"
    PERL_CPAN_REPORTER_CONFIG="/var/tmp/cpansmoker-1023/2018012512/cpanreporter_000_config.ini"
    PERL_EXTUTILS_AUTOINSTALL="--defaultdeps"
  @INC:
    /usr/perl5.22.1p/lib/site_perl/5.22.1/amd64-freebsd
    /usr/perl5.22.1p/lib/site_perl/5.22.1
    /usr/perl5.22.1p/lib/5.22.1/amd64-freebsd
    /usr/perl5.22.1p/lib/5.22.1
    .