Portable-Dist v0.03 Perl 5 v5.10.1 MSWin32-x86-multi-thread
- Status
- Pass
- From
- Alexandr Ciornii (CHORNY)
- Dist
-
Portable-Dist v0.03
- Platform
- Perl 5 v5.10.1 MSWin32-x86-multi-thread
- Date
- 2010-08-30 15:43:49
- ID
- c7774be0-8d84-1014-a5ee-2e2b47d62f91
This distribution has been tested as part of the CPAN Testers
project, supporting the Perl programming language. See
http://wiki.cpantesters.org/ for more information or email
questions to cpan-testers-discuss@perl.org
--
Dear Adam Kennedy,
This is a computer-generated report for Portable-Dist-0.03
on perl 5.10.1, created by CPAN-Reporter-1.1711.
Thank you for uploading your work to CPAN. Congratulations!
All tests were successful.
Sections of this report:
* Tester comments
* Program output
* Prerequisites
* Environment and other context
------------------------------
TESTER COMMENTS
------------------------------
Additional comments from tester:
none provided
------------------------------
PROGRAM OUTPUT
------------------------------
Output from 'C:\strawberry\c\bin\dmake.EXE test':
C:\strawberry\perl\bin\perl.exe "-MExtUtils::Command::MM" "-e" "test_harness(0, 'inc', 'blib\lib', 'blib\arch')" t/*.t
t/01_compile.t .. ok
t/02_run.t ...... ok
t/03_batch.t .... ok
t/97_meta.t ..... skipped: Author tests not required for installation
t/98_pod.t ...... skipped: Author tests not required for installation
t/99_pmv.t ...... skipped: Author tests not required for installation
All tests successful.
Files=6, Tests=47, 3 wallclock secs ( 0.25 usr + 0.03 sys = 0.28 CPU)
Result: PASS
------------------------------
PREREQUISITES
------------------------------
Prerequisite modules loaded:
requires:
Module Need Have
--------------------- ------- -------
Carp 0 1.11
ExtUtils::MakeMaker 6.56 6.56
File::Copy::Recursive 0.35 0.38
File::Find::Rule 0.30 0.32
File::IgnoreReadonly 0.01 0.01
File::Remove 1.42 1.42
File::Slurp 9999.13 9999.13
File::Spec 3.2701 3.31
Object::Tiny 1.04 1.06
Params::Util 0.31 1.00
Test::More 0.47 0.94
Tie::Slurp 0.03 0.03
Win32::File::Object 0.01 0.02
------------------------------
ENVIRONMENT AND OTHER CONTEXT
------------------------------
Environment variables:
COMSPEC = C:\WINDOWS\system32\cmd.exe
INCLUDE = G:\Prg\Microsoft Visual Studio\VC98\atl\include;G:\Prg\Microsoft Visual Studio\VC98\mfc\include;G:\Prg\Microsoft Visual Studio\VC98\include;c:\perl\ext\include\
LIB = G:\Prg\Microsoft Visual Studio\VC98\mfc\lib;G:\Prg\Microsoft Visual Studio\VC98\lib;c:\perl\ext\lib\
NUMBER_OF_PROCESSORS = 1
PATH = C:\Program Files\Far;C:\PHP\;D:\Perl561\bin\;C:\Perl\site\bin;C:\Perl\bin;c:\program files\imagemagick-6.2.5-q16;C:\WINDOWS\system32;C:\WINDOWS;C:\WINDOWS\System32\Wbem;c:\util\;C:\vanilla-perl\perl\bin;C:\vanilla-perl\dmake\bin;C:\vanilla-perl\mingw\bin;C:\Program Files\Common Files\GTK\2.0\bin;C:\strawberry\c\bin\;C:\strawberry\perl\bin;D:\Prg\TortoiseGit\bin;C:\Program Files\TortoiseSVN\bin;D:\Program Files\Subversion\bin;d:\Program Files\Mercurial;d:\Prg\Git\cmd;C:\strawberry\c\bin;C:\strawberry512RC0\c\bin;C:\strawberry512RC0\perl\bin;C:\strawberry512RC0\perl\site\bin;C:\strawberry512RC\c\bin;C:\strawberry512RC\perl\site\bin;C:\strawberry512RC\perl\bin;E:\strawberry5121b\c\bin;E:\strawberry5121b\perl\site\bin;E:\strawberry5121b\perl\bin;G:\Prg\Microsoft Visual Studio\Common\Tools\WinNT;G:\Prg\Microsoft Visual Studio\Common\MSDev98\Bin;G:\Prg\Microsoft Visual Studio\Common\Tools;G:\Prg\Microsoft Visual Studio\VC98\bin;c:\php\;C:\Prg\svk\bin;;;
PERL5LIB =
PERL5OPT =
PERL5_CPANPLUS_IS_RUNNING = 1376
PERL5_CPAN_IS_RUNNING = 1376
PROCESSOR_IDENTIFIER = x86 Family 15 Model 2 Stepping 4, GenuineIntel
TEMP = C:\DOCUME~1\Sasha\LOCALS~1\Temp
TERM = dumb
Perl special variables (and OS-specific diagnostics, for MSWin32):
$^X = C:\strawberry\perl\bin\perl.exe
$UID/$EUID = 0 / 0
$GID = 0
$EGID = 0
Win32::GetOSName = WinXP/.Net
Win32::GetOSVersion = Service Pack 2, 5, 1, 2600, 2, 2, 0, 256, 1
Win32::FsType = NTFS
Win32::IsAdminUser = 1
Perl module toolchain versions installed:
Module Have
------------------- -------
CPAN 1.94_58
Cwd 3.31
ExtUtils::CBuilder 0.27
ExtUtils::Command 1.16
ExtUtils::Install 1.54
ExtUtils::MakeMaker 6.56
ExtUtils::Manifest 1.58
ExtUtils::ParseXS 2.2206
File::Spec 3.31
Module::Build 0.36_14
Module::Signature 0.64
Test::Harness 3.21
Test::More 0.94
YAML 0.71
YAML::Syck 1.07
version 0.82
--
Summary of my perl5 (revision 5 version 10 subversion 1) configuration:
Platform:
osname=MSWin32, osvers=5.1, archname=MSWin32-x86-multi-thread
uname='Win32 strawberryperl 5.10.1.0 #1 30 i386'
config_args='undef'
hint=recommended, useposix=true, d_sigaction=undef
useithreads=define, usemultiplicity=define
useperlio=define, d_sfio=undef, uselargefiles=define, usesocks=undef
use64bitint=undef, use64bitall=undef, uselongdouble=undef
usemymalloc=n, bincompat5005=undef
Compiler:
cc='gcc', ccflags =' -s -O2 -DWIN32 -DHAVE_DES_FCRYPT -DUSE_SITECUSTOMIZE -DPERL_IMPLICIT_CONTEXT -DPERL_IMPLICIT_SYS -fno-strict-aliasing -DPERL_MSVCRT_READFIX',
optimize='-s -O2',
cppflags='-DWIN32'
ccversion='', gccversion='3.4.5', gccosandvers=''
intsize=4, longsize=4, ptrsize=4, doublesize=8, byteorder=1234
d_longlong=undef, longlongsize=8, d_longdbl=define, longdblsize=12
ivtype='long', ivsize=4, nvtype='double', nvsize=8, Off_t='long long', lseeksize=8
alignbytes=8, prototype=define
Linker and Libraries:
ld='g++', ldflags ='-s -L"C:\strawberry\perl\lib\CORE" -L"C:\strawberry\c\lib"'
libpth=C:\strawberry\c\lib
libs= -lmoldname -lkernel32 -luser32 -lgdi32 -lwinspool -lcomdlg32 -ladvapi32 -lshell32 -lole32 -loleaut32 -lnetapi32 -luuid -lws2_32 -lmpr -lwinmm -lversion -lodbc32 -lodbccp32
perllibs= -lmoldname -lkernel32 -luser32 -lgdi32 -lwinspool -lcomdlg32 -ladvapi32 -lshell32 -lole32 -loleaut32 -lnetapi32 -luuid -lws2_32 -lmpr -lwinmm -lversion -lodbc32 -lodbccp32
libc=, so=dll, useshrplib=true, libperl=libperl510.a
gnulibc_version=''
Dynamic Linking:
dlsrc=dl_win32.xs, dlext=dll, d_dlsymun=undef, ccdlflags=' '
cccdlflags=' ', lddlflags='-mdll -s -L"C:\strawberry\perl\lib\CORE" -L"C:\strawberry\c\lib"'
Characteristics of this binary (from libperl):
Compile-time options: MULTIPLICITY PERL_DONT_CREATE_GVSV
PERL_IMPLICIT_CONTEXT PERL_IMPLICIT_SYS
PERL_MALLOC_WRAP PL_OP_SLAB_ALLOC USE_ITHREADS
USE_LARGE_FILES USE_PERLIO USE_SITECUSTOMIZE
Built under MSWin32
Compiled at Oct 21 2009 13:54:15
%ENV:
PERL5_CPANPLUS_IS_RUNNING="1376"
PERL5_CPAN_IS_RUNNING="1376"
@INC:
C:/strawberry/perl/lib
C:/strawberry/perl/site/lib
C:\strawberry\perl\vendor\lib
.