Path-Tiny v0.144 Perl 5 v5.38.0 x86_64-linux
- Status
- Pass
- From
- Ioan Rogers
- Dist
-
Path-Tiny v0.144
- Platform
- Perl 5 v5.38.0 x86_64-linux
- Date
- 2023-08-24 19:31:09
- ID
- c7076512-42b4-11ee-af1f-8d796255e5e8
This distribution has been tested as part of the CPAN Testers
project, supporting the Perl programming language. See
http://wiki.cpantesters.org/ for more information or email
questions to cpan-testers-discuss@perl.org
--
Dear DAGOLDEN,
This is a computer-generated report for Path-Tiny-0.144
on perl 5.38.0, created by App::cpanminus::reporter 0.21 (1.7047).
Thank you for uploading your work to CPAN. Congratulations!
All tests were successful.
Sections of this report:
* Tester comments
* Program output
* Prerequisites
* Environment and other context
------------------------------
TESTER COMMENTS
------------------------------
Additional comments from tester:
none provided
------------------------------
PROGRAM OUTPUT
------------------------------
Output from '':
Building and testing Path-Tiny-0.144
cp lib/Path/Tiny.pm blib/lib/Path/Tiny.pm
PERL_DL_NONLAZY=1 "/home/irogers/.plenv/versions/5.38.0/bin/perl5.38.0" "-MExtUtils::Command::MM" "-MTest::Harness" "-e" "undef *Test::Harness::Switches; test_harness(0, 'blib/lib', 'blib/arch')" t/*.t
t/basename.t ...................... ok
t/children.t ...................... ok
t/exception.t ..................... ok
t/digest.t ........................ ok
t/exports.t ....................... ok
t/has_same_bytes.t ................ ok
t/mkdir.t ......................... ok
t/mkpath.t ........................ ok
t/locking.t ....................... ok
t/basic.t ......................... ok
#
# Versions for all modules listed in MYMETA.json (including optional ones):
#
# === Configure Requires ===
#
# Module Want Have
# ------------------- ---- ----
# ExtUtils::MakeMaker 6.17 7.70
#
# === Configure Suggests ===
#
# Module Want Have
# -------- ------- ----
# JSON::PP 2.27300 4.16
#
# === Build Requires ===
#
# Module Want Have
# ------------------- ---- ----
# ExtUtils::MakeMaker any 7.70
#
# === Test Requires ===
#
# Module Want Have
# --------------------- ---- --------
# Digest::MD5 any 2.58_01
# ExtUtils::MakeMaker any 7.70
# File::Basename any 2.86
# File::Spec 0.86 3.88
# File::Spec::Functions any 3.88
# File::Spec::Unix any 3.88
# File::Temp 0.19 0.2311
# Test::More 0.96 1.302195
# lib any 0.65
# open any 1.13
#
# === Test Recommends ===
#
# Module Want Have
# ------------------ -------- --------
# CPAN::Meta 2.120900 2.150010
# Test::FailWarnings any missing
# Test::MockRandom any missing
#
# === Runtime Requires ===
#
# Module Want Have
# ------------------ ---- ------
# Carp any 1.54
# Cwd any 3.89
# Digest 1.03 1.20
# Digest::SHA 5.45 6.04
# Encode any 3.19
# Exporter 5.57 5.77
# Fcntl any 1.15
# File::Compare any 1.1007
# File::Copy any 2.41
# File::Glob any 1.40
# File::Path 2.07 2.18
# File::Spec 0.86 3.88
# File::Temp 0.19 0.2311
# File::stat any 1.13
# constant any 1.33
# overload any 1.37
# strict any 1.12
# warnings any 1.65
# warnings::register any 1.05
#
# === Runtime Recommends ===
#
# Module Want Have
# ------------- ---- -------
# Unicode::UTF8 0.58 missing
#
t/filesystem.t .................... ok
t/00-report-prereqs.t ............. ok
t/mutable_tree_while_iterating.t .. ok
t/normalize.t ..................... ok
t/overloading.t ................... ok
t/sig_die.t ....................... ok
t/recurse.t ....................... ok
t/zz-atomic.t ..................... skipped: Test::MockRandom required for atomicity tests
t/rel-abs.t ....................... ok
t/symlinks.t ...................... ok
t/subsumes.t ...................... ok
t/visit.t ......................... ok
t/input_output.t .................. ok
t/parent.t ........................ ok
t/size.t .......................... ok
t/input_output_no_PU_UU.t ......... ok
t/input_output_no_UU.t ............ ok
t/temp.t .......................... ok
t/chmod.t ......................... ok
t/zzz-spec.t ...................... ok
All tests successful.
Files=30, Tests=1769, 0 wallclock secs ( 0.18 usr 0.04 sys + 3.28 cusr 0.59 csys = 4.09 CPU)
Result: PASS
------------------------------
PREREQUISITES
------------------------------
Prerequisite modules loaded:
runtime:
Module Need Have
------------------- -------- --------
Carp 0 1.54
constant 0 1.33
Cwd 0 3.89
Digest 1.03 1.20
Digest::SHA 5.45 6.04
Encode 0 3.19
Exporter 5.57 5.77
Fcntl 0 1.15
File::Compare 0 1.1007
File::Copy 0 2.41
File::Glob 0 1.40
File::Path 2.07 2.18
File::Spec 0.86 3.88
File::stat 0 1.13
File::Temp 0.19 0.2311
overload 0 1.37
perl 5.008001 5.038000
strict 0 1.12
warnings 0 1.65
warnings::register 0 1.05
build:
Module Need Have
------------------- -------- --------
ExtUtils::MakeMaker 0 7.70
configure:
Module Need Have
------------------- -------- --------
ExtUtils::MakeMaker 6.17 7.70
------------------------------
ENVIRONMENT AND OTHER CONTEXT
------------------------------
Environment variables:
HARNESS_OPTIONS = j16
LANG = en_GB.UTF-8
LANGUAGE = en_GB:en_CA:en
LC_ADDRESS = en_CA.UTF-8
LC_IDENTIFICATION = en_CA.UTF-8
LC_MEASUREMENT = en_CA.UTF-8
LC_MONETARY = en_CA.UTF-8
LC_NAME = en_CA.UTF-8
LC_NUMERIC = en_CA.UTF-8
LC_PAPER = en_CA.UTF-8
LC_TELEPHONE = en_CA.UTF-8
LC_TIME = en_CA.UTF-8
PATH = /home/irogers/.plenv/versions/5.38.0/bin:/home/irogers/.plenv/libexec:/home/irogers/.plenv/plugins/perl-build/bin:/home/irogers/Projects/github.maxmind.com/maxmind/mm_website/.direnv/python-3.11.4/bin:/usr/local/go/bin:/home/irogers/.raku/bin:/opt/rakudo-pkg/bin:/home/irogers/.plenv/shims:~/.plenv/bin:/home/irogers/go/bin:/home/irogers/.local/bin:/home/irogers/bin:/usr/local/sbin:/usr/local/bin:/usr/sbin:/usr/bin:/sbin:/bin:/usr/games:/usr/local/games:/snap/bin:/snap/bin:/opt/rakudo-pkg/bin:/opt/rakudo-pkg/share/perl6/bin
PERL5LIB = /home/irogers/Projects/github.maxmind.com/maxmind/mm_website/lib
SHELL = /bin/bash
TERM = xterm-256color
Perl special variables (and OS-specific diagnostics, for MSWin32):
EGID = 1000 4 24 27 30 46 113 122 134 135 1000
EUID = 1000
EXECUTABLE_NAME = /home/irogers/.plenv/versions/5.38.0/bin/perl5.38.0
GID = 1000 4 24 27 30 46 113 122 134 135 1000
UID = 1000
Perl module toolchain versions installed:
Module Have
------------------- --------
CPAN 2.36
CPAN::Meta 2.150010
Cwd 3.89
ExtUtils::CBuilder 0.280238
ExtUtils::Command 7.70
ExtUtils::Install 2.22
ExtUtils::MakeMaker 7.70
ExtUtils::Manifest 1.73
ExtUtils::ParseXS 3.51
File::Spec 3.88
JSON 4.10
JSON::PP 4.16
Module::Build 0.4234
Module::Signature 0.88
Parse::CPAN::Meta 2.150010
Test::Harness 3.44
Test::More 1.302195
YAML 1.30
YAML::Syck 1.34
version 0.9929
--
Summary of my perl5 (revision 5 version 38 subversion 0) configuration:
Platform:
osname=linux
osvers=6.2.0-27-generic
archname=x86_64-linux
uname='linux mm-starbook 6.2.0-27-generic #28-ubuntu smp preempt_dynamic wed jul 12 22:39:51 utc 2023 x86_64 x86_64 x86_64 gnulinux '
config_args='-Dprefix=/home/irogers/.plenv/versions/5.38.0 -de -Dversiononly -Dcc=clang -Doptimize=-O3 -Dccflags-march=native -Dman1dir=none -Dman3dir=none -A'eval:scriptdir=/home/irogers/.plenv/versions/5.38.0/bin''
hint=recommended
useposix=true
d_sigaction=define
useithreads=undef
usemultiplicity=undef
use64bitint=define
use64bitall=define
uselongdouble=undef
usemymalloc=n
default_inc_excludes_dot=define
Compiler:
cc='clang'
ccflags ='-fno-strict-aliasing -pipe -fstack-protector-strong -I/usr/local/include -D_LARGEFILE_SOURCE -D_FILE_OFFSET_BITS=64'
optimize='-O3'
cppflags='-fno-strict-aliasing -pipe -fstack-protector-strong -I/usr/local/include'
ccversion=''
gccversion='Ubuntu Clang 15.0.7'
gccosandvers=''
intsize=4
longsize=8
ptrsize=8
doublesize=8
byteorder=12345678
doublekind=3
d_longlong=define
longlongsize=8
d_longdbl=define
longdblsize=16
longdblkind=3
ivtype='long'
ivsize=8
nvtype='double'
nvsize=8
Off_t='off_t'
lseeksize=8
alignbytes=8
prototype=define
Linker and Libraries:
ld='clang'
ldflags =' -fstack-protector-strong -L/usr/local/lib'
libpth=/usr/lib/llvm-15/lib/clang/15.0.7/lib /usr/local/lib /usr/lib/x86_64-linux-gnu /usr/lib /usr/lib64
libs=-lpthread -ldb -ldl -lm -lcrypt -lutil -lc
perllibs=-lpthread -ldl -lm -lcrypt -lutil -lc
libc=/lib/x86_64-linux-gnu/libc.so.6
so=so
useshrplib=false
libperl=libperl.a
gnulibc_version='2.37'
Dynamic Linking:
dlsrc=dl_dlopen.xs
dlext=so
d_dlsymun=undef
ccdlflags='-Wl,-E'
cccdlflags='-fPIC'
lddlflags='-shared -O3 -L/usr/local/lib -fstack-protector-strong'
Characteristics of this binary (from libperl):
Compile-time options:
HAS_LONG_DOUBLE
HAS_STRTOLD
HAS_TIMES
PERLIO_LAYERS
PERL_COPY_ON_WRITE
PERL_DONT_CREATE_GVSV
PERL_HASH_FUNC_SIPHASH13
PERL_HASH_USE_SBOX32
PERL_MALLOC_WRAP
PERL_OP_PARENT
PERL_PRESERVE_IVUV
PERL_USE_SAFE_PUTENV
USE_64_BIT_ALL
USE_64_BIT_INT
USE_LARGE_FILES
USE_LOCALE
USE_LOCALE_COLLATE
USE_LOCALE_CTYPE
USE_LOCALE_NUMERIC
USE_LOCALE_TIME
USE_PERLIO
USE_PERL_ATOF
Built under linux
Compiled at Aug 24 2023 11:18:09
%ENV:
PERL5LIB="/home/irogers/Projects/github.maxmind.com/maxmind/mm_website/lib"
@INC:
/home/irogers/Projects/github.maxmind.com/maxmind/mm_website/lib
/home/irogers/.plenv/versions/5.38.0/lib/perl5/site_perl/5.38.0/x86_64-linux
/home/irogers/.plenv/versions/5.38.0/lib/perl5/site_perl/5.38.0
/home/irogers/.plenv/versions/5.38.0/lib/perl5/5.38.0/x86_64-linux
/home/irogers/.plenv/versions/5.38.0/lib/perl5/5.38.0