Path-Tiny v0.144 Perl 5 v5.18.1 x86_64-linux
- Status
- Pass
- From
- Slaven Rezić
- Dist
-
Path-Tiny v0.144
- Platform
- Perl 5 v5.18.1 x86_64-linux
- Date
- 2024-02-25 18:43:31
- ID
- c60fe00e-d40d-11ee-9761-4bdb6d8775ea
This distribution has been tested as part of the CPAN Testers
project, supporting the Perl programming language. See
http://wiki.cpantesters.org/ for more information or email
questions to cpan-testers-discuss@perl.org
--
Dear David Golden,
This is a computer-generated report for Path-Tiny-0.144
on perl 5.18.1, created by CPAN-Reporter-1.2018.
Thank you for uploading your work to CPAN. Congratulations!
All tests were successful.
Sections of this report:
* Tester comments
* Program output
* Prerequisites
* Environment and other context
------------------------------
TESTER COMMENTS
------------------------------
Additional comments from tester:
none provided
------------------------------
PROGRAM OUTPUT
------------------------------
Output from '/usr/bin/make test':
PERL_DL_NONLAZY=1 "/opt/perl-5.18.1d/bin/perl5.18.1" "-MExtUtils::Command::MM" "-MTest::Harness" "-e" "undef *Test::Harness::Switches; test_harness(0, 'blib/lib', 'blib/arch')" t/*.t
#
# Versions for all modules listed in MYMETA.json (including optional ones):
#
# === Configure Requires ===
#
# Module Want Have
# ------------------- ---- ----
# ExtUtils::MakeMaker 6.17 7.24
#
# === Configure Suggests ===
#
# Module Want Have
# -------- ------- -------
# JSON::PP 2.27300 2.27400
#
# === Build Requires ===
#
# Module Want Have
# ------------------- ---- ----
# ExtUtils::MakeMaker any 7.24
#
# === Test Requires ===
#
# Module Want Have
# --------------------- ---- --------
# Digest::MD5 any 2.52
# ExtUtils::MakeMaker any 7.24
# File::Basename any 2.84
# File::Spec 0.86 3.40
# File::Spec::Functions any 3.40
# File::Spec::Unix any 3.40
# File::Temp 0.19 0.2304
# Test::More 0.96 1.302140
# lib any 0.63
# open any 1.10
#
# === Test Recommends ===
#
# Module Want Have
# ------------------ -------- --------
# CPAN::Meta 2.120900 2.150010
# Test::FailWarnings any missing
# Test::MockRandom any missing
#
# === Runtime Requires ===
#
# Module Want Have
# ------------------ ---- -------
# Carp any 1.29
# Cwd any 3.40
# Digest 1.03 1.17
# Digest::SHA 5.45 5.84_01
# Encode any 2.49
# Exporter 5.57 5.68
# Fcntl any 1.11
# File::Compare any 1.1006
# File::Copy any 2.26
# File::Glob any 1.20
# File::Path 2.07 2.09
# File::Spec 0.86 3.40
# File::Temp 0.19 0.2304
# File::stat any 1.07
# constant any 1.27
# overload any 1.22
# strict any 1.07
# warnings any 1.18
# warnings::register any 1.02
#
# === Runtime Recommends ===
#
# Module Want Have
# ------------- ---- -------
# Unicode::UTF8 0.58 missing
#
t/00-report-prereqs.t ............. ok
t/basename.t ...................... ok
t/basic.t ......................... ok
t/children.t ...................... ok
t/chmod.t ......................... ok
t/digest.t ........................ ok
t/exception.t ..................... ok
t/exports.t ....................... ok
t/filesystem.t .................... ok
t/has_same_bytes.t ................ ok
t/input_output.t .................. ok
t/input_output_no_PU_UU.t ......... ok
t/input_output_no_UU.t ............ ok
t/locking.t ....................... ok
t/mkdir.t ......................... ok
t/mkpath.t ........................ ok
t/mutable_tree_while_iterating.t .. ok
t/normalize.t ..................... ok
t/overloading.t ................... ok
t/parent.t ........................ ok
t/recurse.t ....................... ok
t/rel-abs.t ....................... ok
t/sig_die.t ....................... ok
t/size.t .......................... ok
t/subsumes.t ...................... ok
t/symlinks.t ...................... ok
t/temp.t .......................... ok
t/visit.t ......................... ok
t/zz-atomic.t ..................... skipped: Test::MockRandom required for atomicity tests
t/zzz-spec.t ...................... ok
All tests successful.
Files=30, Tests=1769, 2 wallclock secs ( 0.13 usr 0.03 sys + 1.84 cusr 0.37 csys = 2.37 CPU)
Result: PASS
------------------------------
PREREQUISITES
------------------------------
Prerequisite modules loaded:
requires:
Module Need Have
--------------------- -------- --------
Carp 0 1.29
constant 0 1.27
Cwd 0 3.40
Digest 1.03 1.17
Digest::SHA 5.45 5.84_01
Encode 0 2.49
Exporter 5.57 5.68
Fcntl 0 1.11
File::Compare 0 1.1006
File::Copy 0 2.26
File::Glob 0 1.20
File::Path 2.07 2.09
File::Spec 0.86 3.40
File::stat 0 1.07
File::Temp 0.19 0.2304
overload 0 1.22
perl 5.008001 5.018001
strict 0 1.07
warnings 0 1.18
warnings::register 0 1.02
build_requires:
Module Need Have
--------------------- -------- --------
Digest::MD5 0 2.52
ExtUtils::MakeMaker 0 7.24
File::Basename 0 2.84
File::Spec 0.86 3.40
File::Spec::Functions 0 3.40
File::Spec::Unix 0 3.40
File::Temp 0.19 0.2304
lib 0 0.63
open 0 1.10
Test::More 0.96 1.302140
configure_requires:
Module Need Have
--------------------- -------- --------
ExtUtils::MakeMaker 6.17 7.24
perl 5.008001 5.018001
------------------------------
ENVIRONMENT AND OTHER CONTEXT
------------------------------
Environment variables:
LANG = en_US.UTF-8
LANGUAGE = en_US:en
PATH = /usr/local/bin:/usr/bin:/bin:/usr/local/sbin:/usr/sbin:/sbin:/home/cpansand/bin/linux-gnu:/home/cpansand/bin/sh:/home/cpansand/bin:/usr/games:/home/cpansand/devel:/home/eserte/src/srezic-misc/scripts
PERL5LIB = /home/cpansand/.cpan/build/2024022519/PadWalker-2.5-0/blib/arch:/home/cpansand/.cpan/build/2024022519/PadWalker-2.5-0/blib/lib:/home/cpansand/.cpan/build/2024022519/Const-Fast-0.014-0/blib/arch:/home/cpansand/.cpan/build/2024022519/Const-Fast-0.014-0/blib/lib
PERL5OPT =
PERL5_CPANPLUS_IS_RUNNING = 19547
PERL5_CPAN_IS_RUNNING = 19547
PERL5_CPAN_IS_RUNNING_IN_RECURSION = 19533,19547
PERLDOC = -MPod::Perldoc::ToTextOverstrike
PERL_BATCH = yes
PERL_CANARY_STABILITY_NOPROMPT = 1
PERL_CPAN_REPORTER_CONFIG = /var/tmp/cpansmoker-1023/2024022519/cpanreporter_000_config.ini
PERL_EXTUTILS_AUTOINSTALL = --defaultdeps
SHELL = /bin/zsh
TERM = screen
TMPDIR = /var/tmp/cpansmoker-1023/2024022519
Perl special variables (and OS-specific diagnostics, for MSWin32):
$^X = /opt/perl-5.18.1d/bin/perl5.18.1
$UID/$EUID = 1023 / 1023
$GID = 1023 1023
$EGID = 1023 1023
Perl module toolchain versions installed:
Module Have
------------------- --------
CPAN 2.14
CPAN::Meta 2.150010
Cwd 3.40
ExtUtils::CBuilder 0.280210
ExtUtils::Command 7.24
ExtUtils::Install 1.59
ExtUtils::MakeMaker 7.24
ExtUtils::Manifest 1.70
ExtUtils::ParseXS 3.18
File::Spec 3.40
JSON n/a
JSON::PP 2.27400
Module::Build 0.4220
Module::Signature n/a
Parse::CPAN::Meta 2.150010
Test::Harness 3.36
Test::More 1.302140
YAML 0.84
YAML::Syck 1.27
version 0.9902
--
Summary of my perl5 (revision 5 version 18 subversion 1) configuration:
Platform:
osname=linux, osvers=3.2.0-4-amd64, archname=x86_64-linux
uname='linux cvrsnica-wheezy 3.2.0-4-amd64 #1 smp debian 3.2.41-2+deb7u2 x86_64 gnulinux '
config_args='-ds -e -Dprefix=/opt/perl-5.18.1d -DDEBUGGING'
hint=recommended, useposix=true, d_sigaction=define
useithreads=undef, usemultiplicity=undef
useperlio=define, d_sfio=undef, uselargefiles=define, usesocks=undef
use64bitint=define, use64bitall=define, uselongdouble=undef
usemymalloc=n, bincompat5005=undef
Compiler:
cc='cc', ccflags ='-DDEBUGGING -fno-strict-aliasing -pipe -fstack-protector -I/usr/local/include -D_LARGEFILE_SOURCE -D_FILE_OFFSET_BITS=64',
optimize='-O2 -g',
cppflags='-DDEBUGGING -fno-strict-aliasing -pipe -fstack-protector -I/usr/local/include'
ccversion='', gccversion='4.7.2', gccosandvers=''
intsize=4, longsize=8, ptrsize=8, doublesize=8, byteorder=12345678
d_longlong=define, longlongsize=8, d_longdbl=define, longdblsize=16
ivtype='long', ivsize=8, nvtype='double', nvsize=8, Off_t='off_t', lseeksize=8
alignbytes=8, prototype=define
Linker and Libraries:
ld='cc', ldflags =' -fstack-protector -L/usr/local/lib'
libpth=/usr/local/lib /lib/x86_64-linux-gnu /lib/../lib /usr/lib/x86_64-linux-gnu /usr/lib/../lib /lib /usr/lib
libs=-lnsl -ldl -lm -lcrypt -lutil -lc
perllibs=-lnsl -ldl -lm -lcrypt -lutil -lc
libc=, so=so, useshrplib=false, libperl=libperl.a
gnulibc_version='2.13'
Dynamic Linking:
dlsrc=dl_dlopen.xs, dlext=so, d_dlsymun=undef, ccdlflags='-Wl,-E'
cccdlflags='-fPIC', lddlflags='-shared -O2 -g -L/usr/local/lib -fstack-protector'
Characteristics of this binary (from libperl):
Compile-time options: DEBUGGING HAS_TIMES PERLIO_LAYERS
PERL_DONT_CREATE_GVSV
PERL_HASH_FUNC_ONE_AT_A_TIME_HARD PERL_MALLOC_WRAP
PERL_PRESERVE_IVUV PERL_SAWAMPERSAND USE_64_BIT_ALL
USE_64_BIT_INT USE_LARGE_FILES USE_LOCALE
USE_LOCALE_COLLATE USE_LOCALE_CTYPE
USE_LOCALE_NUMERIC USE_PERLIO USE_PERL_ATOF
Built under linux
Compiled at Nov 7 2013 09:38:13
%ENV:
PERL5LIB="/home/cpansand/.cpan/build/2024022519/PadWalker-2.5-0/blib/arch:/home/cpansand/.cpan/build/2024022519/PadWalker-2.5-0/blib/lib:/home/cpansand/.cpan/build/2024022519/Const-Fast-0.014-0/blib/arch:/home/cpansand/.cpan/build/2024022519/Const-Fast-0.014-0/blib/lib"
PERL5OPT=""
PERL5_CPANPLUS_IS_RUNNING="19547"
PERL5_CPAN_IS_RUNNING="19547"
PERL5_CPAN_IS_RUNNING_IN_RECURSION="19533,19547"
PERLDOC="-MPod::Perldoc::ToTextOverstrike"
PERL_BATCH="yes"
PERL_CANARY_STABILITY_NOPROMPT="1"
PERL_CPAN_REPORTER_CONFIG="/var/tmp/cpansmoker-1023/2024022519/cpanreporter_000_config.ini"
PERL_EXTUTILS_AUTOINSTALL="--defaultdeps"
@INC:
/home/cpansand/.cpan/build/2024022519/PadWalker-2.5-0/blib/arch
/home/cpansand/.cpan/build/2024022519/PadWalker-2.5-0/blib/lib
/home/cpansand/.cpan/build/2024022519/Const-Fast-0.014-0/blib/arch
/home/cpansand/.cpan/build/2024022519/Const-Fast-0.014-0/blib/lib
/opt/perl-5.18.1d/lib/site_perl/5.18.1/x86_64-linux
/opt/perl-5.18.1d/lib/site_perl/5.18.1
/opt/perl-5.18.1d/lib/5.18.1/x86_64-linux
/opt/perl-5.18.1d/lib/5.18.1
.