Encode v3.21 Perl 5 v5.26.3 x86_64-linux-thread-multi

Status
Pass
From
LNATION
Dist
Encode v3.21
Platform
Perl 5 v5.26.3 x86_64-linux-thread-multi
Date
2025-05-15 12:18:55
ID
c5920dd2-3186-11f0-9174-c9454e7f82c1
This distribution has been tested as part of the CPAN Testers
project, supporting the Perl programming language.  See
http://wiki.cpantesters.org/ for more information or email
questions to cpan-testers-discuss@perl.org


--
Dear Dan Kogai,

This is a computer-generated report for Encode-3.21
on perl 5.26.3, created by CPAN-Reporter-1.2020.

Thank you for uploading your work to CPAN.  Congratulations!
All tests were successful.

Sections of this report:

    * Tester comments
    * Program output
    * Prerequisites
    * Environment and other context

------------------------------
TESTER COMMENTS
------------------------------

Additional comments from tester:

this report is from an automated smoke testing program
and was not reviewed by a human for accuracy

------------------------------
PROGRAM OUTPUT
------------------------------

Output from '/usr/bin/make test':

"/usr/bin/perl" -MExtUtils::Command::MM -e 'cp_nonempty' -- Encode.bs blib/arch/auto/Encode/Encode.bs 644
make[1]: Entering directory '/home/rocky/.cpan/build/Encode-3.21-0/Byte'
"/usr/bin/perl" -MExtUtils::Command::MM -e 'cp_nonempty' -- Byte.bs ../blib/arch/auto/Encode/Byte/Byte.bs 644
make[1]: Leaving directory '/home/rocky/.cpan/build/Encode-3.21-0/Byte'
make[1]: Entering directory '/home/rocky/.cpan/build/Encode-3.21-0/CN'
"/usr/bin/perl" -MExtUtils::Command::MM -e 'cp_nonempty' -- CN.bs ../blib/arch/auto/Encode/CN/CN.bs 644
make[1]: Leaving directory '/home/rocky/.cpan/build/Encode-3.21-0/CN'
make[1]: Entering directory '/home/rocky/.cpan/build/Encode-3.21-0/EBCDIC'
"/usr/bin/perl" -MExtUtils::Command::MM -e 'cp_nonempty' -- EBCDIC.bs ../blib/arch/auto/Encode/EBCDIC/EBCDIC.bs 644
make[1]: Leaving directory '/home/rocky/.cpan/build/Encode-3.21-0/EBCDIC'
make[1]: Entering directory '/home/rocky/.cpan/build/Encode-3.21-0/JP'
"/usr/bin/perl" -MExtUtils::Command::MM -e 'cp_nonempty' -- JP.bs ../blib/arch/auto/Encode/JP/JP.bs 644
make[1]: Leaving directory '/home/rocky/.cpan/build/Encode-3.21-0/JP'
make[1]: Entering directory '/home/rocky/.cpan/build/Encode-3.21-0/KR'
"/usr/bin/perl" -MExtUtils::Command::MM -e 'cp_nonempty' -- KR.bs ../blib/arch/auto/Encode/KR/KR.bs 644
make[1]: Leaving directory '/home/rocky/.cpan/build/Encode-3.21-0/KR'
make[1]: Entering directory '/home/rocky/.cpan/build/Encode-3.21-0/Symbol'
"/usr/bin/perl" -MExtUtils::Command::MM -e 'cp_nonempty' -- Symbol.bs ../blib/arch/auto/Encode/Symbol/Symbol.bs 644
make[1]: Leaving directory '/home/rocky/.cpan/build/Encode-3.21-0/Symbol'
make[1]: Entering directory '/home/rocky/.cpan/build/Encode-3.21-0/TW'
"/usr/bin/perl" -MExtUtils::Command::MM -e 'cp_nonempty' -- TW.bs ../blib/arch/auto/Encode/TW/TW.bs 644
make[1]: Leaving directory '/home/rocky/.cpan/build/Encode-3.21-0/TW'
make[1]: Entering directory '/home/rocky/.cpan/build/Encode-3.21-0/Unicode'
"/usr/bin/perl" -MExtUtils::Command::MM -e 'cp_nonempty' -- Unicode.bs ../blib/arch/auto/Encode/Unicode/Unicode.bs 644
make[1]: Leaving directory '/home/rocky/.cpan/build/Encode-3.21-0/Unicode'
make[1]: Entering directory '/home/rocky/.cpan/build/Encode-3.21-0/Byte'
"/usr/bin/perl" -MExtUtils::Command::MM -e 'cp_nonempty' -- Byte.bs ../blib/arch/auto/Encode/Byte/Byte.bs 644
No tests defined for Encode::Byte extension.
make[1]: Leaving directory '/home/rocky/.cpan/build/Encode-3.21-0/Byte'
make[1]: Entering directory '/home/rocky/.cpan/build/Encode-3.21-0/CN'
"/usr/bin/perl" -MExtUtils::Command::MM -e 'cp_nonempty' -- CN.bs ../blib/arch/auto/Encode/CN/CN.bs 644
No tests defined for Encode::CN extension.
make[1]: Leaving directory '/home/rocky/.cpan/build/Encode-3.21-0/CN'
make[1]: Entering directory '/home/rocky/.cpan/build/Encode-3.21-0/EBCDIC'
"/usr/bin/perl" -MExtUtils::Command::MM -e 'cp_nonempty' -- EBCDIC.bs ../blib/arch/auto/Encode/EBCDIC/EBCDIC.bs 644
No tests defined for Encode::EBCDIC extension.
make[1]: Leaving directory '/home/rocky/.cpan/build/Encode-3.21-0/EBCDIC'
make[1]: Entering directory '/home/rocky/.cpan/build/Encode-3.21-0/JP'
"/usr/bin/perl" -MExtUtils::Command::MM -e 'cp_nonempty' -- JP.bs ../blib/arch/auto/Encode/JP/JP.bs 644
No tests defined for Encode::JP extension.
make[1]: Leaving directory '/home/rocky/.cpan/build/Encode-3.21-0/JP'
make[1]: Entering directory '/home/rocky/.cpan/build/Encode-3.21-0/KR'
"/usr/bin/perl" -MExtUtils::Command::MM -e 'cp_nonempty' -- KR.bs ../blib/arch/auto/Encode/KR/KR.bs 644
No tests defined for Encode::KR extension.
make[1]: Leaving directory '/home/rocky/.cpan/build/Encode-3.21-0/KR'
make[1]: Entering directory '/home/rocky/.cpan/build/Encode-3.21-0/Symbol'
"/usr/bin/perl" -MExtUtils::Command::MM -e 'cp_nonempty' -- Symbol.bs ../blib/arch/auto/Encode/Symbol/Symbol.bs 644
No tests defined for Encode::Symbol extension.
make[1]: Leaving directory '/home/rocky/.cpan/build/Encode-3.21-0/Symbol'
make[1]: Entering directory '/home/rocky/.cpan/build/Encode-3.21-0/TW'
"/usr/bin/perl" -MExtUtils::Command::MM -e 'cp_nonempty' -- TW.bs ../blib/arch/auto/Encode/TW/TW.bs 644
No tests defined for Encode::TW extension.
make[1]: Leaving directory '/home/rocky/.cpan/build/Encode-3.21-0/TW'
make[1]: Entering directory '/home/rocky/.cpan/build/Encode-3.21-0/Unicode'
"/usr/bin/perl" -MExtUtils::Command::MM -e 'cp_nonempty' -- Unicode.bs ../blib/arch/auto/Encode/Unicode/Unicode.bs 644
No tests defined for Encode::Unicode extension.
make[1]: Leaving directory '/home/rocky/.cpan/build/Encode-3.21-0/Unicode'
PERL_DL_NONLAZY=1 "/usr/bin/perl" "-MExtUtils::Command::MM" "-MTest::Harness" "-e" "undef *Test::Harness::Switches; test_harness(0, 'blib/lib', 'blib/arch')" t/*.t
t/Aliases.t ................ ok
t/at-cn.t .................. ok
t/at-tw.t .................. ok
t/CJKT.t ................... ok
t/cow.t .................... ok
t/decode.t ................. ok
t/enc_data.t ............... skipped: encoding pragma not supported in Perl 5.25 or later
t/enc_eucjp.t .............. skipped: Perl <=5.25.2 or cperl required
t/enc_module.t ............. skipped: encoding pragma not supported in Perl 5.25 or later
t/enc_utf8.t ............... skipped: Perl <=5.25.2 or cperl required
t/Encode.t ................. ok
t/Encoder.t ................ ok
t/encoding-locale.t ........ ok
t/encoding.t ............... skipped: encoding pragma not supported in Perl 5.25 or later
t/fallback.t ............... ok
t/from_to.t ................ ok
t/grow.t ................... ok
t/gsm0338.t ................ ok
t/guess.t .................. ok
t/isa.t .................... ok
t/jis7-fallback.t .......... ok
t/jperl.t .................. skipped: encoding pragma not supported in Perl 5.25 or later
t/magic.t .................. ok
t/mime-header.t ............ ok
t/mime-name.t .............. ok
t/mime_header_iso2022jp.t .. ok
t/perlio.t ................. ok
t/piconv.t ................. ok
t/rt113164.t ............... ok
t/rt65541.t ................ ok
t/rt76824.t ................ ok
t/rt85489.t ................ ok
t/rt86327.t ................ ok
t/taint.t .................. ok
t/truncated_utf8.t ......... ok
t/undef.t .................. ok
t/Unicode.t ................ ok
t/Unicode_trailing_nul.t ... ok
t/use-Encode-Alias.t ....... ok
t/utf32warnings.t .......... ok
t/utf8ref.t ................ ok
t/utf8strict.t ............. ok
t/utf8warnings.t ........... ok
t/whatwg-aliases.t ......... skipped: For maintainers only
t/xml.t .................... ok
All tests successful.

Test Summary Report
-------------------
t/truncated_utf8.t       (Wstat: 0 Tests: 9 Failed: 0)
  TODO passed:   9
Files=45, Tests=7769, 12 wallclock secs ( 0.74 usr  0.06 sys +  9.83 cusr  1.19 csys = 11.82 CPU)
Result: PASS

------------------------------
PREREQUISITES
------------------------------

Prerequisite modules loaded:

requires:

    Module              Need  Have    
    ------------------- ----- --------
    Exporter            5.57  5.72    
    parent              0.221 0.237   
    Storable            0     3.11    

build_requires:

    Module              Need  Have    
    ------------------- ----- --------
    ExtUtils::MakeMaker 0     7.74    
    Test::More          0.92  1.302135

configure_requires:

    Module              Need  Have    
    ------------------- ----- --------
    ExtUtils::MakeMaker 0     7.74    


------------------------------
ENVIRONMENT AND OTHER CONTEXT
------------------------------

Environment variables:

    AUTOMATED_TESTING = 1
    LANG = en_US.UTF-8
    PATH = /home/rocky/perl5/perlbrew/bin:/home/rocky/perl5/bin:/home/rocky/.local/bin:/home/rocky/bin:/usr/local/bin:/usr/bin:/usr/local/sbin:/usr/sbin
    PERL5LIB = /home/rocky/.cpan/build/HTML-Tagset-3.24-0/blib/arch:/home/rocky/.cpan/build/HTML-Tagset-3.24-0/blib/lib:/home/rocky/.cpan/build/Module-Pluggable-6.3-0/blib/arch:/home/rocky/.cpan/build/Module-Pluggable-6.3-0/blib/lib:/home/rocky/.cpan/build/Data-Dump-1.25-0/blib/arch:/home/rocky/.cpan/build/Data-Dump-1.25-0/blib/lib:/home/rocky/.cpan/build/Class-C3-Adopt-NEXT-0.14-0/blib/arch:/home/rocky/.cpan/build/Class-C3-Adopt-NEXT-0.14-0/blib/lib:/home/rocky/.cpan/build/CGI-Struct-1.21-0/blib/arch:/home/rocky/.cpan/build/CGI-Struct-1.21-0/blib/lib:/home/rocky/.cpan/build/CGI-Simple-1.281-0/blib/arch:/home/rocky/.cpan/build/CGI-Simple-1.281-0/blib/lib:/home/rocky/.cpan/build/Test-NoWarnings-1.06-0/blib/arch:/home/rocky/.cpan/build/Test-NoWarnings-1.06-0/blib/lib:/home/rocky/perl5/lib/perl5
    PERL5OPT = 
    PERL5_CPANPLUS_IS_RUNNING = 56185
    PERL5_CPAN_IS_RUNNING = 56185
    PERL5_CPAN_IS_RUNNING_IN_RECURSION = 54403,56185
    PERLBREW_HOME = /home/rocky/.perlbrew
    PERLBREW_ROOT = /home/rocky/perl5/perlbrew
    PERLBREW_SHELLRC_VERSION = 1.01
    PERL_CR_SMOKER_CURRENT = Catalyst-Plugin-OIDC-0.02
    PERL_EXTUTILS_AUTOINSTALL = --defaultdeps
    PERL_LOCAL_LIB_ROOT = /home/rocky/perl5
    PERL_MB_OPT = --install_base "/home/rocky/perl5"
    PERL_MM_OPT = INSTALL_BASE=/home/rocky/perl5
    PERL_MM_USE_DEFAULT = 1
    PERL_USE_UNSAFE_INC = 1
    SHELL = /bin/bash
    TERM = xterm-256color

Perl special variables (and OS-specific diagnostics, for MSWin32):

    $^X = /usr/bin/perl
    $UID/$EUID = 1000 / 1000
    $GID = 1000 4 190 1000
    $EGID = 1000 4 190 1000

Perl module toolchain versions installed:

    Module              Have    
    ------------------- --------
    CPAN                2.18    
    CPAN::Meta          2.150010
    Cwd                 3.74    
    ExtUtils::CBuilder  0.280230
    ExtUtils::Command   7.74    
    ExtUtils::Install   2.14    
    ExtUtils::MakeMaker 7.74    
    ExtUtils::Manifest  1.70    
    ExtUtils::ParseXS   3.35    
    File::Spec          3.74    
    JSON                4.10    
    JSON::PP            2.97001 
    Module::Build       0.4224  
    Module::Signature   n/a     
    Parse::CPAN::Meta   2.150010
    Test2               1.302135
    Test::Harness       3.42    
    Test::More          1.302135
    YAML                1.31    
    YAML::Syck          n/a     
    version             0.9924  


--

Summary of my perl5 (revision 5 version 26 subversion 3) configuration:
   
  Platform:
    osname=linux
    osvers=4.18.0-425.3.1.el8.x86_64
    archname=x86_64-linux-thread-multi
    uname='linux ord1-prod-x86build003.svc.aws.rockylinux.org 4.18.0-425.3.1.el8.x86_64 #1 smp wed nov 9 20:13:27 utc 2022 x86_64 x86_64 x86_64 gnulinux '
    config_args='-des -Doptimize=none -Dccflags=-O2 -g -pipe -Wall -Werror=format-security -Wp,-D_FORTIFY_SOURCE=2 -Wp,-D_GLIBCXX_ASSERTIONS -fexceptions -fstack-protector-strong -grecord-gcc-switches -specs=/usr/lib/rpm/redhat/redhat-hardened-cc1 -specs=/usr/lib/rpm/redhat/redhat-annobin-cc1 -m64 -mtune=generic -fasynchronous-unwind-tables -fstack-clash-protection -fcf-protection -Dldflags=-Wl,-z,relro  -Wl,-z,now -specs=/usr/lib/rpm/redhat/redhat-hardened-ld -Dccdlflags=-Wl,--enable-new-dtags -Wl,-z,relro  -Wl,-z,now -specs=/usr/lib/rpm/redhat/redhat-hardened-ld -Dlddlflags=-shared -Wl,-z,relro  -Wl,-z,now -specs=/usr/lib/rpm/redhat/redhat-hardened-ld -Dshrpdir=/usr/lib64 -DDEBUGGING=-g -Dversion=5.26.3 -Dmyhostname=localhost -Dperladmin=root@localhost -Dcc=gcc -Dcf_by=Red Hat, Inc. -Dprefix=/usr -Dvendorprefix=/usr -Dsiteprefix=/usr/local -Dsitelib=/usr/local/share/perl5 -Dsitearch=/usr/local/lib64/perl5 -Dprivlib=/usr/share/perl5 -Dvendorlib=/usr/share/perl5/vendor_perl -Darchlib=/usr/lib64/perl5 -Dvendorarch=/usr/lib64/perl5/vendor_perl -Darchname=x86_64-linux-thread-multi -Dlibpth=/usr/local/lib64 /lib64 /usr/lib64 -Duseshrplib -Dusethreads -Duseithreads -Dusedtrace=/usr/bin/dtrace -Duselargefiles -Dd_semctl_semun -Di_db -Ui_ndbm -Di_gdbm -Di_shadow -Di_syslog -Dman3ext=3pm -Duseperlio -Dinstallusrbinperl=n -Ubincompat5005 -Uversiononly -Dpager=/usr/bin/less -isr -Dd_gethostent_r_proto -Ud_endhostent_r_proto -Ud_sethostent_r_proto -Ud_endprotoent_r_proto -Ud_setprotoent_r_proto -Ud_endservent_r_proto -Ud_setservent_r_proto -Dscriptdir=/usr/bin -Dusesitecustomize -Duse64bitint'
    hint=recommended
    useposix=true
    d_sigaction=define
    useithreads=define
    usemultiplicity=define
    use64bitint=define
    use64bitall=define
    uselongdouble=undef
    usemymalloc=n
    default_inc_excludes_dot=define
    bincompat5005=undef
  Compiler:
    cc='gcc'
    ccflags ='-D_REENTRANT -D_GNU_SOURCE -O2 -g -pipe -Wall -Werror=format-security -Wp,-D_FORTIFY_SOURCE=2 -Wp,-D_GLIBCXX_ASSERTIONS -fexceptions -fstack-protector-strong -grecord-gcc-switches -specs=/usr/lib/rpm/redhat/redhat-hardened-cc1 -specs=/usr/lib/rpm/redhat/redhat-annobin-cc1 -m64 -mtune=generic -fasynchronous-unwind-tables -fstack-clash-protection -fcf-protection -fwrapv -fno-strict-aliasing -I/usr/local/include -D_LARGEFILE_SOURCE -D_FILE_OFFSET_BITS=64'
    optimize='  -g'
    cppflags='-D_REENTRANT -D_GNU_SOURCE -O2 -g -pipe -Wall -Werror=format-security -Wp,-D_FORTIFY_SOURCE=2 -Wp,-D_GLIBCXX_ASSERTIONS -fexceptions -fstack-protector-strong -grecord-gcc-switches -specs=/usr/lib/rpm/redhat/redhat-hardened-cc1 -specs=/usr/lib/rpm/redhat/redhat-annobin-cc1 -m64 -mtune=generic -fasynchronous-unwind-tables -fstack-clash-protection -fcf-protection -fwrapv -fno-strict-aliasing -I/usr/local/include'
    ccversion=''
    gccversion='8.5.0 20210514 (Red Hat 8.5.0-18)'
    gccosandvers=''
    intsize=4
    longsize=8
    ptrsize=8
    doublesize=8
    byteorder=12345678
    doublekind=3
    d_longlong=define
    longlongsize=8
    d_longdbl=define
    longdblsize=16
    longdblkind=3
    ivtype='long'
    ivsize=8
    nvtype='double'
    nvsize=8
    Off_t='off_t'
    lseeksize=8
    alignbytes=8
    prototype=define
  Linker and Libraries:
    ld='gcc'
    ldflags ='-Wl,-z,relro -Wl,-z,now -specs=/usr/lib/rpm/redhat/redhat-hardened-ld -fstack-protector-strong -L/usr/local/lib'
    libpth=/usr/local/lib64 /lib64 /usr/lib64 /usr/local/lib /usr/lib /lib/../lib64 /usr/lib/../lib64 /lib
    libs=-lpthread -lresolv -lgdbm -ldb -ldl -lm -lcrypt -lutil -lc -lgdbm_compat
    perllibs=-lpthread -lresolv -ldl -lm -lcrypt -lutil -lc
    libc=libc-2.28.so
    so=so
    useshrplib=true
    libperl=libperl.so
    gnulibc_version='2.28'
  Dynamic Linking:
    dlsrc=dl_dlopen.xs
    dlext=so
    d_dlsymun=undef
    ccdlflags='-Wl,--enable-new-dtags -Wl,-z,relro -Wl,-z,now -specs=/usr/lib/rpm/redhat/redhat-hardened-ld'
    cccdlflags='-fPIC'
    lddlflags='-lpthread -shared -Wl,-z,relro -Wl,-z,now -specs=/usr/lib/rpm/redhat/redhat-hardened-ld -L/usr/local/lib -fstack-protector-strong'


Characteristics of this binary (from libperl): 
  Compile-time options:
    HAS_TIMES
    MULTIPLICITY
    PERLIO_LAYERS
    PERL_COPY_ON_WRITE
    PERL_DONT_CREATE_GVSV
    PERL_IMPLICIT_CONTEXT
    PERL_MALLOC_WRAP
    PERL_OP_PARENT
    PERL_PRESERVE_IVUV
    USE_64_BIT_ALL
    USE_64_BIT_INT
    USE_ITHREADS
    USE_LARGE_FILES
    USE_LOCALE
    USE_LOCALE_COLLATE
    USE_LOCALE_CTYPE
    USE_LOCALE_NUMERIC
    USE_LOCALE_TIME
    USE_PERLIO
    USE_PERL_ATOF
    USE_REENTRANT_API
    USE_SITECUSTOMIZE
  Locally applied patches:
    Fedora Patch1: Removes date check, Fedora/RHEL specific
    Fedora Patch3: support for libdir64
    Fedora Patch4: use libresolv instead of libbind
    Fedora Patch5: USE_MM_LD_RUN_PATH
    Fedora Patch6: Provide MM::maybe_command independently (bug #1129443)
    Fedora Patch7: Dont run one io test due to random builder failures
    Fedora Patch15: Define SONAME for libperl.so
    Fedora Patch16: Install libperl.so to -Dshrpdir value
    Fedora Patch22: Document Math::BigInt::CalcEmu requires Math::BigInt (CPAN RT#85015)
    Fedora Patch26: Make *DBM_File desctructors thread-safe (RT#61912)
    Fedora Patch27: Make PadlistNAMES() lvalue again (CPAN RT#101063)
    Fedora Patch30: Replace EU::MakeMaker dependency with EU::MM::Utils in IPC::Cmd (bug #1129443)
    Fedora Patch31: Make File::Glob more resistant against degenerative matching (RT#131211)
    Fedora Patch36: Fix glob UTF-8 flag on a glob reassignment (RT#131263)
    Fedora Patch38: Fix handling backslashes in PATH environment variable when executing "perl -S" (RT#129183)
    Fedora Patch45: Fix File::Glob rt131211.t test random failures
    Fedora Patch46: Fix t/op/hash.t test random failures
    Fedora Patch47: Parse caret variables with subscripts as normal variables inside ${...} escaping (RT#131664)
    Fedora Patch49: Do not display too many bytes when reporting malformed UTF-8 character
    Fedora Patch51: Fix error message for "our sub foo::bar" (RT#131679)
    Fedora Patch52: Fix executing arybase::_tie_it() in Safe compartement (RT#131588)
    Fedora Patch54: Fix splitting non-ASCII strings if unicode_strings feature is enabled (RT#130907)
    Fedora Patch55: Fix compiler warnings in code generated by ExtUtils::Constant (CPAN RT#63832)
    Fedora Patch56: Fix compiler warnings in code generated by ExtUtils::Constant (CPAN RT#101487)
    Fedora Patch58: Fix unreliable Time-HiRes tests (CPAN RT#122819)
    Fedora Patch61: Fix Term::ReadLine not to create spurious &STDERR files (RT#132008)
    Fedora Patch64: Fix an overflow when parsing a character range with no preceding character (RT#132245)
    Fedora Patch65: Fix walking symbol table for ISA in Carp
    Fedora Patch66: Fix handling file names with null bytes in stat and lstat functions (RT#131895)
    Fedora Patch67: Fix a crash when untying an object witout a stash
    Fedora Patch68: Fix deparsing of transliterations with unprintable characters (RT#132405)
    Fedora Patch69: Fix error reporting on do() on a directory (RT#125774)
    Fedora Patch70: Fix stack manipulation when a lexical subroutine is defined in a do block in a member of an iteration list (RT#132442)
    Fedora Patch71: Fix setting $! when statting a closed filehandle (RT#108288)
    Fedora Patch72: Fix tainting of s/// with overloaded replacement (RT#115266)
    Fedora Patch73: Expand system() arguments before a fork (RT#121105)
    Fedora Patch76: Avoid undefined behavior when copying memory in Glob and pp_caller (RT#131746)
    Fedora Patch78: Fix compatibility with libxcrypt (RT#133184)
    Fedora Patch79: Link XS modules to pthread library to fix linking with -z defs
    Fedora Patch80: Fix parsing braced subscript after parentheses (RT#8045)
    Fedora Patch81: Do not clobber file bytes in :encoding layer (RT#132833)
    Fedora Patch82: Fix line numbers in multi-line s/// (RT#131930)
    Fedora Patch83: Fix parsing extended bracketed character classes (RT#132167)
    Fedora Patch84: Fix a possibly unitialized memory read in the Perl parser (RT#133074)
    Fedora Patch85: Fix an infinite loop in the regular expression compiler (RT#133185)
    Fedora Patch86: Adjust tests to gdbm-1.15 (RT#133295)
    Fedora Patch88: Fix printing a warning about a wide character when matching a regular expression while ISO-8859-1 locale is in effect
    Fedora Patch89: Fix invoking a check for wide characters while ISO-8859-1 locale is in effect
    Fedora Patch90: Pass the correct CFLAGS to dtrace
    RHEL Patch91: Fix Time-Local tests to pass after year 2019 (bug #1807120)
    RHEL Patch92: Fix CVE-2020-12723 (GH#16947)
    RHEL Patch93: Fix CVE-2020-10543
    RHEL Patch94: Fix CVE-2020-10878
    RHEL Patch95: Fix Net-Ping _resolv return value on failing DNS name lookup (bug #1973030)
    RHEL Patch97: Fix a memory leak when compiling a regular expression with a non-word class (GH#17218)
    Fedora Patch200: Link XS modules to libperl.so with EU::CBuilder on Linux
    Fedora Patch201: Link XS modules to libperl.so with EU::MM on Linux
    Fedora Patch202: Add definition of OPTIMIZE to .ph files (bug #2152012)
  Built under linux
  Compiled at Jan 19 2023 08:45:10
  %ENV:
    PERL5LIB="/home/rocky/.cpan/build/HTML-Tagset-3.24-0/blib/arch:/home/rocky/.cpan/build/HTML-Tagset-3.24-0/blib/lib:/home/rocky/.cpan/build/Module-Pluggable-6.3-0/blib/arch:/home/rocky/.cpan/build/Module-Pluggable-6.3-0/blib/lib:/home/rocky/.cpan/build/Data-Dump-1.25-0/blib/arch:/home/rocky/.cpan/build/Data-Dump-1.25-0/blib/lib:/home/rocky/.cpan/build/Class-C3-Adopt-NEXT-0.14-0/blib/arch:/home/rocky/.cpan/build/Class-C3-Adopt-NEXT-0.14-0/blib/lib:/home/rocky/.cpan/build/CGI-Struct-1.21-0/blib/arch:/home/rocky/.cpan/build/CGI-Struct-1.21-0/blib/lib:/home/rocky/.cpan/build/CGI-Simple-1.281-0/blib/arch:/home/rocky/.cpan/build/CGI-Simple-1.281-0/blib/lib:/home/rocky/.cpan/build/Test-NoWarnings-1.06-0/blib/arch:/home/rocky/.cpan/build/Test-NoWarnings-1.06-0/blib/lib:/home/rocky/perl5/lib/perl5"
    PERL5OPT=""
    PERL5_CPANPLUS_IS_RUNNING="56185"
    PERL5_CPAN_IS_RUNNING="56185"
    PERL5_CPAN_IS_RUNNING_IN_RECURSION="54403,56185"
    PERLBREW_HOME="/home/rocky/.perlbrew"
    PERLBREW_ROOT="/home/rocky/perl5/perlbrew"
    PERLBREW_SHELLRC_VERSION="1.01"
    PERL_CR_SMOKER_CURRENT="Catalyst-Plugin-OIDC-0.02"
    PERL_EXTUTILS_AUTOINSTALL="--defaultdeps"
    PERL_LOCAL_LIB_ROOT="/home/rocky/perl5"
    PERL_MB_OPT="--install_base "/home/rocky/perl5""
    PERL_MM_OPT="INSTALL_BASE=/home/rocky/perl5"
    PERL_MM_USE_DEFAULT="1"
    PERL_USE_UNSAFE_INC="1"
  @INC:
    /home/rocky/.cpan/build/HTML-Tagset-3.24-0/blib/arch
    /home/rocky/.cpan/build/HTML-Tagset-3.24-0/blib/lib
    /home/rocky/.cpan/build/Module-Pluggable-6.3-0/blib/arch
    /home/rocky/.cpan/build/Module-Pluggable-6.3-0/blib/lib
    /home/rocky/.cpan/build/Data-Dump-1.25-0/blib/arch
    /home/rocky/.cpan/build/Data-Dump-1.25-0/blib/lib
    /home/rocky/.cpan/build/Class-C3-Adopt-NEXT-0.14-0/blib/arch
    /home/rocky/.cpan/build/Class-C3-Adopt-NEXT-0.14-0/blib/lib
    /home/rocky/.cpan/build/CGI-Struct-1.21-0/blib/arch
    /home/rocky/.cpan/build/CGI-Struct-1.21-0/blib/lib
    /home/rocky/.cpan/build/CGI-Simple-1.281-0/blib/arch
    /home/rocky/.cpan/build/CGI-Simple-1.281-0/blib/lib
    /home/rocky/.cpan/build/Test-NoWarnings-1.06-0/blib/arch
    /home/rocky/.cpan/build/Test-NoWarnings-1.06-0/blib/lib
    /home/rocky/perl5/lib/perl5/5.26.3/x86_64-linux-thread-multi
    /home/rocky/perl5/lib/perl5/5.26.3
    /home/rocky/perl5/lib/perl5/x86_64-linux-thread-multi
    /home/rocky/perl5/lib/perl5
    /usr/local/lib64/perl5
    /usr/local/share/perl5
    /usr/lib64/perl5/vendor_perl
    /usr/share/perl5/vendor_perl
    /usr/lib64/perl5
    /usr/share/perl5
    .