Moo v2.005005 Perl 5 v5.36.0 arm-android
- Status
- Pass
- From
- Trizen
- Dist
-
Moo v2.005005
- Platform
- Perl 5 v5.36.0 arm-android
- Date
- 2023-02-01 05:17:48
- ID
- c4b22ec0-a1ef-11ed-b6c6-e6d26e4c93f2
This distribution has been tested as part of the CPAN Testers
project, supporting the Perl programming language. See
http://wiki.cpantesters.org/ for more information or email
questions to cpan-testers-discuss@perl.org
--
Dear HAARG,
This is a computer-generated report for Moo-2.005005
on perl 5.36.0, created by App::cpanminus::reporter 0.18 (1.7046).
Thank you for uploading your work to CPAN. Congratulations!
All tests were successful.
Sections of this report:
* Tester comments
* Program output
* Prerequisites
* Environment and other context
------------------------------
TESTER COMMENTS
------------------------------
Additional comments from tester:
none provided
------------------------------
PROGRAM OUTPUT
------------------------------
Output from '':
Building and testing Moo-2.005005
[proxychains] DLL init: proxychains-ng 4.16
[proxychains] DLL init: proxychains-ng 4.16
[proxychains] DLL init: proxychains-ng 4.16
[proxychains] DLL init: proxychains-ng 4.16
[proxychains] DLL init: proxychains-ng 4.16
[proxychains] DLL init: proxychains-ng 4.16
[proxychains] DLL init: proxychains-ng 4.16
[proxychains] DLL init: proxychains-ng 4.16
[proxychains] DLL init: proxychains-ng 4.16
[proxychains] DLL init: proxychains-ng 4.16
[proxychains] DLL init: proxychains-ng 4.16
[proxychains] DLL init: proxychains-ng 4.16
[proxychains] DLL init: proxychains-ng 4.16
[proxychains] DLL init: proxychains-ng 4.16
[proxychains] DLL init: proxychains-ng 4.16
[proxychains] DLL init: proxychains-ng 4.16
[proxychains] DLL init: proxychains-ng 4.16
[proxychains] DLL init: proxychains-ng 4.16
[proxychains] DLL init: proxychains-ng 4.16
[proxychains] DLL init: proxychains-ng 4.16
[proxychains] DLL init: proxychains-ng 4.16
[proxychains] DLL init: proxychains-ng 4.16
[proxychains] DLL init: proxychains-ng 4.16
[proxychains] DLL init: proxychains-ng 4.16
[proxychains] DLL init: proxychains-ng 4.16
[proxychains] DLL init: proxychains-ng 4.16
[proxychains] DLL init: proxychains-ng 4.16
[proxychains] DLL init: proxychains-ng 4.16
[proxychains] DLL init: proxychains-ng 4.16
[proxychains] DLL init: proxychains-ng 4.16
[proxychains] DLL init: proxychains-ng 4.16
[proxychains] DLL init: proxychains-ng 4.16
[proxychains] DLL init: proxychains-ng 4.16
[proxychains] DLL init: proxychains-ng 4.16
[proxychains] DLL init: proxychains-ng 4.16
[proxychains] DLL init: proxychains-ng 4.16
[proxychains] DLL init: proxychains-ng 4.16
[proxychains] DLL init: proxychains-ng 4.16
cp lib/Moo/sification.pm blib/lib/Moo/sification.pm
cp lib/Moo.pm blib/lib/Moo.pm
cp lib/Method/Generate/BuildAll.pm blib/lib/Method/Generate/BuildAll.pm
cp lib/Method/Generate/Accessor.pm blib/lib/Method/Generate/Accessor.pm
cp lib/Method/Generate/Constructor.pm blib/lib/Method/Generate/Constructor.pm
cp lib/Method/Generate/DemolishAll.pm blib/lib/Method/Generate/DemolishAll.pm
cp lib/Moo/HandleMoose/_TypeMap.pm blib/lib/Moo/HandleMoose/_TypeMap.pm
cp lib/Moo/HandleMoose.pm blib/lib/Moo/HandleMoose.pm
cp lib/Moo/HandleMoose/FakeMetaClass.pm blib/lib/Moo/HandleMoose/FakeMetaClass.pm
cp lib/oo.pm blib/lib/oo.pm
cp lib/Moo/Object.pm blib/lib/Moo/Object.pm
cp lib/Moo/Role.pm blib/lib/Moo/Role.pm
cp lib/Moo/_Utils.pm blib/lib/Moo/_Utils.pm
[proxychains] DLL init: proxychains-ng 4.16
[proxychains] DLL init: proxychains-ng 4.16
[proxychains] DLL init: proxychains-ng 4.16
[proxychains] DLL init: proxychains-ng 4.16
[proxychains] DLL init: proxychains-ng 4.16
[proxychains] DLL init: proxychains-ng 4.16
[proxychains] DLL init: proxychains-ng 4.16
[proxychains] DLL init: proxychains-ng 4.16
Manifying 3 pod documents
[proxychains] DLL init: proxychains-ng 4.16
[proxychains] DLL init: proxychains-ng 4.16
[proxychains] DLL init: proxychains-ng 4.16
[proxychains] DLL init: proxychains-ng 4.16
[proxychains] DLL init: proxychains-ng 4.16
[proxychains] DLL init: proxychains-ng 4.16
[proxychains] DLL init: proxychains-ng 4.16
[proxychains] DLL init: proxychains-ng 4.16
[proxychains] DLL init: proxychains-ng 4.16
[proxychains] DLL init: proxychains-ng 4.16
[proxychains] DLL init: proxychains-ng 4.16
PERL_DL_NONLAZY=1 "/data/data/com.termux/files/usr/bin/perl" -It/lib "-MTestEnv=" "-MExtUtils::Command::MM" "-MTest::Harness" "-e" "undef *Test::Harness::Switches; test_harness(0, 'blib/lib', 'blib/arch')" t/*.t
[proxychains] DLL init: proxychains-ng 4.16
[proxychains] DLL init: proxychains-ng 4.16
[proxychains] DLL init: proxychains-ng 4.16
[proxychains] DLL init: proxychains-ng 4.16
[proxychains] DLL init: proxychains-ng 4.16
t/accessor-coerce.t ................ ok
[proxychains] DLL init: proxychains-ng 4.16
t/accessor-default.t ............... ok
[proxychains] DLL init: proxychains-ng 4.16
t/accessor-generator-extension.t ... ok
[proxychains] DLL init: proxychains-ng 4.16
t/accessor-handles.t ............... ok
[proxychains] DLL init: proxychains-ng 4.16
t/accessor-isa.t ................... ok
[proxychains] DLL init: proxychains-ng 4.16
t/accessor-mixed.t ................. ok
[proxychains] DLL init: proxychains-ng 4.16
t/accessor-pred-clear.t ............ ok
[proxychains] DLL init: proxychains-ng 4.16
t/accessor-reader-writer.t ......... ok
[proxychains] DLL init: proxychains-ng 4.16
t/accessor-roles.t ................. ok
[proxychains] DLL init: proxychains-ng 4.16
t/accessor-shortcuts.t ............. ok
[proxychains] DLL init: proxychains-ng 4.16
t/accessor-trigger.t ............... ok
[proxychains] DLL init: proxychains-ng 4.16
t/accessor-weaken-pre-5_8_3.t ...... ok
[proxychains] DLL init: proxychains-ng 4.16
t/accessor-weaken.t ................ ok
[proxychains] DLL init: proxychains-ng 4.16
t/buildall-subconstructor.t ........ ok
[proxychains] DLL init: proxychains-ng 4.16
t/buildall.t ....................... ok
[proxychains] DLL init: proxychains-ng 4.16
t/buildargs-error.t ................ ok
[proxychains] DLL init: proxychains-ng 4.16
t/buildargs.t ...................... ok
[proxychains] DLL init: proxychains-ng 4.16
t/coerce-1.t ....................... ok
[proxychains] DLL init: proxychains-ng 4.16
t/compose-conflicts.t .............. ok
[proxychains] DLL init: proxychains-ng 4.16
t/compose-non-role.t ............... ok
[proxychains] DLL init: proxychains-ng 4.16
t/compose-roles.t .................. ok
[proxychains] DLL init: proxychains-ng 4.16
t/constructor-modify.t ............. ok
[proxychains] DLL init: proxychains-ng 4.16
t/croak-locations.t ................ ok
[proxychains] DLL init: proxychains-ng 4.16
t/demolish-basics.t ................ ok
[proxychains] DLL init: proxychains-ng 4.16
t/demolish-bugs-eats_exceptions.t .. ok
[proxychains] DLL init: proxychains-ng 4.16
t/demolish-bugs-eats_mini.t ........ ok
[proxychains] DLL init: proxychains-ng 4.16
[proxychains] DLL init: proxychains-ng 4.16
t/demolish-global_destruction.t .... ok
[proxychains] DLL init: proxychains-ng 4.16
t/demolish-throw.t ................. ok
[proxychains] DLL init: proxychains-ng 4.16
t/does.t ........................... ok
[proxychains] DLL init: proxychains-ng 4.16
t/extend-constructor.t ............. ok
[proxychains] DLL init: proxychains-ng 4.16
t/extends-non-moo.t ................ ok
[proxychains] DLL init: proxychains-ng 4.16
t/extends-role.t ................... ok
[proxychains] DLL init: proxychains-ng 4.16
t/foreignbuildargs.t ............... ok
[proxychains] DLL init: proxychains-ng 4.16
t/global_underscore.t .............. ok
[proxychains] DLL init: proxychains-ng 4.16
t/has-array.t ...................... ok
[proxychains] DLL init: proxychains-ng 4.16
t/has-before-extends.t ............. ok
[proxychains] DLL init: proxychains-ng 4.16
t/has-plus.t ....................... ok
[proxychains] DLL init: proxychains-ng 4.16
t/init-arg.t ....................... ok
[proxychains] DLL init: proxychains-ng 4.16
t/isa-interfere.t .................. ok
[proxychains] DLL init: proxychains-ng 4.16
t/lazy_isa.t ....................... ok
[proxychains] DLL init: proxychains-ng 4.16
t/load_module.t .................... ok
[proxychains] DLL init: proxychains-ng 4.16
t/load_module_error.t .............. ok
[proxychains] DLL init: proxychains-ng 4.16
t/load_module_role_tiny.t .......... ok
[proxychains] DLL init: proxychains-ng 4.16
t/long-package-name.t .............. ok
[proxychains] DLL init: proxychains-ng 4.16
t/method-generate-accessor.t ....... ok
[proxychains] DLL init: proxychains-ng 4.16
t/method-generate-constructor.t .... ok
[proxychains] DLL init: proxychains-ng 4.16
t/modifiers.t ...................... ok
[proxychains] DLL init: proxychains-ng 4.16
t/modify_lazy_handlers.t ........... ok
[proxychains] DLL init: proxychains-ng 4.16
t/moo-accessors.t .................. ok
[proxychains] DLL init: proxychains-ng 4.16
t/moo-c3.t ......................... ok
[proxychains] DLL init: proxychains-ng 4.16
t/moo-object.t ..................... ok
[proxychains] DLL init: proxychains-ng 4.16
t/moo-utils-_name_coderef.t ........ ok
[proxychains] DLL init: proxychains-ng 4.16
t/moo-utils-_subname-Sub-Name.t .... ok
[proxychains] DLL init: proxychains-ng 4.16
t/moo-utils-_subname.t ............. ok
[proxychains] DLL init: proxychains-ng 4.16
t/moo-utils.t ...................... ok
[proxychains] DLL init: proxychains-ng 4.16
t/moo.t ............................ ok
[proxychains] DLL init: proxychains-ng 4.16
t/mutual-requires.t ................ ok
[proxychains] DLL init: proxychains-ng 4.16
t/no-build.t ....................... ok
[proxychains] DLL init: proxychains-ng 4.16
t/no-moo.t ......................... ok
[proxychains] DLL init: proxychains-ng 4.16
t/non-moo-extends-c3.t ............. ok
[proxychains] DLL init: proxychains-ng 4.16
t/non-moo-extends.t ................ ok
[proxychains] DLL init: proxychains-ng 4.16
t/not-both.t ....................... ok
[proxychains] DLL init: proxychains-ng 4.16
t/not-methods.t .................... ok
[proxychains] DLL init: proxychains-ng 4.16
t/overloaded-coderefs.t ............ ok
[proxychains] DLL init: proxychains-ng 4.16
t/overridden-core-funcs.t .......... ok
[proxychains] DLL init: proxychains-ng 4.16
t/role-conflicts-moox.t ............ ok
[proxychains] DLL init: proxychains-ng 4.16
t/sub-and-handles.t ................ ok
[proxychains] DLL init: proxychains-ng 4.16
t/subconstructor.t ................. ok
[proxychains] DLL init: proxychains-ng 4.16
t/undef-bug.t ...................... ok
[proxychains] DLL init: proxychains-ng 4.16
t/use-after-no.t ................... ok
[proxychains] DLL init: proxychains-ng 4.16
t/zzz-check-breaks.t ............... ok
All tests successful.
Files=71, Tests=841, 121 wallclock secs ( 2.59 usr 0.32 sys + 110.62 cusr 4.49 csys = 118.02 CPU)
Result: PASS
------------------------------
PREREQUISITES
------------------------------
Prerequisite modules loaded:
runtime:
Module Need Have
------------------------ -------- --------
Carp 0 1.52
Class::Method::Modifiers 1.10 2.14
Exporter 0 5.77
perl 5.006 5.036000
Role::Tiny 2.002003 2.002004
Scalar::Util 1.00 1.63
Sub::Defer 2.006006 2.006008
Sub::Quote 2.006006 2.006008
configure:
Module Need Have
------------------------ -------- --------
ExtUtils::MakeMaker 0 7.64
------------------------------
ENVIRONMENT AND OTHER CONTEXT
------------------------------
Environment variables:
CCFLAGS = -march=native -O2 -pipe -fno-plt -fexceptions -Wp,-D_FORTIFY_SOURCE=2 -Wformat -Werror=format-security
LANG = en_US.UTF-8
LDFLAGS = -Wl,-O1,--sort-common,--as-needed,-z,relro,-z,nowexport
PATH = /data/data/com.termux/files/usr/bin
PERL_MM_OPT = OPTIMIZE="-march=native -O2 -pipe -fno-plt"
PREFIX = /data/data/com.termux/files/usr
SHELL = /data/data/com.termux/files/usr/bin/zsh
TERM = xterm-256color
TMPDIR = /data/data/com.termux/files/usr/tmp
Perl special variables (and OS-specific diagnostics, for MSWin32):
EGID = 10230 3003 9997 50230
EUID = 10230
EXECUTABLE_NAME = /data/data/com.termux/files/usr/bin/perl
GID = 10230 3003 9997 50230
UID = 10230
Perl module toolchain versions installed:
Module Have
------------------- --------
CPAN 2.34
CPAN::Meta 2.150010
Cwd 3.84
ExtUtils::CBuilder 0.280236
ExtUtils::Command 7.64
ExtUtils::Install 2.22
ExtUtils::MakeMaker 7.64
ExtUtils::Manifest 1.73
ExtUtils::ParseXS 3.45
File::Spec 3.84
JSON 4.10
JSON::PP 4.16
Module::Build 0.4232
Module::Signature 0.88
Parse::CPAN::Meta 2.150010
Test::Harness 3.44
Test::More 1.302191
YAML n/a
YAML::Syck n/a
version 0.9929
--
Summary of my perl5 (revision 5 version 36 subversion 0) configuration:
Platform:
osname=android
osvers=current
archname=arm-android
uname=''
config_args='--target=arm-linux-androideabi --with-cc=arm-linux-androideabi-clang --with-ranlib=llvm-ranlib -Dosname=android -Dsysroot=-I/data/data/com.termux/files -Dprefix=/data/data/com.termux/files/usr -Dsh=/data/data/com.termux/files/usr/bin/sh -Dld=arm-linux-androideabi-clang -Wl,-rpath=/data/data/com.termux/files/usr/lib -Wl,--enable-new-dtags -Dar=llvm-ar -Duseshrplib -Duseithreads -Dusemultiplicity --keeplog --mode=target --target=arm-linux-androideabi --targetarch=arm-unknown-linux-androideabi'
hint=default
useposix=true
d_sigaction=define
useithreads=define
usemultiplicity=define
use64bitint=undef
use64bitall=undef
uselongdouble=undef
usemymalloc=n
default_inc_excludes_dot=define
Compiler:
cc='arm-linux-androideabi-clang'
ccflags ='-I/data/data/com.termux/files/usr/include -D_LARGEFILE_SOURCE -D_FILE_OFFSET_BITS=64'
optimize=''
cppflags='-I/data/data/com.termux/files/usr/include'
ccversion=''
gccversion='0.0'
gccosandvers=''
intsize=4
longsize=4
ptrsize=4
doublesize=8
byteorder=1234
doublekind=3
d_longlong=define
longlongsize=8
d_longdbl=define
longdblsize=8
longdblkind=0
ivtype='long'
ivsize=4
nvtype='double'
nvsize=8
Off_t='off_t'
lseeksize=8
alignbytes=8
prototype=define
Linker and Libraries:
ld='arm-linux-androideabi-clang -Wl,-rpath=/data/data/com.termux/files/usr/lib -Wl,--enable-new-dtags'
ldflags ='-I/data/data/com.termux/files/usr/include'
libpth=/data/data/com.termux/files/usr/lib /data/data/com.termux/files/usr/local/lib
libs=-lm -ldl
perllibs=-lm -ldl
libc=
so=so
useshrplib=true
libperl=libperl.so
gnulibc_version=''
Dynamic Linking:
dlsrc=dl_dlopen.xs
dlext=so
d_dlsymun=undef
ccdlflags='-Wl,-E'
cccdlflags='-fPIC -Wno-unused-function'
lddlflags='-I/data/data/com.termux/files/usr/include -shared -I/data/data/com.termux/files/usr/include'
Characteristics of this binary (from libperl):
Compile-time options:
HAS_TIMES
MULTIPLICITY
PERLIO_LAYERS
PERL_COPY_ON_WRITE
PERL_DONT_CREATE_GVSV
PERL_MALLOC_WRAP
PERL_OP_PARENT
PERL_PRESERVE_IVUV
USE_ITHREADS
USE_LARGE_FILES
USE_LOCALE
USE_LOCALE_COLLATE
USE_LOCALE_CTYPE
USE_LOCALE_NUMERIC
USE_LOCALE_TIME
USE_PERLIO
USE_PERL_ATOF
USE_REENTRANT_API
USE_THREAD_SAFE_LOCALE
Built under android
Compiled at Aug 15 2022 20:03:08
%ENV:
PERL_MM_OPT="OPTIMIZE="-march=native -O2 -pipe -fno-plt""
@INC:
/data/data/com.termux/files/usr/lib/perl5/site_perl/5.36.0/arm-android
/data/data/com.termux/files/usr/lib/perl5/site_perl/5.36.0
/data/data/com.termux/files/usr/lib/perl5/5.36.0/arm-android
/data/data/com.termux/files/usr/lib/perl5/5.36.0