Yancy v1.088 Perl 5 v5.20.0 x86_64-linux

Status
Pass
From
Nedzad Hrnjica (NHRNJICA)
Dist
Yancy v1.088
Platform
Perl 5 v5.20.0 x86_64-linux
Date
2022-07-25 14:47:54
ID
c402ffe8-0c28-11ed-9aa2-87e1fbf19030
This distribution has been tested as part of the CPAN Testers
project, supporting the Perl programming language.  See
http://wiki.cpantesters.org/ for more information or email
questions to cpan-testers-discuss@perl.org


--
Dear PREACTION,

This is a computer-generated report for Yancy-1.088
on perl 5.20.0, created by App::cpanminus::reporter 0.17 (1.7046).

Thank you for uploading your work to CPAN.  Congratulations!
All tests were successful.

Sections of this report:

    * Tester comments
    * Program output
    * Prerequisites
    * Environment and other context

------------------------------
TESTER COMMENTS
------------------------------

Additional comments from tester:

none provided

------------------------------
PROGRAM OUTPUT
------------------------------

Output from '':

Building and testing Yancy-1.088
cp share/update_resources.sh blib/lib/auto/share/dist/Yancy/update_resources.sh
cp lib/Mojolicious/Plugin/Yancy/resources/public/yancy/font-awesome/fonts/fontawesome-webfont.svg blib/lib/Mojolicious/Plugin/Yancy/resources/public/yancy/font-awesome/fonts/fontawesome-webfont.svg
cp lib/Mojolicious/Plugin/Yancy/resources/public/yancy/marked.js blib/lib/Mojolicious/Plugin/Yancy/resources/public/yancy/marked.js
cp lib/Mojolicious/Plugin/Yancy.pm blib/lib/Mojolicious/Plugin/Yancy.pm
cp lib/Mojolicious/Plugin/Yancy/resources/public/yancy/font-awesome/fonts/fontawesome-webfont.woff2 blib/lib/Mojolicious/Plugin/Yancy/resources/public/yancy/font-awesome/fonts/fontawesome-webfont.woff2
cp lib/Mojolicious/Plugin/Yancy/resources/public/yancy/font-awesome/css/font-awesome.css blib/lib/Mojolicious/Plugin/Yancy/resources/public/yancy/font-awesome/css/font-awesome.css
cp lib/Mojolicious/Plugin/Yancy/resources/public/yancy/bootstrap.min.css.map blib/lib/Mojolicious/Plugin/Yancy/resources/public/yancy/bootstrap.min.css.map
cp lib/Mojolicious/Plugin/Yancy/resources/public/yancy/bootstrap.css blib/lib/Mojolicious/Plugin/Yancy/resources/public/yancy/bootstrap.css
cp lib/Mojolicious/Plugin/Yancy/resources/public/yancy/font-awesome/fonts/fontawesome-webfont.ttf blib/lib/Mojolicious/Plugin/Yancy/resources/public/yancy/font-awesome/fonts/fontawesome-webfont.ttf
cp lib/Mojolicious/Plugin/Yancy/resources/public/yancy/component/table.js blib/lib/Mojolicious/Plugin/Yancy/resources/public/yancy/component/table.js
cp lib/Mojolicious/Plugin/Yancy/resources/public/yancy/app.js blib/lib/Mojolicious/Plugin/Yancy/resources/public/yancy/app.js
cp lib/Mojolicious/Plugin/Yancy/resources/public/yancy/jquery.js blib/lib/Mojolicious/Plugin/Yancy/resources/public/yancy/jquery.js
cp lib/Mojolicious/Plugin/Yancy/resources/public/yancy/font-awesome/fonts/fontawesome-webfont.woff blib/lib/Mojolicious/Plugin/Yancy/resources/public/yancy/font-awesome/fonts/fontawesome-webfont.woff
cp lib/Mojolicious/Plugin/Yancy/resources/public/yancy/bootstrap.js blib/lib/Mojolicious/Plugin/Yancy/resources/public/yancy/bootstrap.js
cp lib/Mojolicious/Plugin/Yancy/resources/public/yancy/popper.min.js.map blib/lib/Mojolicious/Plugin/Yancy/resources/public/yancy/popper.min.js.map
cp lib/Mojolicious/Plugin/Yancy/resources/public/yancy/popper.js blib/lib/Mojolicious/Plugin/Yancy/resources/public/yancy/popper.js
cp lib/Mojolicious/Plugin/Yancy/resources/public/yancy/font-awesome/fonts/fontawesome-webfont.eot blib/lib/Mojolicious/Plugin/Yancy/resources/public/yancy/font-awesome/fonts/fontawesome-webfont.eot
cp lib/Mojolicious/Plugin/Yancy/resources/public/yancy/bootstrap.min.js.map blib/lib/Mojolicious/Plugin/Yancy/resources/public/yancy/bootstrap.min.js.map
cp lib/Mojolicious/Plugin/Yancy/resources/templates/layouts/yancy/auth.html.ep blib/lib/Mojolicious/Plugin/Yancy/resources/templates/layouts/yancy/auth.html.ep
cp lib/Mojolicious/Plugin/Yancy/resources/templates/yancy/auth/login_page.html.ep blib/lib/Mojolicious/Plugin/Yancy/resources/templates/yancy/auth/login_page.html.ep
cp lib/Mojolicious/Plugin/Yancy/resources/templates/yancy/auth/password/register.html.ep blib/lib/Mojolicious/Plugin/Yancy/resources/templates/yancy/auth/password/register.html.ep
cp lib/Yancy/Backend.pm blib/lib/Yancy/Backend.pm
cp lib/Mojolicious/Plugin/Yancy/resources/templates/yancy/auth/github/login_form.html.ep blib/lib/Mojolicious/Plugin/Yancy/resources/templates/yancy/auth/github/login_form.html.ep
cp lib/Mojolicious/Plugin/Yancy/resources/templates/layouts/yancy.html.ep blib/lib/Mojolicious/Plugin/Yancy/resources/templates/layouts/yancy.html.ep
cp lib/Mojolicious/Plugin/Yancy/resources/templates/yancy/table.html.ep blib/lib/Mojolicious/Plugin/Yancy/resources/templates/yancy/table.html.ep
cp lib/Mojolicious/Plugin/Yancy/resources/templates/yancy/component/table.html.ep blib/lib/Mojolicious/Plugin/Yancy/resources/templates/yancy/component/table.html.ep
cp lib/Mojolicious/Plugin/Yancy/resources/templates/yancy/auth/unauthorized.html.ep blib/lib/Mojolicious/Plugin/Yancy/resources/templates/yancy/auth/unauthorized.html.ep
cp lib/Mojolicious/Plugin/Yancy/resources/templates/yancy/auth/login_form.html.ep blib/lib/Mojolicious/Plugin/Yancy/resources/templates/yancy/auth/login_form.html.ep
cp lib/Yancy/Backend/Dbic.pm blib/lib/Yancy/Backend/Dbic.pm
cp lib/Mojolicious/Plugin/Yancy/resources/templates/yancy/auth/unauthorized.json.ep blib/lib/Mojolicious/Plugin/Yancy/resources/templates/yancy/auth/unauthorized.json.ep
cp lib/Mojolicious/Plugin/Yancy/resources/templates/yancy/auth/password/login_form.html.ep blib/lib/Mojolicious/Plugin/Yancy/resources/templates/yancy/auth/password/login_form.html.ep
cp lib/Mojolicious/Plugin/Yancy/resources/templates/yancy/index.html.ep blib/lib/Mojolicious/Plugin/Yancy/resources/templates/yancy/index.html.ep
cp lib/Mojolicious/Plugin/Yancy/resources/public/yancy/vue.js blib/lib/Mojolicious/Plugin/Yancy/resources/public/yancy/vue.js
cp lib/Yancy.pm blib/lib/Yancy.pm
cp lib/Mojolicious/Plugin/Yancy/resources/templates/yancy/auth/oauth2/login_form.html.ep blib/lib/Mojolicious/Plugin/Yancy/resources/templates/yancy/auth/oauth2/login_form.html.ep
cp lib/Mojolicious/Plugin/Yancy/resources/templates/yancy/auth/password/login_page.html.ep blib/lib/Mojolicious/Plugin/Yancy/resources/templates/yancy/auth/password/login_page.html.ep
cp lib/Yancy/Model.pm blib/lib/Yancy/Model.pm
cp lib/Yancy/Backend/Memory.pm blib/lib/Yancy/Backend/Memory.pm
cp lib/Yancy/Plugin/Form/Bootstrap4.pm blib/lib/Yancy/Plugin/Form/Bootstrap4.pm
cp lib/Yancy/Guides/Model.pod blib/lib/Yancy/Guides/Model.pod
cp lib/Yancy/I18N.pm blib/lib/Yancy/I18N.pm
cp lib/Yancy/Plugin/File.pm blib/lib/Yancy/Plugin/File.pm
cp lib/Yancy/Plugin/Auth/OAuth2.pm blib/lib/Yancy/Plugin/Auth/OAuth2.pm
cp lib/Yancy/Model/Item.pm blib/lib/Yancy/Model/Item.pm
cp lib/Yancy/Command/backend.pm blib/lib/Yancy/Command/backend.pm
cp lib/Yancy/I18N/en.pm blib/lib/Yancy/I18N/en.pm
cp lib/Yancy/Plugin/Auth/Basic.pm blib/lib/Yancy/Plugin/Auth/Basic.pm
cp lib/Yancy/Controller/Yancy/MultiTenant.pm blib/lib/Yancy/Controller/Yancy/MultiTenant.pm
cp lib/Yancy/Plugin/Auth/Password.pm blib/lib/Yancy/Plugin/Auth/Password.pm
cp lib/Yancy/Plugin/Form.pm blib/lib/Yancy/Plugin/Form.pm
cp lib/Yancy/Backend/Role/Sync.pm blib/lib/Yancy/Backend/Role/Sync.pm
cp lib/Yancy/Plugin/Auth/Github.pm blib/lib/Yancy/Plugin/Auth/Github.pm
cp lib/Yancy/Guides/Schema.pod blib/lib/Yancy/Guides/Schema.pod
cp lib/Yancy/Backend/MojoDB.pm blib/lib/Yancy/Backend/MojoDB.pm
cp lib/Yancy/Plugin/Auth.pm blib/lib/Yancy/Plugin/Auth.pm
cp lib/Yancy/Guides/Cookbook.pod blib/lib/Yancy/Guides/Cookbook.pod
cp lib/Yancy/Util.pm blib/lib/Yancy/Util.pm
cp lib/Yancy/Guides.pod blib/lib/Yancy/Guides.pod
cp lib/Yancy/Model/Schema.pm blib/lib/Yancy/Model/Schema.pm
cp lib/Yancy/Controller/Yancy.pm blib/lib/Yancy/Controller/Yancy.pm
cp lib/Yancy/Plugin/Roles.pm blib/lib/Yancy/Plugin/Roles.pm
cp lib/Yancy/Controller/Yancy/API.pm blib/lib/Yancy/Controller/Yancy/API.pm
cp lib/Yancy/Plugin/Auth/Token.pm blib/lib/Yancy/Plugin/Auth/Token.pm
cp lib/Yancy/Command/backend/copy.pm blib/lib/Yancy/Command/backend/copy.pm
cp lib/Yancy/Backend/Role/DBI.pm blib/lib/Yancy/Backend/Role/DBI.pm
cp lib/Yancy/Guides/Editor.pod blib/lib/Yancy/Guides/Editor.pod
cp lib/Yancy/Plugin/Auth/Role/RequireUser.pm blib/lib/Yancy/Plugin/Auth/Role/RequireUser.pm
cp lib/Yancy/Guides/Accounts.pod blib/lib/Yancy/Guides/Accounts.pod
cp lib/Yancy/Backend/Mysql.pm blib/lib/Yancy/Backend/Mysql.pm
cp lib/Yancy/Backend/Pg.pm blib/lib/Yancy/Backend/Pg.pm
cp lib/Yancy/Guides/Upgrading.pod blib/lib/Yancy/Guides/Upgrading.pod
cp lib/Yancy/Guides/Tutorial.pod blib/lib/Yancy/Guides/Tutorial.pod
cp lib/Yancy/Backend/Sqlite.pm blib/lib/Yancy/Backend/Sqlite.pm
cp lib/Yancy/Plugin/Editor.pm blib/lib/Yancy/Plugin/Editor.pm
cp bin/yancy blib/script/yancy
"/home/liveapp/.plenv/versions/5.20.0/bin/perl5.20.0" -MExtUtils::MY -e 'MY->fixin(shift)' -- blib/script/yancy
Manifying 1 pod document
Manifying 34 pod documents
Manifying 8 pod documents
Skip blib/lib/auto/share/dist/Yancy/update_resources.sh (unchanged)
PERL_DL_NONLAZY=1 "/home/liveapp/.plenv/versions/5.20.0/bin/perl5.20.0" "-MExtUtils::Command::MM" "-MTest::Harness" "-e" "undef *Test::Harness::Switches; test_harness(0, 'blib/lib', 'blib/arch')" t/*.t t/backend/*.t t/command/backend/*.t t/controller/*.t t/examples/*.t t/plugin/*.t t/plugin/auth/*.t t/plugin/form/*.t
t/00-compile.t ............... ok
# 
# Versions for all modules listed in MYMETA.json (including optional ones):
# 
# === Configure Requires ===
# 
#     Module                  Want Have
#     ----------------------- ---- ----
#     ExtUtils::MakeMaker      any 7.64
#     File::ShareDir::Install 0.06 0.14
# 
# === Configure Suggests ===
# 
#     Module      Want Have
#     -------- ------- ----
#     JSON::PP 2.27300 4.10
# 
# === Build Requires ===
# 
#     Module              Want Have
#     ------------------- ---- ----
#     ExtUtils::MakeMaker  any 7.64
# 
# === Test Requires ===
# 
#     Module                  Want     Have
#     ------------------- -------- --------
#     ExtUtils::MakeMaker      any     7.64
#     File::Spec               any     3.75
#     File::Temp            0.2307   0.2311
#     IO::Handle               any     1.48
#     IPC::Open3               any     1.16
#     Test::More          1.001005 1.302191
# 
# === Test Recommends ===
# 
#     Module         Want     Have
#     ---------- -------- --------
#     CPAN::Meta 2.120900 2.150010
# 
# === Runtime Requires ===
# 
#     Module                           Want     Have
#     ---------------------------- -------- --------
#     Class::Method::Modifiers          any     2.13
#     Digest                            any     1.17
#     Exporter                          any     5.74
#     File::Spec::Functions             any     3.75
#     FindBin                           any     1.51
#     JSON::Validator                  5.00     5.08
#     Mojolicious                         9     9.26
#     Mojolicious::Plugin::I18N         1.6      1.6
#     Mojolicious::Plugin::OpenAPI     5.00     5.05
#     Role::Tiny                   2.000001 2.002004
#     Scalar::Util                      any     1.62
#     Sys::Hostname                     any     1.18
#     Text::Balanced                    any     2.06
# 
t/00-report-prereqs.t ........ ok
x-view is deprecated and will be removed in v2. Use Yancy::Model or your database's CREATE VIEW instead. at /home/liveapp/.cpanm/work/1658760380.175134/Yancy-1.088/blib/lib/Yancy/Model/Schema.pm line 281.
t/api.t ...................... ok
t/app.t ...................... ok
DBIx::Class::Storage::DBI::SQLite::_dbi_attrs_for_bind(): Non-integer value supplied for column 'me.id' despite the integer datatype at /home/liveapp/.cpanm/work/1658760380.175134/Yancy-1.088/blib/lib/Yancy/Backend/Dbic.pm line 174
datatype mismatch: bind param (0) DOES_NOT_EXIST as integer at /home/liveapp/.plenv/versions/5.20.0/lib/perl5/site_perl/5.20.0/DBIx/Class/Storage/DBI.pm line 1958.
datatype mismatch: bind param (0) DOES_NOT_EXIST as integer at /home/liveapp/.plenv/versions/5.20.0/lib/perl5/site_perl/5.20.0/DBIx/Class/Storage/DBI.pm line 1958.
datatype mismatch: bind param (0) DOES_NOT_EXIST as integer at /home/liveapp/.plenv/versions/5.20.0/lib/perl5/site_perl/5.20.0/DBIx/Class/Storage/DBI.pm line 1958.
datatype mismatch: bind param (0) DOES_NOT_EXIST as integer at /home/liveapp/.plenv/versions/5.20.0/lib/perl5/site_perl/5.20.0/DBIx/Class/Storage/DBI.pm line 1958.
datatype mismatch: bind param (0) DOES_NOT_EXIST as integer at /home/liveapp/.plenv/versions/5.20.0/lib/perl5/site_perl/5.20.0/DBIx/Class/Storage/DBI.pm line 1958.
datatype mismatch: bind param (0) DOES_NOT_EXIST as integer at /home/liveapp/.plenv/versions/5.20.0/lib/perl5/site_perl/5.20.0/DBIx/Class/Storage/DBI.pm line 1958.
t/backend/dbic.t ............. ok
t/backend/memory.t ........... ok
t/backend/mysql.t ............ skipped: Mojo::mysql >= 1.0 required for this test
t/backend/pg.t ............... skipped: Mojo::Pg >= 3.0 required for this test
t/backend/sqlite.t ........... skipped: Mojo::SQLite >= 3.005 required for this test
x-view is deprecated and will be removed in v2. Use Yancy::Model or your database's CREATE VIEW instead. at /home/liveapp/.cpanm/work/1658760380.175134/Yancy-1.088/blib/lib/Yancy/Model/Schema.pm line 281.
t/command/backend/copy.t ..... ok
x-view is deprecated and will be removed in v2. Use Yancy::Model or your database's CREATE VIEW instead. at /home/liveapp/.cpanm/work/1658760380.175134/Yancy-1.088/blib/lib/Yancy/Model/Schema.pm line 281.
t/config.t ................... ok
x-view is deprecated and will be removed in v2. Use Yancy::Model or your database's CREATE VIEW instead. at /home/liveapp/.cpanm/work/1658760380.175134/Yancy-1.088/blib/lib/Yancy/Model/Schema.pm line 281.
t/controller/multi_tenant.t .. ok
x-view is deprecated and will be removed in v2. Use Yancy::Model or your database's CREATE VIEW instead. at /home/liveapp/.cpanm/work/1658760380.175134/Yancy-1.088/blib/lib/Yancy/Model/Schema.pm line 281.
t/controller/yancy.t ......... ok
t/examples/doc-site.t ........ skipped: Set TEST_YANCY_EXAMPLES to run these tests
t/examples/limited-editor.t .. skipped: Set TEST_YANCY_EXAMPLES to run these tests
t/examples/test-app.t ........ skipped: Set TEST_YANCY_EXAMPLES to run these tests
t/examples/todo-app.t ........ skipped: Set TEST_YANCY_EXAMPLES to run these tests
x-view is deprecated and will be removed in v2. Use Yancy::Model or your database's CREATE VIEW instead. at /home/liveapp/.cpanm/work/1658760380.175134/Yancy-1.088/blib/lib/Yancy/Model/Schema.pm line 281.
[2022-07-25 14:47:34.53112] [175768] [fatal] [69twt7zRjMrB] Unknown filter: DOES.NOT.EXIST (schema: user, field: email) at /home/liveapp/.cpanm/work/1658760380.175134/Yancy-1.088/blib/lib/Mojolicious/Plugin/Yancy.pm line 889.

t/filter.t ................... ok
x-view is deprecated and will be removed in v2. Use Yancy::Model or your database's CREATE VIEW instead. at /home/liveapp/.cpanm/work/1658760380.175134/Yancy-1.088/blib/lib/Yancy/Model/Schema.pm line 281.
t/helpers.t .................. ok
x-view is deprecated and will be removed in v2. Use Yancy::Model or your database's CREATE VIEW instead. at /home/liveapp/.cpanm/work/1658760380.175134/Yancy-1.088/blib/lib/Yancy/Model/Schema.pm line 281.
t/i18n.t ..................... ok
t/model.t .................... ok
x-view is deprecated and will be removed in v2. Use Yancy::Model or your database's CREATE VIEW instead. at /home/liveapp/.cpanm/work/1658760380.175134/Yancy-1.088/blib/lib/Yancy/Model/Schema.pm line 281.
t/plugin/auth.t .............. ok
x-view is deprecated and will be removed in v2. Use Yancy::Model or your database's CREATE VIEW instead. at /home/liveapp/.cpanm/work/1658760380.175134/Yancy-1.088/blib/lib/Yancy/Model/Schema.pm line 281.
The Auth::Basic plugin is deprecated and will be removed in Yancy v2.000. Please migrate to the Auth::Password module.
 at /home/liveapp/.cpanm/work/1658760380.175134/Yancy-1.088/blib/lib/Yancy/Plugin/Auth/Basic.pm line 256.
t/plugin/auth/basic.t ........ ok
x-view is deprecated and will be removed in v2. Use Yancy::Model or your database's CREATE VIEW instead. at /home/liveapp/.cpanm/work/1658760380.175134/Yancy-1.088/blib/lib/Yancy/Model/Schema.pm line 281.
t/plugin/auth/github.t ....... ok
x-view is deprecated and will be removed in v2. Use Yancy::Model or your database's CREATE VIEW instead. at /home/liveapp/.cpanm/work/1658760380.175134/Yancy-1.088/blib/lib/Yancy/Model/Schema.pm line 281.
t/plugin/auth/oauth2.t ....... ok
x-view is deprecated and will be removed in v2. Use Yancy::Model or your database's CREATE VIEW instead. at /home/liveapp/.cpanm/work/1658760380.175134/Yancy-1.088/blib/lib/Yancy/Model/Schema.pm line 281.
t/plugin/auth/password.t ..... ok
x-view is deprecated and will be removed in v2. Use Yancy::Model or your database's CREATE VIEW instead. at /home/liveapp/.cpanm/work/1658760380.175134/Yancy-1.088/blib/lib/Yancy/Model/Schema.pm line 281.
t/plugin/auth/token.t ........ ok
t/plugin/editor.t ............ ok
x-view is deprecated and will be removed in v2. Use Yancy::Model or your database's CREATE VIEW instead. at /home/liveapp/.cpanm/work/1658760380.175134/Yancy-1.088/blib/lib/Yancy/Model/Schema.pm line 281.
[2022-07-25 14:47:43.26953] [175783] [warn] *** Cannot verify that admin editor is behind authentication.
Add a Yancy Auth plugin, add a `route` to the Yancy plugin config,
or set `editor.require_user => undef` to silence this warning

t/plugin/file.t .............. ok
x-view is deprecated and will be removed in v2. Use Yancy::Model or your database's CREATE VIEW instead. at /home/liveapp/.cpanm/work/1658760380.175134/Yancy-1.088/blib/lib/Yancy/Model/Schema.pm line 281.
[2022-07-25 14:47:44.04053] [175784] [warn] [KpD7uaxTFpGW] form_for() called with incomplete request. CSRF token may not validate!
t/plugin/form/bootstrap4.t ... ok
x-view is deprecated and will be removed in v2. Use Yancy::Model or your database's CREATE VIEW instead. at /home/liveapp/.cpanm/work/1658760380.175134/Yancy-1.088/blib/lib/Yancy/Model/Schema.pm line 281.
t/plugin/roles.t ............. ok
    # Could not load SQLite backend: Mojo::SQLite version 3.005 or higher required
    # BEGIN failed--compilation aborted at /home/liveapp/.cpanm/work/1658760380.175134/Yancy-1.088/blib/lib/Yancy/Backend/Sqlite.pm line 116.
    # Compilation failed in require at t/register.t line 21.
    # Could not load Pg backend: Mojo::Pg version 4.03 or higher required
    # BEGIN failed--compilation aborted at /home/liveapp/.cpanm/work/1658760380.175134/Yancy-1.088/blib/lib/Yancy/Backend/Pg.pm line 128.
    # Compilation failed in require at t/register.t line 37.
    # Could not load Mysql backend: Mojo::mysql version 1.05 or higher required
    # BEGIN failed--compilation aborted at /home/liveapp/.cpanm/work/1658760380.175134/Yancy-1.088/blib/lib/Yancy/Backend/Mysql.pm line 119.
    # Compilation failed in require at t/register.t line 53.
t/register.t ................. ok
t/util.t ..................... ok
All tests successful.
Files=33, Tests=220, 33 wallclock secs ( 0.43 usr  0.04 sys + 25.95 cusr  2.29 csys = 28.71 CPU)
Result: PASS

------------------------------
PREREQUISITES
------------------------------

Prerequisite modules loaded:

    No requirements found

------------------------------
ENVIRONMENT AND OTHER CONTEXT
------------------------------

Environment variables:

    LANG = C.UTF-8
    PATH = /home/liveapp/.plenv/versions/5.20.0/bin:/home/liveapp/.plenv/libexec:/home/liveapp/.plenv/plugins/perl-build/bin:/home/liveapp/cpantesters.new/5.20.0/local/bin:/home/liveapp/.plenv/shims:/home/liveapp/.plenv/bin:/usr/local/sbin:/usr/local/bin:/usr/sbin:/usr/bin:/sbin:/bin:/usr/games:/usr/local/games:/snap/bin
    PERL5LIB = /home/liveapp/cpantesters.new/5.20.0/local/lib/perl5
    SHELL = /bin/bash
    TERM = xterm-256color

Perl special variables (and OS-specific diagnostics, for MSWin32):

    EGID = 1001 27 1001
    EUID = 1001
    EXECUTABLE_NAME = /home/liveapp/.plenv/versions/5.20.0/bin/perl5.20.0
    GID = 1001 27 1001
    UID = 1001

Perl module toolchain versions installed:

    Module              Have    
    ------------------- --------
    CPAN                2.05    
    CPAN::Meta          2.150010
    Cwd                 3.75    
    ExtUtils::CBuilder  0.280216
    ExtUtils::Command   7.64    
    ExtUtils::Install   2.06    
    ExtUtils::MakeMaker 7.64    
    ExtUtils::Manifest  1.70    
    ExtUtils::ParseXS   3.44    
    File::Spec          3.75    
    JSON                4.07    
    JSON::PP            4.10    
    Module::Build       0.4231  
    Module::Signature   n/a     
    Parse::CPAN::Meta   2.150010
    Test::Harness       3.44    
    Test::More          1.302191
    YAML                1.30    
    YAML::Syck          n/a     
    version             0.9929  


--

Summary of my perl5 (revision 5 version 20 subversion 0) configuration:
   
  Platform:
    osname=linux, osvers=5.4.0-91-generic, archname=x86_64-linux
    uname='linux supremeadmin 5.4.0-91-generic #102-ubuntu smp fri nov 5 16:31:28 utc 2021 x86_64 x86_64 x86_64 gnulinux '
    config_args='-Dprefix=/home/liveapp/.plenv/versions/5.20.0 -de -Dversiononly -A'eval:scriptdir=/home/liveapp/.plenv/versions/5.20.0/bin''
    hint=recommended, useposix=true, d_sigaction=define
    useithreads=undef, usemultiplicity=undef
    use64bitint=define, use64bitall=define, uselongdouble=undef
    usemymalloc=n, bincompat5005=undef
  Compiler:
    cc='cc', ccflags ='-fwrapv -fno-strict-aliasing -pipe -fstack-protector -I/usr/local/include -D_LARGEFILE_SOURCE -D_FILE_OFFSET_BITS=64',
    optimize='-O2',
    cppflags='-fwrapv -fno-strict-aliasing -pipe -fstack-protector -I/usr/local/include'
    ccversion='', gccversion='9.4.0', gccosandvers=''
    intsize=4, longsize=8, ptrsize=8, doublesize=8, byteorder=12345678
    d_longlong=define, longlongsize=8, d_longdbl=define, longdblsize=16
    ivtype='long', ivsize=8, nvtype='double', nvsize=8, Off_t='off_t', lseeksize=8
    alignbytes=8, prototype=define
  Linker and Libraries:
    ld='cc', ldflags =' -fstack-protector -L/usr/local/lib'
    libpth=/usr/local/lib /usr/include/x86_64-linux-gnu /usr/lib /lib/x86_64-linux-gnu /lib/../lib /usr/lib/x86_64-linux-gnu /usr/lib/../lib /lib
    libs=-lnsl -ldl -lm -lcrypt -lutil -lc
    perllibs=-lnsl -ldl -lm -lcrypt -lutil -lc
    libc=libc-2.31.so, so=so, useshrplib=false, libperl=libperl.a
    gnulibc_version='2.31'
  Dynamic Linking:
    dlsrc=dl_dlopen.xs, dlext=so, d_dlsymun=undef, ccdlflags='-Wl,-E'
    cccdlflags='-fPIC', lddlflags='-shared -O2 -L/usr/local/lib -fstack-protector'


Characteristics of this binary (from libperl): 
  Compile-time options: HAS_TIMES PERLIO_LAYERS PERL_DONT_CREATE_GVSV
                        PERL_HASH_FUNC_ONE_AT_A_TIME_HARD PERL_MALLOC_WRAP
                        PERL_NEW_COPY_ON_WRITE PERL_PRESERVE_IVUV
                        USE_64_BIT_ALL USE_64_BIT_INT USE_LARGE_FILES
                        USE_LOCALE USE_LOCALE_COLLATE USE_LOCALE_CTYPE
                        USE_LOCALE_NUMERIC USE_PERLIO USE_PERL_ATOF
  Locally applied patches:
	Devel::PatchPerl 2.08
  Built under linux
  Compiled at Jul 24 2022 12:48:23
  %ENV:
    PERL5LIB="/home/liveapp/cpantesters.new/5.20.0/local/lib/perl5"
  @INC:
    /home/liveapp/cpantesters.new/5.20.0/local/lib/perl5
    /home/liveapp/.plenv/versions/5.20.0/lib/perl5/site_perl/5.20.0/x86_64-linux
    /home/liveapp/.plenv/versions/5.20.0/lib/perl5/site_perl/5.20.0
    /home/liveapp/.plenv/versions/5.20.0/lib/perl5/5.20.0/x86_64-linux
    /home/liveapp/.plenv/versions/5.20.0/lib/perl5/5.20.0
    .