JSON-Schema-Draft201909 v0.129 Perl 5 v5.32.1 amd64-freebsd-ld
- Status
- Pass
- From
- Slaven Rezić
- Dist
-
JSON-Schema-Draft201909 v0.129
- Platform
- Perl 5 v5.32.1 amd64-freebsd-ld
- Date
- 2021-08-03 05:36:34
- ID
- c3a3f64e-f41c-11eb-bc59-44811f24ea8f
This distribution has been tested as part of the CPAN Testers
project, supporting the Perl programming language. See
http://wiki.cpantesters.org/ for more information or email
questions to cpan-testers-discuss@perl.org
--
Dear Karen Etheridge,
This is a computer-generated report for JSON-Schema-Draft201909-0.129
on perl 5.32.1, created by CPAN-Reporter-1.2018.
Thank you for uploading your work to CPAN. Congratulations!
All tests were successful.
Sections of this report:
* Tester comments
* Program output
* Prerequisites
* Environment and other context
------------------------------
TESTER COMMENTS
------------------------------
Additional comments from tester:
none provided
------------------------------
PROGRAM OUTPUT
------------------------------
Output from './Build test':
#
# Versions for all modules listed in MYMETA.json (including optional ones):
#
# === Configure Requires ===
#
# Module Want Have
# ------------------- ----- -----
# ExtUtils::MakeMaker any 7.62
# Module::Build::Tiny 0.034 0.039
#
# === Test Requires ===
#
# Module Want Have
# ------------------------------ ----- --------
# Feature::Compat::Try any 0.04
# File::Spec any 3.78
# JSON::MaybeXS any 1.004003
# JSON::PP any 4.04
# List::Util 1.50 1.56
# Module::Metadata any 1.000037
# Path::Tiny any 0.118
# Safe::Isa any 1.000010
# Test::Deep any 1.130
# Test::JSON::Schema::Acceptance 1.008 1.012
# Test::Memory::Cycle any 1.06
# Test::More 0.96 1.302186
# Test::Warnings any 0.030
# constant any 1.33
# lib any 0.65
# open any 1.12
#
# === Test Recommends ===
#
# Module Want Have
# ---------- -------- --------
# CPAN::Meta 2.120900 2.150010
#
# === Runtime Requires ===
#
# Module Want Have
# -------------------- ----- --------
# Import::Into any 1.002005
# JSON::Schema::Modern 0.515 0.515
# Moo any 2.005004
# Moo::Role any 2.005004
# if any 0.0608
# namespace::clean any 0.27
# strict any 1.11
# strictures 2 2.000006
# warnings any 1.47
#
# === Other Modules ===
#
# Module Have
# --------------- ------
# Encode 3.10
# File::Temp 0.2309
# JSON::PP 4.04
# Module::Runtime 0.016
# Pod::Coverage 0.23
# Sub::Name 0.26
# YAML 1.30
# autodie 2.32
#
t/00-report-prereqs.t ................... ok
evaluation generated an exception: {
"error" : "EXCEPTION: /then/$ref: $ref value is not a valid URI reference at /usr/perl5.32.1Dp/lib/site_perl/5.32.1/JSON/Schema/Modern.pm line 134.\n",
"instanceLocation" : "",
"keywordLocation" : ""
}
evaluation generated an exception: {
"error" : "EXCEPTION: /then/$ref: $ref value is not a valid URI reference at /usr/perl5.32.1Dp/lib/site_perl/5.32.1/JSON/Schema/Modern.pm line 134.\n",
"instanceLocation" : "",
"keywordLocation" : ""
}
evaluation generated an exception: {
"error" : "EXCEPTION: /then/$ref: $ref value is not a valid URI reference at /usr/perl5.32.1Dp/lib/site_perl/5.32.1/JSON/Schema/Modern.pm line 134.\n",
"instanceLocation" : "",
"keywordLocation" : ""
}
evaluation generated an exception: {
"error" : "EXCEPTION: /then/$ref: $ref value is not a valid URI reference at /usr/perl5.32.1Dp/lib/site_perl/5.32.1/JSON/Schema/Modern.pm line 134.\n",
"instanceLocation" : "",
"keywordLocation" : ""
}
evaluation generated an exception: {
"error" : "EXCEPTION: /$id: $id cannot be empty at /usr/perl5.32.1Dp/lib/site_perl/5.32.1/JSON/Schema/Modern.pm line 134.\n",
"instanceLocation" : "",
"keywordLocation" : ""
}
evaluation generated an exception: {
"error" : "EXCEPTION: /$id: $id cannot be empty at /usr/perl5.32.1Dp/lib/site_perl/5.32.1/JSON/Schema/Modern.pm line 134.\n",
"instanceLocation" : "",
"keywordLocation" : ""
}
evaluation generated an exception: {
"error" : "EXCEPTION: /$id: $id cannot be empty at /usr/perl5.32.1Dp/lib/site_perl/5.32.1/JSON/Schema/Modern.pm line 134.\n",
"instanceLocation" : "",
"keywordLocation" : ""
}
evaluation generated an exception: {
"error" : "EXCEPTION: /$id: $id cannot be empty at /usr/perl5.32.1Dp/lib/site_perl/5.32.1/JSON/Schema/Modern.pm line 134.\n",
"instanceLocation" : "",
"keywordLocation" : ""
}
evaluation generated an exception: {
"error" : "EXCEPTION: /$id: $id cannot be empty at /usr/perl5.32.1Dp/lib/site_perl/5.32.1/JSON/Schema/Modern.pm line 134.\n",
"instanceLocation" : "",
"keywordLocation" : ""
}
evaluation generated an exception: {
"error" : "EXCEPTION: /$id: $id cannot be empty at /usr/perl5.32.1Dp/lib/site_perl/5.32.1/JSON/Schema/Modern.pm line 134.\n",
"instanceLocation" : "",
"keywordLocation" : ""
}
evaluation generated an exception: {
"error" : "EXCEPTION: /$id: $id cannot be empty at /usr/perl5.32.1Dp/lib/site_perl/5.32.1/JSON/Schema/Modern.pm line 134.\n",
"instanceLocation" : "",
"keywordLocation" : ""
}
evaluation generated an exception: {
"error" : "EXCEPTION: /$id: $id cannot be empty at /usr/perl5.32.1Dp/lib/site_perl/5.32.1/JSON/Schema/Modern.pm line 134.\n",
"instanceLocation" : "",
"keywordLocation" : ""
}
evaluation generated an exception: {
"error" : "EXCEPTION: /$defs/foo/$ref: $ref value is not a valid URI reference at /usr/perl5.32.1Dp/lib/site_perl/5.32.1/JSON/Schema/Modern.pm line 134.\n",
"instanceLocation" : "",
"keywordLocation" : ""
}
evaluation generated an exception: {
"error" : "EXCEPTION: /$defs/foo/$ref: $ref value is not a valid URI reference at /usr/perl5.32.1Dp/lib/site_perl/5.32.1/JSON/Schema/Modern.pm line 134.\n",
"instanceLocation" : "",
"keywordLocation" : ""
}
evaluation generated an exception: {
"error" : "EXCEPTION: /$defs/foo/$ref: $ref value is not a valid URI reference at /usr/perl5.32.1Dp/lib/site_perl/5.32.1/JSON/Schema/Modern.pm line 134.\n",
"instanceLocation" : "",
"keywordLocation" : ""
}
evaluation generated an exception: {
"error" : "EXCEPTION: /$defs/foo/$ref: $ref value is not a valid URI reference at /usr/perl5.32.1Dp/lib/site_perl/5.32.1/JSON/Schema/Modern.pm line 134.\n",
"instanceLocation" : "",
"keywordLocation" : ""
}
#
#
# Results using Test::JSON::Schema::Acceptance 1.012
# specification version: draft2019-09
# using custom test directory: t/additional-tests-draft2019-09
# optional tests included: no
#
# filename pass todo-fail fail
# ---------------------------------------------------------------
# anchor.json 2 0 0
# badRef.json 3 0 0
# faux-buggy-schemas.json 2 0 0
# format-duration.json 9 0 0
# format-ipv4.json 3 0 0
# format-relative-json-pointer.json 7 0 0
# format-time.json 11 0 0
# future-keywords-draft2019-09.json 10 0 0
# id.json 6 0 0
# keyword-independence.json 812 0 0
# loose-types-const-enum.json 8 0 0
# recursive-dynamic.json 2 0 0
# ref-and-id.json 6 0 0
# ref.json 12 0 0
# short-circuit.json 20 0 0
# unicode.json 4 0 0
# vocabulary.json 1 0 0
# ---------------------------------------------------------------
# TOTAL 918 0 0
#
# Congratulations, all non-optional tests are passing!
#
t/additional-tests-draft2019-09.t ....... ok
evaluation generated an exception: {
"error" : "EXCEPTION: /type: type value is not a string at /usr/perl5.32.1Dp/lib/site_perl/5.32.1/JSON/Schema/Modern.pm line 134.\n",
"instanceLocation" : "",
"keywordLocation" : ""
}
evaluation generated an exception: {
"error" : "EXCEPTION: /type: type value is not a string at /usr/perl5.32.1Dp/lib/site_perl/5.32.1/JSON/Schema/Modern.pm line 134.\n",
"instanceLocation" : "",
"keywordLocation" : ""
}
evaluation generated an exception: {
"error" : "EXCEPTION: /type: unrecognized type \"<null>\" at /usr/perl5.32.1Dp/lib/site_perl/5.32.1/JSON/Schema/Modern.pm line 134.\n",
"instanceLocation" : "",
"keywordLocation" : ""
}
evaluation generated an exception: {
"error" : "EXCEPTION: /type: unrecognized type \"<null>\" at /usr/perl5.32.1Dp/lib/site_perl/5.32.1/JSON/Schema/Modern.pm line 134.\n",
"instanceLocation" : "",
"keywordLocation" : ""
}
evaluation generated an exception: {
"error" : "EXCEPTION: /$defs/foo/$ref: $ref value is not a valid URI reference at /usr/perl5.32.1Dp/lib/site_perl/5.32.1/JSON/Schema/Modern.pm line 134.\n",
"instanceLocation" : "",
"keywordLocation" : ""
}
evaluation generated an exception: {
"error" : "EXCEPTION: /$defs/foo/$ref: $ref value is not a valid URI reference at /usr/perl5.32.1Dp/lib/site_perl/5.32.1/JSON/Schema/Modern.pm line 134.\n",
"instanceLocation" : "",
"keywordLocation" : ""
}
evaluation generated an exception: {
"error" : "EXCEPTION: /$defs/foo/$ref: $ref value is not a valid URI reference at /usr/perl5.32.1Dp/lib/site_perl/5.32.1/JSON/Schema/Modern.pm line 134.\n",
"instanceLocation" : "",
"keywordLocation" : ""
}
evaluation generated an exception: {
"error" : "EXCEPTION: /$defs/foo/$ref: $ref value is not a valid URI reference at /usr/perl5.32.1Dp/lib/site_perl/5.32.1/JSON/Schema/Modern.pm line 134.\n",
"instanceLocation" : "",
"keywordLocation" : ""
}
evaluation generated an exception: {
"error" : "EXCEPTION: /$vocabulary: $vocabulary/https://foo.com value is not a boolean at /usr/perl5.32.1Dp/lib/site_perl/5.32.1/JSON/Schema/Modern.pm line 134.\n",
"instanceLocation" : "",
"keywordLocation" : ""
}
evaluation generated an exception: {
"error" : "EXCEPTION: /$vocabulary: $vocabulary/https://foo.com value is not a boolean at /usr/perl5.32.1Dp/lib/site_perl/5.32.1/JSON/Schema/Modern.pm line 134.\n",
"instanceLocation" : "",
"keywordLocation" : ""
}
evaluation generated an exception: {
"error" : "EXCEPTION: /$vocabulary: \"http://foo^bar/path\" is not a valid URI at /usr/perl5.32.1Dp/lib/site_perl/5.32.1/JSON/Schema/Modern.pm line 134.\n",
"instanceLocation" : "",
"keywordLocation" : ""
}
evaluation generated an exception: {
"error" : "EXCEPTION: /$vocabulary: \"http://foo^bar/path\" is not a valid URI at /usr/perl5.32.1Dp/lib/site_perl/5.32.1/JSON/Schema/Modern.pm line 134.\n",
"instanceLocation" : "",
"keywordLocation" : ""
}
evaluation generated an exception: {
"error" : "EXCEPTION: /$vocabulary: \"https://à ² _à ² .com\" is not a valid URI at /usr/perl5.32.1Dp/lib/site_perl/5.32.1/JSON/Schema/Modern.pm line 134.\n",
"instanceLocation" : "",
"keywordLocation" : ""
}
evaluation generated an exception: {
"error" : "EXCEPTION: /$vocabulary: \"https://à ² _à ² .com\" is not a valid URI at /usr/perl5.32.1Dp/lib/site_perl/5.32.1/JSON/Schema/Modern.pm line 134.\n",
"instanceLocation" : "",
"keywordLocation" : ""
}
evaluation generated an exception: {
"error" : "EXCEPTION: /$vocabulary: \"foo.com\" is not a valid URI at /usr/perl5.32.1Dp/lib/site_perl/5.32.1/JSON/Schema/Modern.pm line 134.\n",
"instanceLocation" : "",
"keywordLocation" : ""
}
evaluation generated an exception: {
"error" : "EXCEPTION: /$vocabulary: \"foo.com\" is not a valid URI at /usr/perl5.32.1Dp/lib/site_perl/5.32.1/JSON/Schema/Modern.pm line 134.\n",
"instanceLocation" : "",
"keywordLocation" : ""
}
#
#
# Results using Test::JSON::Schema::Acceptance 1.012
# specification version: draft2019-09
# using custom test directory: t/invalid-schemas-draft2019-09
# optional tests included: no
#
# filename pass todo-fail fail
# ---------------------------------------------------------------
# invalid-input.json 2 0 0
# ref.json 6 0 0
# ---------------------------------------------------------------
# TOTAL 8 0 0
#
# Congratulations, all non-optional tests are passing!
#
t/invalid-schemas-draft2019-09.t ........ ok
t/unsupported-keywords.t ................ ok
t/zzz-acceptance-draft2019-09-format.t .. skipped: These tests may fail if the test suite continues to evolve! They should only be run with AUTHOR_TESTING=1, AUTOMATED_TESTING=1 or EXTENDED_TESTING=1
t/zzz-acceptance-draft2019-09.t ......... skipped: These tests may fail if the test suite continues to evolve! They should only be run with AUTHOR_TESTING=1, AUTOMATED_TESTING=1 or EXTENDED_TESTING=1
All tests successful.
Files=6, Tests=936, 6 wallclock secs ( 0.52 usr 0.02 sys + 5.59 cusr 0.42 csys = 6.56 CPU)
Result: PASS
------------------------------
PREREQUISITES
------------------------------
Prerequisite modules loaded:
requires:
Module Need Have
------------------------------ ----- --------
if 0 0.0608
Import::Into 0 1.002005
JSON::Schema::Modern 0.515 0.515
Moo 0 2.005004
Moo::Role 0 2.005004
namespace::clean 0 0.27
perl 5.016 5.032001
strict 0 1.11
strictures 2 2.000006
warnings 0 1.47
build_requires:
Module Need Have
------------------------------ ----- --------
constant 0 1.33
Feature::Compat::Try 0 0.04
File::Spec 0 3.78
JSON::MaybeXS 0 1.004003
JSON::PP 0 4.04
lib 0 0.65
List::Util 1.50 1.56
Module::Metadata 0 1.000037
open 0 1.12
Path::Tiny 0 0.118
perl 5.016 5.032001
Safe::Isa 0 1.000010
Test::Deep 0 1.130
Test::JSON::Schema::Acceptance 1.008 1.012
Test::Memory::Cycle 0 1.06
Test::More 0.96 1.302186
Test::Warnings 0 0.030
configure_requires:
Module Need Have
------------------------------ ----- --------
ExtUtils::MakeMaker 0 7.62
Module::Build::Tiny 0.034 0.039
perl 5.016 5.032001
------------------------------
ENVIRONMENT AND OTHER CONTEXT
------------------------------
Environment variables:
PATH = /usr/local/bin:/usr/bin:/bin:/usr/local/sbin:/usr/sbin:/sbin:/home/cpansand/bin/sh:/home/cpansand/bin:/usr/games:/home/cpansand/devel:/usr/home/eserte/src/srezic-misc/scripts
PERL5LIB =
PERL5OPT =
PERL5_CPANPLUS_IS_RUNNING = 57219
PERL5_CPAN_IS_RUNNING = 57219
PERL5_CPAN_IS_RUNNING_IN_RECURSION = 57152,57219
PERL_BATCH = yes
PERL_CANARY_STABILITY_NOPROMPT = 1
PERL_CPAN_REPORTER_CONFIG = /var/tmp/cpansmoker-1023/2021080305/cpanreporter_000_config.ini
PERL_EXTUTILS_AUTOINSTALL = --defaultdeps
PERL_USE_UNSAFE_INC = 1
SHELL = /bin/sh
TMPDIR = /var/tmp/cpansmoker-1023/2021080305
Perl special variables (and OS-specific diagnostics, for MSWin32):
$^X = /usr/perl5.32.1Dp/bin/perl
$UID/$EUID = 1023 / 1023
$GID = 1023 1023
$EGID = 1023 1023
Perl module toolchain versions installed:
Module Have
------------------- --------
CPAN 2.27
CPAN::Meta 2.150010
Cwd 3.78
ExtUtils::CBuilder 0.280234
ExtUtils::Command 7.62
ExtUtils::Install 2.20
ExtUtils::MakeMaker 7.62
ExtUtils::Manifest 1.72
ExtUtils::ParseXS 3.40
File::Spec 3.78
JSON 4.03
JSON::PP 4.04
Module::Build 0.4231
Module::Signature n/a
Parse::CPAN::Meta 2.150010
Test::Harness 3.42
Test::More 1.302186
YAML 1.30
YAML::Syck 1.34
version 0.9924
--
Summary of my perl5 (revision 5 version 32 subversion 1) configuration:
Platform:
osname=freebsd
osvers=13.0-stable
archname=amd64-freebsd-ld
uname='freebsd cloud10.bbbike.org 13.0-stable freebsd 13.0-stable #0 stable13-n245623-e2872019983d: thu may 13 16:04:27 utc 2021 root@cloud10.bbbike.org:usrobjusrhomeprojectsfreebsdamd64.amd64sysgeneric amd64 '
config_args='-ds -e -Dprefix=/usr/perl5.32.1Dp -Duselongdouble -Dcf_email=srezic@cpan.org -Doptimize=-O2 -pipe'
hint=recommended
useposix=true
d_sigaction=define
useithreads=undef
usemultiplicity=undef
use64bitint=define
use64bitall=define
uselongdouble=define
usemymalloc=n
default_inc_excludes_dot=define
bincompat5005=undef
Compiler:
cc='cc'
ccflags ='-DHAS_FPSETMASK -DHAS_FLOATINGPOINT_H -fno-strict-aliasing -pipe -fstack-protector-strong -I/usr/local/include'
optimize='-O2 -pipe'
cppflags='-DHAS_FPSETMASK -DHAS_FLOATINGPOINT_H -fno-strict-aliasing -pipe -fstack-protector-strong -I/usr/local/include'
ccversion=''
gccversion='FreeBSD Clang 11.0.1 (git@github.com:llvm/llvm-project.git llvmorg-11.0.1-0-g43ff75f2c3fe)'
gccosandvers=''
intsize=4
longsize=8
ptrsize=8
doublesize=8
byteorder=12345678
doublekind=3
d_longlong=define
longlongsize=8
d_longdbl=define
longdblsize=16
longdblkind=3
ivtype='long'
ivsize=8
nvtype='long double'
nvsize=16
Off_t='off_t'
lseeksize=8
alignbytes=16
prototype=define
Linker and Libraries:
ld='cc'
ldflags ='-pthread -Wl,-E -fstack-protector-strong -L/usr/local/lib'
libpth=/usr/lib /usr/local/lib /usr/lib/clang/11.0.1/lib /usr/lib
libs=-lpthread -lgdbm -ldl -lm -lcrypt -lutil -lc
perllibs=-lpthread -ldl -lm -lcrypt -lutil -lc
libc=
so=so
useshrplib=false
libperl=libperl.a
gnulibc_version=''
Dynamic Linking:
dlsrc=dl_dlopen.xs
dlext=so
d_dlsymun=undef
ccdlflags=' '
cccdlflags='-DPIC -fPIC'
lddlflags='-shared -L/usr/local/lib -fstack-protector-strong'
Characteristics of this binary (from libperl):
Compile-time options:
HAS_TIMES
PERLIO_LAYERS
PERL_COPY_ON_WRITE
PERL_DONT_CREATE_GVSV
PERL_MALLOC_WRAP
PERL_OP_PARENT
PERL_PRESERVE_IVUV
USE_64_BIT_ALL
USE_64_BIT_INT
USE_LARGE_FILES
USE_LOCALE
USE_LOCALE_COLLATE
USE_LOCALE_CTYPE
USE_LOCALE_NUMERIC
USE_LOCALE_TIME
USE_LONG_DOUBLE
USE_PERLIO
USE_PERL_ATOF
Built under freebsd
Compiled at May 16 2021 16:11:18
%ENV:
PERL5LIB=""
PERL5OPT=""
PERL5_CPANPLUS_IS_RUNNING="57219"
PERL5_CPAN_IS_RUNNING="57219"
PERL5_CPAN_IS_RUNNING_IN_RECURSION="57152,57219"
PERL_BATCH="yes"
PERL_CANARY_STABILITY_NOPROMPT="1"
PERL_CPAN_REPORTER_CONFIG="/var/tmp/cpansmoker-1023/2021080305/cpanreporter_000_config.ini"
PERL_EXTUTILS_AUTOINSTALL="--defaultdeps"
PERL_USE_UNSAFE_INC="1"
@INC:
/usr/perl5.32.1Dp/lib/site_perl/5.32.1/amd64-freebsd-ld
/usr/perl5.32.1Dp/lib/site_perl/5.32.1
/usr/perl5.32.1Dp/lib/5.32.1/amd64-freebsd-ld
/usr/perl5.32.1Dp/lib/5.32.1
.