Statocles v0.091 Perl 5 v5.16.3 MSWin32-x86-multi-thread

Status
Pass
From
Alexandr Ciornii (CHORNY)
Dist
Statocles v0.091
Platform
Perl 5 v5.16.3 MSWin32-x86-multi-thread
Date
2018-03-30 11:52:11
ID
c310fec2-6c15-1014-a68d-44fe66c45773
This distribution has been tested as part of the CPAN Testers
project, supporting the Perl programming language.  See
http://wiki.cpantesters.org/ for more information or email
questions to cpan-testers-discuss@perl.org


--
Dear Doug Bell,

This is a computer-generated report for Statocles-0.091
on perl 5.16.3, created by CPAN-Reporter-1.2018.

Thank you for uploading your work to CPAN.  Congratulations!
All tests were successful.

Sections of this report:

    * Tester comments
    * Program output
    * Prerequisites
    * Environment and other context

------------------------------
TESTER COMMENTS
------------------------------

Additional comments from tester:

this report is from an automated smoke testing program
and was not reviewed by a human for accuracy

------------------------------
PROGRAM OUTPUT
------------------------------

Output from 'C:\strawberry163\c\bin\dmake.exe test':

Skip blib\lib\auto\share\dist\Statocles\theme\default\layout\blank.html.ep (unchanged)
Skip blib\lib\auto\share\dist\Statocles\theme\bootstrap\blog\index.rss.ep (unchanged)
Skip blib\lib\auto\share\dist\Statocles\theme\bootstrap\site\sitemap.xml.ep (unchanged)
Skip blib\lib\auto\share\dist\Statocles\theme\bootstrap\plugin\highlight\solarized-dark.css (unchanged)
Skip blib\lib\auto\share\dist\Statocles\theme\default\layout\default.html.ep (unchanged)
Skip blib\lib\auto\share\dist\Statocles\theme\default\css\skeleton.css (unchanged)
Skip blib\lib\auto\share\dist\Statocles\create\script.yml (unchanged)
Skip blib\lib\auto\share\dist\Statocles\theme\bootstrap\layout\default.html.ep (unchanged)
Skip blib\lib\auto\share\dist\Statocles\theme\default\site\footer.html.ep (unchanged)
Skip blib\lib\auto\share\dist\Statocles\theme\default\blog\index.atom.ep (unchanged)
Skip blib\lib\auto\share\dist\Statocles\theme\default\site\head_after.html.ep (unchanged)
Skip blib\lib\auto\share\dist\Statocles\theme\default\site\sitemap.xml.ep (unchanged)
Skip blib\lib\auto\share\dist\Statocles\theme\bootstrap\site\navbar_extra.html.ep (unchanged)
Skip blib\lib\auto\share\dist\Statocles\theme\bootstrap\blog\post.html.ep (unchanged)
Skip blib\lib\auto\share\dist\Statocles\theme\default\blog\post.html.ep (unchanged)
Skip blib\lib\auto\share\dist\Statocles\theme\bootstrap\perldoc\source.html.ep (unchanged)
Skip blib\lib\auto\share\dist\Statocles\theme\default\css\statocles-default.css (unchanged)
Skip blib\lib\auto\share\dist\Statocles\zsh\_statocles (unchanged)
Skip blib\lib\auto\share\dist\Statocles\theme\default\layout\full-width.html.ep (unchanged)
Skip blib\lib\auto\share\dist\Statocles\create\page\index.markdown (unchanged)
Skip blib\lib\auto\share\dist\Statocles\theme\default\site\header_after.html.ep (unchanged)
Skip blib\lib\auto\share\dist\Statocles\create\blog\post.markdown (unchanged)
Skip blib\lib\auto\share\dist\Statocles\theme\default\site\robots.txt.ep (unchanged)
Skip blib\lib\auto\share\dist\Statocles\theme\default\blog\index.html.ep (unchanged)
Skip blib\lib\auto\share\dist\Statocles\theme\bootstrap\site\head_after.html.ep (unchanged)
Skip blib\lib\auto\share\dist\Statocles\theme\default\css\normalize.css (unchanged)
Skip blib\lib\auto\share\dist\Statocles\theme\bootstrap\site\header_after.html.ep (unchanged)
Skip blib\lib\auto\share\dist\Statocles\theme\bootstrap\site\footer.html.ep (unchanged)
Skip blib\lib\auto\share\dist\Statocles\theme\bootstrap\perldoc\pod.html.ep (unchanged)
Skip blib\lib\auto\share\dist\Statocles\theme\default\site\sidebar_before.html.ep (unchanged)
Skip blib\lib\auto\share\dist\Statocles\theme\default\perldoc\pod.html.ep (unchanged)
Skip blib\lib\auto\share\dist\Statocles\theme\bootstrap\css\statocles-bootstrap.css (unchanged)
Skip blib\lib\auto\share\dist\Statocles\theme\default\plugin\highlight\solarized-dark.css (unchanged)
Skip blib\lib\auto\share\dist\Statocles\theme\default\plugin\highlight\solarized-light.css (unchanged)
Skip blib\lib\auto\share\dist\Statocles\theme\bootstrap\blog\index.atom.ep (unchanged)
Skip blib\lib\auto\share\dist\Statocles\theme\default\site\navbar_extra.html.ep (unchanged)
Skip blib\lib\auto\share\dist\Statocles\theme\bootstrap\site\style.html (unchanged)
Skip blib\lib\auto\share\dist\Statocles\theme\default\site\style.html (unchanged)
Skip blib\lib\auto\share\dist\Statocles\theme\default\blog\index.rss.ep (unchanged)
Skip blib\lib\auto\share\dist\Statocles\theme\bootstrap\blog\index.html.ep (unchanged)
Skip blib\lib\auto\share\dist\Statocles\theme\bootstrap\layout\full-width.html.ep (unchanged)
Skip blib\lib\auto\share\dist\Statocles\theme\bootstrap\plugin\highlight\solarized-light.css (unchanged)
Skip blib\lib\auto\share\dist\Statocles\theme\bootstrap\site\sidebar_before.html.ep (unchanged)
Skip blib\lib\auto\share\dist\Statocles\theme\bootstrap\plugin\highlight\default.css (unchanged)
Skip blib\lib\auto\share\dist\Statocles\theme\default\plugin\highlight\default.css (unchanged)
Skip blib\lib\auto\share\dist\Statocles\create\site.yml (unchanged)
Skip blib\lib\auto\share\dist\Statocles\theme\bootstrap\site\robots.txt.ep (unchanged)
Skip blib\lib\auto\share\dist\Statocles\theme\bootstrap\layout\blank.html.ep (unchanged)
Skip blib\lib\auto\share\dist\Statocles\theme\default\perldoc\source.html.ep (unchanged)
C:\strawberry163\perl\bin\perl.exe "-MExtUtils::Command::MM" "-e" "test_harness(0, 'blib\lib', 'blib\arch')" t/*.t t/app/*.t t/app/basic/*.t t/app/blog/*.t t/app/perldoc/*.t t/app/role/*.t t/bin/*.t t/command/*.t t/deploy/*.t t/link/*.t t/page/*.t t/plugin/*.t t/site/*.t t/template/*.t t/theme/*.t
t/00-compile.t ................ ok
# 
# Versions for all modules listed in MYMETA.json (including optional ones):
# 
# === Configure Requires ===
# 
#     Module                  Want Have
#     ----------------------- ---- ----
#     ExtUtils::MakeMaker      any 6.64
#     File::ShareDir::Install 0.06 0.08
# 
# === Build Requires ===
# 
#     Module              Want Have
#     ------------------- ---- ----
#     ExtUtils::MakeMaker  any 6.64
# 
# === Test Requires ===
# 
#     Module                  Want     Have
#     ------------------- -------- --------
#     Capture::Tiny            any     0.46
#     Dir::Self                any     0.11
#     ExtUtils::MakeMaker      any     6.64
#     File::Spec               any     3.40
#     IO::Handle               any     1.33
#     IPC::Open3               any     1.12
#     Storable                 any     2.39
#     Test::Deep               any    0.110
#     Test::Differences       0.64     0.64
#     Test::Exception         0.42     0.43
#     Test::Lib                any    0.002
#     Test::More          1.001005 1.302133
# 
# === Test Recommends ===
# 
#     Module         Want     Have
#     ---------- -------- --------
#     CPAN::Meta 2.120900 2.140640
# 
# === Runtime Requires ===
# 
#     Module                 Want     Have
#     ------------------ -------- --------
#     Beam::Emitter         0.007    1.007
#     Beam::Wire            1.018    1.021
#     DateTime::Moonpig       any     1.03
#     Encode                  any     2.57
#     File::Share             any     0.25
#     Git::Repository         any    1.311
#     Import::Base          0.012    1.004
#     JSON::PP                any  2.27203
#     List::UtilsBy          0.09     0.09
#     Mojolicious            6.54     7.71
#     Moo                2.000001 2.003004
#     Path::Tiny            0.084    0.104
#     Pod::Simple            3.31     3.35
#     Pod::Usage::Return      any    0.003
#     Text::Markdown          any 1.000031
#     Text::Unidecode         any     0.04
#     Type::Tiny              any    0.038
#     Types::Path::Tiny       any    0.005
#     YAML                    any     0.90
#     strict                  any     1.07
#     warnings                any     1.13
# 
# === Runtime Recommends ===
# 
#     Module                           Want     Have
#     ------------------------------- ----- --------
#     HTML::Lint::Pluggable            0.06  missing
#     PPI                               any    1.215
#     Pod::Elemental                    any 0.103000
#     Pod::Weaver                     4.015    4.006
#     Syntax::Highlight::Engine::Kate   any     0.08
# 
t/00-report-prereqs.t ......... ok
t/app/basic/command.t ......... ok
t/app/basic/constructor.t ..... ok
t/app/basic/pages.t ........... ok
t/app/blog/command.t .......... ok
t/app/blog/constructor.t ...... ok
    # Current LC_TIME locale: Russian_Russia.1251
    # Could not set locale to ru_RU. Still 
t/app/blog/pages.t ............ ok
t/app/blog/post_date.t ........ ok
t/app/blog/recent_posts.t ..... ok
t/app/blog/slugs.t ............ ok
t/app/events.t ................ ok
t/app/perldoc/constructor.t ... ok
# C:/strawberry163/cpan/build/Statocles-0.091-71RPJu/t/share
t/app/perldoc/highlight.t ..... ok
Class::MOP::load_class is deprecated at C:/strawberry163/perl/site/lib/Class/MOP.pm line 73.
	Class::MOP::load_class('MooseX::Role::Parameterized::Meta::Role::Parameterized') called at C:/strawberry163/perl/vendor/lib/MooseX/Role/Parameterized/Meta/Role/Parameterizable.pm line 60
	MooseX::Role::Parameterized::Meta::Role::Parameterizable::generate_role('MooseX::Role::Parameterized::Meta::Role::Parameterizable=HASH...', 'parameters', 'HASH(0x33826c4)') called at C:/strawberry163/perl/vendor/lib/MooseX/Role/Parameterized/Meta/Role/Parameterizable.pm line 94
	MooseX::Role::Parameterized::Meta::Role::Parameterizable::_role_for_combination('MooseX::Role::Parameterized::Meta::Role::Parameterizable=HASH...', 'HASH(0x33826c4)') called at C:/strawberry163/perl/site/lib/Moose/Meta/Role.pm line 492
	Moose::Meta::Role::combine('Moose::Meta::Role', 'ARRAY(0x33a2864)', 'ARRAY(0x3391a44)', 'ARRAY(0x33a2074)', 'ARRAY(0x3418d54)', 'ARRAY(0x33a2734)') called at C:/strawberry163/perl/site/lib/Moose/Util.pm line 169
	Moose::Util::_apply_all_roles('Moose::Meta::Class=HASH(0x33913d4)', undef, 'Throwable', 'Role::Identifiable::HasIdent', 'Role::HasMessage', 'StackTrace::Auto', 'MooseX::OneArgNew', 'HASH(0x33826c4)') called at C:/strawberry163/perl/site/lib/Moose/Util.pm line 108
	Moose::Util::apply_all_roles('Moose::Meta::Class=HASH(0x33913d4)', 'Throwable', 'Role::Identifiable::HasIdent', 'Role::HasMessage', 'StackTrace::Auto', 'MooseX::OneArgNew', 'HASH(0x33826c4)') called at C:/strawberry163/perl/site/lib/Moose.pm line 60
	Moose::with('Moose::Meta::Class=HASH(0x33913d4)', 'Throwable', 'Role::Identifiable::HasIdent', 'Role::HasMessage', 'StackTrace::Auto', 'MooseX::OneArgNew', 'HASH(0x33826c4)') called at C:/strawberry163/perl/site/lib/Moose/Exporter.pm line 405
	Moose::with('Throwable', 'Role::Identifiable::HasIdent', 'Role::HasMessage', 'StackTrace::Auto', 'MooseX::OneArgNew', 'HASH(0x33826c4)') called at C:/strawberry163/perl/site/lib/Config/MVP/Error.pm line 21
	require Config/MVP/Error.pm called at C:/strawberry163/perl/site/lib/Config/MVP/Reader/Finder.pm line 25
	Config::MVP::Reader::Finder::BEGIN() called at C:/strawberry163/perl/site/lib/Config/MVP/Error.pm line 0
	eval {...} called at C:/strawberry163/perl/site/lib/Config/MVP/Error.pm line 0
	require Config/MVP/Reader/Finder.pm called at C:/strawberry163/perl/site/lib/Module/Runtime.pm line 317
	Module::Runtime::require_module('Config::MVP::Reader::Finder') called at C:/strawberry163/perl/site/lib/Module/Runtime.pm line 381
	eval {...} called at C:/strawberry163/perl/site/lib/Module/Runtime.pm line 381
	Module::Runtime::use_package_optimistically('Config::MVP::Reader::Finder') called at C:/strawberry163/perl/site/lib/Moose/Util.pm line 343
	Moose::Util::_load_user_class('Config::MVP::Reader::Finder', undef) called at C:/strawberry163/perl/site/lib/Moose/Meta/Class.pm line 561
	Moose::Meta::Class::superclasses(undef, 'Config::MVP::Reader::Finder') called at C:/strawberry163/perl/site/lib/Moose.pm line 56
	Moose::extends('Moose::Meta::Class=HASH(0x337513c)', 'Config::MVP::Reader::Finder') called at C:/strawberry163/perl/site/lib/Moose/Exporter.pm line 405
	Moose::extends('Config::MVP::Reader::Finder') called at C:/strawberry163/perl/site/lib/Pod/Weaver/Config/Finder.pm line 6
	require Pod/Weaver/Config/Finder.pm called at C:/strawberry163/perl/site/lib/Pod/Weaver.pm line 16
	Pod::Weaver::BEGIN() called at C:/strawberry163/perl/site/lib/Config/MVP/Error.pm line 0
	eval {...} called at C:/strawberry163/perl/site/lib/Config/MVP/Error.pm line 0
	require Pod/Weaver.pm called at t/app/perldoc/pages.t line 229
	eval {...} called at t/app/perldoc/pages.t line 229
	main::__ANON__() called at C:\strawberry163\cpan\build\Test-Simple-1.302133-gIURkX/blib/lib/Test/Builder.pm line 339
	eval {...} called at C:\strawberry163\cpan\build\Test-Simple-1.302133-gIURkX/blib/lib/Test/Builder.pm line 339
	Test::Builder::subtest('Test::Builder=HASH(0x106ca44)', 'with Pod::Weaver', 'CODE(0xaffd8c)') called at C:\strawberry163\cpan\build\Test-Simple-1.302133-gIURkX/blib/lib/Test/More.pm line 807
	Test::More::subtest('with Pod::Weaver', 'CODE(0xaffd8c)') called at t/app/perldoc/pages.t line 347
t/app/perldoc/pages.t ......... ok
t/app/role/store.t ............ ok
t/app/template.t .............. ok
t/app/url.t ................... ok
t/bin/statocles.t ............. ok
Name "main::INC" used only once: possible typo at C:/strawberry163/perl/lib/Safe.pm line 365.
t/command/apps.t .............. ok
Name "main::INC" used only once: possible typo at C:/strawberry163/perl/lib/Safe.pm line 365.
"git" ­¥ ï¥âáï ¢­ãâ७­¥© ¨«¨ ¢­¥è­¥©
ª®¬ ­¤®©, ¨á¯®«­ï¥¬®© ¯à®£à ¬¬®© ¨«¨ ¯ ª¥â­ë¬ ä ©«®¬.
t/command/build_and_deploy.t .. ok
Name "main::INC" used only once: possible typo at C:/strawberry163/perl/lib/Safe.pm line 365.
t/command/bundle.t ............ ok
Name "main::INC" used only once: possible typo at C:/strawberry163/perl/lib/Safe.pm line 365.
"git" ­¥ ï¥âáï ¢­ãâ७­¥© ¨«¨ ¢­¥è­¥©
ª®¬ ­¤®©, ¨á¯®«­ï¥¬®© ¯à®£à ¬¬®© ¨«¨ ¯ ª¥â­ë¬ ä ©«®¬.
Use of uninitialized value $git_version in concatenation (.) or string at t/command/create.t line 262.
    # Git version: 
Use of uninitialized value $git_version in numeric lt (<) at t/command/create.t line 263.
t/command/create.t ............ ok
Name "main::INC" used only once: possible typo at C:/strawberry163/perl/lib/Safe.pm line 365.
t/command/daemon.t ............ ok
Name "main::INC" used only once: possible typo at C:/strawberry163/perl/lib/Safe.pm line 365.
t/command/error.t ............. ok
Name "main::INC" used only once: possible typo at C:/strawberry163/perl/lib/Safe.pm line 365.
t/command/help_and_version.t .. ok
Name "main::INC" used only once: possible typo at C:/strawberry163/perl/lib/Safe.pm line 365.
t/command/mojo_app.t .......... ok
t/deploy/file.t ............... ok
"git" ­¥ ï¥âáï ¢­ãâ७­¥© ¨«¨ ¢­¥è­¥©
ª®¬ ­¤®©, ¨á¯®«­ï¥¬®© ¯à®£à ¬¬®© ¨«¨ ¯ ª¥â­ë¬ ä ©«®¬.
t/deploy/git.t ................ skipped: Git not installed
t/deprecated.t ................ ok
t/document.t .................. ok
t/image.t ..................... ok
t/link.t ...................... ok
t/link/tree.t ................. ok
t/page/basename.t ............. ok
t/page/content_sections.t ..... ok
Invalid data attribute in document "/required.markdown". Data attributes that are not hashes are deprecated and will be removed in v2.0. Please use a hash instead. See Statocles::Help::Upgrading
Invalid data attribute in document "/links/alternate_single.markdown". Data attributes that are not hashes are deprecated and will be removed in v2.0. Please use a hash instead. See Statocles::Help::Upgrading
t/page/document.t ............. ok
t/page/file.t ................. ok
t/page/images.t ............... ok
t/page/links.t ................ ok
t/page/list.t ................. ok
t/page/list_item.t ............ ok
[Fri Mar 30 14:49:59 2018] [debug] Render page: /path/to/page.html
t/page/plain.t ................ ok
t/page/type.t ................. ok
t/person.t .................... ok
t/plugin/highlight.t .......... ok
t/plugin/html_lint.t .......... skipped: HTML::Lint::Pluggable v0.06 or higher needed
t/plugin/link_check.t ......... ok
t/plugin/mermaid.t ............ ok
t/site/build_and_deploy.t ..... ok
t/site/constructor.t .......... ok
t/site/data.t ................. ok
t/site/events.t ............... ok
t/site/index.t ................ ok
t/site/nav.t .................. ok
t/site/plugin.t ............... ok
t/site/sitemap_and_robots.t ... ok
t/site/template.t ............. ok
t/site/url.t .................. ok
t/site/warnings.t ............. ok
[Fri Mar 30 14:51:21 2018] [warn] Store path "C:/strawberry163/cpan/build/Statocles-0.091-71RPJu/t/share/DOES_NOT_EXIST" does not exist
t/store.t ..................... ok
t/template/basic.t ............ ok
t/template/content.t .......... ok
t/template/include.t .......... ok
t/template/markdown.t ......... ok
t/theme/check.t ............... ok
t/theme/helper.t .............. ok
t/theme/pages.t ............... ok
t/theme/template.t ............ ok
t/types.t ..................... ok
"HOPEFULLY_DOES_NOT_EXIST" ­¥ ï¥âáï ¢­ãâ७­¥© ¨«¨ ¢­¥è­¥©
ª®¬ ­¤®©, ¨á¯®«­ï¥¬®© ¯à®£à ¬¬®© ¨«¨ ¯ ª¥â­ë¬ ä ©«®¬.
t/util.t ...................... ok
All tests successful.
Files=71, Tests=314, 429 wallclock secs ( 0.82 usr +  0.31 sys =  1.13 CPU)
Result: PASS

------------------------------
PREREQUISITES
------------------------------

Prerequisite modules loaded:

requires:

    Module                  Need     Have    
    ----------------------- -------- --------
    Beam::Emitter           0.007    1.007   
    Beam::Wire              1.018    1.021   
    DateTime::Moonpig       0        1.03    
    Encode                  0        2.57    
    File::Share             0        0.25    
    Git::Repository         0        1.311   
    Import::Base            0.012    1.004   
    JSON::PP                0        2.27203 
    List::UtilsBy           0.09     0.09    
    Mojolicious             6.54     7.71    
    Moo                     2.000001 2.003004
    Path::Tiny              0.084    0.104   
    perl                    5.010    5.016003
    Pod::Simple             3.31     3.35    
    Pod::Usage::Return      0        0.003   
    strict                  0        1.07    
    Text::Markdown          0        1.000031
    Text::Unidecode         0        0.04    
    Type::Tiny              0        0.038   
    Types::Path::Tiny       0        0.005   
    warnings                0        1.13    
    YAML                    0        0.90    

build_requires:

    Module                  Need     Have    
    ----------------------- -------- --------
    Capture::Tiny           0        0.46    
    Dir::Self               0        0.11    
    ExtUtils::MakeMaker     0        6.64    
    File::Spec              0        3.40    
    IO::Handle              0        1.33    
    IPC::Open3              0        1.12    
    Storable                0        2.39    
    Test::Deep              0        0.110   
    Test::Differences       0.64     0.64    
    Test::Exception         0.42     0.43    
    Test::Lib               0        0.002   
    Test::More              1.001005 1.302133

configure_requires:

    Module                  Need     Have    
    ----------------------- -------- --------
    ExtUtils::MakeMaker     0        6.64    
    File::ShareDir::Install 0.06     0.08    


------------------------------
ENVIRONMENT AND OTHER CONTEXT
------------------------------

Environment variables:

    AUTOMATED_TESTING = 1
    COMSPEC = C:\WINDOWS\system32\cmd.exe
    NUMBER_OF_PROCESSORS = 1
    PATH = C:\WINDOWS\system32;C:\WINDOWS;C:\WINDOWS\System32\Wbem;C:\strawberry163\c\bin;C:\strawberry163\perl\site\bin;C:\strawberry163\perl\bin
    PERL5LIB = C:\strawberry163\cpan\build\Mojolicious-7.71-xJMslO/blib/arch;C:\strawberry163\cpan\build\Mojolicious-7.71-xJMslO/blib/lib;C:\strawberry163\cpan\build\IO-Socket-IP-0.39-qiqvex/blib/arch;C:\strawberry163\cpan\build\IO-Socket-IP-0.39-qiqvex/blib/lib;C:\strawberry163\cpan\build\Pod-Usage-Return-0.003-2pgYnU/blib/arch;C:\strawberry163\cpan\build\Pod-Usage-Return-0.003-2pgYnU/blib/lib;C:\strawberry163\cpan\build\File-Share-0.25-Y5cQxa/blib/arch;C:\strawberry163\cpan\build\File-Share-0.25-Y5cQxa/blib/lib;C:\strawberry163\cpan\build\DateTime-Moonpig-1.03-PFQ8sp/blib/arch;C:\strawberry163\cpan\build\DateTime-Moonpig-1.03-PFQ8sp/blib/lib;C:\strawberry163\cpan\build\Types-Path-Tiny-0.005-DPHccc/blib/arch;C:\strawberry163\cpan\build\Types-Path-Tiny-0.005-DPHccc/blib/lib;C:\strawberry163\cpan\build\Import-Base-1.004-sHUrTp/blib/arch;C:\strawberry163\cpan\build\Import-Base-1.004-sHUrTp/blib/lib;C:\strawberry163\cpan\build\Import-Into-1.002005-Wowueo/blib/arch;C:\strawberry163\cpan\build\Import-Into-1.002005-Wowueo/blib/lib;C:\strawberry163\cpan\build\Test-Exception-0.43-L7fO20/blib/arch;C:\strawberry163\cpan\build\Test-Exception-0.43-L7fO20/blib/lib;C:\strawberry163\cpan\build\Pod-Simple-3.35-NfD2k4/blib/arch;C:\strawberry163\cpan\build\Pod-Simple-3.35-NfD2k4/blib/lib;C:\strawberry163\cpan\build\Beam-Wire-1.021-MiXeNx/blib/arch;C:\strawberry163\cpan\build\Beam-Wire-1.021-MiXeNx/blib/lib;C:\strawberry163\cpan\build\Data-DPath-0.57-oo4yc8/blib/arch;C:\strawberry163\cpan\build\Data-DPath-0.57-oo4yc8/blib/lib;C:\strawberry163\cpan\build\aliased-0.34-drg8Av/blib/arch;C:\strawberry163\cpan\build\aliased-0.34-drg8Av/blib/lib;C:\strawberry163\cpan\build\Module-Build-Tiny-0.039-ovyvlW/blib/arch;C:\strawberry163\cpan\build\Module-Build-Tiny-0.039-ovyvlW/blib/lib;C:\strawberry163\cpan\build\Path-Tiny-0.104-YQn804/blib/arch;C:\strawberry163\cpan\build\Path-Tiny-0.104-YQn804/blib/lib;C:\strawberry163\cpan\build\Beam-Service-0.001-p0OwMx/blib/arch;C:\strawberry163\cpan\build\Beam-Service-0.001-p0OwMx/blib/lib;C:\strawberry163\cpan\build\Moo-2.003004-8YSdPU/blib/arch;C:\strawberry163\cpan\build\Moo-2.003004-8YSdPU/blib/lib;C:\strawberry163\cpan\build\Role-Tiny-2.000006-IjtVW3/blib/arch;C:\strawberry163\cpan\build\Role-Tiny-2.000006-IjtVW3/blib/lib;C:\strawberry163\cpan\build\Sub-Quote-2.005000-eVI46B/blib/arch;C:\strawberry163\cpan\build\Sub-Quote-2.005000-eVI46B/blib/lib;C:\strawberry163\cpan\build\Beam-Emitter-1.007-k0gacy/blib/arch;C:\strawberry163\cpan\build\Beam-Emitter-1.007-k0gacy/blib/lib;C:\strawberry163\cpan\build\Test-API-0.010-lBl8XB/blib/arch;C:\strawberry163\cpan\build\Test-API-0.010-lBl8XB/blib/lib;C:\strawberry163\cpan\build\Test-Differences-0.64-U5puio/blib/arch;C:\strawberry163\cpan\build\Test-Differences-0.64-U5puio/blib/lib;C:\strawberry163\cpan\build\Capture-Tiny-0.46-ID8dSV/blib/arch;C:\strawberry163\cpan\build\Capture-Tiny-0.46-ID8dSV/blib/lib;C:\strawberry163\cpan\build\Test-Simple-1.302133-gIURkX/blib/arch;C:\strawberry163\cpan\build\Test-Simple-1.302133-gIURkX/blib/lib;C:\strawberry163\cpan\build\Test-Lib-0.002-UT2Yyj/blib/arch;C:\strawberry163\cpan\build\Test-Lib-0.002-UT2Yyj/blib/lib
    PERL5OPT = 
    PERL5_CPANPLUS_IS_RUNNING = 856
    PERL5_CPAN_IS_RUNNING = 856
    PERL5_CPAN_IS_RUNNING_IN_RECURSION = 1184,856
    PERL_CR_SMOKER_CURRENT = Statocles-0.091
    PERL_CR_SMOKER_RUNONCE = 1
    PERL_EXTUTILS_AUTOINSTALL = --defaultdeps
    PERL_MM_USE_DEFAULT = 1
    PROCESSOR_IDENTIFIER = x86 Family 18 Model 1 Stepping 0, AuthenticAMD
    TEMP = C:\DOCUME~1\c\LOCALS~1\Temp
    TERM = dumb

Perl special variables (and OS-specific diagnostics, for MSWin32):

    $^X = C:\strawberry163\perl\bin\perl.exe
    $UID/$EUID = 0 / 0
    $GID = 0
    $EGID = 0
    Win32::GetOSName = WinXP/.Net
    Win32::GetOSVersion = Service Pack 3, 5, 1, 2600, 2, 3, 0, 256, 1
    Win32::FsType = NTFS
    Win32::IsAdminUser = 1

Perl module toolchain versions installed:

    Module              Have    
    ------------------- --------
    CPAN                2.00    
    CPAN::Meta          2.140640
    Cwd                 3.40    
    ExtUtils::CBuilder  0.280206
    ExtUtils::Command   1.17    
    ExtUtils::Install   1.58    
    ExtUtils::MakeMaker 6.64    
    ExtUtils::Manifest  1.61    
    ExtUtils::ParseXS   3.24    
    File::Spec          3.40    
    JSON                2.90    
    JSON::PP            2.27203 
    Module::Build       0.4205  
    Module::Signature   0.70    
    Parse::CPAN::Meta   1.4414  
    Test::Harness       3.30    
    Test::More          1.302133
    YAML                0.90    
    YAML::Syck          1.24    
    version             0.9902  


--

Summary of my perl5 (revision 5 version 16 subversion 3) configuration:
   
  Platform:
    osname=MSWin32, osvers=4.0, archname=MSWin32-x86-multi-thread
    uname='Win32 strawberry-perl 5.16.3.1 #1 Tue Mar 12 13:55:20 2013 i386'
    config_args='undef'
    hint=recommended, useposix=true, d_sigaction=undef
    useithreads=define, usemultiplicity=define
    useperlio=define, d_sfio=undef, uselargefiles=define, usesocks=undef
    use64bitint=undef, use64bitall=undef, uselongdouble=undef
    usemymalloc=n, bincompat5005=undef
  Compiler:
    cc='gcc', ccflags =' -s -O2 -DWIN32  -DPERL_TEXTMODE_SCRIPTS -DPERL_IMPLICIT_CONTEXT -DPERL_IMPLICIT_SYS -fno-strict-aliasing -mms-bitfields',
    optimize='-s -O2',
    cppflags='-DWIN32'
    ccversion='', gccversion='4.6.3', gccosandvers=''
    intsize=4, longsize=4, ptrsize=4, doublesize=8, byteorder=1234
    d_longlong=undef, longlongsize=8, d_longdbl=define, longdblsize=12
    ivtype='long', ivsize=4, nvtype='double', nvsize=8, Off_t='long long', lseeksize=8
    alignbytes=8, prototype=define
  Linker and Libraries:
    ld='g++', ldflags ='-s -L"C:\strawberry163\perl\lib\CORE" -L"C:\strawberry163\c\lib"'
    libpth=C:\strawberry163\c\lib C:\strawberry163\c\i686-w64-mingw32\lib
    libs=-lmoldname -lkernel32 -luser32 -lgdi32 -lwinspool -lcomdlg32 -ladvapi32 -lshell32 -lole32 -loleaut32 -lnetapi32 -luuid -lws2_32 -lmpr -lwinmm -lversion -lodbc32 -lodbccp32 -lcomctl32
    perllibs=-lmoldname -lkernel32 -luser32 -lgdi32 -lwinspool -lcomdlg32 -ladvapi32 -lshell32 -lole32 -loleaut32 -lnetapi32 -luuid -lws2_32 -lmpr -lwinmm -lversion -lodbc32 -lodbccp32 -lcomctl32
    libc=, so=dll, useshrplib=true, libperl=libperl516.a
    gnulibc_version=''
  Dynamic Linking:
    dlsrc=dl_win32.xs, dlext=dll, d_dlsymun=undef, ccdlflags=' '
    cccdlflags=' ', lddlflags='-mdll -s -L"C:\strawberry163\perl\lib\CORE" -L"C:\strawberry163\c\lib"'


Characteristics of this binary (from libperl): 
  Compile-time options: HAS_TIMES HAVE_INTERP_INTERN MULTIPLICITY
                        PERLIO_LAYERS PERL_DONT_CREATE_GVSV
                        PERL_IMPLICIT_CONTEXT PERL_IMPLICIT_SYS
                        PERL_MALLOC_WRAP PERL_PRESERVE_IVUV PL_OP_SLAB_ALLOC
                        USE_ITHREADS USE_LARGE_FILES USE_LOCALE
                        USE_LOCALE_COLLATE USE_LOCALE_CTYPE
                        USE_LOCALE_NUMERIC USE_PERLIO USE_PERL_ATOF
  Built under MSWin32
  Compiled at Mar 12 2013 14:01:07
  %ENV:
    PERL5LIB="C:\strawberry163\cpan\build\Mojolicious-7.71-xJMslO/blib/arch;C:\strawberry163\cpan\build\Mojolicious-7.71-xJMslO/blib/lib;C:\strawberry163\cpan\build\IO-Socket-IP-0.39-qiqvex/blib/arch;C:\strawberry163\cpan\build\IO-Socket-IP-0.39-qiqvex/blib/lib;C:\strawberry163\cpan\build\Pod-Usage-Return-0.003-2pgYnU/blib/arch;C:\strawberry163\cpan\build\Pod-Usage-Return-0.003-2pgYnU/blib/lib;C:\strawberry163\cpan\build\File-Share-0.25-Y5cQxa/blib/arch;C:\strawberry163\cpan\build\File-Share-0.25-Y5cQxa/blib/lib;C:\strawberry163\cpan\build\DateTime-Moonpig-1.03-PFQ8sp/blib/arch;C:\strawberry163\cpan\build\DateTime-Moonpig-1.03-PFQ8sp/blib/lib;C:\strawberry163\cpan\build\Types-Path-Tiny-0.005-DPHccc/blib/arch;C:\strawberry163\cpan\build\Types-Path-Tiny-0.005-DPHccc/blib/lib;C:\strawberry163\cpan\build\Import-Base-1.004-sHUrTp/blib/arch;C:\strawberry163\cpan\build\Import-Base-1.004-sHUrTp/blib/lib;C:\strawberry163\cpan\build\Import-Into-1.002005-Wowueo/blib/arch;C:\strawberry163\cpan\build\Import-Into-1.002005-Wowueo/blib/lib;C:\strawberry163\cpan\build\Test-Exception-0.43-L7fO20/blib/arch;C:\strawberry163\cpan\build\Test-Exception-0.43-L7fO20/blib/lib;C:\strawberry163\cpan\build\Pod-Simple-3.35-NfD2k4/blib/arch;C:\strawberry163\cpan\build\Pod-Simple-3.35-NfD2k4/blib/lib;C:\strawberry163\cpan\build\Beam-Wire-1.021-MiXeNx/blib/arch;C:\strawberry163\cpan\build\Beam-Wire-1.021-MiXeNx/blib/lib;C:\strawberry163\cpan\build\Data-DPath-0.57-oo4yc8/blib/arch;C:\strawberry163\cpan\build\Data-DPath-0.57-oo4yc8/blib/lib;C:\strawberry163\cpan\build\aliased-0.34-drg8Av/blib/arch;C:\strawberry163\cpan\build\aliased-0.34-drg8Av/blib/lib;C:\strawberry163\cpan\build\Module-Build-Tiny-0.039-ovyvlW/blib/arch;C:\strawberry163\cpan\build\Module-Build-Tiny-0.039-ovyvlW/blib/lib;C:\strawberry163\cpan\build\Path-Tiny-0.104-YQn804/blib/arch;C:\strawberry163\cpan\build\Path-Tiny-0.104-YQn804/blib/lib;C:\strawberry163\cpan\build\Beam-Service-0.001-p0OwMx/blib/arch;C:\strawberry163\cpan\build\Beam-Service-0.001-p0OwMx/blib/lib;C:\strawberry163\cpan\build\Moo-2.003004-8YSdPU/blib/arch;C:\strawberry163\cpan\build\Moo-2.003004-8YSdPU/blib/lib;C:\strawberry163\cpan\build\Role-Tiny-2.000006-IjtVW3/blib/arch;C:\strawberry163\cpan\build\Role-Tiny-2.000006-IjtVW3/blib/lib;C:\strawberry163\cpan\build\Sub-Quote-2.005000-eVI46B/blib/arch;C:\strawberry163\cpan\build\Sub-Quote-2.005000-eVI46B/blib/lib;C:\strawberry163\cpan\build\Beam-Emitter-1.007-k0gacy/blib/arch;C:\strawberry163\cpan\build\Beam-Emitter-1.007-k0gacy/blib/lib;C:\strawberry163\cpan\build\Test-API-0.010-lBl8XB/blib/arch;C:\strawberry163\cpan\build\Test-API-0.010-lBl8XB/blib/lib;C:\strawberry163\cpan\build\Test-Differences-0.64-U5puio/blib/arch;C:\strawberry163\cpan\build\Test-Differences-0.64-U5puio/blib/lib;C:\strawberry163\cpan\build\Capture-Tiny-0.46-ID8dSV/blib/arch;C:\strawberry163\cpan\build\Capture-Tiny-0.46-ID8dSV/blib/lib;C:\strawberry163\cpan\build\Test-Simple-1.302133-gIURkX/blib/arch;C:\strawberry163\cpan\build\Test-Simple-1.302133-gIURkX/blib/lib;C:\strawberry163\cpan\build\Test-Lib-0.002-UT2Yyj/blib/arch;C:\strawberry163\cpan\build\Test-Lib-0.002-UT2Yyj/blib/lib"
    PERL5_CPANPLUS_IS_RUNNING="856"
    PERL5_CPAN_IS_RUNNING="856"
    PERL5_CPAN_IS_RUNNING_IN_RECURSION="1184,856"
    PERL_CR_SMOKER_CURRENT="Statocles-0.091"
    PERL_CR_SMOKER_RUNONCE="1"
    PERL_EXTUTILS_AUTOINSTALL="--defaultdeps"
    PERL_MM_USE_DEFAULT="1"
  @INC:
    C:\strawberry163\cpan\build\Mojolicious-7.71-xJMslO/blib/arch
    C:\strawberry163\cpan\build\Mojolicious-7.71-xJMslO/blib/lib
    C:\strawberry163\cpan\build\IO-Socket-IP-0.39-qiqvex/blib/arch
    C:\strawberry163\cpan\build\IO-Socket-IP-0.39-qiqvex/blib/lib
    C:\strawberry163\cpan\build\Pod-Usage-Return-0.003-2pgYnU/blib/arch
    C:\strawberry163\cpan\build\Pod-Usage-Return-0.003-2pgYnU/blib/lib
    C:\strawberry163\cpan\build\File-Share-0.25-Y5cQxa/blib/arch
    C:\strawberry163\cpan\build\File-Share-0.25-Y5cQxa/blib/lib
    C:\strawberry163\cpan\build\DateTime-Moonpig-1.03-PFQ8sp/blib/arch
    C:\strawberry163\cpan\build\DateTime-Moonpig-1.03-PFQ8sp/blib/lib
    C:\strawberry163\cpan\build\Types-Path-Tiny-0.005-DPHccc/blib/arch
    C:\strawberry163\cpan\build\Types-Path-Tiny-0.005-DPHccc/blib/lib
    C:\strawberry163\cpan\build\Import-Base-1.004-sHUrTp/blib/arch
    C:\strawberry163\cpan\build\Import-Base-1.004-sHUrTp/blib/lib
    C:\strawberry163\cpan\build\Import-Into-1.002005-Wowueo/blib/arch
    C:\strawberry163\cpan\build\Import-Into-1.002005-Wowueo/blib/lib
    C:\strawberry163\cpan\build\Test-Exception-0.43-L7fO20/blib/arch
    C:\strawberry163\cpan\build\Test-Exception-0.43-L7fO20/blib/lib
    C:\strawberry163\cpan\build\Pod-Simple-3.35-NfD2k4/blib/arch
    C:\strawberry163\cpan\build\Pod-Simple-3.35-NfD2k4/blib/lib
    C:\strawberry163\cpan\build\Beam-Wire-1.021-MiXeNx/blib/arch
    C:\strawberry163\cpan\build\Beam-Wire-1.021-MiXeNx/blib/lib
    C:\strawberry163\cpan\build\Data-DPath-0.57-oo4yc8/blib/arch
    C:\strawberry163\cpan\build\Data-DPath-0.57-oo4yc8/blib/lib
    C:\strawberry163\cpan\build\aliased-0.34-drg8Av/blib/arch
    C:\strawberry163\cpan\build\aliased-0.34-drg8Av/blib/lib
    C:\strawberry163\cpan\build\Module-Build-Tiny-0.039-ovyvlW/blib/arch
    C:\strawberry163\cpan\build\Module-Build-Tiny-0.039-ovyvlW/blib/lib
    C:\strawberry163\cpan\build\Path-Tiny-0.104-YQn804/blib/arch
    C:\strawberry163\cpan\build\Path-Tiny-0.104-YQn804/blib/lib
    C:\strawberry163\cpan\build\Beam-Service-0.001-p0OwMx/blib/arch
    C:\strawberry163\cpan\build\Beam-Service-0.001-p0OwMx/blib/lib
    C:\strawberry163\cpan\build\Moo-2.003004-8YSdPU/blib/arch
    C:\strawberry163\cpan\build\Moo-2.003004-8YSdPU/blib/lib
    C:\strawberry163\cpan\build\Role-Tiny-2.000006-IjtVW3/blib/arch
    C:\strawberry163\cpan\build\Role-Tiny-2.000006-IjtVW3/blib/lib
    C:\strawberry163\cpan\build\Sub-Quote-2.005000-eVI46B/blib/arch
    C:\strawberry163\cpan\build\Sub-Quote-2.005000-eVI46B/blib/lib
    C:\strawberry163\cpan\build\Beam-Emitter-1.007-k0gacy/blib/arch
    C:\strawberry163\cpan\build\Beam-Emitter-1.007-k0gacy/blib/lib
    C:\strawberry163\cpan\build\Test-API-0.010-lBl8XB/blib/arch
    C:\strawberry163\cpan\build\Test-API-0.010-lBl8XB/blib/lib
    C:\strawberry163\cpan\build\Test-Differences-0.64-U5puio/blib/arch
    C:\strawberry163\cpan\build\Test-Differences-0.64-U5puio/blib/lib
    C:\strawberry163\cpan\build\Capture-Tiny-0.46-ID8dSV/blib/arch
    C:\strawberry163\cpan\build\Capture-Tiny-0.46-ID8dSV/blib/lib
    C:\strawberry163\cpan\build\Test-Simple-1.302133-gIURkX/blib/arch
    C:\strawberry163\cpan\build\Test-Simple-1.302133-gIURkX/blib/lib
    C:\strawberry163\cpan\build\Test-Lib-0.002-UT2Yyj/blib/arch
    C:\strawberry163\cpan\build\Test-Lib-0.002-UT2Yyj/blib/lib
    C:/strawberry163/perl/site/lib
    C:/strawberry163/perl/vendor/lib
    C:/strawberry163/perl/lib
    .