FFI-Platypus v1.10 Perl 5 v5.28.2 MSWin32-x86-multi-thread-64int

Status
Pass
From
Alexandr Ciornii (CHORNY)
Dist
FFI-Platypus v1.10
Platform
Perl 5 v5.28.2 MSWin32-x86-multi-thread-64int
Date
2020-02-06 11:40:49
ID
c30f7d50-6bf4-1014-9cfd-254b78475af9
This distribution has been tested as part of the CPAN Testers
project, supporting the Perl programming language.  See
http://wiki.cpantesters.org/ for more information or email
questions to cpan-testers-discuss@perl.org


--
Dear Graham Ollis,

This is a computer-generated report for FFI-Platypus-1.10
on perl 5.28.2, created by CPAN-Reporter-1.2018.

Thank you for uploading your work to CPAN.  Congratulations!
All tests were successful.

Sections of this report:

    * Tester comments
    * Program output
    * Prerequisites
    * Environment and other context

------------------------------
TESTER COMMENTS
------------------------------

Additional comments from tester:

this report is from an automated smoke testing program
and was not reviewed by a human for accuracy

------------------------------
PROGRAM OUTPUT
------------------------------

Output from 'C:\STRAWB~1\c\bin\gmake.exe test':

"C:\Strawberry282\perl\bin\perl.exe" -MExtUtils::Command::MM -e cp_nonempty -- lib/FFI/Platypus.bs blib\arch\auto\FFI\Platypus\Platypus.bs 644
CC t/ffi/align.c
CC t/ffi/align_array.c
CC t/ffi/align_fixed.c
CC t/ffi/align_string.c
CC t/ffi/basic.c
CC t/ffi/closure.c
CC t/ffi/color.c
CC t/ffi/complex_double.c
CC t/ffi/complex_float.c
CC t/ffi/double.c
CC t/ffi/float.c
CC t/ffi/gh117.c
CC t/ffi/gh174.c
CC t/ffi/longdouble.c
CC t/ffi/memcmp4.c
CC t/ffi/meta.c
CC t/ffi/pointer.c
CC t/ffi/record.c
CC t/ffi/sint16.c
CC t/ffi/sint32.c
CC t/ffi/sint64.c
CC t/ffi/sint8.c
CC t/ffi/string.c
CC t/ffi/string_array.c
CC t/ffi/uint16.c
CC t/ffi/uint32.c
CC t/ffi/uint64.c
CC t/ffi/uint8.c
CC t/ffi/variadic.c
LD t/ffi/test.dll
"C:\Strawberry282\perl\bin\perl.exe" "-MExtUtils::Command::MM" "-MTest::Harness" "-e" "undef *Test::Harness::Switches; test_harness(0, 'blib\lib', 'blib\arch')" t/*.t
# 
# 
# 
# HARNESS_ACTIVE=1
# HARNESS_VERSION=3.42
# PERL5LIB=C:\STRAWB~1\cpan\build\FFI-Platypus-1.10-0\blib\lib;C:\STRAWB~1\cpan\build\FFI-Platypus-1.10-0\blib\arch;C:\STRAWB~1\cpan\build\Acme-Alien-DontPanic-2.0400-0/blib/arch;C:\STRAWB~1\cpan\build\Acme-Alien-DontPanic-2.0400-0/blib/lib;C:\STRAWB~1\cpan\build\Alien-Build-2.04-1/blib/arch;C:\STRAWB~1\cpan\build\Alien-Build-2.04-1/blib/lib;C:\STRAWB~1\cpan\build\Alien-Base-ModuleBuild-1.14-0/blib/arch;C:\STRAWB~1\cpan\build\Alien-Base-ModuleBuild-1.14-0/blib/lib;C:\STRAWB~1\cpan\build\Acme-Alien-DontPanic-2.0400-0/blib/arch;C:\STRAWB~1\cpan\build\Acme-Alien-DontPanic-2.0400-0/blib/lib;C:\STRAWB~1\cpan\build\Alien-Build-2.04-1/blib/arch;C:\STRAWB~1\cpan\build\Alien-Build-2.04-1/blib/lib;C:\STRAWB~1\cpan\build\Alien-Base-ModuleBuild-1.14-0/blib/arch;C:\STRAWB~1\cpan\build\Alien-Base-ModuleBuild-1.14-0/blib/lib
# PERL5_CPANPLUS_IS_RUNNING=856
# PERL5_CPAN_IS_RUNNING=856
# PERL5_CPAN_IS_RUNNING_IN_RECURSION=460,856
# PERL_CR_SMOKER_CURRENT=Acme-Ford-Prefect-FFI-2.0400
# PERL_CR_SMOKER_RUNONCE=1
# PERL_EXTUTILS_AUTOINSTALL=--defaultdeps
# PERL_MM_USE_DEFAULT=1
# PERL_USE_UNSAFE_INC=1
# 
# 
# 
# PERL5LIB path
# C:\STRAWB~1\cpan\build\FFI-Platypus-1.10-0\blib\lib
# C:\STRAWB~1\cpan\build\FFI-Platypus-1.10-0\blib\arch
# C:\STRAWB~1\cpan\build\Acme-Alien-DontPanic-2.0400-0/blib/arch
# C:\STRAWB~1\cpan\build\Acme-Alien-DontPanic-2.0400-0/blib/lib
# C:\STRAWB~1\cpan\build\Alien-Build-2.04-1/blib/arch
# C:\STRAWB~1\cpan\build\Alien-Build-2.04-1/blib/lib
# C:\STRAWB~1\cpan\build\Alien-Base-ModuleBuild-1.14-0/blib/arch
# C:\STRAWB~1\cpan\build\Alien-Base-ModuleBuild-1.14-0/blib/lib
# C:\STRAWB~1\cpan\build\Acme-Alien-DontPanic-2.0400-0/blib/arch
# C:\STRAWB~1\cpan\build\Acme-Alien-DontPanic-2.0400-0/blib/lib
# C:\STRAWB~1\cpan\build\Alien-Build-2.04-1/blib/arch
# C:\STRAWB~1\cpan\build\Alien-Build-2.04-1/blib/lib
# C:\STRAWB~1\cpan\build\Alien-Base-ModuleBuild-1.14-0/blib/arch
# C:\STRAWB~1\cpan\build\Alien-Base-ModuleBuild-1.14-0/blib/lib
# 
# 
# 
# perl                5.028002
# Alien::Base         2.04
# Capture::Tiny       0.48
# Devel::Hide         0.0010
# ExtUtils::CBuilder  0.280231
# ExtUtils::MakeMaker 7.34
# ExtUtils::ParseXS   3.39
# FFI::CheckLib       0.23
# IPC::Cmd            1.02
# JSON::PP            4.02
# List::Util          1.5
# Math::LongDouble    -
# PkgConfig           0.23026
# Test::More          1.302162
# constant            1.33
# forks               -
# 
# 
# 
# mode : already-installed
# Alien::FFI->VERSION      = 0.23
# Alien::FFI->install_type = system
# Alien::FFI->cflags       = 
# Alien::FFI->libs         = -LC:/Strawberry282/c/lib/pkgconfig/../../lib/../lib -lffi
# Alien::FFI->version      = 3.2.1
# 
# 
# 
# ffi.platypus.memory.strdup_impl =ffi
# ffi.platypus.memory.strndup_impl=ffi
# 
# 
# 
# Types:
#   double   : double, float complex
#   float    : float
#   longdouble : double complex, long double, long double complex
#   sint16   : int16_t, short, signed short
#   sint32   : int, int32_t, intptr_t, long, off_t, ptrdiff_t, senum, signed int, signed long, ssize_t, time_t
#   sint64   : int64_t, long long, signed long long
#   sint8    : char, int8_t, signed char
#   uint16   : ino_t, mode_t, uint16_t, unsigned short, ushort, wchar_t, wint_t
#   uint32   : dev_t, enum, size_t, uint, uint32_t, uintptr_t, ulong, unsigned int, unsigned long
#   uint64   : uint64_t, unsigned long long
#   uint8    : bool, uchar, uint8_t, unsigned char
# 
# 
# 
# ABIs:
#   default_abi          1
#   fastcall             4
#   ms_cdecl             5
#   pascal               6
#   register             7
#   stdcall              2
#   sysv                 1
#   thiscall             3
# 
# 
# 
# Probes:
#   recordvalue          1
#   alloca               1
#   bigendian            0
#   bigendian64          0
#   longdouble           1
#   abi                  1
#   variadic             1
# 
# 
# 
# [PLATFORM]
# osname            : MSWin32
# cc                : gcc
# cxx               : g++
# for               : gfortran
# ld                : g++
# ccflags           : -s -O2 -DWIN32 -D__USE_MINGW_ANSI_STDIO -DPERL_TEXTMODE_SCRIPTS -DPERL_IMPLICIT_CONTEXT -DPERL_IMPLICIT_SYS -DUSE_PERLIO -fwrapv -fno-strict-aliasing -mms-bitfields -s -O2 -IC:\STRAWB~1\cpan\build\FFI-Platypus-1.10-0\blib\lib\auto\share\dist\FFI-Platypus\include
# ldflags           : -mdll -s -LC:STRAWB~1perllibCORE -LC:STRAWB~1clib -Wl,--enable-auto-import -Wl,--export-all-symbols -Wl,--enable-auto-image-base
# object suffix     : .o
# library prefix    : 
# library suffix    : .dll
# cc mm works       : -MM
# 
# 
# 
t/00_diag.t .............................. ok
t/01_use.t ............................... ok
t/ffi_build.t ............................ ok
t/ffi_build_file_base.t .................. ok
t/ffi_build_file_c.t ..................... ok
t/ffi_build_file_cxx.t ................... ok
t/ffi_build_file_library.t ............... ok
t/ffi_build_file_object.t ................ ok
t/ffi_build_mm.t ......................... ok
t/ffi_build_platform.t ................... ok
t/ffi_platypus.t ......................... ok
t/ffi_platypus_api.t ..................... ok
t/ffi_platypus_buffer.t .................. ok
cannot unlink file for C:\STRAWB~1\cpan\build\FFI-Platypus-1.10-0\.tmp\tueG1MTTBS\lib\auto\share\dist\Foo-Bar1\bar1.dll: Permission denied at C:/Strawberry282/perl/lib/File/Temp.pm line 2628.
cannot remove directory for C:\STRAWB~1\cpan\build\FFI-Platypus-1.10-0\.tmp\tueG1MTTBS\lib\auto\share\dist\Foo-Bar1: Directory not empty at C:/Strawberry282/perl/lib/File/Temp.pm line 2628.
cannot remove directory for C:\STRAWB~1\cpan\build\FFI-Platypus-1.10-0\.tmp\tueG1MTTBS\lib\auto\share\dist: Directory not empty at C:/Strawberry282/perl/lib/File/Temp.pm line 2628.
cannot remove directory for C:\STRAWB~1\cpan\build\FFI-Platypus-1.10-0\.tmp\tueG1MTTBS\lib\auto\share: Directory not empty at C:/Strawberry282/perl/lib/File/Temp.pm line 2628.
cannot remove directory for C:\STRAWB~1\cpan\build\FFI-Platypus-1.10-0\.tmp\tueG1MTTBS\lib\auto: Directory not empty at C:/Strawberry282/perl/lib/File/Temp.pm line 2628.
cannot remove directory for C:\STRAWB~1\cpan\build\FFI-Platypus-1.10-0\.tmp\tueG1MTTBS\lib: Directory not empty at C:/Strawberry282/perl/lib/File/Temp.pm line 2628.
cannot remove directory for C:/STRAWB~1/cpan/build/FFI-Platypus-1.10-0/.tmp/tueG1MTTBS: Directory not empty at C:/Strawberry282/perl/lib/File/Temp.pm line 2628.
cannot unlink file for C:\STRAWB~1\cpan\build\FFI-Platypus-1.10-0\.tmp\ksmVCz9EyP\lib\auto\share\dist\Foo-Bar2\bar2.dll: Permission denied at C:/Strawberry282/perl/lib/File/Temp.pm line 2628.
cannot remove directory for C:\STRAWB~1\cpan\build\FFI-Platypus-1.10-0\.tmp\ksmVCz9EyP\lib\auto\share\dist\Foo-Bar2: Directory not empty at C:/Strawberry282/perl/lib/File/Temp.pm line 2628.
cannot remove directory for C:\STRAWB~1\cpan\build\FFI-Platypus-1.10-0\.tmp\ksmVCz9EyP\lib\auto\share\dist: Directory not empty at C:/Strawberry282/perl/lib/File/Temp.pm line 2628.
cannot remove directory for C:\STRAWB~1\cpan\build\FFI-Platypus-1.10-0\.tmp\ksmVCz9EyP\lib\auto\share: Directory not empty at C:/Strawberry282/perl/lib/File/Temp.pm line 2628.
cannot remove directory for C:\STRAWB~1\cpan\build\FFI-Platypus-1.10-0\.tmp\ksmVCz9EyP\lib\auto: Directory not empty at C:/Strawberry282/perl/lib/File/Temp.pm line 2628.
cannot remove directory for C:\STRAWB~1\cpan\build\FFI-Platypus-1.10-0\.tmp\ksmVCz9EyP\lib: Directory not empty at C:/Strawberry282/perl/lib/File/Temp.pm line 2628.
cannot remove directory for C:/STRAWB~1/cpan/build/FFI-Platypus-1.10-0/.tmp/ksmVCz9EyP: Directory not empty at C:/Strawberry282/perl/lib/File/Temp.pm line 2628.
cannot unlink file for C:\STRAWB~1\cpan\build\FFI-Platypus-1.10-0\.tmp\qWperYpQ5Z\lib\auto\share\dist\Foo-Bar3\bar3.dll: Permission denied at C:/Strawberry282/perl/lib/File/Temp.pm line 2628.
cannot remove directory for C:\STRAWB~1\cpan\build\FFI-Platypus-1.10-0\.tmp\qWperYpQ5Z\lib\auto\share\dist\Foo-Bar3: Directory not empty at C:/Strawberry282/perl/lib/File/Temp.pm line 2628.
cannot remove directory for C:\STRAWB~1\cpan\build\FFI-Platypus-1.10-0\.tmp\qWperYpQ5Z\lib\auto\share\dist: Directory not empty at C:/Strawberry282/perl/lib/File/Temp.pm line 2628.
cannot remove directory for C:\STRAWB~1\cpan\build\FFI-Platypus-1.10-0\.tmp\qWperYpQ5Z\lib\auto\share: Directory not empty at C:/Strawberry282/perl/lib/File/Temp.pm line 2628.
cannot remove directory for C:\STRAWB~1\cpan\build\FFI-Platypus-1.10-0\.tmp\qWperYpQ5Z\lib\auto: Directory not empty at C:/Strawberry282/perl/lib/File/Temp.pm line 2628.
cannot remove directory for C:\STRAWB~1\cpan\build\FFI-Platypus-1.10-0\.tmp\qWperYpQ5Z\lib: Directory not empty at C:/Strawberry282/perl/lib/File/Temp.pm line 2628.
cannot remove directory for C:/STRAWB~1/cpan/build/FFI-Platypus-1.10-0/.tmp/qWperYpQ5Z: Directory not empty at C:/Strawberry282/perl/lib/File/Temp.pm line 2628.
cannot unlink file for C:\STRAWB~1\cpan\build\FFI-Platypus-1.10-0\.tmp\pFMjSc6GA0\ffi\_build\foo.dll: Permission denied at C:/Strawberry282/perl/lib/File/Temp.pm line 2628.
cannot remove directory for C:\STRAWB~1\cpan\build\FFI-Platypus-1.10-0\.tmp\pFMjSc6GA0\ffi\_build: Directory not empty at C:/Strawberry282/perl/lib/File/Temp.pm line 2628.
cannot remove directory for C:\STRAWB~1\cpan\build\FFI-Platypus-1.10-0\.tmp\pFMjSc6GA0\ffi: Directory not empty at C:/Strawberry282/perl/lib/File/Temp.pm line 2628.
cannot remove directory for C:/STRAWB~1/cpan/build/FFI-Platypus-1.10-0/.tmp/pFMjSc6GA0: Directory not empty at C:/Strawberry282/perl/lib/File/Temp.pm line 2628.
t/ffi_platypus_bundle.t .................. ok
t/ffi_platypus_closure.t ................. ok
t/ffi_platypus_constant.t ................ ok
t/ffi_platypus_declare.t ................. ok
t/ffi_platypus_dl.t ...................... ok
t/ffi_platypus_function.t ................ ok
t/ffi_platypus_function_wrapper.t ........ ok
t/ffi_platypus_internal.t ................ ok
t/ffi_platypus_lang.t .................... ok
t/ffi_platypus_lang_asm.t ................ ok
t/ffi_platypus_lang_c.t .................. ok
t/ffi_platypus_lang_win32.t .............. ok
t/ffi_platypus_legacy.t .................. ok
t/ffi_platypus_memory.t .................. ok
t/ffi_platypus_record.t .................. ok
t/ffi_platypus_record_meta.t ............. ok
t/ffi_platypus_record_tiearray.t ......... ok
t/ffi_platypus_shareconfig.t ............. ok
t/ffi_platypus_type.t .................... ok
t/ffi_platypus_type_pointersizebuffer.t .. ok
t/ffi_platypus_type_stringarray.t ........ ok
t/ffi_platypus_type_stringpointer.t ...... ok
t/ffi_platypus_typeparser.t .............. ok
t/ffi_platypus_typeparser_version0.t ..... ok
t/ffi_platypus_typeparser_version1.t ..... ok
t/ffi_probe.t ............................ ok
t/ffi_probe_runner.t ..................... ok
t/ffi_probe_runner_builder.t ............. ok
t/ffi_probe_runner_result.t .............. ok
t/ffi_temp.t ............................. ok
t/forks.t ................................ skipped: Test requires forks
t/gh117.t ................................ ok
t/gh129.t ................................ ok
t/memory.t ............................... skipped: tested only in CI
t/threads.t .............................. ok
t/type_complex_double.t .................. skipped: Test requires support for double complex
t/type_complex_float.t ................... skipped: Test requires support for float complex
t/type_custom.t .......................... ok
t/type_double.t .......................... ok
t/type_float.t ........................... ok
t/type_longdouble.t ...................... ok
t/type_longdouble__array.t ............... ok
t/type_longdouble__hide.t ................ ok
t/type_longdouble__ptr.t ................. ok
t/type_opaque.t .......................... ok
t/type_record.t .......................... ok
t/type_record_value.t .................... ok
t/type_sint16.t .......................... ok
t/type_sint32.t .......................... ok
t/type_sint64.t .......................... ok
t/type_sint8.t ........................... ok
t/type_string.t .......................... ok
t/type_uint16.t .......................... ok
t/type_uint32.t .......................... ok
t/type_uint64.t .......................... ok
t/type_uint8.t ........................... ok
All tests successful.
Files=69, Tests=342, 62 wallclock secs ( 0.46 usr +  0.38 sys =  0.84 CPU)
Result: PASS

------------------------------
PREREQUISITES
------------------------------

Prerequisite modules loaded:

requires:

    Module              Need     Have    
    ------------------- -------- --------
    Capture::Tiny       0        0.48    
    constant            1.32     1.33    
    ExtUtils::MakeMaker 7.12     7.34    
    FFI::CheckLib       0.05     0.23    
    IPC::Cmd            0        1.02    
    JSON::PP            0        4.02    
    List::Util          1.45     1.50    
    perl                5.008001 5.028002

build_requires:

    Module              Need     Have    
    ------------------- -------- --------
    Capture::Tiny       0        0.48    
    ExtUtils::CBuilder  0        0.280231
    Test::More          0.98     1.302162

configure_requires:

    Module              Need     Have    
    ------------------- -------- --------
    Capture::Tiny       0        0.48    
    ExtUtils::MakeMaker 7.12     7.34    
    ExtUtils::ParseXS   3.30     3.39    
    IPC::Cmd            0        1.02    
    perl                5.006    5.028002


------------------------------
ENVIRONMENT AND OTHER CONTEXT
------------------------------

Environment variables:

    AUTOMATED_TESTING = 1
    COMSPEC = C:\WINDOWS\system32\cmd.exe
    NUMBER_OF_PROCESSORS = 1
    PATH = C:\WINDOWS\system32;C:\WINDOWS;C:\WINDOWS\System32\Wbem;C:\Git\cmd;C:\Strawberry282\c\bin;C:\Strawberry282\perl\site\bin;C:\Strawberry282\perl\bin
    PERL5LIB = C:\STRAWB~1\cpan\build\Acme-Alien-DontPanic-2.0400-0/blib/arch;C:\STRAWB~1\cpan\build\Acme-Alien-DontPanic-2.0400-0/blib/lib;C:\STRAWB~1\cpan\build\Alien-Build-2.04-1/blib/arch;C:\STRAWB~1\cpan\build\Alien-Build-2.04-1/blib/lib;C:\STRAWB~1\cpan\build\Alien-Base-ModuleBuild-1.14-0/blib/arch;C:\STRAWB~1\cpan\build\Alien-Base-ModuleBuild-1.14-0/blib/lib
    PERL5OPT = 
    PERL5_CPANPLUS_IS_RUNNING = 856
    PERL5_CPAN_IS_RUNNING = 856
    PERL5_CPAN_IS_RUNNING_IN_RECURSION = 460,856
    PERL_CR_SMOKER_CURRENT = Acme-Ford-Prefect-FFI-2.0400
    PERL_CR_SMOKER_RUNONCE = 1
    PERL_EXTUTILS_AUTOINSTALL = --defaultdeps
    PERL_MM_USE_DEFAULT = 1
    PERL_USE_UNSAFE_INC = 1
    PROCESSOR_IDENTIFIER = x86 Family 16 Model 5 Stepping 3, AuthenticAMD
    TEMP = C:\DOCUME~1\a\LOCALS~1\Temp

Perl special variables (and OS-specific diagnostics, for MSWin32):

    $^X = C:\Strawberry282\perl\bin\perl.exe
    $UID/$EUID = 0 / 0
    $GID = 0
    $EGID = 0
    Win32::GetOSName = WinXP/.Net
    Win32::GetOSVersion = Service Pack 3, 5, 1, 2600, 2, 3, 0, 256, 1
    Win32::FsType = NTFS
    Win32::IsAdminUser = 1

Perl module toolchain versions installed:

    Module              Have    
    ------------------- --------
    CPAN                2.26    
    CPAN::Meta          2.150010
    Cwd                 3.75    
    ExtUtils::CBuilder  0.280231
    ExtUtils::Command   7.34    
    ExtUtils::Install   2.14    
    ExtUtils::MakeMaker 7.34    
    ExtUtils::Manifest  1.72    
    ExtUtils::ParseXS   3.39    
    File::Spec          3.75    
    JSON                4.02    
    JSON::PP            4.02    
    Module::Build       0.4229  
    Module::Signature   n/a     
    Parse::CPAN::Meta   2.150010
    Test::Harness       3.42    
    Test::More          1.302162
    YAML                1.27    
    YAML::Syck          1.31    
    version             0.9924  


--

Summary of my perl5 (revision 5 version 28 subversion 2) configuration:
   
  Platform:
    osname=MSWin32
    osvers=5.1.2600
    archname=MSWin32-x86-multi-thread-64int
    uname='Win32 strawberry-perl 5.28.2.1 #1 Mon Apr 22 21:59:01 2019 i386'
    config_args='undef'
    hint=recommended
    useposix=true
    d_sigaction=undef
    useithreads=define
    usemultiplicity=define
    use64bitint=define
    use64bitall=undef
    uselongdouble=undef
    usemymalloc=n
    default_inc_excludes_dot=define
    bincompat5005=undef
  Compiler:
    cc='gcc'
    ccflags =' -s -O2 -DWIN32 -D__USE_MINGW_ANSI_STDIO -DPERL_TEXTMODE_SCRIPTS -DPERL_IMPLICIT_CONTEXT -DPERL_IMPLICIT_SYS -DUSE_PERLIO -fwrapv -fno-strict-aliasing -mms-bitfields'
    optimize='-s -O2'
    cppflags='-DWIN32'
    ccversion=''
    gccversion='7.1.0'
    gccosandvers=''
    intsize=4
    longsize=4
    ptrsize=4
    doublesize=8
    byteorder=12345678
    doublekind=3
    d_longlong=define
    longlongsize=8
    d_longdbl=define
    longdblsize=12
    longdblkind=3
    ivtype='long long'
    ivsize=8
    nvtype='double'
    nvsize=8
    Off_t='long long'
    lseeksize=8
    alignbytes=8
    prototype=define
  Linker and Libraries:
    ld='g++'
    ldflags ='-s -L"C:\STRAWB~1\perl\lib\CORE" -L"C:\STRAWB~1\c\lib"'
    libpth=C:\STRAWB~1\c\lib C:\STRAWB~1\c\i686-w64-mingw32\lib C:\STRAWB~1\c\lib\gcc\i686-w64-mingw32\7.1.0
    libs= -lmoldname -lkernel32 -luser32 -lgdi32 -lwinspool -lcomdlg32 -ladvapi32 -lshell32 -lole32 -loleaut32 -lnetapi32 -luuid -lws2_32 -lmpr -lwinmm -lversion -lodbc32 -lodbccp32 -lcomctl32
    perllibs= -lmoldname -lkernel32 -luser32 -lgdi32 -lwinspool -lcomdlg32 -ladvapi32 -lshell32 -lole32 -loleaut32 -lnetapi32 -luuid -lws2_32 -lmpr -lwinmm -lversion -lodbc32 -lodbccp32 -lcomctl32
    libc=
    so=dll
    useshrplib=true
    libperl=libperl528.a
    gnulibc_version=''
  Dynamic Linking:
    dlsrc=dl_win32.xs
    dlext=xs.dll
    d_dlsymun=undef
    ccdlflags=' '
    cccdlflags=' '
    lddlflags='-mdll -s -L"C:\STRAWB~1\perl\lib\CORE" -L"C:\STRAWB~1\c\lib"'


Characteristics of this binary (from libperl): 
  Compile-time options:
    HAS_TIMES
    HAVE_INTERP_INTERN
    MULTIPLICITY
    PERLIO_LAYERS
    PERL_COPY_ON_WRITE
    PERL_DONT_CREATE_GVSV
    PERL_IMPLICIT_CONTEXT
    PERL_IMPLICIT_SYS
    PERL_MALLOC_WRAP
    PERL_OP_PARENT
    PERL_PRESERVE_IVUV
    USE_64_BIT_INT
    USE_ITHREADS
    USE_LARGE_FILES
    USE_LOCALE
    USE_LOCALE_COLLATE
    USE_LOCALE_CTYPE
    USE_LOCALE_NUMERIC
    USE_LOCALE_TIME
    USE_PERLIO
    USE_PERL_ATOF
  Built under MSWin32
  Compiled at Apr 22 2019 22:09:26
  %ENV:
    PERL5LIB="C:\STRAWB~1\cpan\build\Acme-Alien-DontPanic-2.0400-0/blib/arch;C:\STRAWB~1\cpan\build\Acme-Alien-DontPanic-2.0400-0/blib/lib;C:\STRAWB~1\cpan\build\Alien-Build-2.04-1/blib/arch;C:\STRAWB~1\cpan\build\Alien-Build-2.04-1/blib/lib;C:\STRAWB~1\cpan\build\Alien-Base-ModuleBuild-1.14-0/blib/arch;C:\STRAWB~1\cpan\build\Alien-Base-ModuleBuild-1.14-0/blib/lib"
    PERL5_CPANPLUS_IS_RUNNING="856"
    PERL5_CPAN_IS_RUNNING="856"
    PERL5_CPAN_IS_RUNNING_IN_RECURSION="460,856"
    PERL_CR_SMOKER_CURRENT="Acme-Ford-Prefect-FFI-2.0400"
    PERL_CR_SMOKER_RUNONCE="1"
    PERL_EXTUTILS_AUTOINSTALL="--defaultdeps"
    PERL_MM_USE_DEFAULT="1"
    PERL_USE_UNSAFE_INC="1"
  @INC:
    C:\STRAWB~1\cpan\build\Acme-Alien-DontPanic-2.0400-0/blib/arch
    C:\STRAWB~1\cpan\build\Acme-Alien-DontPanic-2.0400-0/blib/lib
    C:\STRAWB~1\cpan\build\Alien-Build-2.04-1/blib/arch
    C:\STRAWB~1\cpan\build\Alien-Build-2.04-1/blib/lib
    C:\STRAWB~1\cpan\build\Alien-Base-ModuleBuild-1.14-0/blib/arch
    C:\STRAWB~1\cpan\build\Alien-Base-ModuleBuild-1.14-0/blib/lib
    C:/Strawberry282/perl/site/lib
    C:/Strawberry282/perl/vendor/lib
    C:/Strawberry282/perl/lib
    .