FFI-Platypus v2.07 Perl 5 v5.28.1 aarch64-linux-glibc
- Status
- Pass
- From
- Peter J. Mello
- Dist
-
FFI-Platypus v2.07
- Platform
- Perl 5 v5.28.1 aarch64-linux-glibc
- Date
- 2023-04-12 01:31:33
- ID
- c1e04b46-d8d1-11ed-b1e3-42c40ca8a158
This distribution has been tested as part of the CPAN Testers
project, supporting the Perl programming language. See
http://wiki.cpantesters.org/ for more information or email
questions to cpan-testers-discuss@perl.org
--
Dear Graham Ollis,
This is a computer-generated report for FFI-Platypus-2.07
on perl 5.28.1, created by CPAN-Reporter-1.2018.
Thank you for uploading your work to CPAN. Congratulations!
All tests were successful.
Sections of this report:
* Tester comments
* Program output
* Prerequisites
* Environment and other context
------------------------------
TESTER COMMENTS
------------------------------
Additional comments from tester:
none provided
------------------------------
PROGRAM OUTPUT
------------------------------
Output from '/opt/bin/make test':
"/tmp/mnt/OGR-ENTWARE/entware/bin/perl5.28.1" -MExtUtils::Command::MM -e 'cp_nonempty' -- lib/FFI/Platypus.bs blib/arch/auto/FFI/Platypus/Platypus.bs 644
CC t/ffi/align.c
CC t/ffi/align_array.c
CC t/ffi/align_fixed.c
CC t/ffi/align_string.c
CC t/ffi/basic.c
CC t/ffi/closure.c
CC t/ffi/color.c
CC t/ffi/complex_double.c
CC t/ffi/complex_float.c
CC t/ffi/double.c
CC t/ffi/float.c
CC t/ffi/gh117.c
CC t/ffi/gh174.c
CC t/ffi/longdouble.c
CC t/ffi/memcmp4.c
CC t/ffi/meta.c
CC t/ffi/pointer.c
CC t/ffi/record.c
CC t/ffi/sint16.c
CC t/ffi/sint32.c
CC t/ffi/sint64.c
CC t/ffi/sint8.c
CC t/ffi/string.c
CC t/ffi/string_array.c
CC t/ffi/uint16.c
CC t/ffi/uint32.c
CC t/ffi/uint64.c
CC t/ffi/uint8.c
CC t/ffi/variadic.c
LD t/ffi/libtest.so
PERL_DL_NONLAZY=1 "/tmp/mnt/OGR-ENTWARE/entware/bin/perl5.28.1" "-MExtUtils::Command::MM" "-MTest::Harness" "-e" "undef *Test::Harness::Switches; test_harness(0, 'blib/lib', 'blib/arch')" t/*.t
#
#
#
# HARNESS_ACTIVE=1
# HARNESS_VERSION=3.44
# LANG=en_US.UTF-8
# LC_COLLATE=C
# PERL5LIB=/tmp/mnt/OGR-ENTWARE/entware/root/.cpan/build/FFI-Platypus-2.07-0/blib/lib:/tmp/mnt/OGR-ENTWARE/entware/root/.cpan/build/FFI-Platypus-2.07-0/blib/arch:
# PERL5OPT=
# PERL5_CPANPLUS_IS_RUNNING=25946
# PERL5_CPAN_IS_RUNNING=25946
# PERL_DL_NONLAZY=1
# PERL_MM_USE_DEFAULT=1
# PERL_USE_UNSAFE_INC=1
# SHELL=/bin/sh
#
#
#
# PERL5LIB path
# /tmp/mnt/OGR-ENTWARE/entware/root/.cpan/build/FFI-Platypus-2.07-0/blib/lib
# /tmp/mnt/OGR-ENTWARE/entware/root/.cpan/build/FFI-Platypus-2.07-0/blib/arch
#
#
#
# perl 5.028001 linux aarch64-linux-glibc
# Alien::Base 2.78
# Alien::FFI -
# Capture::Tiny 0.48
# Devel::Hide 0.0015
# ExtUtils::CBuilder 0.280236
# ExtUtils::MakeMaker 7.68
# ExtUtils::ParseXS 3.44
# FFI::CheckLib 0.31
# File::Spec::Functions 3.75
# IPC::Cmd 1.04
# JSON::PP 4.16
# List::Util 1.63
# Math::LongDouble -
# PkgConfig -
# Test2::API 1.302194
# Test2::V0 0.000150
# autodie 2.36
# constant 1.33
# forks -
# parent 0.241
#
#
#
# mode : system
# Alien::FFI::pkgconfig->VERSION =
# Alien::FFI::pkgconfig->install_type = system
# Alien::FFI::pkgconfig->cflags = -I/opt/include
# Alien::FFI::pkgconfig->libs = -L/opt/lib/../lib -lffi
# Alien::FFI::pkgconfig->version = 3.4.2
#
#
#
# ffi.platypus.memory.strdup_impl =libc
# ffi.platypus.memory.strndup_impl=libc
#
#
#
# Types:
# double : double, float complex
# float : float
# longdouble : double complex, long double, long double complex
# sint16 : int16_t, short, signed short
# sint32 : blksize_t, int, int32_t, senum, signed int
# sint64 : blkcnt_t, int64_t, intmax_t, intptr_t, long, long long, off_t, ptrdiff_t, signed long, signed long long, ssize_t, time_t
# sint8 : int8_t, signed char
# uint16 : uint16_t, unsigned short, ushort
# uint32 : enum, gid_t, mode_t, nlink_t, uid_t, uint, uint32_t, unsigned int, wchar_t, wint_t
# uint64 : dev_t, ino_t, size_t, uint64_t, uintmax_t, uintptr_t, ulong, unsigned long, unsigned long long
# uint8 : bool, char, uchar, uint8_t, unsigned char
#
#
#
# ABIs:
# default_abi 1
# sysv 1
# win64 2
#
#
#
# Probes:
# recordvalue 1
# bigendian 0
# abi 1
# complex 1
# variadic 1
# longdouble 1
# alloca 1
# bigendian64 0
# strnlen 1
#
#
#
# CPU Info:
Use of uninitialized value $model_name in concatenation (.) or string at t/00_diag.t line 106.
#
#
#
#
# [PLATFORM]
# osname : linux
# cc : aarch64-openwrt-linux-gnu-gcc
# cxx : aarch64-openwrt-linux-gnu-g++
# cxxld : aarch64-openwrt-linux-gnu-g++
# for : ---
# ld : aarch64-openwrt-linux-gnu-gcc
# ccflags : -fPIC -D_REENTRANT -D_GNU_SOURCE -fwrapv -fno-strict-aliasing -pipe -fstack-protector-strong -D_LARGEFILE_SOURCE -D_FILE_OFFSET_BITS=64 -O2 -pipe -mcpu=cortex-a53 -fno-caller-saves -fno-plt -fhonour-copts -Wno-error=unused-but-set-variable -Wno-error=unused-result -I/opt/include -O2 -I/tmp/mnt/OGR-ENTWARE/entware/root/.cpan/build/FFI-Platypus-2.07-0/blib/lib/auto/share/dist/FFI-Platypus/include
# ldflags : -shared -I /opt/lib/ld-linux-aarch64.so.1 -Wl,-rpath=/opt/lib -L/opt/lib -lssp
# object suffix : .o
# library prefix : lib
# library suffix : .so
# cc mm works : -MM
#
#
#
t/00_diag.t .............................. ok
t/ffi_build.t ............................ ok
t/ffi_build_file_base.t .................. ok
t/ffi_build_file_c.t ..................... ok
t/ffi_build_file_cxx.t ................... ok
t/ffi_build_file_library.t ............... ok
t/ffi_build_file_object.t ................ ok
t/ffi_build_mm.t ......................... ok
t/ffi_build_platform.t ................... ok
t/ffi_build_plugin.t ..................... ok
t/ffi_build_plugindata.t ................. ok
t/ffi_platypus.t ......................... ok
t/ffi_platypus_api.t ..................... ok
t/ffi_platypus_buffer.t .................. ok
t/ffi_platypus_bundle.t .................. ok
t/ffi_platypus_closure.t ................. ok
t/ffi_platypus_constant.t ................ ok
t/ffi_platypus_dl.t ...................... ok
t/ffi_platypus_function.t ................ ok
t/ffi_platypus_function_wrapper.t ........ ok
t/ffi_platypus_internal.t ................ ok
t/ffi_platypus_lang.t .................... ok
t/ffi_platypus_lang_asm.t ................ ok
t/ffi_platypus_lang_c.t .................. ok
t/ffi_platypus_lang_win32.t .............. ok
t/ffi_platypus_legacy.t .................. ok
t/ffi_platypus_memory.t .................. ok
t/ffi_platypus_record.t .................. ok
t/ffi_platypus_record_meta.t ............. ok
t/ffi_platypus_record_tiearray.t ......... ok
t/ffi_platypus_shareconfig.t ............. ok
t/ffi_platypus_type.t .................... ok
t/ffi_platypus_type_pointersizebuffer.t .. ok
t/ffi_platypus_type_stringarray.t ........ ok
t/ffi_platypus_type_stringpointer.t ...... ok
t/ffi_platypus_type_widestring.t ......... ok
t/ffi_platypus_typeparser.t .............. ok
t/ffi_platypus_typeparser_version0.t ..... ok
t/ffi_platypus_typeparser_version1.t ..... ok
t/ffi_platypus_typeparser_version2.t ..... ok
t/ffi_probe.t ............................ ok
t/ffi_probe_runner.t ..................... ok
t/ffi_probe_runner_builder.t ............. ok
t/ffi_probe_runner_result.t .............. ok
t/ffi_temp.t ............................. ok
t/forks.t ................................ skipped: Test requires forks
t/gh117.t ................................ ok
t/gh129.t ................................ ok
t/gh323.t ................................ ok
t/memory.t ............................... skipped: tested only in CI
t/threads.t .............................. ok
t/type_complex_double.t .................. ok
t/type_complex_float.t ................... ok
t/type_custom.t .......................... ok
t/type_double.t .......................... ok
t/type_float.t ........................... ok
t/type_longdouble.t ...................... ok
t/type_longdouble__array.t ............... ok
t/type_longdouble__hide.t ................ ok
t/type_longdouble__ptr.t ................. ok
t/type_opaque.t .......................... ok
t/type_record.t .......................... ok
t/type_record_value.t .................... ok
t/type_sint16.t .......................... ok
t/type_sint32.t .......................... ok
t/type_sint64.t .......................... ok
t/type_sint8.t ........................... ok
t/type_string.t .......................... ok
t/type_uint16.t .......................... ok
t/type_uint32.t .......................... ok
t/type_uint64.t .......................... ok
t/type_uint8.t ........................... ok
All tests successful.
Files=72, Tests=322, 52 wallclock secs ( 1.21 usr 0.25 sys + 40.53 cusr 2.41 csys = 44.40 CPU)
Result: PASS
------------------------------
PREREQUISITES
------------------------------
Prerequisite modules loaded:
requires:
Module Need Have
--------------------- -------- --------
autodie 0 2.36
Capture::Tiny 0 0.48
constant 1.32 1.33
ExtUtils::MakeMaker 7.12 7.68
FFI::CheckLib 0.05 0.31
File::Spec::Functions 0 3.75
IPC::Cmd 0 1.04
JSON::PP 0 4.16
List::Util 1.45 1.63
parent 0 0.241
perl 5.008004 5.028001
build_requires:
Module Need Have
--------------------- -------- --------
Capture::Tiny 0 0.48
ExtUtils::CBuilder 0 0.280236
Test2::API 1.302015 1.302194
Test2::V0 0.000121 0.000150
configure_requires:
Module Need Have
--------------------- -------- --------
Capture::Tiny 0 0.48
ExtUtils::MakeMaker 7.12 7.68
ExtUtils::ParseXS 3.30 3.44
IPC::Cmd 0 1.04
JSON::PP 0 4.16
parent 0 0.241
perl 5.006 5.028001
------------------------------
ENVIRONMENT AND OTHER CONTEXT
------------------------------
Environment variables:
LANG = en_US.UTF-8
LC_COLLATE = C
LDFLAGS = -Wl,-rpath=/opt/lib -Wl,-I=/opt/lib/ld-2.27.so -Wl,-z,defs -Wl,-z,now -Wl,-z,relro -Wl,--enable-new-dtags -L/opt/lib/gcc/aaarch64-openwrt-linux-gnu/8.4.0 -L/opt/usr/local/lib -L/opt/usr/lib -L/opt/lib
LD_LIBRARY_PATH = /opt/usr/local/lib:/opt/usr/lib:/opt/lib
NONINTERACTIVE_TESTING = 1
PATH = /opt/usr/local/sbin:/opt/usr/local/bin:/opt/usr/sbin:/opt/usr/bin:/opt/sbin:/opt/bin:/opt/bin/go/bin:/opt/root/bin:/opt/root/.local/bin:/opt/root/go/bin:/tmp/home/root:/bin:/usr/bin:/sbin:/usr/sbin
PERL5LIB =
PERL5OPT =
PERL5_CPANPLUS_IS_RUNNING = 25946
PERL5_CPAN_IS_RUNNING = 25946
PERL_MM_USE_DEFAULT = 1
PERL_USE_UNSAFE_INC = 1
SHELL = /bin/sh
TEMP = /opt/tmp
TERM = putty-256color
TMPDIR = /opt/tmp
Perl special variables (and OS-specific diagnostics, for MSWin32):
$^X = /tmp/mnt/OGR-ENTWARE/entware/bin/perl5.28.1
$UID/$EUID = 0 / 0
$GID = 0 0
$EGID = 0 0
Perl module toolchain versions installed:
Module Have
------------------- --------
CPAN 2.34
CPAN::Meta 2.150010
Cwd 3.75
ExtUtils::CBuilder 0.280236
ExtUtils::Command 7.68
ExtUtils::Install 2.22
ExtUtils::MakeMaker 7.68
ExtUtils::Manifest 1.73
ExtUtils::ParseXS 3.44
File::Spec 3.75
JSON 4.10
JSON::PP 4.16
Module::Build 0.4232
Module::Signature 0.88
Parse::CPAN::Meta 2.150010
Test::Harness 3.44
Test::More 1.302194
YAML 1.30
YAML::Syck n/a
version 0.9929
--
Summary of my perl5 (revision 5 version 28 subversion 1) configuration:
Platform:
osname=linux
osvers=3.2
archname=aarch64-linux-glibc
uname='Linux OpenWrt 3.2 #1 SMP Thu Jan 1 12:00:00 CEST 2015 aarch64 GNU/Linux'
config_args='-der -Dusethreads'
hint=recommended
useposix=true
d_sigaction=define
useithreads=define
usemultiplicity=define
use64bitint=define
use64bitall=define
uselongdouble=undef
usemymalloc=n
default_inc_excludes_dot=define
bincompat5005=undef
Compiler:
cc='aarch64-openwrt-linux-gnu-gcc'
ccflags ='-D_REENTRANT -D_GNU_SOURCE -fwrapv -fno-strict-aliasing -pipe -fstack-protector-strong -D_LARGEFILE_SOURCE -D_FILE_OFFSET_BITS=64 -O2 -pipe -mcpu=cortex-a53 -fno-caller-saves -fno-plt -fhonour-copts -Wno-error=unused-but-set-variable -Wno-error=unused-result -I/opt/include'
optimize='-O2'
cppflags='-D_REENTRANT -D_GNU_SOURCE -O2 -pipe -mcpu=cortex-a53 -fno-caller-saves -fno-plt -fhonour-copts -Wno-error=unused-but-set-variable -Wno-error=unused-result -I/opt/include'
ccversion=''
gccversion='8.4.0'
gccosandvers=''
intsize=4
longsize=8
ptrsize=8
doublesize=8
byteorder=12345678
doublekind=3
d_longlong=define
longlongsize=8
d_longdbl=define
longdblsize=16
longdblkind=1
ivtype='long'
ivsize=8
nvtype='double'
nvsize=8
Off_t='off_t'
lseeksize=8
alignbytes=8
prototype=define
Linker and Libraries:
ld='aarch64-openwrt-linux-gnu-gcc'
ldflags =' -L/opt/lib'
libpth=/opt/lib
libs=-lpthread -lgdbm -ldb -ldl -lm -lcrypt -lutil -lc
perllibs=-lpthread -ldl -lm -lcrypt -lutil -lc -lssp
libc=
so=so
useshrplib=true
libperl=libperl.so
gnulibc_version=''
Dynamic Linking:
dlsrc=dl_dlopen.xs
dlext=so
d_dlsymun=undef
ccdlflags='-fPIC -Wl,-rpath=/opt/lib/perl5/5.28/CORE:/opt/lib -rdynamic -Wl,-I=/opt/lib/ld-linux-2.27.so'
cccdlflags='-fPIC'
lddlflags='-shared -I /opt/lib/ld-linux-aarch64.so.1 -Wl,-rpath=/opt/lib -L/opt/lib -lssp'
Characteristics of this binary (from libperl):
Compile-time options:
HAS_TIMES
MULTIPLICITY
PERLIO_LAYERS
PERL_COPY_ON_WRITE
PERL_DONT_CREATE_GVSV
PERL_IMPLICIT_CONTEXT
PERL_MALLOC_WRAP
PERL_OP_PARENT
PERL_PRESERVE_IVUV
USE_64_BIT_ALL
USE_64_BIT_INT
USE_ITHREADS
USE_LARGE_FILES
USE_LOCALE
USE_LOCALE_COLLATE
USE_LOCALE_CTYPE
USE_LOCALE_NUMERIC
USE_LOCALE_TIME
USE_PERLIO
USE_PERL_ATOF
USE_REENTRANT_API
Built under linux
%ENV:
PERL5LIB=""
PERL5OPT=""
PERL5_CPANPLUS_IS_RUNNING="25946"
PERL5_CPAN_IS_RUNNING="25946"
PERL_MM_USE_DEFAULT="1"
PERL_USE_UNSAFE_INC="1"
@INC:
/opt/lib/perl5/5.28
.