Catmandu-BagIt v0.260 Perl 5 v5.28.0 amd64-freebsd

Status
Pass
From
Slaven Rezić (SREZIC)
Dist
Catmandu-BagIt v0.260
Platform
Perl 5 v5.28.0 amd64-freebsd
Date
2020-05-13 08:21:34
ID
c1c7939c-94f2-11ea-901f-676e1f24ea8f
This distribution has been tested as part of the CPAN Testers
project, supporting the Perl programming language.  See
http://wiki.cpantesters.org/ for more information or email
questions to cpan-testers-discuss@perl.org


--
Dear Patrick Hochstenbach,

This is a computer-generated report for Catmandu-BagIt-0.260
on perl 5.28.0, created by CPAN-Reporter-1.2018.

Thank you for uploading your work to CPAN.  Congratulations!
All tests were successful.

Sections of this report:

    * Tester comments
    * Program output
    * Prerequisites
    * Environment and other context

------------------------------
TESTER COMMENTS
------------------------------

Additional comments from tester:

none provided

------------------------------
PROGRAM OUTPUT
------------------------------

Output from './Build test':

t/Catmandu-BagIt.t ................... ok
t/Catmandu-Exporter-BagIt.t .......... ok
t/Catmandu-Importer-BagIt.t .......... ok
t/Catmandu-Store-File-BagIt-Bag.t .... ok
t/Catmandu-Store-File-BagIt-Index.t .. ok
t/Catmandu-Store-File-BagIt.t ........ ok
t/author-pod-syntax.t ................ skipped: these tests are for testing by the author
t/basic.t ............................ ok
All tests successful.
Files=8, Tests=328,  4 wallclock secs ( 0.10 usr  0.05 sys +  2.64 cusr  0.52 csys =  3.32 CPU)
Result: PASS

------------------------------
PREREQUISITES
------------------------------

Prerequisite modules loaded:

requires:

    Module               Need     Have    
    -------------------- -------- --------
    Catmandu             1.07     1.2011  
    Catmandu::FileStore  1.16     1.16    
    Digest::MD5          2.55     2.55    
    Digest::SHA          6.02     6.02    
    File::Copy           0        2.33    
    IO                   0        1.42    
    IO::String           0        1.08    
    List::MoreUtils      0        0.428   
    LWP::Simple          6.00     6.44    
    Module::Build        0.4229   0.4231  
    Moo                  0        2.004000
    namespace::clean     0        0.27    
    Path::Iterator::Rule 1.0      1.014   
    Path::Naive          0.043    0.043   
    Path::Tiny           0.1      0.114   
    perl                 v5.10.1  5.028000
    URI::Escape          0        3.31    

build_requires:

    Module               Need     Have    
    -------------------- -------- --------
    IO::Callback         0        1.12    
    Role::Tiny           0        2.001004
    Test::Deep           0.112    1.128   
    Test::Exception      0.32     0.43    
    Test::LWP::UserAgent 0        0.034   
    Test::More           1.001003 1.302175
    Test::Pod            0        1.52    

configure_requires:

    Module               Need     Have    
    -------------------- -------- --------
    Module::Build::Tiny  0.034    0.039   


------------------------------
ENVIRONMENT AND OTHER CONTEXT
------------------------------

Environment variables:

    PATH = /usr/local/bin:/usr/bin:/bin:/usr/local/sbin:/usr/sbin:/sbin:/home/cpansand/bin/sh:/home/cpansand/bin:/usr/games:/home/cpansand/devel:/usr/home/eserte/src/srezic-misc/scripts
    PERL5LIB = 
    PERL5OPT = 
    PERL5_CPANPLUS_IS_RUNNING = 54397
    PERL5_CPAN_IS_RUNNING = 54397
    PERL5_CPAN_IS_RUNNING_IN_RECURSION = 54367,54397
    PERL_BATCH = yes
    PERL_CANARY_STABILITY_NOPROMPT = 1
    PERL_CPAN_REPORTER_CONFIG = /var/tmp/cpansmoker-1023/2020051308/cpanreporter_000_config.ini
    PERL_EXTUTILS_AUTOINSTALL = --defaultdeps
    PERL_USE_UNSAFE_INC = 1
    SHELL = /bin/sh
    TMPDIR = /var/tmp/cpansmoker-1023/2020051308

Perl special variables (and OS-specific diagnostics, for MSWin32):

    $^X = /usr/perl5.28.0p/bin/perl
    $UID/$EUID = 1023 / 1023
    $GID = 1023 1023
    $EGID = 1023 1023

Perl module toolchain versions installed:

    Module              Have    
    ------------------- --------
    CPAN                2.27    
    CPAN::Meta          2.150010
    Cwd                 3.75    
    ExtUtils::CBuilder  0.280231
    ExtUtils::Command   7.44    
    ExtUtils::Install   2.14    
    ExtUtils::MakeMaker 7.44    
    ExtUtils::Manifest  1.70    
    ExtUtils::ParseXS   3.39    
    File::Spec          3.75    
    JSON                4.02    
    JSON::PP            4.04    
    Module::Build       0.4231  
    Module::Signature   0.83    
    Parse::CPAN::Meta   2.150010
    Test::Harness       3.42    
    Test::More          1.302175
    YAML                1.30    
    YAML::Syck          1.32    
    version             0.9924  


--

Summary of my perl5 (revision 5 version 28 subversion 0) configuration:
   
  Platform:
    osname=freebsd
    osvers=13.0-current
    archname=amd64-freebsd
    uname='freebsd cloud2.bbbike.org 13.0-current freebsd 13.0-current 265606d643e(master) generic amd64 '
    config_args='-ds -e -Dprefix=/usr/perl5.28.0p -Dcf_email=srezic@cpan.org -Doptimize=-O2 -pipe'
    hint=recommended
    useposix=true
    d_sigaction=define
    useithreads=undef
    usemultiplicity=undef
    use64bitint=define
    use64bitall=define
    uselongdouble=undef
    usemymalloc=n
    default_inc_excludes_dot=define
    bincompat5005=undef
  Compiler:
    cc='cc'
    ccflags ='-DHAS_FPSETMASK -DHAS_FLOATINGPOINT_H -fno-strict-aliasing -pipe -fstack-protector-strong -I/usr/local/include -D_FORTIFY_SOURCE=2'
    optimize='-O2 -pipe'
    cppflags='-DHAS_FPSETMASK -DHAS_FLOATINGPOINT_H -fno-strict-aliasing -pipe -fstack-protector-strong -I/usr/local/include'
    ccversion=''
    gccversion='4.2.1 Compatible FreeBSD Clang 6.0.1 (tags/RELEASE_601/final 335540)'
    gccosandvers=''
    intsize=4
    longsize=8
    ptrsize=8
    doublesize=8
    byteorder=12345678
    doublekind=3
    d_longlong=define
    longlongsize=8
    d_longdbl=define
    longdblsize=16
    longdblkind=3
    ivtype='long'
    ivsize=8
    nvtype='double'
    nvsize=8
    Off_t='off_t'
    lseeksize=8
    alignbytes=8
    prototype=define
  Linker and Libraries:
    ld='cc'
    ldflags ='-pthread -Wl,-E  -fstack-protector-strong -L/usr/local/lib'
    libpth=/usr/lib /usr/local/lib /usr/lib/clang/6.0.1/lib /usr/lib
    libs=-lpthread -ldl -lm -lcrypt -lutil -lc
    perllibs=-lpthread -ldl -lm -lcrypt -lutil -lc
    libc=
    so=so
    useshrplib=false
    libperl=libperl.a
    gnulibc_version=''
  Dynamic Linking:
    dlsrc=dl_dlopen.xs
    dlext=so
    d_dlsymun=undef
    ccdlflags=' '
    cccdlflags='-DPIC -fPIC'
    lddlflags='-shared  -L/usr/local/lib -fstack-protector-strong'


Characteristics of this binary (from libperl): 
  Compile-time options:
    HAS_TIMES
    PERLIO_LAYERS
    PERL_COPY_ON_WRITE
    PERL_DONT_CREATE_GVSV
    PERL_MALLOC_WRAP
    PERL_OP_PARENT
    PERL_PRESERVE_IVUV
    USE_64_BIT_ALL
    USE_64_BIT_INT
    USE_LARGE_FILES
    USE_LOCALE
    USE_LOCALE_COLLATE
    USE_LOCALE_CTYPE
    USE_LOCALE_NUMERIC
    USE_LOCALE_TIME
    USE_PERLIO
    USE_PERL_ATOF
  Built under freebsd
  Compiled at Oct 27 2018 08:31:21
  %ENV:
    PERL5LIB=""
    PERL5OPT=""
    PERL5_CPANPLUS_IS_RUNNING="54397"
    PERL5_CPAN_IS_RUNNING="54397"
    PERL5_CPAN_IS_RUNNING_IN_RECURSION="54367,54397"
    PERL_BATCH="yes"
    PERL_CANARY_STABILITY_NOPROMPT="1"
    PERL_CPAN_REPORTER_CONFIG="/var/tmp/cpansmoker-1023/2020051308/cpanreporter_000_config.ini"
    PERL_EXTUTILS_AUTOINSTALL="--defaultdeps"
    PERL_USE_UNSAFE_INC="1"
  @INC:
    /usr/perl5.28.0p/lib/site_perl/5.28.0/amd64-freebsd
    /usr/perl5.28.0p/lib/site_perl/5.28.0
    /usr/perl5.28.0p/lib/5.28.0/amd64-freebsd
    /usr/perl5.28.0p/lib/5.28.0
    .