Net-Stomp v0.60 Perl 5 v5.18.0 amd64-freebsd-thread-multi

Status
Pass
From
Nigel Horne
Dist
Net-Stomp v0.60
Platform
Perl 5 v5.18.0 amd64-freebsd-thread-multi
Date
2019-07-17 16:27:23
ID
c1b05b1c-a8af-11e9-8fa9-99a29f1e7dde
This distribution has been tested as part of the CPAN Testers
project, supporting the Perl programming language.  See
http://wiki.cpantesters.org/ for more information or email
questions to cpan-testers-discuss@perl.org


--
Dear Gianni Ceccarelli,

This is a computer-generated report for Net-Stomp-0.60
on perl 5.18.0, created by CPAN-Reporter-1.2018.

Thank you for uploading your work to CPAN.  Congratulations!
All tests were successful.

Sections of this report:

    * Tester comments
    * Program output
    * Prerequisites
    * Environment and other context

------------------------------
TESTER COMMENTS
------------------------------

Additional comments from tester:

this report is from an automated smoke testing program
and was not reviewed by a human for accuracy

------------------------------
PROGRAM OUTPUT
------------------------------

Output from './Build test':

t/connect-disconnect.t .. ok
t/constructor.t ......... ok
t/frame-accessors.t ..... ok
t/failover.t ............ ok
t/pod.t ................. skipped: Test::Pod 1.14 required for testing POD
t/initial-connect.t ..... ok
t/pod_coverage.t ........ skipped: Test::Pod::Coverage 1.04 required for testing POD coverage
t/read-timeout.t ........ ok
t/receiving-frames.t .... ok
t/reconnect.t ........... ok
t/send-transactional.t .. ok
t/send-with-receipt.t ... ok
t/sending-frames.t ...... ok
All tests successful.
Files=13, Tests=82,  7 wallclock secs ( 0.36 usr  0.08 sys +  7.32 cusr  2.24 csys = 10.00 CPU)
Result: PASS

------------------------------
PREREQUISITES
------------------------------

Prerequisite modules loaded:

requires:

    Module                 Need     Have    
    ---------------------- -------- --------
    Class::Accessor::Fast  0        0.51    
    IO::Select             0        1.21    
    IO::Socket::INET       0        1.33    
    Log::Any               1.707    1.707   

build_requires:

    Module                 Need     Have    
    ---------------------- -------- --------
    Log::Any::Adapter::TAP 0.003003 0.003003
    Test::Deep             0        1.128   
    Test::Fatal            0        0.014   
    Test::More             0        1.302162
  ! Test::NiceDump         v1.0.0   0       

configure_requires:

    Module                 Need     Have    
    ---------------------- -------- --------
    Module::Build          0.42     0.4229  


------------------------------
ENVIRONMENT AND OTHER CONTEXT
------------------------------

Environment variables:

    AUTOMATED_TESTING = 1
    HARNESS_OPTIONS = j2
    NONINTERACTIVE_TESTING = 1
    PATH = /home/njh/perl5/perlbrew/bin:/home/njh/perl5/perlbrew/perls/perl-5.18.0-thread/bin:/home/njh/src/njh/smoker/bin:/sbin:/bin:/usr/sbin:/usr/bin:/usr/local/sbin:/usr/local/bin
    PERL5LIB = /var/tmp/build/Test-NiceDump-1.0.0-0/blib/arch:/var/tmp/build/Test-NiceDump-1.0.0-0/blib/lib:/var/tmp/build/Safe-Isa-1.000010-0/blib/arch:/var/tmp/build/Safe-Isa-1.000010-0/blib/lib:/var/tmp/build/Data-Dump-1.23-3/blib/arch:/var/tmp/build/Data-Dump-1.23-3/blib/lib:/var/tmp/build/Log-Any-Adapter-TAP-0.003003-0/blib/arch:/var/tmp/build/Log-Any-Adapter-TAP-0.003003-0/blib/lib:/var/tmp/build/Log-Any-1.707-0/blib/arch:/var/tmp/build/Log-Any-1.707-0/blib/lib:/var/tmp/build/Module-Build-0.4229-0/blib/arch:/var/tmp/build/Module-Build-0.4229-0/blib/lib
    PERL5OPT = 
    PERL5_CPANPLUS_IS_RUNNING = 24942
    PERL5_CPAN_IS_RUNNING = 24942
    PERL5_CPAN_IS_RUNNING_IN_RECURSION = 18314,24942
    PERLBREW_HOME = /home/njh/.perlbrew
    PERLBREW_MANPATH = /home/njh/perl5/perlbrew/perls/perl-5.18.0-thread/man
    PERLBREW_PATH = /home/njh/perl5/perlbrew/bin:/home/njh/perl5/perlbrew/perls/perl-5.18.0-thread/bin
    PERLBREW_PERL = perl-5.18.0-thread
    PERLBREW_ROOT = /home/njh/perl5/perlbrew
    PERLBREW_SHELLRC_VERSION = 0.84
    PERLBREW_VERSION = 0.84
    PERL_MM_USE_DEFAULT = 1
    PERL_USE_UNSAFE_INC = 1
    SHELL = /bin/sh
    TMPDIR = /tmp/testwrapper.18808

Perl special variables (and OS-specific diagnostics, for MSWin32):

    $^X = /mnt/nas/home/netgate3/njh/perl5/perlbrew/perls/perl-5.18.0-thread/bin/perl5.18.0
    $UID/$EUID = 1000 / 1000
    $GID = 1000 1000 0
    $EGID = 1000 1000 0

Perl module toolchain versions installed:

    Module              Have    
    ------------------- --------
    CPAN                2.22    
    CPAN::Meta          2.150010
    Cwd                 3.40    
    ExtUtils::CBuilder  0.280210
    ExtUtils::Command   7.34    
    ExtUtils::Install   2.06    
    ExtUtils::MakeMaker 7.34    
    ExtUtils::Manifest  1.70    
    ExtUtils::ParseXS   3.18    
    File::Spec          3.40    
    JSON                4.02    
    JSON::PP            4.00    
    Module::Build       0.4229  
    Module::Signature   n/a     
    Parse::CPAN::Meta   2.150010
    Test::Harness       3.42    
    Test::More          1.302162
    YAML                1.29    
    YAML::Syck          n/a     
    version             0.9902  


--

Summary of my perl5 (revision 5 version 18 subversion 0) configuration:
   
  Platform:
    osname=freebsd, osvers=11.2-release, archname=amd64-freebsd-thread-multi
    uname='freebsd netgate3 11.2-release freebsd 11.2-release #0 r335510: fri jun 22 04:32:14 utc 2018 root@releng2.nyi.freebsd.org:usrobjusrsrcsysgeneric amd64 '
    config_args='-de -Dprefix=/home/njh/perl5/perlbrew/perls/perl-5.18.0-thread -Dusedevel -Dusethreads -Accflags= -Aeval:scriptdir=/home/njh/perl5/perlbrew/perls/perl-5.18.0-thread/bin'
    hint=recommended, useposix=true, d_sigaction=define
    useithreads=define, usemultiplicity=define
    useperlio=define, d_sfio=undef, uselargefiles=define, usesocks=undef
    use64bitint=define, use64bitall=define, uselongdouble=undef
    usemymalloc=n, bincompat5005=undef
  Compiler:
    cc='cc', ccflags ='-DHAS_FPSETMASK -DHAS_FLOATINGPOINT_H -fno-strict-aliasing -pipe -fstack-protector -I/usr/local/include',
    optimize='-O2',
    cppflags='-DHAS_FPSETMASK -DHAS_FLOATINGPOINT_H -fno-strict-aliasing -pipe -fstack-protector -I/usr/local/include'
    ccversion='', gccversion='4.2.1 Compatible FreeBSD Clang 6.0.0 (tags/RELEASE_600/final 326565)', gccosandvers=''
    intsize=4, longsize=8, ptrsize=8, doublesize=8, byteorder=12345678
    d_longlong=define, longlongsize=8, d_longdbl=define, longdblsize=16
    ivtype='long', ivsize=8, nvtype='double', nvsize=8, Off_t='off_t', lseeksize=8
    alignbytes=8, prototype=define
  Linker and Libraries:
    ld='cc', ldflags ='-pthread -Wl,-E  -fstack-protector -L/usr/local/lib'
    libpth=/usr/lib /usr/local/lib
    libs=-ldl -lm -lcrypt -lutil
    perllibs=-ldl -lm -lcrypt -lutil
    libc=, so=so, useshrplib=false, libperl=libperl.a
    gnulibc_version=''
  Dynamic Linking:
    dlsrc=dl_dlopen.xs, dlext=so, d_dlsymun=undef, ccdlflags=' '
    cccdlflags='-DPIC -fPIC', lddlflags='-shared  -L/usr/local/lib -fstack-protector'


Characteristics of this binary (from libperl): 
  Compile-time options: HAS_TIMES MULTIPLICITY PERLIO_LAYERS
                        PERL_DONT_CREATE_GVSV
                        PERL_HASH_FUNC_ONE_AT_A_TIME_HARD
                        PERL_IMPLICIT_CONTEXT PERL_MALLOC_WRAP
                        PERL_PRESERVE_IVUV PERL_SAWAMPERSAND PERL_USE_DEVEL
                        USE_64_BIT_ALL USE_64_BIT_INT USE_ITHREADS
                        USE_LARGE_FILES USE_LOCALE USE_LOCALE_COLLATE
                        USE_LOCALE_CTYPE USE_LOCALE_NUMERIC USE_PERLIO
                        USE_PERL_ATOF USE_REENTRANT_API
  Locally applied patches:
	Devel::PatchPerl 1.52
  Built under freebsd
  Compiled at Sep 14 2018 17:26:50
  %ENV:
    PERL5LIB="/var/tmp/build/Test-NiceDump-1.0.0-0/blib/arch:/var/tmp/build/Test-NiceDump-1.0.0-0/blib/lib:/var/tmp/build/Safe-Isa-1.000010-0/blib/arch:/var/tmp/build/Safe-Isa-1.000010-0/blib/lib:/var/tmp/build/Data-Dump-1.23-3/blib/arch:/var/tmp/build/Data-Dump-1.23-3/blib/lib:/var/tmp/build/Log-Any-Adapter-TAP-0.003003-0/blib/arch:/var/tmp/build/Log-Any-Adapter-TAP-0.003003-0/blib/lib:/var/tmp/build/Log-Any-1.707-0/blib/arch:/var/tmp/build/Log-Any-1.707-0/blib/lib:/var/tmp/build/Module-Build-0.4229-0/blib/arch:/var/tmp/build/Module-Build-0.4229-0/blib/lib"
    PERL5OPT=""
    PERL5_CPANPLUS_IS_RUNNING="24942"
    PERL5_CPAN_IS_RUNNING="24942"
    PERL5_CPAN_IS_RUNNING_IN_RECURSION="18314,24942"
    PERLBREW_HOME="/home/njh/.perlbrew"
    PERLBREW_MANPATH="/home/njh/perl5/perlbrew/perls/perl-5.18.0-thread/man"
    PERLBREW_PATH="/home/njh/perl5/perlbrew/bin:/home/njh/perl5/perlbrew/perls/perl-5.18.0-thread/bin"
    PERLBREW_PERL="perl-5.18.0-thread"
    PERLBREW_ROOT="/home/njh/perl5/perlbrew"
    PERLBREW_SHELLRC_VERSION="0.84"
    PERLBREW_VERSION="0.84"
    PERL_MM_USE_DEFAULT="1"
    PERL_USE_UNSAFE_INC="1"
  @INC:
    /var/tmp/build/Test-NiceDump-1.0.0-0/blib/arch
    /var/tmp/build/Test-NiceDump-1.0.0-0/blib/lib
    /var/tmp/build/Safe-Isa-1.000010-0/blib/arch
    /var/tmp/build/Safe-Isa-1.000010-0/blib/lib
    /var/tmp/build/Data-Dump-1.23-3/blib/arch
    /var/tmp/build/Data-Dump-1.23-3/blib/lib
    /var/tmp/build/Log-Any-Adapter-TAP-0.003003-0/blib/arch
    /var/tmp/build/Log-Any-Adapter-TAP-0.003003-0/blib/lib
    /var/tmp/build/Log-Any-1.707-0/blib/arch
    /var/tmp/build/Log-Any-1.707-0/blib/lib
    /var/tmp/build/Module-Build-0.4229-0/blib/arch
    /var/tmp/build/Module-Build-0.4229-0/blib/lib
    /home/njh/perl5/perlbrew/perls/perl-5.18.0-thread/lib/site_perl/5.18.0/amd64-freebsd-thread-multi
    /home/njh/perl5/perlbrew/perls/perl-5.18.0-thread/lib/site_perl/5.18.0
    /home/njh/perl5/perlbrew/perls/perl-5.18.0-thread/lib/5.18.0/amd64-freebsd-thread-multi
    /home/njh/perl5/perlbrew/perls/perl-5.18.0-thread/lib/5.18.0
    .