FunctionalPerl v0.72.76 Perl 5 v5.38.0 amd64-freebsd
- Status
- Pass
- From
- Slaven Rezić
- Dist
-
FunctionalPerl v0.72.76
- Platform
- Perl 5 v5.38.0 amd64-freebsd
- Date
- 2023-12-17 21:03:41
- ID
- c19ed162-9d1f-11ee-b809-ec466e8775ea
This distribution has been tested as part of the CPAN Testers
project, supporting the Perl programming language. See
http://wiki.cpantesters.org/ for more information or email
questions to cpan-testers-discuss@perl.org
--
Dear Christian Jaeger,
This is a computer-generated report for FunctionalPerl-0.72.76
on perl 5.38.0, created by CPAN-Reporter-1.2019.
Thank you for uploading your work to CPAN. Congratulations!
All tests were successful.
Sections of this report:
* Tester comments
* Program output
* Prerequisites
* Environment and other context
------------------------------
TESTER COMMENTS
------------------------------
Additional comments from tester:
none provided
------------------------------
PROGRAM OUTPUT
------------------------------
Output from '/usr/bin/make test':
PERL_DL_NONLAZY=1 "/usr/perl5.38.0p/bin/perl" "-MExtUtils::Command::MM" "-MTest::Harness" "-e" "undef *Test::Harness::Switches; test_harness(0, 'blib/lib', 'blib/arch')" t/*.t
t/csv_to_xml.t ........................... ok
t/dbi.t .................................. ok
t/examples-csv-to-json.t ................. ok
times for fib: user = 0.09375, system = 0, cuser = 0, csystem = 0
times for fibonacci: user = 0.0625, system = 0, cuser = 0, csystem = 0
t/examples-fibs.t ........................ ok
t/examples-functional-classes.t .......... ok
t/examples-hiring-without-whiteboards.t .. skipped: dependency Term::ReadLine::Gnu not present at lib/FP/Repl/Dependencies.pm line 44.
t/examples-logic.t ....................... skipped: could not use FP::Repl::Dependencies
t/examples-perlweekly-111-1.t ............ ok
times: user = 0.015625, system = 0, cuser = 0, csystem = 0
times: user = 0.0625, system = 0, cuser = 0, csystem = 0
times: user = 0.0390625, system = 0, cuser = 0, csystem = 0
t/examples-perlweekly-113-1.t ............ ok
t/examples-perlweekly-113-2.t ............ ok
t/examples-primes.t ...................... skipped: could not use Method::Signatures
t/functional_XML-t-div.t ................. ok
t/functional_XML-test.t .................. ok
Use of @_ in list assignment with signatured subroutine is experimental at ../.htmlgen/FunctionalPerl/Htmlgen/PathTranslate.pm line 77.
Implicit use of @_ in goto with signatured subroutine is experimental at ../.htmlgen/FunctionalPerl/Htmlgen/PathTranslate.pm line 77.
Use of @_ in list assignment with signatured subroutine is experimental at ../.htmlgen/FunctionalPerl/Htmlgen/PathTranslate.pm line 81.
Implicit use of @_ in goto with signatured subroutine is experimental at ../.htmlgen/FunctionalPerl/Htmlgen/PathTranslate.pm line 81.
Use of @_ in list assignment with signatured subroutine is experimental at ../.htmlgen/FunctionalPerl/Htmlgen/PathTranslate.pm line 83.
Implicit use of @_ in goto with signatured subroutine is experimental at ../.htmlgen/FunctionalPerl/Htmlgen/PathTranslate.pm line 83.
t/htmlgen.t .............................. ok
t/intro-basics.t ......................... skipped: could not use FP::Repl::Dependencies
t/perl-goto-leak.t ....................... ok
t/perl-weaken-coderef-correctness.t ...... ok
t/perl-weaken-coderef.t .................. ok
Exception: Label not found for "last T2_SUBTEST_WRAPPER" at /usr/perl5.38.0p/lib/site_perl/5.38.0/Test2/Hub/Subtest.pm line 67.
at /usr/perl5.38.0p/lib/site_perl/5.38.0/Test2/Hub/Subtest.pm line 67.
Test2::Hub::Subtest::terminate(Test2::Hub::Subtest=HASH(0x1f39e595de10), 0, Test2::Event::Plan=HASH(0x1f39e5b01498), HASH(0x1f39e57e6510)) called at /usr/perl5.38.0p/lib/site_perl/5.38.0/Test2/Hub.pm line 386
Test2::Hub::process(Test2::Hub::Subtest=HASH(0x1f39e595de10), Test2::Event::Plan=HASH(0x1f39e5b01498)) called at /usr/perl5.38.0p/lib/site_perl/5.38.0/Test2/Hub.pm line 306
Test2::Hub::send(Test2::Hub::Subtest=HASH(0x1f39e595de10), Test2::Event::Plan=HASH(0x1f39e5b01498)) called at /usr/perl5.38.0p/lib/site_perl/5.38.0/Test2/Hub/Subtest.pm line 34
Test2::Hub::Subtest::send(Test2::Hub::Subtest=HASH(0x1f39e595de10), Test2::Event::Plan=HASH(0x1f39e5b01498)) called at /usr/perl5.38.0p/lib/site_perl/5.38.0/Test2/API/Context.pm line 272
Test2::API::Context::send_event(Test2::API::Context=HASH(0x1f39e5b017c8), "Plan", "max", 0, "directive", "SKIP", "reason", "FunctionalPerl::Dependencies::ChjBin import: these programs a"...) called at /usr/perl5.38.0p/lib/site_perl/5.38.0/Test2/API/Context.pm line 448
Test2::API::Context::plan(Test2::API::Context=HASH(0x1f39e5b017c8), 0, "SKIP", "FunctionalPerl::Dependencies::ChjBin import: these programs a"...) called at /usr/perl5.38.0p/lib/site_perl/5.38.0/Test/Builder.pm line 660
Test::Builder::skip_all(Test::Builder=HASH(0x1f39e05e3750), "FunctionalPerl::Dependencies::ChjBin import: these programs a"...) called at /usr/perl5.38.0p/lib/site_perl/5.38.0/Test/Requires.pm line 44
Test::Requires::__ANON__("FunctionalPerl::Dependencies::ChjBin import: these programs a"...) called at /usr/perl5.38.0p/lib/site_perl/5.38.0/Test/Requires.pm line 71
Test::Requires::test_requires("FunctionalPerl::Dependencies::ChjBin", "\"trigger-listen\"", "t_pod_snippets_111") called at /usr/perl5.38.0p/lib/site_perl/5.38.0/Test/Requires.pm line 21
Test::Requires::import("Test::Requires", HASH(0x1f39e5a18900)) called at meta/FunctionalPerl/Dependencies/ChjBin.pm line 19
t_pod_snippets_111::BEGIN() called at meta/FunctionalPerl/Dependencies/ChjBin.pm line 19
eval {...} called at meta/FunctionalPerl/Dependencies/ChjBin.pm line 19
eval 'package main; package t_pod_snippets_111; use Test::More ;
{
no warnings;
use strict; # things are likely to be sloppy
ok 1 => \'the tests compile\';
#line 16 meta/FunctionalPerl/Dependencies/ChjBin.pm
use Chj::TEST use => \'FunctionalPerl::Dependencies::ChjBin\';
# or
use Test::Requires +{
\'FunctionalPerl::Dependencies::ChjBin\' => \'"trigger-listen"\' };
# or
# list in FunctionalPerl::Dependencies\'s %dependencies
;
ok 1 => \'we reached the end!\';
}
;
1' called at lib/FP/Repl/WithRepl.pm line 75
FP::Repl::WithRepl::WithRepl_eval("package t_pod_snippets_111; use Test::More ;\x{a}{\x{a}no warnings;\x{a}u"...) called at t/pod_snippets.t line 37
main::myeval("package t_pod_snippets_111; use Test::More ;\x{a}{\x{a}no warnings;\x{a}u"...) called at t/pod_snippets.t line 158
main::__ANON__() called at /usr/perl5.38.0p/lib/site_perl/5.38.0/Test/Builder.pm line 374
eval {...} called at /usr/perl5.38.0p/lib/site_perl/5.38.0/Test/Builder.pm line 374
Test::Builder::subtest(Test::Builder=HASH(0x1f39e05e3750), "pod snippets in FunctionalPerl::Dependencies::ChjBin", CODE(0x1f39df8a14f8)) called at /usr/perl5.38.0p/lib/site_perl/5.38.0/Test/More.pm line 831
Test::More::subtest("pod snippets in FunctionalPerl::Dependencies::ChjBin", CODE(0x1f39df8a14f8)) called at t/pod_snippets.t line 183
BEGIN failed--compilation aborted at meta/FunctionalPerl/Dependencies/ChjBin.pm line 19.
at meta/FunctionalPerl/Dependencies/ChjBin.pm line 19.
eval 'package main; package t_pod_snippets_111; use Test::More ;
{
no warnings;
use strict; # things are likely to be sloppy
ok 1 => \'the tests compile\';
#line 16 meta/FunctionalPerl/Dependencies/ChjBin.pm
use Chj::TEST use => \'FunctionalPerl::Dependencies::ChjBin\';
# or
use Test::Requires +{
\'FunctionalPerl::Dependencies::ChjBin\' => \'"trigger-listen"\' };
# or
# list in FunctionalPerl::Dependencies\'s %dependencies
;
ok 1 => \'we reached the end!\';
}
;
1' called at lib/FP/Repl/WithRepl.pm line 75
FP::Repl::WithRepl::WithRepl_eval("package t_pod_snippets_111; use Test::More ;\x{a}{\x{a}no warnings;\x{a}u"...) called at t/pod_snippets.t line 37
main::myeval("package t_pod_snippets_111; use Test::More ;\x{a}{\x{a}no warnings;\x{a}u"...) called at t/pod_snippets.t line 158
main::__ANON__() called at /usr/perl5.38.0p/lib/site_perl/5.38.0/Test/Builder.pm line 374
eval {...} called at /usr/perl5.38.0p/lib/site_perl/5.38.0/Test/Builder.pm line 374
Test::Builder::subtest(Test::Builder=HASH(0x1f39e05e3750), "pod snippets in FunctionalPerl::Dependencies::ChjBin", CODE(0x1f39df8a14f8)) called at /usr/perl5.38.0p/lib/site_perl/5.38.0/Test/More.pm line 831
Test::More::subtest("pod snippets in FunctionalPerl::Dependencies::ChjBin", CODE(0x1f39df8a14f8)) called at t/pod_snippets.t line 183
# Failed test 'pod snippets in FunctionalPerl::Dependencies::ChjBin'
# at t/pod_snippets.t line 177.
# Looks like you failed 1 test of 1.
t/pod_snippets.t ......................... ok
t/predicates.t ........................... ok
t/repl.t ................................. skipped: dependency Term::ReadLine::Gnu not present at lib/FP/Repl/Dependencies.pm line 44.
Use of @_ in list assignment with signatured subroutine is experimental at .htmlgen/FunctionalPerl/Htmlgen/PathTranslate.pm line 77.
Implicit use of @_ in goto with signatured subroutine is experimental at .htmlgen/FunctionalPerl/Htmlgen/PathTranslate.pm line 77.
Use of @_ in list assignment with signatured subroutine is experimental at .htmlgen/FunctionalPerl/Htmlgen/PathTranslate.pm line 81.
Implicit use of @_ in goto with signatured subroutine is experimental at .htmlgen/FunctionalPerl/Htmlgen/PathTranslate.pm line 81.
Use of @_ in list assignment with signatured subroutine is experimental at .htmlgen/FunctionalPerl/Htmlgen/PathTranslate.pm line 83.
Implicit use of @_ in goto with signatured subroutine is experimental at .htmlgen/FunctionalPerl/Htmlgen/PathTranslate.pm line 83.
not activating since running in test mode at lib/FP/Repl/AutoTrap.pm line 64.
Reference is already weak at lib/FP/Stream.pm line 770.
t/require_and_run_tests.t ................ ok
t/skip-internal.t ........................ ok
t/skip-leak.t ............................ ok
t/skip.t ................................. ok
t/testlazy.t ............................. ok
t/testlazy10.t ........................... ok
t/trampoline-fix.t ....................... skipped: Test requires module 'Method::Signatures' but it's not found
All tests successful.
Files=28, Tests=172, 15 wallclock secs ( 0.15 usr 0.10 sys + 12.96 cusr 2.52 csys = 15.73 CPU)
Result: PASS
------------------------------
PREREQUISITES
------------------------------
Prerequisite modules loaded:
requires:
Module Need Have
------------------- -------- --------
autobox 0 v3.0.1
base 0 2.27
Digest 0 1.20
File::Path 0 2.18
Getopt::Long 0 2.57
Import::Into 0 1.002005
Math::BigInt 0 2.001001
NEXT 0 0.69
perl 5.016004 5.038000
PerlIO::utf8_strict 0 0.010
Safe::Isa 0 1.000010
Scalar::Util 0 1.63
Symbol 0 1.09
Test::More 0.96 1.302198
utf8 0 1.25
build_requires:
Module Need Have
------------------- -------- --------
BSD::Resource 0 1.2911
Capture::Tiny 0 0.48
DBD::CSV 0 0.60
DBI 0 1.643
ExtUtils::MakeMaker 0 7.70
File::chdir 0 0.1011
Sub::Util 0 1.63
Test::Pod::Snippets 0 0.07
Test::Requires 0 0.11
Text::CSV 0 2.03
URI 0 5.21
configure_requires:
Module Need Have
------------------- -------- --------
ExtUtils::MakeMaker 0 7.70
------------------------------
ENVIRONMENT AND OTHER CONTEXT
------------------------------
Environment variables:
LANG = C.UTF-8
PATH = /usr/local/bin:/usr/bin:/bin:/usr/local/sbin:/usr/sbin:/sbin:/home/cpansand/bin/freebsd15.0:/home/cpansand/bin/sh:/home/cpansand/bin:/usr/games:/home/cpansand/devel:/usr/home/eserte/src/srezic-misc/scripts
PERL5LIB = /home/cpansand/.cpan/build/2023121720/Test-Pod-Snippets-0.07-0/blib/arch:/home/cpansand/.cpan/build/2023121720/Test-Pod-Snippets-0.07-0/blib/lib:/home/cpansand/.cpan/build/2023121720/Module-Locate-1.80-0/blib/arch:/home/cpansand/.cpan/build/2023121720/Module-Locate-1.80-0/blib/lib:/home/cpansand/.cpan/build/2023121720/DBD-CSV-0.60-0/blib/arch:/home/cpansand/.cpan/build/2023121720/DBD-CSV-0.60-0/blib/lib:/home/cpansand/.cpan/build/2023121720/SQL-Statement-1.414-0/blib/arch:/home/cpansand/.cpan/build/2023121720/SQL-Statement-1.414-0/blib/lib:/home/cpansand/.cpan/build/2023121720/Math-Base-Convert-0.11-0/blib/arch:/home/cpansand/.cpan/build/2023121720/Math-Base-Convert-0.11-0/blib/lib:/home/cpansand/.cpan/build/2023121720/BSD-Resource-1.2911-0/blib/arch:/home/cpansand/.cpan/build/2023121720/BSD-Resource-1.2911-0/blib/lib
PERL5OPT =
PERL5_CPANPLUS_IS_RUNNING = 92570
PERL5_CPAN_IS_RUNNING = 92570
PERL5_CPAN_IS_RUNNING_IN_RECURSION = 92557,92570
PERLDOC = -MPod::Perldoc::ToTextOverstrike
PERL_BATCH = yes
PERL_CANARY_STABILITY_NOPROMPT = 1
PERL_CPAN_REPORTER_CONFIG = /var/tmp/cpansmoker-1023/2023121720/cpanreporter_000_config.ini
PERL_EXTUTILS_AUTOINSTALL = --defaultdeps
PERL_USE_UNSAFE_INC = 1
SHELL = /usr/local/bin/zsh
TERM = screen
TMPDIR = /var/tmp/cpansmoker-1023/2023121720
Perl special variables (and OS-specific diagnostics, for MSWin32):
$^X = /usr/perl5.38.0p/bin/perl
$UID/$EUID = 1023 / 1023
$GID = 1023 1023
$EGID = 1023 1023
Perl module toolchain versions installed:
Module Have
------------------- --------
CPAN 2.36
CPAN::Meta 2.150010
Cwd 3.89
ExtUtils::CBuilder 0.280238
ExtUtils::Command 7.70
ExtUtils::Install 2.22
ExtUtils::MakeMaker 7.70
ExtUtils::Manifest 1.75
ExtUtils::ParseXS 3.51
File::Spec 3.88
JSON 4.10
JSON::PP 4.16
Module::Build 0.4234
Module::Signature n/a
Parse::CPAN::Meta 2.150010
Test2 1.302198
Test::Harness 3.44
Test::More 1.302198
YAML 1.30
YAML::Syck 1.34
version 0.9929
--
Summary of my perl5 (revision 5 version 38 subversion 0) configuration:
Platform:
osname=freebsd
osvers=15.0-current
archname=amd64-freebsd
uname='freebsd cloud2.bbbike.org 15.0-current freebsd 15.0-current #5 main-03bfee1752: fri sep 15 12:34:26 utc 2023 root@cloud2.bbbike.org:usrobjusrhomeprojectsfreebsd-srcamd64.amd64sysgeneric amd64 '
config_args='-ds -e -Dprefix=/usr/perl5.38.0p -Dcf_email=srezic@cpan.org -Doptimize=-O2 -pipe'
hint=recommended
useposix=true
d_sigaction=define
useithreads=undef
usemultiplicity=undef
use64bitint=define
use64bitall=define
uselongdouble=undef
usemymalloc=n
default_inc_excludes_dot=define
Compiler:
cc='cc'
ccflags ='-DHAS_FPSETMASK -DHAS_FLOATINGPOINT_H -fno-strict-aliasing -pipe -fstack-protector-strong -I/usr/local/include'
optimize='-O2 -pipe'
cppflags='-DHAS_FPSETMASK -DHAS_FLOATINGPOINT_H -fno-strict-aliasing -pipe -fstack-protector-strong -I/usr/local/include'
ccversion=''
gccversion='FreeBSD Clang 16.0.6 (https://github.com/llvm/llvm-project.git llvmorg-16.0.6-0-g7cbf1a259152)'
gccosandvers=''
intsize=4
longsize=8
ptrsize=8
doublesize=8
byteorder=12345678
doublekind=3
d_longlong=define
longlongsize=8
d_longdbl=define
longdblsize=16
longdblkind=3
ivtype='long'
ivsize=8
nvtype='double'
nvsize=8
Off_t='off_t'
lseeksize=8
alignbytes=8
prototype=define
Linker and Libraries:
ld='cc'
ldflags ='-pthread -Wl,-E -fstack-protector-strong -L/usr/local/lib'
libpth=/usr/lib /usr/local/lib /usr/lib/clang/16/lib
libs=-lpthread -ldl -lm -lcrypt -lutil -lc
perllibs=-lpthread -ldl -lm -lcrypt -lutil -lc
libc=
so=so
useshrplib=false
libperl=libperl.a
gnulibc_version=''
Dynamic Linking:
dlsrc=dl_dlopen.xs
dlext=so
d_dlsymun=undef
ccdlflags=' '
cccdlflags='-DPIC -fPIC'
lddlflags='-shared -L/usr/local/lib -fstack-protector-strong'
Characteristics of this binary (from libperl):
Compile-time options:
HAS_LONG_DOUBLE
HAS_STRTOLD
HAS_TIMES
PERLIO_LAYERS
PERL_COPY_ON_WRITE
PERL_DONT_CREATE_GVSV
PERL_HASH_FUNC_SIPHASH13
PERL_HASH_USE_SBOX32
PERL_MALLOC_WRAP
PERL_OP_PARENT
PERL_PRESERVE_IVUV
PERL_USE_SAFE_PUTENV
USE_64_BIT_ALL
USE_64_BIT_INT
USE_LARGE_FILES
USE_LOCALE
USE_LOCALE_COLLATE
USE_LOCALE_CTYPE
USE_LOCALE_NUMERIC
USE_LOCALE_TIME
USE_PERLIO
USE_PERL_ATOF
Built under freebsd
Compiled at Sep 19 2023 21:12:08
%ENV:
PERL5LIB="/home/cpansand/.cpan/build/2023121720/Test-Pod-Snippets-0.07-0/blib/arch:/home/cpansand/.cpan/build/2023121720/Test-Pod-Snippets-0.07-0/blib/lib:/home/cpansand/.cpan/build/2023121720/Module-Locate-1.80-0/blib/arch:/home/cpansand/.cpan/build/2023121720/Module-Locate-1.80-0/blib/lib:/home/cpansand/.cpan/build/2023121720/DBD-CSV-0.60-0/blib/arch:/home/cpansand/.cpan/build/2023121720/DBD-CSV-0.60-0/blib/lib:/home/cpansand/.cpan/build/2023121720/SQL-Statement-1.414-0/blib/arch:/home/cpansand/.cpan/build/2023121720/SQL-Statement-1.414-0/blib/lib:/home/cpansand/.cpan/build/2023121720/Math-Base-Convert-0.11-0/blib/arch:/home/cpansand/.cpan/build/2023121720/Math-Base-Convert-0.11-0/blib/lib:/home/cpansand/.cpan/build/2023121720/BSD-Resource-1.2911-0/blib/arch:/home/cpansand/.cpan/build/2023121720/BSD-Resource-1.2911-0/blib/lib"
PERL5OPT=""
PERL5_CPANPLUS_IS_RUNNING="92570"
PERL5_CPAN_IS_RUNNING="92570"
PERL5_CPAN_IS_RUNNING_IN_RECURSION="92557,92570"
PERLDOC="-MPod::Perldoc::ToTextOverstrike"
PERL_BATCH="yes"
PERL_CANARY_STABILITY_NOPROMPT="1"
PERL_CPAN_REPORTER_CONFIG="/var/tmp/cpansmoker-1023/2023121720/cpanreporter_000_config.ini"
PERL_EXTUTILS_AUTOINSTALL="--defaultdeps"
PERL_USE_UNSAFE_INC="1"
@INC:
/home/cpansand/.cpan/build/2023121720/Test-Pod-Snippets-0.07-0/blib/arch
/home/cpansand/.cpan/build/2023121720/Test-Pod-Snippets-0.07-0/blib/lib
/home/cpansand/.cpan/build/2023121720/Module-Locate-1.80-0/blib/arch
/home/cpansand/.cpan/build/2023121720/Module-Locate-1.80-0/blib/lib
/home/cpansand/.cpan/build/2023121720/DBD-CSV-0.60-0/blib/arch
/home/cpansand/.cpan/build/2023121720/DBD-CSV-0.60-0/blib/lib
/home/cpansand/.cpan/build/2023121720/SQL-Statement-1.414-0/blib/arch
/home/cpansand/.cpan/build/2023121720/SQL-Statement-1.414-0/blib/lib
/home/cpansand/.cpan/build/2023121720/Math-Base-Convert-0.11-0/blib/arch
/home/cpansand/.cpan/build/2023121720/Math-Base-Convert-0.11-0/blib/lib
/home/cpansand/.cpan/build/2023121720/BSD-Resource-1.2911-0/blib/arch
/home/cpansand/.cpan/build/2023121720/BSD-Resource-1.2911-0/blib/lib
/usr/perl5.38.0p/lib/site_perl/5.38.0/amd64-freebsd
/usr/perl5.38.0p/lib/site_perl/5.38.0
/usr/perl5.38.0p/lib/5.38.0/amd64-freebsd
/usr/perl5.38.0p/lib/5.38.0
.