Encode v3.20 Perl 5 v5.22.4 darwin-2level
- Status
- Pass
- From
- Abe Timmerman
- Dist
-
Encode v3.20
- Platform
- Perl 5 v5.22.4 darwin-2level
- Date
- 2023-11-12 08:09:08
- ID
- c14a7030-8132-11ee-b6a6-adfb3fe3cd06
This distribution has been tested as part of the CPAN Testers
project, supporting the Perl programming language. See
http://wiki.cpantesters.org/ for more information or email
questions to cpan-testers-discuss@perl.org
--
Dear Dan Kogai,
This is a computer-generated report for Encode-3.20
on perl 5.22.4, created by CPAN-Reporter-1.2019.
Thank you for uploading your work to CPAN. Congratulations!
All tests were successful.
Sections of this report:
* Tester comments
* Program output
* Prerequisites
* Environment and other context
------------------------------
TESTER COMMENTS
------------------------------
Additional comments from tester:
none provided
------------------------------
PROGRAM OUTPUT
------------------------------
Output from '/usr/bin/make test':
"/opt/perl/perl5.22.4/bin/perl" -MExtUtils::Command::MM -e 'cp_nonempty' -- Encode.bs blib/arch/auto/Encode/Encode.bs 644
"/opt/perl/perl5.22.4/bin/perl" -MExtUtils::Command::MM -e 'cp_nonempty' -- Byte.bs ../blib/arch/auto/Encode/Byte/Byte.bs 644
"/opt/perl/perl5.22.4/bin/perl" -MExtUtils::Command::MM -e 'cp_nonempty' -- CN.bs ../blib/arch/auto/Encode/CN/CN.bs 644
"/opt/perl/perl5.22.4/bin/perl" -MExtUtils::Command::MM -e 'cp_nonempty' -- EBCDIC.bs ../blib/arch/auto/Encode/EBCDIC/EBCDIC.bs 644
"/opt/perl/perl5.22.4/bin/perl" -MExtUtils::Command::MM -e 'cp_nonempty' -- JP.bs ../blib/arch/auto/Encode/JP/JP.bs 644
"/opt/perl/perl5.22.4/bin/perl" -MExtUtils::Command::MM -e 'cp_nonempty' -- KR.bs ../blib/arch/auto/Encode/KR/KR.bs 644
"/opt/perl/perl5.22.4/bin/perl" -MExtUtils::Command::MM -e 'cp_nonempty' -- Symbol.bs ../blib/arch/auto/Encode/Symbol/Symbol.bs 644
"/opt/perl/perl5.22.4/bin/perl" -MExtUtils::Command::MM -e 'cp_nonempty' -- TW.bs ../blib/arch/auto/Encode/TW/TW.bs 644
"/opt/perl/perl5.22.4/bin/perl" -MExtUtils::Command::MM -e 'cp_nonempty' -- Unicode.bs ../blib/arch/auto/Encode/Unicode/Unicode.bs 644
"/opt/perl/perl5.22.4/bin/perl" -MExtUtils::Command::MM -e 'cp_nonempty' -- Byte.bs ../blib/arch/auto/Encode/Byte/Byte.bs 644
No tests defined for Encode::Byte extension.
"/opt/perl/perl5.22.4/bin/perl" -MExtUtils::Command::MM -e 'cp_nonempty' -- CN.bs ../blib/arch/auto/Encode/CN/CN.bs 644
No tests defined for Encode::CN extension.
"/opt/perl/perl5.22.4/bin/perl" -MExtUtils::Command::MM -e 'cp_nonempty' -- EBCDIC.bs ../blib/arch/auto/Encode/EBCDIC/EBCDIC.bs 644
No tests defined for Encode::EBCDIC extension.
"/opt/perl/perl5.22.4/bin/perl" -MExtUtils::Command::MM -e 'cp_nonempty' -- JP.bs ../blib/arch/auto/Encode/JP/JP.bs 644
No tests defined for Encode::JP extension.
"/opt/perl/perl5.22.4/bin/perl" -MExtUtils::Command::MM -e 'cp_nonempty' -- KR.bs ../blib/arch/auto/Encode/KR/KR.bs 644
No tests defined for Encode::KR extension.
"/opt/perl/perl5.22.4/bin/perl" -MExtUtils::Command::MM -e 'cp_nonempty' -- Symbol.bs ../blib/arch/auto/Encode/Symbol/Symbol.bs 644
No tests defined for Encode::Symbol extension.
"/opt/perl/perl5.22.4/bin/perl" -MExtUtils::Command::MM -e 'cp_nonempty' -- TW.bs ../blib/arch/auto/Encode/TW/TW.bs 644
No tests defined for Encode::TW extension.
"/opt/perl/perl5.22.4/bin/perl" -MExtUtils::Command::MM -e 'cp_nonempty' -- Unicode.bs ../blib/arch/auto/Encode/Unicode/Unicode.bs 644
No tests defined for Encode::Unicode extension.
PERL_DL_NONLAZY=1 "/opt/perl/perl5.22.4/bin/perl" "-MExtUtils::Command::MM" "-MTest::Harness" "-e" "undef *Test::Harness::Switches; test_harness(0, 'blib/lib', 'blib/arch')" t/*.t
t/Aliases.t ................ ok
t/at-cn.t .................. ok
t/at-tw.t .................. ok
t/CJKT.t ................... ok
t/cow.t .................... ok
t/decode.t ................. ok
t/enc_data.t ............... ok
t/enc_eucjp.t .............. ok
t/enc_module.t ............. ok
t/enc_utf8.t ............... ok
t/Encode.t ................. ok
t/Encoder.t ................ ok
t/encoding-locale.t ........ ok
t/encoding.t ............... ok
t/fallback.t ............... ok
t/from_to.t ................ ok
t/grow.t ................... ok
t/gsm0338.t ................ ok
t/guess.t .................. ok
t/isa.t .................... ok
t/jis7-fallback.t .......... ok
t/jperl.t .................. ok
t/magic.t .................. ok
t/mime-header.t ............ ok
t/mime-name.t .............. ok
t/mime_header_iso2022jp.t .. ok
t/perlio.t ................. ok
t/piconv.t ................. ok
t/rt113164.t ............... ok
t/rt65541.t ................ ok
t/rt76824.t ................ ok
t/rt85489.t ................ ok
t/rt86327.t ................ ok
t/taint.t .................. ok
t/truncated_utf8.t ......... ok
t/undef.t .................. ok
t/Unicode.t ................ ok
t/Unicode_trailing_nul.t ... ok
t/use-Encode-Alias.t ....... ok
t/utf32warnings.t .......... ok
t/utf8ref.t ................ ok
t/utf8strict.t ............. ok
t/utf8warnings.t ........... ok
t/whatwg-aliases.t ......... skipped: For maintainers only
t/xml.t .................... ok
All tests successful.
Test Summary Report
-------------------
t/truncated_utf8.t (Wstat: 0 Tests: 9 Failed: 0)
TODO passed: 9
Files=45, Tests=7836, 4 wallclock secs ( 0.21 usr 0.05 sys + 2.14 cusr 0.19 csys = 2.59 CPU)
Result: PASS
------------------------------
PREREQUISITES
------------------------------
Prerequisite modules loaded:
requires:
Module Need Have
------------------- ----- --------
Exporter 5.57 5.72
parent 0.221 0.232
Storable 0 2.53_02
build_requires:
Module Need Have
------------------- ----- --------
ExtUtils::MakeMaker 0 7.70
Test::More 0.92 1.001014
configure_requires:
Module Need Have
------------------- ----- --------
ExtUtils::MakeMaker 0 7.70
------------------------------
ENVIRONMENT AND OTHER CONTEXT
------------------------------
Environment variables:
NONINTERACTIVE_TESTING = 1
PATH = /opt/homebrew/opt/perl/bin:/opt/homebrew/bin:/opt/homebrew/sbin:/Users/abeltje/bin:/Users/abeltje/xsbin:/usr/local/bin:/usr/bin:/bin:/usr/local/sbin/:/usr/sbin:/sbin
PERL5LIB = /Users/abeltje/.cpan/build/Net-DNS-1.40-e5hK1U/blib/arch:/Users/abeltje/.cpan/build/Net-DNS-1.40-e5hK1U/blib/lib:lib
PERL5OPT =
PERL5_CPANPLUS_IS_RUNNING = 40677
PERL5_CPAN_IS_RUNNING = 40677
PERL_MM_USE_DEFAULT = 1
SHELL = /bin/bash
TERM = screen-256color
TMPDIR = /var/folders/mk/6yqfnld12zbgp3gq6j52f3z40000gn/T/
VERSIONER_PERL_VERSION = 5.30
Perl special variables (and OS-specific diagnostics, for MSWin32):
$^X = /opt/perl/perl5.22.4/bin/perl
$UID/$EUID = 501 / 501
$GID = 20 20 12 61 79 80 81 98 702 33 100 204 250 395 398 399 400
$EGID = 20 20 12 61 79 80 81 98 702 33 100 204 250 395 398 399 400
Perl module toolchain versions installed:
Module Have
------------------- ----------
CPAN 2.36
CPAN::Meta 2.150001
Cwd 3.56_02
ExtUtils::CBuilder 0.280221
ExtUtils::Command 7.70
ExtUtils::Install 2.06
ExtUtils::MakeMaker 7.70
ExtUtils::Manifest 1.70
ExtUtils::ParseXS 3.28
File::Spec 3.56_02
JSON n/a
JSON::PP 4.16
Module::Build 0.4234
Module::Signature n/a
Parse::CPAN::Meta 1.4414_001
Test2 n/a
Test::Harness 3.35_01
Test::More 1.001014
YAML 1.30
YAML::Syck n/a
version 0.9909
--
Summary of my perl5 (revision 5 version 22 subversion 4) configuration:
Derived from: a26666a1317770d8a2228ac3657ba58020c3511f
Platform:
osname=darwin, osvers=23.1.0, archname=darwin-2level
uname='darwin idefix.fritz.box 23.1.0 darwin kernel version 23.1.0: mon oct 9 21:27:24 pdt 2023; root:xnu-10002.41.9~6release_arm64_t6000 arm64 '
config_args='-des -Dprefix=/opt/perl/perl5.22.4'
hint=recommended, useposix=true, d_sigaction=define
useithreads=undef, usemultiplicity=undef
use64bitint=define, use64bitall=define, uselongdouble=undef
usemymalloc=n, bincompat5005=undef
Compiler:
cc='cc', ccflags ='-fno-common -DPERL_DARWIN -mmacosx-version-min=14.1 -DNO_THREAD_SAFE_QUERYLOCALE -DNO_POSIX_2008_LOCALE -fno-strict-aliasing -pipe -fstack-protector-strong -I/usr/local/include',
optimize='-O3',
cppflags='-fno-common -DPERL_DARWIN -mmacosx-version-min=14.1 -DNO_THREAD_SAFE_QUERYLOCALE -DNO_POSIX_2008_LOCALE -fno-strict-aliasing -pipe -fstack-protector-strong -I/usr/local/include'
ccversion='', gccversion='Apple LLVM 15.0.0 (clang-1500.0.40.1)', gccosandvers=''
intsize=4, longsize=8, ptrsize=8, doublesize=8, byteorder=12345678, doublekind=3
d_longlong=define, longlongsize=8, d_longdbl=define, longdblsize=8, longdblkind=0
ivtype='long', ivsize=8, nvtype='double', nvsize=8, Off_t='off_t', lseeksize=8
alignbytes=8, prototype=define
Linker and Libraries:
ld='cc', ldflags =' -mmacosx-version-min=14.1 -fstack-protector-strong -L/usr/local/lib'
libpth=/usr/local/lib /Library/Developer/CommandLineTools/usr/lib/clang/15.0.0/lib /Library/Developer/CommandLineTools/SDKs/MacOSX.sdk/usr/lib /Library/Developer/CommandLineTools/usr/lib /usr/lib
libs=
perllibs=
libc=, so=dylib, useshrplib=false, libperl=libperl.a
gnulibc_version=''
Dynamic Linking:
dlsrc=dl_dlopen.xs, dlext=bundle, d_dlsymun=undef, ccdlflags=' '
cccdlflags=' ', lddlflags=' -mmacosx-version-min=14.1 -bundle -undefined dynamic_lookup -L/usr/local/lib -fstack-protector-strong'
Characteristics of this binary (from libperl):
Compile-time options: HAS_TIMES PERLIO_LAYERS PERL_DONT_CREATE_GVSV
PERL_HASH_FUNC_ONE_AT_A_TIME_HARD PERL_MALLOC_WRAP
PERL_NEW_COPY_ON_WRITE PERL_PRESERVE_IVUV
USE_64_BIT_ALL USE_64_BIT_INT USE_LARGE_FILES
USE_LOCALE USE_LOCALE_COLLATE USE_LOCALE_CTYPE
USE_LOCALE_NUMERIC USE_LOCALE_TIME USE_PERLIO
USE_PERL_ATOF
Locally applied patches:
uncommitted-changes
Built under darwin
Compiled at Nov 12 2023 08:40:42
%ENV:
PERL5LIB="/Users/abeltje/.cpan/build/Net-DNS-1.40-e5hK1U/blib/arch:/Users/abeltje/.cpan/build/Net-DNS-1.40-e5hK1U/blib/lib:lib"
PERL5OPT=""
PERL5_CPANPLUS_IS_RUNNING="40677"
PERL5_CPAN_IS_RUNNING="40677"
PERL_MM_USE_DEFAULT="1"
@INC:
/Users/abeltje/.cpan/build/Net-DNS-1.40-e5hK1U/blib/arch
/Users/abeltje/.cpan/build/Net-DNS-1.40-e5hK1U/blib/lib
lib
/opt/perl/perl5.22.4/lib/site_perl/5.22.4/darwin-2level
/opt/perl/perl5.22.4/lib/site_perl/5.22.4
/opt/perl/perl5.22.4/lib/5.22.4/darwin-2level
/opt/perl/perl5.22.4/lib/5.22.4
.