Dancer2-Plugin-Auth-Extensible-Provider-DBIxClass v0.0902 Perl 5 v5.41.8 amd64-freebsd
- Status
- Pass
- From
- Carlos Guevara
- Dist
-
Dancer2-Plugin-Auth-Extensible-Provider-DBIxClass v0.0902
- Platform
- Perl 5 v5.41.8 amd64-freebsd
- Date
- 2025-01-18 05:33:30
- ID
- c022a698-d55d-11ef-9dc2-9d31fd19e8ea
This distribution has been tested as part of the CPAN Testers
project, supporting the Perl programming language. See
http://wiki.cpantesters.org/ for more information or email
questions to cpan-testers-discuss@perl.org
--
Dear D Ruth Holloway,
This is a computer-generated report for Dancer2-Plugin-Auth-Extensible-Provider-DBIxClass-0.0902
on perl 5.41.8, created by CPAN-Reporter-1.2020.
Thank you for uploading your work to CPAN. Congratulations!
All tests were successful.
Sections of this report:
* Tester comments
* Program output
* Prerequisites
* Environment and other context
------------------------------
TESTER COMMENTS
------------------------------
Additional comments from tester:
none provided
------------------------------
PROGRAM OUTPUT
------------------------------
Output from '/usr/bin/make test':
PERL_DL_NONLAZY=1 "/home/cpan/bin/perl/bin/perl5.41.8" "-MExtUtils::Command::MM" "-MTest::Harness" "-e" "undef *Test::Harness::Switches; test_harness(0, 'blib/lib', 'blib/arch')" t/*.t
t/00-compile.t ....................... ok
#
# Versions for all modules listed in MYMETA.json (including optional ones):
#
# === Configure Requires ===
#
# Module Want Have
# ------------------- ---- ----
# ExtUtils::MakeMaker any 7.70
#
# === Build Requires ===
#
# Module Want Have
# ------------------- ---- ----
# ExtUtils::MakeMaker any 7.70
#
# === Test Requires ===
#
# Module Want Have
# -------------------------------------------- ----- ----------
# DBIx::Class::Core any undef
# DBIx::Class::Schema any undef
# Dancer2 any 1.1.2
# Dancer2::Plugin::Auth::Extensible 0.620 0.711
# Dancer2::Plugin::Auth::Extensible::Test any 0.711
# Dancer2::Plugin::Auth::Extensible::Test::App any 0.711
# Dancer2::Plugin::DBIx::Class any 1.1001
# DateTime::Format::SQLite any 0.11
# ExtUtils::MakeMaker any 7.70
# File::Spec any 3.93
# HTTP::Cookies any 6.11
# HTTP::Request::Common any 7.00
# IO::Handle any 1.55
# IPC::Open3 any 1.24
# Plack::Test any undef
# SQL::Translator any 1.66
# Test::Deep any 1.204
# Test::MockObject any 1.20200122
# Test::More any 1.302207
# Test::Warn any 0.37
# base any 2.27
# lib any 0.65
# strict any 1.13
# warnings any 1.72
#
# === Test Recommends ===
#
# Module Want Have
# ---------- -------- --------
# CPAN::Meta 2.120900 2.150010
#
# === Runtime Requires ===
#
# Module Want Have
# ------------------------------------------------- ---- ----------
# Carp any 1.54
# DBIx::Class::ResultClass::HashRefInflator any undef
# Dancer2::Core::Types any 1.1.2
# Dancer2::Plugin::Auth::Extensible::Role::Provider any 0.711
# DateTime any 1.65
# Modern::Perl any 1.20241001
# Moo any 2.005005
# Scalar::Util any 1.68_01
# String::CamelCase any 0.04
# namespace::clean any 0.27
#
t/00-report-prereqs.t ................ ok
t/01-deprecation.t ................... ok
t/02-provider-dbixclass.t ............ ok
t/03-provider-dbic-user_as_object.t .. ok
All tests successful.
Files=5, Tests=60, 4 wallclock secs ( 0.09 usr 0.01 sys + 3.68 cusr 0.12 csys = 3.90 CPU)
Result: PASS
------------------------------
PREREQUISITES
------------------------------
Prerequisite modules loaded:
requires:
Module Need Have
------------------------------------------------- ----- ----------
Carp 0 1.54
Dancer2::Core::Types 0 1.1.2
Dancer2::Plugin::Auth::Extensible::Role::Provider 0 0.711
DateTime 0 1.65
DBIx::Class::ResultClass::HashRefInflator 0 0
Modern::Perl 0 1.20241001
Moo 0 2.005005
namespace::clean 0 0.27
perl 5.006 5.041008
Scalar::Util 0 1.68_01
String::CamelCase 0 0.04
build_requires:
Module Need Have
------------------------------------------------- ----- ----------
base 0 2.27
Dancer2 0 1.1.2
Dancer2::Plugin::Auth::Extensible 0.620 0.711
Dancer2::Plugin::Auth::Extensible::Test 0 0.711
! Dancer2::Plugin::Auth::Extensible::Test::App 0 broken
Dancer2::Plugin::DBIx::Class 0 1.1001
DateTime::Format::SQLite 0 0.11
DBIx::Class::Core 0 0
DBIx::Class::Schema 0 0
ExtUtils::MakeMaker 0 7.70
File::Spec 0 3.93
HTTP::Cookies 0 6.11
HTTP::Request::Common 0 7.00
IO::Handle 0 1.55
IPC::Open3 0 1.24
lib 0 0.65
Plack::Test 0 0
SQL::Translator 0 1.66
strict 0 1.13
Test::Deep 0 1.204
Test::MockObject 0 1.20200122
Test::More 0 1.302207
Test::Warn 0 0.37
warnings 0 1.72
configure_requires:
Module Need Have
------------------------------------------------- ----- ----------
ExtUtils::MakeMaker 0 7.70
perl 5.006 5.041008
------------------------------
ENVIRONMENT AND OTHER CONTEXT
------------------------------
Environment variables:
LANG = C.UTF-8
LC_ALL = C
NONINTERACTIVE_TESTING = 1
PATH = /home/cpan/bin/perl/bin:/home/cpan/bin:/sbin:/bin:/usr/sbin:/usr/bin:/usr/local/sbin:/usr/local/bin:/home/cpan/bin
PERL5LIB =
PERL5OPT =
PERL5_CPANPLUS_IS_RUNNING = 16168
PERL5_CPAN_IS_RUNNING = 16168
PERL_MM_USE_DEFAULT = 1
PERL_USE_UNSAFE_INC = 1
SHELL = /usr/local/bin/bash
TERM = xterm
TMPDIR = /home/cpan/tmp
Perl special variables (and OS-specific diagnostics, for MSWin32):
$^X = /home/cpan/bin/perl/bin/perl5.41.8
$UID/$EUID = 1002 / 1002
$GID = 1002 1002
$EGID = 1002 1002
Perl module toolchain versions installed:
Module Have
------------------- --------
CPAN 2.38
CPAN::Meta 2.150010
Cwd 3.92
ExtUtils::CBuilder 0.280240
ExtUtils::Command 7.70
ExtUtils::Install 2.22
ExtUtils::MakeMaker 7.70
ExtUtils::Manifest 1.75
ExtUtils::ParseXS 3.56
File::Spec 3.93
JSON 4.10
JSON::PP 4.16
Module::Build 0.4234
Module::Signature n/a
Parse::CPAN::Meta 2.150010
Test2 1.302207
Test::Harness 3.50
Test::More 1.302207
YAML 1.31
YAML::Syck n/a
version 0.9933
--
Summary of my perl5 (revision 5 version 41 subversion 8) configuration:
Commit id: 7a1c156a29c40cbcd2ea256df869c26992dc1023
Platform:
osname=freebsd
osvers=14.2-release
archname=amd64-freebsd
uname='freebsd cjg-freebsd14 14.2-release freebsd 14.2-release releng14.2-n269506-c8918d6c7412 generic amd64 '
config_args='-des -Dprefix=/home/cpan/bin/perl -Dscriptdir=/home/cpan/bin/perl/bin -Dusedevel -Duse64bitall'
hint=recommended
useposix=true
d_sigaction=define
useithreads=undef
usemultiplicity=undef
use64bitint=define
use64bitall=define
uselongdouble=undef
usemymalloc=n
default_inc_excludes_dot=define
Compiler:
cc='cc'
ccflags ='-DHAS_FPSETMASK -DHAS_FLOATINGPOINT_H -DNO_POSIX_2008_LOCALE -fno-strict-aliasing -pipe -fstack-protector-strong -I/usr/local/include'
optimize='-O2'
cppflags='-DHAS_FPSETMASK -DHAS_FLOATINGPOINT_H -DNO_POSIX_2008_LOCALE -fno-strict-aliasing -pipe -fstack-protector-strong -I/usr/local/include'
ccversion=''
gccversion='FreeBSD Clang 18.1.6 (https://github.com/llvm/llvm-project.git llvmorg-18.1.6-0-g1118c2e05e67)'
gccosandvers=''
intsize=4
longsize=8
ptrsize=8
doublesize=8
byteorder=12345678
doublekind=3
d_longlong=define
longlongsize=8
d_longdbl=define
longdblsize=16
longdblkind=3
ivtype='long'
ivsize=8
nvtype='double'
nvsize=8
Off_t='off_t'
lseeksize=8
alignbytes=8
prototype=define
Linker and Libraries:
ld='cc'
ldflags ='-Wl,-E -fstack-protector-strong -L/usr/local/lib'
libpth=/usr/lib /usr/local/lib /usr/lib/clang/18/lib
libs=-lpthread -lgdbm -ldl -lm -lcrypt -lutil -lc
perllibs=-lpthread -ldl -lm -lcrypt -lutil -lc
libc=
so=so
useshrplib=false
libperl=libperl.a
gnulibc_version=''
Dynamic Linking:
dlsrc=dl_dlopen.xs
dlext=so
d_dlsymun=undef
ccdlflags=' '
cccdlflags='-DPIC -fPIC'
lddlflags='-shared -L/usr/local/lib -fstack-protector-strong'
Characteristics of this binary (from libperl):
Compile-time options:
HAS_LONG_DOUBLE
HAS_STRTOLD
HAS_TIMES
PERLIO_LAYERS
PERL_COPY_ON_WRITE
PERL_DONT_CREATE_GVSV
PERL_HASH_FUNC_SIPHASH13
PERL_HASH_USE_SBOX32
PERL_MALLOC_WRAP
PERL_OP_PARENT
PERL_PRESERVE_IVUV
PERL_USE_DEVEL
PERL_USE_SAFE_PUTENV
USE_64_BIT_ALL
USE_64_BIT_INT
USE_LARGE_FILES
USE_LOCALE
USE_LOCALE_COLLATE
USE_LOCALE_CTYPE
USE_LOCALE_NUMERIC
USE_LOCALE_TIME
USE_PERLIO
USE_PERL_ATOF
Built under freebsd
Compiled at Jan 15 2025 21:15:56
%ENV:
PERL5LIB=""
PERL5OPT=""
PERL5_CPANPLUS_IS_RUNNING="16168"
PERL5_CPAN_IS_RUNNING="16168"
PERL_MM_USE_DEFAULT="1"
PERL_USE_UNSAFE_INC="1"
@INC:
/home/cpan/bin/perl/lib/site_perl/5.41.8/amd64-freebsd
/home/cpan/bin/perl/lib/site_perl/5.41.8
/home/cpan/bin/perl/lib/5.41.8/amd64-freebsd
/home/cpan/bin/perl/lib/5.41.8
.