Encode v3.16 Perl 5 v5.35.4 x86_64-linux

Status
Pass
From
John SJ Anderson
Dist
Encode v3.16
Platform
Perl 5 v5.35.4 x86_64-linux
Date
2021-10-16 22:38:14
ID
bffbcbe4-2ed1-11ec-b0a6-a1b1ce33388d
This distribution has been tested as part of the CPAN Testers
project, supporting the Perl programming language.  See
http://wiki.cpantesters.org/ for more information or email
questions to cpan-testers-discuss@perl.org


--
Dear DANKOGAI,

This is a computer-generated report for Encode-3.16
on perl 5.35.4, created by App::cpanminus::reporter 0.17 (1.7044).

Thank you for uploading your work to CPAN.  Congratulations!
All tests were successful.

Sections of this report:

    * Tester comments
    * Program output
    * Prerequisites
    * Environment and other context

------------------------------
TESTER COMMENTS
------------------------------

Additional comments from tester:

none provided

------------------------------
PROGRAM OUTPUT
------------------------------

Output from '':

Building and testing Encode-3.16
cp lib/Encode/MIME/Header/ISO_2022_JP.pm blib/lib/Encode/MIME/Header/ISO_2022_JP.pm
cp lib/Encode/JP/JIS7.pm blib/lib/Encode/JP/JIS7.pm
cp Encode/_T.e2x blib/lib/Encode/_T.e2x
cp lib/Encode/JP/H2Z.pm blib/lib/Encode/JP/H2Z.pm
cp lib/Encode/Encoder.pm blib/lib/Encode/Encoder.pm
cp lib/Encode/Config.pm blib/lib/Encode/Config.pm
cp Encode/_PM.e2x blib/lib/Encode/_PM.e2x
cp Encode/Changes.e2x blib/lib/Encode/Changes.e2x
cp lib/Encode/MIME/Header.pm blib/lib/Encode/MIME/Header.pm
cp lib/Encode/CN/HZ.pm blib/lib/Encode/CN/HZ.pm
cp lib/Encode/Supported.pod blib/lib/Encode/Supported.pod
cp Encode/Makefile_PL.e2x blib/lib/Encode/Makefile_PL.e2x
cp lib/Encode/MIME/Name.pm blib/lib/Encode/MIME/Name.pm
cp lib/Encode/Alias.pm blib/lib/Encode/Alias.pm
cp Encode/ConfigLocal_PM.e2x blib/lib/Encode/ConfigLocal_PM.e2x
cp Encode/encode.h blib/lib/Encode/encode.h
cp lib/Encode/Encoding.pm blib/lib/Encode/Encoding.pm
cp lib/Encode/Unicode/UTF7.pm blib/lib/Encode/Unicode/UTF7.pm
cp lib/Encode/CJKConstants.pm blib/lib/Encode/CJKConstants.pm
cp lib/Encode/GSM0338.pm blib/lib/Encode/GSM0338.pm
cp Encode/README.e2x blib/lib/Encode/README.e2x
cp Encode.pm blib/lib/Encode.pm
cp lib/Encode/Guess.pm blib/lib/Encode/Guess.pm
cp lib/Encode/PerlIO.pod blib/lib/Encode/PerlIO.pod
cp lib/Encode/KR/2022_KR.pm blib/lib/Encode/KR/2022_KR.pm
cp encoding.pm blib/lib/encoding.pm
make[1]: Entering directory '/home/genehack/.cpanm/work/1634423807.741355/Encode-3.16/Byte'
cp Byte.pm ../blib/lib/Encode/Byte.pm
Running Mkbootstrap for Byte ()
chmod 644 "Byte.bs"
"/opt/plenv/versions/5.35.4/bin/perl5.35.4" -MExtUtils::Command::MM -e 'cp_nonempty' -- Byte.bs ../blib/arch/auto/Encode/Byte/Byte.bs 644
"/opt/plenv/versions/5.35.4/bin/perl5.35.4"  ../bin/enc2xs -"Q" -"O" -o byte_t.c -f byte_t.fnm
Reading iso-8859-2 (iso-8859-2)
Reading iso-8859-3 (iso-8859-3)
Reading iso-8859-4 (iso-8859-4)
Reading iso-8859-5 (iso-8859-5)
Reading iso-8859-6 (iso-8859-6)
Reading iso-8859-7 (iso-8859-7)
Reading iso-8859-8 (iso-8859-8)
Reading iso-8859-9 (iso-8859-9)
Reading iso-8859-10 (iso-8859-10)
Reading iso-8859-11 (iso-8859-11)
Reading iso-8859-13 (iso-8859-13)
Reading iso-8859-14 (iso-8859-14)
Reading iso-8859-15 (iso-8859-15)
Reading iso-8859-16 (iso-8859-16)
Reading AdobeStandardEncoding (AdobeStandardEncoding)
Reading cp1006 (cp1006)
Reading cp1250 (cp1250)
Reading cp1251 (cp1251)
Reading cp1253 (cp1253)
Reading cp1254 (cp1254)
Reading cp1255 (cp1255)
Reading cp1256 (cp1256)
Reading cp1257 (cp1257)
Reading cp1258 (cp1258)
Reading cp424 (cp424)
Reading cp437 (cp437)
Reading cp737 (cp737)
Reading cp775 (cp775)
Reading cp850 (cp850)
Reading cp852 (cp852)
Reading cp855 (cp855)
Reading cp856 (cp856)
Reading cp857 (cp857)
Reading cp858 (cp858)
Reading cp860 (cp860)
Reading cp861 (cp861)
Reading cp862 (cp862)
Reading cp863 (cp863)
Reading cp864 (cp864)
Reading cp865 (cp865)
Reading cp866 (cp866)
Reading cp869 (cp869)
Reading cp874 (cp874)
Reading hp-roman8 (hp-roman8)
Reading koi8-f (koi8-f)
Reading koi8-r (koi8-r)
Reading koi8-u (koi8-u)
Reading MacArabic (MacArabic)
Reading MacCentralEurRoman (MacCentralEurRoman)
Reading MacCroatian (MacCroatian)
Reading MacCyrillic (MacCyrillic)
Reading MacFarsi (MacFarsi)
Reading MacGreek (MacGreek)
Reading MacHebrew (MacHebrew)
Reading MacIcelandic (MacIcelandic)
Reading MacRomanian (MacRomanian)
Reading MacRumanian (MacRumanian)
Reading MacRoman (MacRoman)
Reading MacSami (MacSami)
Reading MacThai (MacThai)
Reading MacTurkish (MacTurkish)
Reading MacUkrainian (MacUkrainian)
Reading nextstep (nextstep)
Reading viscii (viscii)
"/opt/plenv/versions/5.35.4/bin/perl5.35.4" "/opt/plenv/versions/5.35.4/lib/perl5/5.35.4/ExtUtils/xsubpp"  -nolinenumbers -typemap '/opt/plenv/versions/5.35.4/lib/perl5/5.35.4/ExtUtils/typemap'  Byte.xs > Byte.xsc
mv Byte.xsc Byte.c
cc -c -I./Encode  -I../Encode -fwrapv -fno-strict-aliasing -pipe -fstack-protector-strong -I/usr/local/include -D_LARGEFILE_SOURCE -D_FILE_OFFSET_BITS=64 -D_FORTIFY_SOURCE=2 -Werror=declaration-after-statement -Wpointer-sign -O2   -DVERSION=\"2.04\" -DXS_VERSION=\"2.04\" -fPIC "-I/opt/plenv/versions/5.35.4/lib/perl5/5.35.4/x86_64-linux/CORE"   Byte.c
cc -c -I./Encode  -I../Encode -fwrapv -fno-strict-aliasing -pipe -fstack-protector-strong -I/usr/local/include -D_LARGEFILE_SOURCE -D_FILE_OFFSET_BITS=64 -D_FORTIFY_SOURCE=2 -Werror=declaration-after-statement -Wpointer-sign -O2   -DVERSION=\"2.04\" -DXS_VERSION=\"2.04\" -fPIC "-I/opt/plenv/versions/5.35.4/lib/perl5/5.35.4/x86_64-linux/CORE"   byte_t.c
rm -f ../blib/arch/auto/Encode/Byte/Byte.so
cc  -shared -O2 -L/usr/local/lib -L/opt/local/lib -fstack-protector-strong  Byte.o byte_t.o  -o ../blib/arch/auto/Encode/Byte/Byte.so  \
      \
  
chmod 755 ../blib/arch/auto/Encode/Byte/Byte.so
make[1]: Leaving directory '/home/genehack/.cpanm/work/1634423807.741355/Encode-3.16/Byte'
make[1]: Entering directory '/home/genehack/.cpanm/work/1634423807.741355/Encode-3.16/CN'
cp CN.pm ../blib/lib/Encode/CN.pm
Running Mkbootstrap for CN ()
chmod 644 "CN.bs"
"/opt/plenv/versions/5.35.4/bin/perl5.35.4" -MExtUtils::Command::MM -e 'cp_nonempty' -- CN.bs ../blib/arch/auto/Encode/CN/CN.bs 644
"/opt/plenv/versions/5.35.4/bin/perl5.35.4"  ../bin/enc2xs -"Q" -o cp_00_t.c -f cp_00_t.fnm
Reading cp936 (cp936)
"/opt/plenv/versions/5.35.4/bin/perl5.35.4"  ../bin/enc2xs -"Q" -o eu_01_t.c -f eu_01_t.fnm
Reading euc-cn (euc-cn)
"/opt/plenv/versions/5.35.4/bin/perl5.35.4"  ../bin/enc2xs -"Q" -o gb_02_t.c -f gb_02_t.fnm
Reading gb12345-raw (gb12345-raw)
"/opt/plenv/versions/5.35.4/bin/perl5.35.4"  ../bin/enc2xs -"Q" -o gb_03_t.c -f gb_03_t.fnm
Reading gb2312-raw (gb2312-raw)
"/opt/plenv/versions/5.35.4/bin/perl5.35.4"  ../bin/enc2xs -"Q" -o ir_04_t.c -f ir_04_t.fnm
Reading iso-ir-165 (iso-ir-165)
"/opt/plenv/versions/5.35.4/bin/perl5.35.4"  ../bin/enc2xs -"Q" -o ma_05_t.c -f ma_05_t.fnm
Reading MacChineseSimp (MacChineseSimp)
"/opt/plenv/versions/5.35.4/bin/perl5.35.4" "/opt/plenv/versions/5.35.4/lib/perl5/5.35.4/ExtUtils/xsubpp" -noprototypes -nolinenumbers -typemap '/opt/plenv/versions/5.35.4/lib/perl5/5.35.4/ExtUtils/typemap'  CN.xs > CN.xsc
mv CN.xsc CN.c
cc -c -I./Encode  -I../Encode -fwrapv -fno-strict-aliasing -pipe -fstack-protector-strong -I/usr/local/include -D_LARGEFILE_SOURCE -D_FILE_OFFSET_BITS=64 -D_FORTIFY_SOURCE=2 -Werror=declaration-after-statement -Wpointer-sign -O2   -DVERSION=\"2.03\" -DXS_VERSION=\"2.03\" -fPIC "-I/opt/plenv/versions/5.35.4/lib/perl5/5.35.4/x86_64-linux/CORE"   CN.c
cc -c -I./Encode  -I../Encode -fwrapv -fno-strict-aliasing -pipe -fstack-protector-strong -I/usr/local/include -D_LARGEFILE_SOURCE -D_FILE_OFFSET_BITS=64 -D_FORTIFY_SOURCE=2 -Werror=declaration-after-statement -Wpointer-sign -O2   -DVERSION=\"2.03\" -DXS_VERSION=\"2.03\" -fPIC "-I/opt/plenv/versions/5.35.4/lib/perl5/5.35.4/x86_64-linux/CORE"   cp_00_t.c
cc -c -I./Encode  -I../Encode -fwrapv -fno-strict-aliasing -pipe -fstack-protector-strong -I/usr/local/include -D_LARGEFILE_SOURCE -D_FILE_OFFSET_BITS=64 -D_FORTIFY_SOURCE=2 -Werror=declaration-after-statement -Wpointer-sign -O2   -DVERSION=\"2.03\" -DXS_VERSION=\"2.03\" -fPIC "-I/opt/plenv/versions/5.35.4/lib/perl5/5.35.4/x86_64-linux/CORE"   eu_01_t.c
cc -c -I./Encode  -I../Encode -fwrapv -fno-strict-aliasing -pipe -fstack-protector-strong -I/usr/local/include -D_LARGEFILE_SOURCE -D_FILE_OFFSET_BITS=64 -D_FORTIFY_SOURCE=2 -Werror=declaration-after-statement -Wpointer-sign -O2   -DVERSION=\"2.03\" -DXS_VERSION=\"2.03\" -fPIC "-I/opt/plenv/versions/5.35.4/lib/perl5/5.35.4/x86_64-linux/CORE"   gb_02_t.c
cc -c -I./Encode  -I../Encode -fwrapv -fno-strict-aliasing -pipe -fstack-protector-strong -I/usr/local/include -D_LARGEFILE_SOURCE -D_FILE_OFFSET_BITS=64 -D_FORTIFY_SOURCE=2 -Werror=declaration-after-statement -Wpointer-sign -O2   -DVERSION=\"2.03\" -DXS_VERSION=\"2.03\" -fPIC "-I/opt/plenv/versions/5.35.4/lib/perl5/5.35.4/x86_64-linux/CORE"   gb_03_t.c
cc -c -I./Encode  -I../Encode -fwrapv -fno-strict-aliasing -pipe -fstack-protector-strong -I/usr/local/include -D_LARGEFILE_SOURCE -D_FILE_OFFSET_BITS=64 -D_FORTIFY_SOURCE=2 -Werror=declaration-after-statement -Wpointer-sign -O2   -DVERSION=\"2.03\" -DXS_VERSION=\"2.03\" -fPIC "-I/opt/plenv/versions/5.35.4/lib/perl5/5.35.4/x86_64-linux/CORE"   ir_04_t.c
cc -c -I./Encode  -I../Encode -fwrapv -fno-strict-aliasing -pipe -fstack-protector-strong -I/usr/local/include -D_LARGEFILE_SOURCE -D_FILE_OFFSET_BITS=64 -D_FORTIFY_SOURCE=2 -Werror=declaration-after-statement -Wpointer-sign -O2   -DVERSION=\"2.03\" -DXS_VERSION=\"2.03\" -fPIC "-I/opt/plenv/versions/5.35.4/lib/perl5/5.35.4/x86_64-linux/CORE"   ma_05_t.c
rm -f ../blib/arch/auto/Encode/CN/CN.so
cc  -shared -O2 -L/usr/local/lib -L/opt/local/lib -fstack-protector-strong  CN.o cp_00_t.o eu_01_t.o gb_02_t.o gb_03_t.o ir_04_t.o ma_05_t.o  -o ../blib/arch/auto/Encode/CN/CN.so  \
      \
  
chmod 755 ../blib/arch/auto/Encode/CN/CN.so
make[1]: Leaving directory '/home/genehack/.cpanm/work/1634423807.741355/Encode-3.16/CN'
make[1]: Entering directory '/home/genehack/.cpanm/work/1634423807.741355/Encode-3.16/EBCDIC'
cp EBCDIC.pm ../blib/lib/Encode/EBCDIC.pm
Running Mkbootstrap for EBCDIC ()
chmod 644 "EBCDIC.bs"
"/opt/plenv/versions/5.35.4/bin/perl5.35.4" -MExtUtils::Command::MM -e 'cp_nonempty' -- EBCDIC.bs ../blib/arch/auto/Encode/EBCDIC/EBCDIC.bs 644
"/opt/plenv/versions/5.35.4/bin/perl5.35.4"  ../bin/enc2xs -"Q" -"O" -o ebcdic_t.c -f ebcdic_t.fnm
Reading cp37 (cp37)
Reading cp1026 (cp1026)
Reading cp1047 (cp1047)
Reading cp500 (cp500)
Reading cp875 (cp875)
Reading posix-bc (posix-bc)
"/opt/plenv/versions/5.35.4/bin/perl5.35.4" "/opt/plenv/versions/5.35.4/lib/perl5/5.35.4/ExtUtils/xsubpp"  -nolinenumbers -typemap '/opt/plenv/versions/5.35.4/lib/perl5/5.35.4/ExtUtils/typemap'  EBCDIC.xs > EBCDIC.xsc
mv EBCDIC.xsc EBCDIC.c
cc -c -I./Encode  -I../Encode -fwrapv -fno-strict-aliasing -pipe -fstack-protector-strong -I/usr/local/include -D_LARGEFILE_SOURCE -D_FILE_OFFSET_BITS=64 -D_FORTIFY_SOURCE=2 -Werror=declaration-after-statement -Wpointer-sign -O2   -DVERSION=\"2.02\" -DXS_VERSION=\"2.02\" -fPIC "-I/opt/plenv/versions/5.35.4/lib/perl5/5.35.4/x86_64-linux/CORE"   EBCDIC.c
cc -c -I./Encode  -I../Encode -fwrapv -fno-strict-aliasing -pipe -fstack-protector-strong -I/usr/local/include -D_LARGEFILE_SOURCE -D_FILE_OFFSET_BITS=64 -D_FORTIFY_SOURCE=2 -Werror=declaration-after-statement -Wpointer-sign -O2   -DVERSION=\"2.02\" -DXS_VERSION=\"2.02\" -fPIC "-I/opt/plenv/versions/5.35.4/lib/perl5/5.35.4/x86_64-linux/CORE"   ebcdic_t.c
rm -f ../blib/arch/auto/Encode/EBCDIC/EBCDIC.so
cc  -shared -O2 -L/usr/local/lib -L/opt/local/lib -fstack-protector-strong  EBCDIC.o ebcdic_t.o  -o ../blib/arch/auto/Encode/EBCDIC/EBCDIC.so  \
      \
  
chmod 755 ../blib/arch/auto/Encode/EBCDIC/EBCDIC.so
make[1]: Leaving directory '/home/genehack/.cpanm/work/1634423807.741355/Encode-3.16/EBCDIC'
make[1]: Entering directory '/home/genehack/.cpanm/work/1634423807.741355/Encode-3.16/JP'
cp JP.pm ../blib/lib/Encode/JP.pm
Running Mkbootstrap for JP ()
chmod 644 "JP.bs"
"/opt/plenv/versions/5.35.4/bin/perl5.35.4" -MExtUtils::Command::MM -e 'cp_nonempty' -- JP.bs ../blib/arch/auto/Encode/JP/JP.bs 644
"/opt/plenv/versions/5.35.4/bin/perl5.35.4"  ../bin/enc2xs -"Q" -o cp_00_t.c -f cp_00_t.fnm
Reading cp932 (cp932)
"/opt/plenv/versions/5.35.4/bin/perl5.35.4"  ../bin/enc2xs -"Q" -o eu_01_t.c -f eu_01_t.fnm
Reading euc-jp (euc-jp)
"/opt/plenv/versions/5.35.4/bin/perl5.35.4"  ../bin/enc2xs -"Q" -o ji_02_t.c -f ji_02_t.fnm
Reading jis0201-raw (jis0201-raw)
"/opt/plenv/versions/5.35.4/bin/perl5.35.4"  ../bin/enc2xs -"Q" -o ji_03_t.c -f ji_03_t.fnm
Reading jis0208-raw (jis0208-raw)
"/opt/plenv/versions/5.35.4/bin/perl5.35.4"  ../bin/enc2xs -"Q" -o ji_04_t.c -f ji_04_t.fnm
Reading jis0212-raw (jis0212-raw)
"/opt/plenv/versions/5.35.4/bin/perl5.35.4"  ../bin/enc2xs -"Q" -o ma_05_t.c -f ma_05_t.fnm
Reading MacJapanese (MacJapanese)
"/opt/plenv/versions/5.35.4/bin/perl5.35.4"  ../bin/enc2xs -"Q" -o sh_06_t.c -f sh_06_t.fnm
Reading shiftjis (shiftjis)
"/opt/plenv/versions/5.35.4/bin/perl5.35.4" "/opt/plenv/versions/5.35.4/lib/perl5/5.35.4/ExtUtils/xsubpp"  -nolinenumbers -typemap '/opt/plenv/versions/5.35.4/lib/perl5/5.35.4/ExtUtils/typemap'  JP.xs > JP.xsc
mv JP.xsc JP.c
cc -c -I./Encode  -I../Encode -fwrapv -fno-strict-aliasing -pipe -fstack-protector-strong -I/usr/local/include -D_LARGEFILE_SOURCE -D_FILE_OFFSET_BITS=64 -D_FORTIFY_SOURCE=2 -Werror=declaration-after-statement -Wpointer-sign -O2   -DVERSION=\"2.05\" -DXS_VERSION=\"2.05\" -fPIC "-I/opt/plenv/versions/5.35.4/lib/perl5/5.35.4/x86_64-linux/CORE"   JP.c
cc -c -I./Encode  -I../Encode -fwrapv -fno-strict-aliasing -pipe -fstack-protector-strong -I/usr/local/include -D_LARGEFILE_SOURCE -D_FILE_OFFSET_BITS=64 -D_FORTIFY_SOURCE=2 -Werror=declaration-after-statement -Wpointer-sign -O2   -DVERSION=\"2.05\" -DXS_VERSION=\"2.05\" -fPIC "-I/opt/plenv/versions/5.35.4/lib/perl5/5.35.4/x86_64-linux/CORE"   cp_00_t.c
cc -c -I./Encode  -I../Encode -fwrapv -fno-strict-aliasing -pipe -fstack-protector-strong -I/usr/local/include -D_LARGEFILE_SOURCE -D_FILE_OFFSET_BITS=64 -D_FORTIFY_SOURCE=2 -Werror=declaration-after-statement -Wpointer-sign -O2   -DVERSION=\"2.05\" -DXS_VERSION=\"2.05\" -fPIC "-I/opt/plenv/versions/5.35.4/lib/perl5/5.35.4/x86_64-linux/CORE"   eu_01_t.c
cc -c -I./Encode  -I../Encode -fwrapv -fno-strict-aliasing -pipe -fstack-protector-strong -I/usr/local/include -D_LARGEFILE_SOURCE -D_FILE_OFFSET_BITS=64 -D_FORTIFY_SOURCE=2 -Werror=declaration-after-statement -Wpointer-sign -O2   -DVERSION=\"2.05\" -DXS_VERSION=\"2.05\" -fPIC "-I/opt/plenv/versions/5.35.4/lib/perl5/5.35.4/x86_64-linux/CORE"   ji_02_t.c
cc -c -I./Encode  -I../Encode -fwrapv -fno-strict-aliasing -pipe -fstack-protector-strong -I/usr/local/include -D_LARGEFILE_SOURCE -D_FILE_OFFSET_BITS=64 -D_FORTIFY_SOURCE=2 -Werror=declaration-after-statement -Wpointer-sign -O2   -DVERSION=\"2.05\" -DXS_VERSION=\"2.05\" -fPIC "-I/opt/plenv/versions/5.35.4/lib/perl5/5.35.4/x86_64-linux/CORE"   ji_03_t.c
cc -c -I./Encode  -I../Encode -fwrapv -fno-strict-aliasing -pipe -fstack-protector-strong -I/usr/local/include -D_LARGEFILE_SOURCE -D_FILE_OFFSET_BITS=64 -D_FORTIFY_SOURCE=2 -Werror=declaration-after-statement -Wpointer-sign -O2   -DVERSION=\"2.05\" -DXS_VERSION=\"2.05\" -fPIC "-I/opt/plenv/versions/5.35.4/lib/perl5/5.35.4/x86_64-linux/CORE"   ji_04_t.c
cc -c -I./Encode  -I../Encode -fwrapv -fno-strict-aliasing -pipe -fstack-protector-strong -I/usr/local/include -D_LARGEFILE_SOURCE -D_FILE_OFFSET_BITS=64 -D_FORTIFY_SOURCE=2 -Werror=declaration-after-statement -Wpointer-sign -O2   -DVERSION=\"2.05\" -DXS_VERSION=\"2.05\" -fPIC "-I/opt/plenv/versions/5.35.4/lib/perl5/5.35.4/x86_64-linux/CORE"   ma_05_t.c
cc -c -I./Encode  -I../Encode -fwrapv -fno-strict-aliasing -pipe -fstack-protector-strong -I/usr/local/include -D_LARGEFILE_SOURCE -D_FILE_OFFSET_BITS=64 -D_FORTIFY_SOURCE=2 -Werror=declaration-after-statement -Wpointer-sign -O2   -DVERSION=\"2.05\" -DXS_VERSION=\"2.05\" -fPIC "-I/opt/plenv/versions/5.35.4/lib/perl5/5.35.4/x86_64-linux/CORE"   sh_06_t.c
rm -f ../blib/arch/auto/Encode/JP/JP.so
cc  -shared -O2 -L/usr/local/lib -L/opt/local/lib -fstack-protector-strong  JP.o cp_00_t.o eu_01_t.o ji_02_t.o ji_03_t.o ji_04_t.o ma_05_t.o sh_06_t.o  -o ../blib/arch/auto/Encode/JP/JP.so  \
      \
  
chmod 755 ../blib/arch/auto/Encode/JP/JP.so
make[1]: Leaving directory '/home/genehack/.cpanm/work/1634423807.741355/Encode-3.16/JP'
make[1]: Entering directory '/home/genehack/.cpanm/work/1634423807.741355/Encode-3.16/KR'
cp KR.pm ../blib/lib/Encode/KR.pm
Running Mkbootstrap for KR ()
chmod 644 "KR.bs"
"/opt/plenv/versions/5.35.4/bin/perl5.35.4" -MExtUtils::Command::MM -e 'cp_nonempty' -- KR.bs ../blib/arch/auto/Encode/KR/KR.bs 644
"/opt/plenv/versions/5.35.4/bin/perl5.35.4"  ../bin/enc2xs -"Q" -o cp_00_t.c -f cp_00_t.fnm
Reading cp949 (cp949)
"/opt/plenv/versions/5.35.4/bin/perl5.35.4"  ../bin/enc2xs -"Q" -o eu_01_t.c -f eu_01_t.fnm
Reading euc-kr (euc-kr)
"/opt/plenv/versions/5.35.4/bin/perl5.35.4"  ../bin/enc2xs -"Q" -o jo_02_t.c -f jo_02_t.fnm
Reading johab (johab)
"/opt/plenv/versions/5.35.4/bin/perl5.35.4"  ../bin/enc2xs -"Q" -o ks_03_t.c -f ks_03_t.fnm
Reading ksc5601-raw (ksc5601-raw)
"/opt/plenv/versions/5.35.4/bin/perl5.35.4"  ../bin/enc2xs -"Q" -o ma_04_t.c -f ma_04_t.fnm
Reading MacKorean (MacKorean)
"/opt/plenv/versions/5.35.4/bin/perl5.35.4" "/opt/plenv/versions/5.35.4/lib/perl5/5.35.4/ExtUtils/xsubpp"  -nolinenumbers -typemap '/opt/plenv/versions/5.35.4/lib/perl5/5.35.4/ExtUtils/typemap'  KR.xs > KR.xsc
mv KR.xsc KR.c
cc -c -I./Encode  -I../Encode -fwrapv -fno-strict-aliasing -pipe -fstack-protector-strong -I/usr/local/include -D_LARGEFILE_SOURCE -D_FILE_OFFSET_BITS=64 -D_FORTIFY_SOURCE=2 -Werror=declaration-after-statement -Wpointer-sign -O2   -DVERSION=\"2.03\" -DXS_VERSION=\"2.03\" -fPIC "-I/opt/plenv/versions/5.35.4/lib/perl5/5.35.4/x86_64-linux/CORE"   KR.c
cc -c -I./Encode  -I../Encode -fwrapv -fno-strict-aliasing -pipe -fstack-protector-strong -I/usr/local/include -D_LARGEFILE_SOURCE -D_FILE_OFFSET_BITS=64 -D_FORTIFY_SOURCE=2 -Werror=declaration-after-statement -Wpointer-sign -O2   -DVERSION=\"2.03\" -DXS_VERSION=\"2.03\" -fPIC "-I/opt/plenv/versions/5.35.4/lib/perl5/5.35.4/x86_64-linux/CORE"   cp_00_t.c
cc -c -I./Encode  -I../Encode -fwrapv -fno-strict-aliasing -pipe -fstack-protector-strong -I/usr/local/include -D_LARGEFILE_SOURCE -D_FILE_OFFSET_BITS=64 -D_FORTIFY_SOURCE=2 -Werror=declaration-after-statement -Wpointer-sign -O2   -DVERSION=\"2.03\" -DXS_VERSION=\"2.03\" -fPIC "-I/opt/plenv/versions/5.35.4/lib/perl5/5.35.4/x86_64-linux/CORE"   eu_01_t.c
cc -c -I./Encode  -I../Encode -fwrapv -fno-strict-aliasing -pipe -fstack-protector-strong -I/usr/local/include -D_LARGEFILE_SOURCE -D_FILE_OFFSET_BITS=64 -D_FORTIFY_SOURCE=2 -Werror=declaration-after-statement -Wpointer-sign -O2   -DVERSION=\"2.03\" -DXS_VERSION=\"2.03\" -fPIC "-I/opt/plenv/versions/5.35.4/lib/perl5/5.35.4/x86_64-linux/CORE"   jo_02_t.c
cc -c -I./Encode  -I../Encode -fwrapv -fno-strict-aliasing -pipe -fstack-protector-strong -I/usr/local/include -D_LARGEFILE_SOURCE -D_FILE_OFFSET_BITS=64 -D_FORTIFY_SOURCE=2 -Werror=declaration-after-statement -Wpointer-sign -O2   -DVERSION=\"2.03\" -DXS_VERSION=\"2.03\" -fPIC "-I/opt/plenv/versions/5.35.4/lib/perl5/5.35.4/x86_64-linux/CORE"   ks_03_t.c
cc -c -I./Encode  -I../Encode -fwrapv -fno-strict-aliasing -pipe -fstack-protector-strong -I/usr/local/include -D_LARGEFILE_SOURCE -D_FILE_OFFSET_BITS=64 -D_FORTIFY_SOURCE=2 -Werror=declaration-after-statement -Wpointer-sign -O2   -DVERSION=\"2.03\" -DXS_VERSION=\"2.03\" -fPIC "-I/opt/plenv/versions/5.35.4/lib/perl5/5.35.4/x86_64-linux/CORE"   ma_04_t.c
rm -f ../blib/arch/auto/Encode/KR/KR.so
cc  -shared -O2 -L/usr/local/lib -L/opt/local/lib -fstack-protector-strong  KR.o cp_00_t.o eu_01_t.o jo_02_t.o ks_03_t.o ma_04_t.o  -o ../blib/arch/auto/Encode/KR/KR.so  \
      \
  
chmod 755 ../blib/arch/auto/Encode/KR/KR.so
make[1]: Leaving directory '/home/genehack/.cpanm/work/1634423807.741355/Encode-3.16/KR'
make[1]: Entering directory '/home/genehack/.cpanm/work/1634423807.741355/Encode-3.16/Symbol'
cp Symbol.pm ../blib/lib/Encode/Symbol.pm
Running Mkbootstrap for Symbol ()
chmod 644 "Symbol.bs"
"/opt/plenv/versions/5.35.4/bin/perl5.35.4" -MExtUtils::Command::MM -e 'cp_nonempty' -- Symbol.bs ../blib/arch/auto/Encode/Symbol/Symbol.bs 644
"/opt/plenv/versions/5.35.4/bin/perl5.35.4"  ../bin/enc2xs -"Q" -"O" -o symbol_t.c -f symbol_t.fnm
Reading AdobeSymbol (AdobeSymbol)
Reading AdobeZdingbat (AdobeZdingbat)
Reading dingbats (dingbats)
Reading MacDingbats (MacDingbats)
Reading MacSymbol (MacSymbol)
Reading symbol (symbol)
"/opt/plenv/versions/5.35.4/bin/perl5.35.4" "/opt/plenv/versions/5.35.4/lib/perl5/5.35.4/ExtUtils/xsubpp"  -nolinenumbers -typemap '/opt/plenv/versions/5.35.4/lib/perl5/5.35.4/ExtUtils/typemap'  Symbol.xs > Symbol.xsc
mv Symbol.xsc Symbol.c
cc -c -I./Encode  -I../Encode -fwrapv -fno-strict-aliasing -pipe -fstack-protector-strong -I/usr/local/include -D_LARGEFILE_SOURCE -D_FILE_OFFSET_BITS=64 -D_FORTIFY_SOURCE=2 -Werror=declaration-after-statement -Wpointer-sign -O2   -DVERSION=\"2.02\" -DXS_VERSION=\"2.02\" -fPIC "-I/opt/plenv/versions/5.35.4/lib/perl5/5.35.4/x86_64-linux/CORE"   Symbol.c
cc -c -I./Encode  -I../Encode -fwrapv -fno-strict-aliasing -pipe -fstack-protector-strong -I/usr/local/include -D_LARGEFILE_SOURCE -D_FILE_OFFSET_BITS=64 -D_FORTIFY_SOURCE=2 -Werror=declaration-after-statement -Wpointer-sign -O2   -DVERSION=\"2.02\" -DXS_VERSION=\"2.02\" -fPIC "-I/opt/plenv/versions/5.35.4/lib/perl5/5.35.4/x86_64-linux/CORE"   symbol_t.c
rm -f ../blib/arch/auto/Encode/Symbol/Symbol.so
cc  -shared -O2 -L/usr/local/lib -L/opt/local/lib -fstack-protector-strong  Symbol.o symbol_t.o  -o ../blib/arch/auto/Encode/Symbol/Symbol.so  \
      \
  
chmod 755 ../blib/arch/auto/Encode/Symbol/Symbol.so
make[1]: Leaving directory '/home/genehack/.cpanm/work/1634423807.741355/Encode-3.16/Symbol'
make[1]: Entering directory '/home/genehack/.cpanm/work/1634423807.741355/Encode-3.16/TW'
cp TW.pm ../blib/lib/Encode/TW.pm
Running Mkbootstrap for TW ()
chmod 644 "TW.bs"
"/opt/plenv/versions/5.35.4/bin/perl5.35.4" -MExtUtils::Command::MM -e 'cp_nonempty' -- TW.bs ../blib/arch/auto/Encode/TW/TW.bs 644
"/opt/plenv/versions/5.35.4/bin/perl5.35.4"  ../bin/enc2xs -"Q" -o bi_00_t.c -f bi_00_t.fnm
Reading big5-eten (big5-eten)
"/opt/plenv/versions/5.35.4/bin/perl5.35.4"  ../bin/enc2xs -"Q" -o bi_01_t.c -f bi_01_t.fnm
Reading big5-hkscs (big5-hkscs)
"/opt/plenv/versions/5.35.4/bin/perl5.35.4"  ../bin/enc2xs -"Q" -o cp_02_t.c -f cp_02_t.fnm
Reading cp950 (cp950)
"/opt/plenv/versions/5.35.4/bin/perl5.35.4"  ../bin/enc2xs -"Q" -o ma_03_t.c -f ma_03_t.fnm
Reading MacChineseTrad (MacChineseTrad)
"/opt/plenv/versions/5.35.4/bin/perl5.35.4" "/opt/plenv/versions/5.35.4/lib/perl5/5.35.4/ExtUtils/xsubpp"  -nolinenumbers -typemap '/opt/plenv/versions/5.35.4/lib/perl5/5.35.4/ExtUtils/typemap'  TW.xs > TW.xsc
mv TW.xsc TW.c
cc -c -I./Encode  -I../Encode -fwrapv -fno-strict-aliasing -pipe -fstack-protector-strong -I/usr/local/include -D_LARGEFILE_SOURCE -D_FILE_OFFSET_BITS=64 -D_FORTIFY_SOURCE=2 -Werror=declaration-after-statement -Wpointer-sign -O2   -DVERSION=\"2.03\" -DXS_VERSION=\"2.03\" -fPIC "-I/opt/plenv/versions/5.35.4/lib/perl5/5.35.4/x86_64-linux/CORE"   TW.c
cc -c -I./Encode  -I../Encode -fwrapv -fno-strict-aliasing -pipe -fstack-protector-strong -I/usr/local/include -D_LARGEFILE_SOURCE -D_FILE_OFFSET_BITS=64 -D_FORTIFY_SOURCE=2 -Werror=declaration-after-statement -Wpointer-sign -O2   -DVERSION=\"2.03\" -DXS_VERSION=\"2.03\" -fPIC "-I/opt/plenv/versions/5.35.4/lib/perl5/5.35.4/x86_64-linux/CORE"   bi_00_t.c
cc -c -I./Encode  -I../Encode -fwrapv -fno-strict-aliasing -pipe -fstack-protector-strong -I/usr/local/include -D_LARGEFILE_SOURCE -D_FILE_OFFSET_BITS=64 -D_FORTIFY_SOURCE=2 -Werror=declaration-after-statement -Wpointer-sign -O2   -DVERSION=\"2.03\" -DXS_VERSION=\"2.03\" -fPIC "-I/opt/plenv/versions/5.35.4/lib/perl5/5.35.4/x86_64-linux/CORE"   bi_01_t.c
cc -c -I./Encode  -I../Encode -fwrapv -fno-strict-aliasing -pipe -fstack-protector-strong -I/usr/local/include -D_LARGEFILE_SOURCE -D_FILE_OFFSET_BITS=64 -D_FORTIFY_SOURCE=2 -Werror=declaration-after-statement -Wpointer-sign -O2   -DVERSION=\"2.03\" -DXS_VERSION=\"2.03\" -fPIC "-I/opt/plenv/versions/5.35.4/lib/perl5/5.35.4/x86_64-linux/CORE"   cp_02_t.c
cc -c -I./Encode  -I../Encode -fwrapv -fno-strict-aliasing -pipe -fstack-protector-strong -I/usr/local/include -D_LARGEFILE_SOURCE -D_FILE_OFFSET_BITS=64 -D_FORTIFY_SOURCE=2 -Werror=declaration-after-statement -Wpointer-sign -O2   -DVERSION=\"2.03\" -DXS_VERSION=\"2.03\" -fPIC "-I/opt/plenv/versions/5.35.4/lib/perl5/5.35.4/x86_64-linux/CORE"   ma_03_t.c
rm -f ../blib/arch/auto/Encode/TW/TW.so
cc  -shared -O2 -L/usr/local/lib -L/opt/local/lib -fstack-protector-strong  TW.o bi_00_t.o bi_01_t.o cp_02_t.o ma_03_t.o  -o ../blib/arch/auto/Encode/TW/TW.so  \
      \
  
chmod 755 ../blib/arch/auto/Encode/TW/TW.so
make[1]: Leaving directory '/home/genehack/.cpanm/work/1634423807.741355/Encode-3.16/TW'
make[1]: Entering directory '/home/genehack/.cpanm/work/1634423807.741355/Encode-3.16/Unicode'
cp Unicode.pm ../blib/lib/Encode/Unicode.pm
Running Mkbootstrap for Unicode ()
chmod 644 "Unicode.bs"
"/opt/plenv/versions/5.35.4/bin/perl5.35.4" -MExtUtils::Command::MM -e 'cp_nonempty' -- Unicode.bs ../blib/arch/auto/Encode/Unicode/Unicode.bs 644
"/opt/plenv/versions/5.35.4/bin/perl5.35.4" "/opt/plenv/versions/5.35.4/lib/perl5/5.35.4/ExtUtils/xsubpp"  -typemap '/opt/plenv/versions/5.35.4/lib/perl5/5.35.4/ExtUtils/typemap'  Unicode.xs > Unicode.xsc
mv Unicode.xsc Unicode.c
cc -c -I./Encode  -I../Encode -fwrapv -fno-strict-aliasing -pipe -fstack-protector-strong -I/usr/local/include -D_LARGEFILE_SOURCE -D_FILE_OFFSET_BITS=64 -D_FORTIFY_SOURCE=2 -Werror=declaration-after-statement -Wpointer-sign -O2   -DVERSION=\"2.19\" -DXS_VERSION=\"2.19\" -fPIC "-I/opt/plenv/versions/5.35.4/lib/perl5/5.35.4/x86_64-linux/CORE"   Unicode.c
rm -f ../blib/arch/auto/Encode/Unicode/Unicode.so
cc  -shared -O2 -L/usr/local/lib -L/opt/local/lib -fstack-protector-strong  Unicode.o  -o ../blib/arch/auto/Encode/Unicode/Unicode.so  \
      \
  
chmod 755 ../blib/arch/auto/Encode/Unicode/Unicode.so
make[1]: Leaving directory '/home/genehack/.cpanm/work/1634423807.741355/Encode-3.16/Unicode'
Running Mkbootstrap for Encode ()
chmod 644 "Encode.bs"
"/opt/plenv/versions/5.35.4/bin/perl5.35.4" -MExtUtils::Command::MM -e 'cp_nonempty' -- Encode.bs blib/arch/auto/Encode/Encode.bs 644
"/opt/plenv/versions/5.35.4/bin/perl5.35.4" "/opt/plenv/versions/5.35.4/lib/perl5/5.35.4/ExtUtils/xsubpp"  -typemap '/opt/plenv/versions/5.35.4/lib/perl5/5.35.4/ExtUtils/typemap'  Encode.xs > Encode.xsc
mv Encode.xsc Encode.c
"/opt/plenv/versions/5.35.4/bin/perl5.35.4"  bin/enc2xs -"Q" -"O" -o def_t.c -f def_t.fnm
Reading iso-8859-1 (iso-8859-1)
Reading ascii (ascii)
Reading cp1252 (cp1252)
Reading ascii-ctrl (ascii-ctrl)
Reading null (null)
cc -c  -I./Encode -fwrapv -fno-strict-aliasing -pipe -fstack-protector-strong -I/usr/local/include -D_LARGEFILE_SOURCE -D_FILE_OFFSET_BITS=64 -D_FORTIFY_SOURCE=2 -Werror=declaration-after-statement -Wpointer-sign -O2   -DVERSION=\"3.16\" -DXS_VERSION=\"3.16\" -fPIC "-I/opt/plenv/versions/5.35.4/lib/perl5/5.35.4/x86_64-linux/CORE"   Encode.c
cc -c  -I./Encode -fwrapv -fno-strict-aliasing -pipe -fstack-protector-strong -I/usr/local/include -D_LARGEFILE_SOURCE -D_FILE_OFFSET_BITS=64 -D_FORTIFY_SOURCE=2 -Werror=declaration-after-statement -Wpointer-sign -O2   -DVERSION=\"3.16\" -DXS_VERSION=\"3.16\" -fPIC "-I/opt/plenv/versions/5.35.4/lib/perl5/5.35.4/x86_64-linux/CORE"   def_t.c
cc -c  -I./Encode -fwrapv -fno-strict-aliasing -pipe -fstack-protector-strong -I/usr/local/include -D_LARGEFILE_SOURCE -D_FILE_OFFSET_BITS=64 -D_FORTIFY_SOURCE=2 -Werror=declaration-after-statement -Wpointer-sign -O2   -DVERSION=\"3.16\" -DXS_VERSION=\"3.16\" -fPIC "-I/opt/plenv/versions/5.35.4/lib/perl5/5.35.4/x86_64-linux/CORE"   encengine.c
rm -f blib/arch/auto/Encode/Encode.so
cc  -shared -O2 -L/usr/local/lib -L/opt/local/lib -fstack-protector-strong  Encode.o def_t.o encengine.o  -o blib/arch/auto/Encode/Encode.so  \
      \
  
chmod 755 blib/arch/auto/Encode/Encode.so
cp bin/enc2xs blib/script/enc2xs
"/opt/plenv/versions/5.35.4/bin/perl5.35.4" -MExtUtils::MY -e 'MY->fixin(shift)' -- blib/script/enc2xs
cp bin/encguess blib/script/encguess
"/opt/plenv/versions/5.35.4/bin/perl5.35.4" -MExtUtils::MY -e 'MY->fixin(shift)' -- blib/script/encguess
cp bin/piconv blib/script/piconv
"/opt/plenv/versions/5.35.4/bin/perl5.35.4" -MExtUtils::MY -e 'MY->fixin(shift)' -- blib/script/piconv
Manifying 3 pod documents
Manifying 18 pod documents
"/opt/plenv/versions/5.35.4/bin/perl5.35.4" -MExtUtils::Command::MM -e 'cp_nonempty' -- Encode.bs blib/arch/auto/Encode/Encode.bs 644
make[1]: Entering directory '/home/genehack/.cpanm/work/1634423807.741355/Encode-3.16/Byte'
"/opt/plenv/versions/5.35.4/bin/perl5.35.4" -MExtUtils::Command::MM -e 'cp_nonempty' -- Byte.bs ../blib/arch/auto/Encode/Byte/Byte.bs 644
make[1]: Leaving directory '/home/genehack/.cpanm/work/1634423807.741355/Encode-3.16/Byte'
make[1]: Entering directory '/home/genehack/.cpanm/work/1634423807.741355/Encode-3.16/CN'
"/opt/plenv/versions/5.35.4/bin/perl5.35.4" -MExtUtils::Command::MM -e 'cp_nonempty' -- CN.bs ../blib/arch/auto/Encode/CN/CN.bs 644
make[1]: Leaving directory '/home/genehack/.cpanm/work/1634423807.741355/Encode-3.16/CN'
make[1]: Entering directory '/home/genehack/.cpanm/work/1634423807.741355/Encode-3.16/EBCDIC'
"/opt/plenv/versions/5.35.4/bin/perl5.35.4" -MExtUtils::Command::MM -e 'cp_nonempty' -- EBCDIC.bs ../blib/arch/auto/Encode/EBCDIC/EBCDIC.bs 644
make[1]: Leaving directory '/home/genehack/.cpanm/work/1634423807.741355/Encode-3.16/EBCDIC'
make[1]: Entering directory '/home/genehack/.cpanm/work/1634423807.741355/Encode-3.16/JP'
"/opt/plenv/versions/5.35.4/bin/perl5.35.4" -MExtUtils::Command::MM -e 'cp_nonempty' -- JP.bs ../blib/arch/auto/Encode/JP/JP.bs 644
make[1]: Leaving directory '/home/genehack/.cpanm/work/1634423807.741355/Encode-3.16/JP'
make[1]: Entering directory '/home/genehack/.cpanm/work/1634423807.741355/Encode-3.16/KR'
"/opt/plenv/versions/5.35.4/bin/perl5.35.4" -MExtUtils::Command::MM -e 'cp_nonempty' -- KR.bs ../blib/arch/auto/Encode/KR/KR.bs 644
make[1]: Leaving directory '/home/genehack/.cpanm/work/1634423807.741355/Encode-3.16/KR'
make[1]: Entering directory '/home/genehack/.cpanm/work/1634423807.741355/Encode-3.16/Symbol'
"/opt/plenv/versions/5.35.4/bin/perl5.35.4" -MExtUtils::Command::MM -e 'cp_nonempty' -- Symbol.bs ../blib/arch/auto/Encode/Symbol/Symbol.bs 644
make[1]: Leaving directory '/home/genehack/.cpanm/work/1634423807.741355/Encode-3.16/Symbol'
make[1]: Entering directory '/home/genehack/.cpanm/work/1634423807.741355/Encode-3.16/TW'
"/opt/plenv/versions/5.35.4/bin/perl5.35.4" -MExtUtils::Command::MM -e 'cp_nonempty' -- TW.bs ../blib/arch/auto/Encode/TW/TW.bs 644
make[1]: Leaving directory '/home/genehack/.cpanm/work/1634423807.741355/Encode-3.16/TW'
make[1]: Entering directory '/home/genehack/.cpanm/work/1634423807.741355/Encode-3.16/Unicode'
"/opt/plenv/versions/5.35.4/bin/perl5.35.4" -MExtUtils::Command::MM -e 'cp_nonempty' -- Unicode.bs ../blib/arch/auto/Encode/Unicode/Unicode.bs 644
make[1]: Leaving directory '/home/genehack/.cpanm/work/1634423807.741355/Encode-3.16/Unicode'
make[1]: Entering directory '/home/genehack/.cpanm/work/1634423807.741355/Encode-3.16/Byte'
"/opt/plenv/versions/5.35.4/bin/perl5.35.4" -MExtUtils::Command::MM -e 'cp_nonempty' -- Byte.bs ../blib/arch/auto/Encode/Byte/Byte.bs 644
No tests defined for Encode::Byte extension.
make[1]: Leaving directory '/home/genehack/.cpanm/work/1634423807.741355/Encode-3.16/Byte'
make[1]: Entering directory '/home/genehack/.cpanm/work/1634423807.741355/Encode-3.16/CN'
"/opt/plenv/versions/5.35.4/bin/perl5.35.4" -MExtUtils::Command::MM -e 'cp_nonempty' -- CN.bs ../blib/arch/auto/Encode/CN/CN.bs 644
No tests defined for Encode::CN extension.
make[1]: Leaving directory '/home/genehack/.cpanm/work/1634423807.741355/Encode-3.16/CN'
make[1]: Entering directory '/home/genehack/.cpanm/work/1634423807.741355/Encode-3.16/EBCDIC'
"/opt/plenv/versions/5.35.4/bin/perl5.35.4" -MExtUtils::Command::MM -e 'cp_nonempty' -- EBCDIC.bs ../blib/arch/auto/Encode/EBCDIC/EBCDIC.bs 644
No tests defined for Encode::EBCDIC extension.
make[1]: Leaving directory '/home/genehack/.cpanm/work/1634423807.741355/Encode-3.16/EBCDIC'
make[1]: Entering directory '/home/genehack/.cpanm/work/1634423807.741355/Encode-3.16/JP'
"/opt/plenv/versions/5.35.4/bin/perl5.35.4" -MExtUtils::Command::MM -e 'cp_nonempty' -- JP.bs ../blib/arch/auto/Encode/JP/JP.bs 644
No tests defined for Encode::JP extension.
make[1]: Leaving directory '/home/genehack/.cpanm/work/1634423807.741355/Encode-3.16/JP'
make[1]: Entering directory '/home/genehack/.cpanm/work/1634423807.741355/Encode-3.16/KR'
"/opt/plenv/versions/5.35.4/bin/perl5.35.4" -MExtUtils::Command::MM -e 'cp_nonempty' -- KR.bs ../blib/arch/auto/Encode/KR/KR.bs 644
No tests defined for Encode::KR extension.
make[1]: Leaving directory '/home/genehack/.cpanm/work/1634423807.741355/Encode-3.16/KR'
make[1]: Entering directory '/home/genehack/.cpanm/work/1634423807.741355/Encode-3.16/Symbol'
"/opt/plenv/versions/5.35.4/bin/perl5.35.4" -MExtUtils::Command::MM -e 'cp_nonempty' -- Symbol.bs ../blib/arch/auto/Encode/Symbol/Symbol.bs 644
No tests defined for Encode::Symbol extension.
make[1]: Leaving directory '/home/genehack/.cpanm/work/1634423807.741355/Encode-3.16/Symbol'
make[1]: Entering directory '/home/genehack/.cpanm/work/1634423807.741355/Encode-3.16/TW'
"/opt/plenv/versions/5.35.4/bin/perl5.35.4" -MExtUtils::Command::MM -e 'cp_nonempty' -- TW.bs ../blib/arch/auto/Encode/TW/TW.bs 644
No tests defined for Encode::TW extension.
make[1]: Leaving directory '/home/genehack/.cpanm/work/1634423807.741355/Encode-3.16/TW'
make[1]: Entering directory '/home/genehack/.cpanm/work/1634423807.741355/Encode-3.16/Unicode'
"/opt/plenv/versions/5.35.4/bin/perl5.35.4" -MExtUtils::Command::MM -e 'cp_nonempty' -- Unicode.bs ../blib/arch/auto/Encode/Unicode/Unicode.bs 644
No tests defined for Encode::Unicode extension.
make[1]: Leaving directory '/home/genehack/.cpanm/work/1634423807.741355/Encode-3.16/Unicode'
PERL_DL_NONLAZY=1 "/opt/plenv/versions/5.35.4/bin/perl5.35.4" "-MExtUtils::Command::MM" "-MTest::Harness" "-e" "undef *Test::Harness::Switches; test_harness(0, 'blib/lib', 'blib/arch')" t/*.t
t/Aliases.t ................ ok
t/at-cn.t .................. ok
t/at-tw.t .................. ok
t/CJKT.t ................... ok
t/cow.t .................... ok
t/decode.t ................. ok
t/enc_data.t ............... skipped: encoding pragma not supported in Perl 5.26
t/enc_eucjp.t .............. skipped: Perl <=5.25.2 or cperl required
t/enc_module.t ............. skipped: encoding pragma not supported in Perl 5.26
t/enc_utf8.t ............... skipped: Perl <=5.25.2 or cperl required
t/Encode.t ................. ok
t/Encoder.t ................ ok
t/encoding-locale.t ........ ok
t/encoding.t ............... skipped: encoding pragma not supported in Perl 5.26
t/fallback.t ............... ok
t/from_to.t ................ ok
t/grow.t ................... ok
t/gsm0338.t ................ ok
t/guess.t .................. ok
t/isa.t .................... ok
t/jis7-fallback.t .......... ok
t/jperl.t .................. skipped: encoding pragma not supported in Perl 5.26
t/magic.t .................. ok
t/mime-header.t ............ ok
t/mime-name.t .............. ok
t/mime_header_iso2022jp.t .. ok
t/perlio.t ................. ok
t/piconv.t ................. ok
t/rt113164.t ............... ok
t/rt65541.t ................ ok
t/rt76824.t ................ ok
t/rt85489.t ................ ok
t/rt86327.t ................ ok
t/taint.t .................. ok
t/truncated_utf8.t ......... ok
t/undef.t .................. ok
t/Unicode.t ................ ok
# temp file: /tmp/toMJvibIUl
t/Unicode_trailing_nul.t ... ok
t/use-Encode-Alias.t ....... ok
t/utf8ref.t ................ ok
t/utf8strict.t ............. ok
t/utf8warnings.t ........... ok
t/whatwg-aliases.t ......... skipped: For maintainers only
t/xml.t .................... ok
All tests successful.
Files=44, Tests=7711,  7 wallclock secs ( 1.24 usr  0.18 sys +  6.15 cusr  0.55 csys =  8.12 CPU)
Result: PASS

------------------------------
PREREQUISITES
------------------------------

Prerequisite modules loaded:

    No requirements found

------------------------------
ENVIRONMENT AND OTHER CONTEXT
------------------------------

Environment variables:

    LANG = en_US.UTF-8
    LC_ALL = en_US.UTF-8
    PATH = /opt/plenv/versions/5.35.4/bin:/opt/plenv/libexec:/opt/plenv/plugins/perl-build/bin:/opt/plenv/shims:/opt/plenv/shims:/opt/plenv/bin:/home/genehack/bin:/opt/nvm/versions/node/v14.15.4/bin:/opt/go/bin:/opt/vim/bin:/opt/tmux/bin:/opt/ruby/bin:/opt/rust/bin:/opt/gitflow/bin:/opt/git/bin:/opt/emacs/bin:/opt/local/bin:/usr/local/bin:/usr/bin:/bin:/usr/local/games:/usr/games:/home/genehack/proj/go/bin:/opt/swift/usr/bin
    PERL_CPANM_OPT = --skip-installed --prompt
    SHELL = /bin/zsh
    TERM = screen-256color

Perl special variables (and OS-specific diagnostics, for MSWin32):

    EGID = 1001 24 25 27 29 30 44 46 102 125 1001
    EUID = 1001
    EXECUTABLE_NAME = /opt/plenv/versions/5.35.4/bin/perl5.35.4
    GID = 1001 24 25 27 29 30 44 46 102 125 1001
    UID = 1001

Perl module toolchain versions installed:

    Module              Have    
    ------------------- --------
    CPAN                2.28    
    CPAN::Meta          2.150010
    Cwd                 3.82    
    ExtUtils::CBuilder  0.280236
    ExtUtils::Command   7.62    
    ExtUtils::Install   2.20    
    ExtUtils::MakeMaker 7.62    
    ExtUtils::Manifest  1.73    
    ExtUtils::ParseXS   3.44    
    File::Spec          3.81    
    JSON                4.03    
    JSON::PP            4.06    
    Module::Build       0.4231  
    Module::Signature   n/a     
    Parse::CPAN::Meta   2.150010
    Test::Harness       3.43    
    Test::More          1.302188
    YAML                1.30    
    YAML::Syck          n/a     
    version             0.9929  


--

Summary of my perl5 (revision 5 version 35 subversion 4) configuration:
   
  Platform:
    osname=linux
    osvers=5.10.0-8-amd64
    archname=x86_64-linux
    uname='linux ferb 5.10.0-8-amd64 #1 smp debian 5.10.46-4 (2021-08-03) x86_64 gnulinux '
    config_args='-Dprefix=/opt/plenv/versions/5.35.4 -de -Dversiononly -Dusedevel -A'eval:scriptdir=/opt/plenv/versions/5.35.4/bin''
    hint=recommended
    useposix=true
    d_sigaction=define
    useithreads=undef
    usemultiplicity=undef
    use64bitint=define
    use64bitall=define
    uselongdouble=undef
    usemymalloc=n
    default_inc_excludes_dot=define
  Compiler:
    cc='cc'
    ccflags ='-fwrapv -fno-strict-aliasing -pipe -fstack-protector-strong -I/usr/local/include -D_LARGEFILE_SOURCE -D_FILE_OFFSET_BITS=64 -D_FORTIFY_SOURCE=2'
    optimize='-O2'
    cppflags='-fwrapv -fno-strict-aliasing -pipe -fstack-protector-strong -I/usr/local/include'
    ccversion=''
    gccversion='10.2.1 20210110'
    gccosandvers=''
    intsize=4
    longsize=8
    ptrsize=8
    doublesize=8
    byteorder=12345678
    doublekind=3
    d_longlong=define
    longlongsize=8
    d_longdbl=define
    longdblsize=16
    longdblkind=3
    ivtype='long'
    ivsize=8
    nvtype='double'
    nvsize=8
    Off_t='off_t'
    lseeksize=8
    alignbytes=8
    prototype=define
  Linker and Libraries:
    ld='cc'
    ldflags =' -fstack-protector-strong -L/usr/local/lib -L/opt/local/lib'
    libpth=/usr/local/lib /usr/lib/x86_64-linux-gnu /usr/lib /opt/local/lib /lib/x86_64-linux-gnu /lib
    libs=-lpthread -lnsl -lgdbm -ldl -lm -lcrypt -lutil -lc
    perllibs=-lpthread -lnsl -ldl -lm -lcrypt -lutil -lc
    libc=libc-2.31.so
    so=so
    useshrplib=false
    libperl=libperl.a
    gnulibc_version='2.31'
  Dynamic Linking:
    dlsrc=dl_dlopen.xs
    dlext=so
    d_dlsymun=undef
    ccdlflags='-Wl,-E'
    cccdlflags='-fPIC'
    lddlflags='-shared -O2 -L/usr/local/lib -L/opt/local/lib -fstack-protector-strong'


Characteristics of this binary (from libperl): 
  Compile-time options:
    HAS_TIMES
    PERLIO_LAYERS
    PERL_COPY_ON_WRITE
    PERL_DONT_CREATE_GVSV
    PERL_MALLOC_WRAP
    PERL_OP_PARENT
    PERL_PRESERVE_IVUV
    PERL_USE_DEVEL
    USE_64_BIT_ALL
    USE_64_BIT_INT
    USE_LARGE_FILES
    USE_LOCALE
    USE_LOCALE_COLLATE
    USE_LOCALE_CTYPE
    USE_LOCALE_NUMERIC
    USE_LOCALE_TIME
    USE_PERLIO
    USE_PERL_ATOF
  Built under linux
  Compiled at Sep 26 2021 11:18:28
  %ENV:
    PERL_CPANM_OPT="--skip-installed --prompt"
  @INC:
    /opt/plenv/versions/5.35.4/lib/perl5/site_perl/5.35.4/x86_64-linux
    /opt/plenv/versions/5.35.4/lib/perl5/site_perl/5.35.4
    /opt/plenv/versions/5.35.4/lib/perl5/5.35.4/x86_64-linux
    /opt/plenv/versions/5.35.4/lib/perl5/5.35.4