Statocles v0.094 Perl 5 v5.24.0 x86_64-linux
- Status
- Pass
- From
- Slaven Rezić (SREZIC)
- Dist
-
Statocles v0.094
- Platform
- Perl 5 v5.24.0 x86_64-linux
- Date
- 2019-08-14 04:05:26
- ID
- bf3743ec-be48-11e9-b8b2-cd3a1f24ea8f
This distribution has been tested as part of the CPAN Testers
project, supporting the Perl programming language. See
http://wiki.cpantesters.org/ for more information or email
questions to cpan-testers-discuss@perl.org
--
Dear Doug Bell,
This is a computer-generated report for Statocles-0.094
on perl 5.24.0, created by CPAN-Reporter-1.2018.
Thank you for uploading your work to CPAN. Congratulations!
All tests were successful.
Sections of this report:
* Tester comments
* Program output
* Prerequisites
* Environment and other context
------------------------------
TESTER COMMENTS
------------------------------
Additional comments from tester:
none provided
------------------------------
PROGRAM OUTPUT
------------------------------
Output from '/usr/bin/make test':
Skip blib/lib/auto/share/dist/Statocles/theme/default/plugin/highlight/solarized-dark.css (unchanged)
Skip blib/lib/auto/share/dist/Statocles/theme/bootstrap/plugin/highlight/solarized-light.css (unchanged)
Skip blib/lib/auto/share/dist/Statocles/theme/bootstrap/site/sidebar_before.html.ep (unchanged)
Skip blib/lib/auto/share/dist/Statocles/theme/default/css/statocles-default.css (unchanged)
Skip blib/lib/auto/share/dist/Statocles/zsh/_statocles (unchanged)
Skip blib/lib/auto/share/dist/Statocles/theme/default/site/header_after.html.ep (unchanged)
Skip blib/lib/auto/share/dist/Statocles/theme/default/layout/default.html.ep (unchanged)
Skip blib/lib/auto/share/dist/Statocles/theme/default/blog/index.rss.ep (unchanged)
Skip blib/lib/auto/share/dist/Statocles/theme/bootstrap/site/style.html (unchanged)
Skip blib/lib/auto/share/dist/Statocles/theme/default/site/style.html (unchanged)
Skip blib/lib/auto/share/dist/Statocles/theme/default/css/skeleton.css (unchanged)
Skip blib/lib/auto/share/dist/Statocles/theme/bootstrap/layout/default.html.ep (unchanged)
Skip blib/lib/auto/share/dist/Statocles/theme/default/layout/blank.html.ep (unchanged)
Skip blib/lib/auto/share/dist/Statocles/theme/default/site/footer.html.ep (unchanged)
Skip blib/lib/auto/share/dist/Statocles/theme/bootstrap/site/footer.html.ep (unchanged)
Skip blib/lib/auto/share/dist/Statocles/theme/default/site/sidebar_before.html.ep (unchanged)
Skip blib/lib/auto/share/dist/Statocles/theme/default/layout/full-width.html.ep (unchanged)
Skip blib/lib/auto/share/dist/Statocles/theme/bootstrap/site/head_after.html.ep (unchanged)
Skip blib/lib/auto/share/dist/Statocles/theme/bootstrap/perldoc/pod.html.ep (unchanged)
Skip blib/lib/auto/share/dist/Statocles/theme/bootstrap/plugin/highlight/solarized-dark.css (unchanged)
Skip blib/lib/auto/share/dist/Statocles/theme/bootstrap/css/statocles-bootstrap.css (unchanged)
Skip blib/lib/auto/share/dist/Statocles/create/page/index.markdown (unchanged)
Skip blib/lib/auto/share/dist/Statocles/create/script.yml (unchanged)
Skip blib/lib/auto/share/dist/Statocles/theme/default/perldoc/source.html.ep (unchanged)
Skip blib/lib/auto/share/dist/Statocles/create/site.yml (unchanged)
Skip blib/lib/auto/share/dist/Statocles/theme/bootstrap/layout/blank.html.ep (unchanged)
Skip blib/lib/auto/share/dist/Statocles/theme/default/blog/post.html.ep (unchanged)
Skip blib/lib/auto/share/dist/Statocles/theme/default/site/head_after.html.ep (unchanged)
Skip blib/lib/auto/share/dist/Statocles/theme/bootstrap/blog/index.atom.ep (unchanged)
Skip blib/lib/auto/share/dist/Statocles/theme/bootstrap/site/navbar_extra.html.ep (unchanged)
Skip blib/lib/auto/share/dist/Statocles/theme/default/plugin/highlight/default.css (unchanged)
Skip blib/lib/auto/share/dist/Statocles/theme/bootstrap/layout/full-width.html.ep (unchanged)
Skip blib/lib/auto/share/dist/Statocles/create/blog/post.markdown (unchanged)
Skip blib/lib/auto/share/dist/Statocles/theme/bootstrap/site/robots.txt.ep (unchanged)
Skip blib/lib/auto/share/dist/Statocles/theme/bootstrap/perldoc/source.html.ep (unchanged)
Skip blib/lib/auto/share/dist/Statocles/theme/bootstrap/blog/index.html.ep (unchanged)
Skip blib/lib/auto/share/dist/Statocles/theme/default/site/robots.txt.ep (unchanged)
Skip blib/lib/auto/share/dist/Statocles/theme/default/site/navbar_extra.html.ep (unchanged)
Skip blib/lib/auto/share/dist/Statocles/theme/default/site/sitemap.xml.ep (unchanged)
Skip blib/lib/auto/share/dist/Statocles/theme/default/css/normalize.css (unchanged)
Skip blib/lib/auto/share/dist/Statocles/theme/bootstrap/site/sitemap.xml.ep (unchanged)
Skip blib/lib/auto/share/dist/Statocles/theme/default/perldoc/pod.html.ep (unchanged)
Skip blib/lib/auto/share/dist/Statocles/theme/default/plugin/highlight/solarized-light.css (unchanged)
Skip blib/lib/auto/share/dist/Statocles/theme/bootstrap/blog/index.rss.ep (unchanged)
Skip blib/lib/auto/share/dist/Statocles/theme/bootstrap/blog/post.html.ep (unchanged)
Skip blib/lib/auto/share/dist/Statocles/theme/default/blog/index.html.ep (unchanged)
Skip blib/lib/auto/share/dist/Statocles/theme/bootstrap/plugin/highlight/default.css (unchanged)
Skip blib/lib/auto/share/dist/Statocles/theme/default/blog/index.atom.ep (unchanged)
Skip blib/lib/auto/share/dist/Statocles/theme/bootstrap/site/header_after.html.ep (unchanged)
PERL_DL_NONLAZY=1 "/opt/perl-5.24.0/bin/perl" "-MExtUtils::Command::MM" "-MTest::Harness" "-e" "undef *Test::Harness::Switches; test_harness(0, 'blib/lib', 'blib/arch')" t/*.t t/app/*.t t/app/basic/*.t t/app/blog/*.t t/app/perldoc/*.t t/app/role/*.t t/command/*.t t/deploy/*.t t/link/*.t t/page/*.t t/plugin/*.t t/template/*.t t/theme/*.t
t/00-compile.t ................ ok
#
# Versions for all modules listed in MYMETA.json (including optional ones):
#
# === Configure Requires ===
#
# Module Want Have
# ----------------------- ---- ----
# ExtUtils::MakeMaker any 7.24
# File::ShareDir::Install 0.06 0.11
#
# === Build Requires ===
#
# Module Want Have
# ------------------- ---- ----
# ExtUtils::MakeMaker any 7.24
#
# === Test Requires ===
#
# Module Want Have
# ------------------- -------- --------
# Capture::Tiny any 0.44
# Dir::Self any 0.11
# ExtUtils::MakeMaker any 7.24
# File::Spec any 3.63
# IO::Handle any 1.36
# IPC::Open3 any 1.20
# Storable any 2.56
# Test::Deep any 1.120
# Test::Differences 0.64 0.64
# Test::Exception 0.42 0.43
# Test::Lib any 0.002
# Test::More 1.001005 1.302052
#
# === Test Recommends ===
#
# Module Want Have
# ---------- -------- --------
# CPAN::Meta 2.120900 2.150010
#
# === Runtime Requires ===
#
# Module Want Have
# ------------------ -------- --------
# Beam::Emitter 0.007 1.002
# Beam::Wire 1.018 1.019
# DateTime::Moonpig any 1.03
# Encode any 2.93
# Encode::Locale any 1.05
# File::Share any 0.25
# Git::Repository any 1.320
# I18N::Langinfo any 0.13
# IPC::Open3 any 1.20
# Import::Base 0.012 1.002
# JSON::PP any 2.27300
# List::UtilsBy 0.09 0.10
# Mojolicious 6.54 7.05
# Moo 2.000001 2.002004
# Path::Tiny 0.084 0.096
# Pod::Simple 3.31 3.32
# Pod::Usage::Return any 0.003
# Role::Tiny 2.000008 2.000008
# Text::Markdown any 1.000031
# Text::Unidecode any 1.27
# Type::Tiny any 1.000005
# Types::Path::Tiny any 0.005
# YAML any 1.17
# strict any 1.11
# warnings any 1.36
#
# === Runtime Recommends ===
#
# Module Want Have
# ------------------------------- ----- --------
# HTML::Lint::Pluggable 0.06 0.07
# PPI any 1.220
# Pod::Elemental any 0.103004
# Pod::Weaver 4.015 4.013
# Syntax::Highlight::Engine::Kate any missing
#
t/00-report-prereqs.t ......... ok
t/app/basic/command.t ......... ok
t/app/basic/constructor.t ..... ok
t/app/basic/pages.t ........... ok
t/app/blog/command.t .......... ok
t/app/blog/constructor.t ...... ok
# Current LC_TIME locale: en_US.UTF-8
# Could not set locale to ru_RU. Still
t/app/blog/pages.t ............ ok
t/app/blog/post_date.t ........ ok
t/app/blog/recent_posts.t ..... ok
t/app/blog/slugs.t ............ ok
t/app/events.t ................ ok
t/app/perldoc/constructor.t ... ok
t/app/perldoc/highlight.t ..... skipped: Syntax::Highlight::Engine::Kate needed
t/app/perldoc/pages.t ......... ok
t/app/role/store.t ............ ok
t/app/template.t .............. ok
t/app/url.t ................... ok
t/command/apps.t .............. ok
t/command/build.t ............. ok
t/command/bundle.t ............ ok
# Git version: 1.007010
t/command/create.t ............ ok
t/command/daemon.t ............ ok
t/command/deploy.t ............ ok
t/command/error.t ............. ok
t/command/help_and_version.t .. ok
t/command/mojo_app.t .......... ok
t/deploy/file.t ............... ok
# Git version: 1.007010
[Wed Aug 14 05:39:06 2019] [warn] No files changed
[Wed Aug 14 05:39:06 2019] [warn] No files changed
[Wed Aug 14 05:39:08 2019] [warn] Git remote "origin" does not exist. Not pushing.
[Wed Aug 14 05:39:08 2019] [warn] Git remote "nondefault" does not exist. Not pushing.
t/deploy/git.t ................ ok
t/deprecated.t ................ ok
t/document.t .................. ok
t/image.t ..................... ok
t/link.t ...................... ok
t/link/tree.t ................. ok
t/page/basename.t ............. ok
t/page/content_sections.t ..... ok
Invalid data attribute in document "/required.markdown". Data attributes that are not hashes are deprecated and will be removed in v2.0. Please use a hash instead. See Statocles::Help::Upgrading
Invalid data attribute in document "/links/alternate_single.markdown". Data attributes that are not hashes are deprecated and will be removed in v2.0. Please use a hash instead. See Statocles::Help::Upgrading
t/page/document.t ............. ok
t/page/file.t ................. ok
t/page/images.t ............... ok
t/page/links.t ................ ok
t/page/list.t ................. ok
t/page/list_item.t ............ ok
[Wed Aug 14 05:39:15 2019] [debug] Render page: /path/to/page.html
t/page/plain.t ................ ok
t/page/type.t ................. ok
t/person.t .................... ok
t/plugin.t .................... ok
t/plugin/highlight.t .......... skipped: Syntax::Highlight::Engine::Kate needed
t/plugin/html_lint.t .......... ok
t/plugin/link_check.t ......... ok
t/plugin/mermaid.t ............ ok
t/site.t ...................... ok
# Current locale: en_US.UTF-8
t/statocles.t ................. ok
t/store.t ..................... ok
t/template/basic.t ............ ok
t/template/content.t .......... ok
t/template/include.t .......... ok
t/template/markdown.t ......... ok
t/theme/check.t ............... ok
t/theme/helper.t .............. ok
t/theme/pages.t ............... ok
t/theme/template.t ............ ok
t/types.t ..................... ok
sh: 1: HOPEFULLY_DOES_NOT_EXIST: not found
Terminated
t/util.t ...................... ok
All tests successful.
Files=63, Tests=315, 48 wallclock secs ( 0.15 usr 0.08 sys + 37.88 cusr 3.55 csys = 41.66 CPU)
Result: PASS
------------------------------
PREREQUISITES
------------------------------
Prerequisite modules loaded:
requires:
Module Need Have
----------------------- -------- --------
Beam::Emitter 0.007 1.002
Beam::Wire 1.018 1.019
DateTime::Moonpig 0 1.03
Encode 0 2.93
Encode::Locale 0 1.05
File::Share 0 0.25
Git::Repository 0 1.320
I18N::Langinfo 0 0.13
Import::Base 0.012 1.002
IPC::Open3 0 1.20
JSON::PP 0 2.27300
List::UtilsBy 0.09 0.10
Mojolicious 6.54 7.05
Moo 2.000001 2.002004
Path::Tiny 0.084 0.096
perl 5.014 5.024000
Pod::Simple 3.31 3.32
Pod::Usage::Return 0 0.003
Role::Tiny 2.000008 2.000008
strict 0 1.11
Text::Markdown 0 1.000031
Text::Unidecode 0 1.27
Type::Tiny 0 1.000005
Types::Path::Tiny 0 0.005
warnings 0 1.36
YAML 0 1.17
build_requires:
Module Need Have
----------------------- -------- --------
Capture::Tiny 0 0.44
Dir::Self 0 0.11
ExtUtils::MakeMaker 0 7.24
File::Spec 0 3.63
IO::Handle 0 1.36
IPC::Open3 0 1.20
Storable 0 2.56
Test::Deep 0 1.120
Test::Differences 0.64 0.64
Test::Exception 0.42 0.43
Test::Lib 0 0.002
Test::More 1.001005 1.302052
configure_requires:
Module Need Have
----------------------- -------- --------
ExtUtils::MakeMaker 0 7.24
File::ShareDir::Install 0.06 0.11
------------------------------
ENVIRONMENT AND OTHER CONTEXT
------------------------------
Environment variables:
LANG = en_US.UTF-8
LANGUAGE = en_US:en
LC_ALL = en_US.UTF-8
PATH = /usr/local/bin:/usr/bin:/bin:/usr/local/sbin:/usr/sbin:/sbin:/home/cpansand/bin/linux-gnu:/home/cpansand/bin/sh:/home/cpansand/bin:/usr/games:/home/cpansand/devel:/home/eserte/src/srezic-misc/scripts
PERL5LIB = /home/cpansand/.cpan/build/2019081405/Role-Tiny-2.000008-2/blib/arch:/home/cpansand/.cpan/build/2019081405/Role-Tiny-2.000008-2/blib/lib
PERL5OPT =
PERL5_CPANPLUS_IS_RUNNING = 1440
PERL5_CPAN_IS_RUNNING = 1440
PERL5_CPAN_IS_RUNNING_IN_RECURSION = 30475,1440
PERLDOC = -MPod::Perldoc::ToTextOverstrike
PERL_BATCH = yes
PERL_CANARY_STABILITY_NOPROMPT = 1
PERL_CPAN_REPORTER_CONFIG = /var/tmp/cpansmoker-1023/2019081405/cpanreporter_000_config.ini
PERL_EXTUTILS_AUTOINSTALL = --defaultdeps
PERL_USE_UNSAFE_INC = 1
SHELL = /bin/zsh
TERM = screen
TMPDIR = /var/tmp/cpansmoker-1023/2019081405
Perl special variables (and OS-specific diagnostics, for MSWin32):
$^X = /opt/perl-5.24.0/bin/perl
$UID/$EUID = 1023 / 1023
$GID = 1023 1023
$EGID = 1023 1023
Perl module toolchain versions installed:
Module Have
------------------- --------
CPAN 2.14
CPAN::Meta 2.150010
Cwd 3.63
ExtUtils::CBuilder 0.280225
ExtUtils::Command 7.24
ExtUtils::Install 2.04
ExtUtils::MakeMaker 7.24
ExtUtils::Manifest 1.70
ExtUtils::ParseXS 3.31
File::Spec 3.63
JSON 2.90
JSON::PP 2.27300
Module::Build 0.4220
Module::Signature 0.80
Parse::CPAN::Meta 2.150010
Test::Harness 3.36
Test::More 1.302052
YAML 1.17
YAML::Syck 1.29
version 0.9916
--
Summary of my perl5 (revision 5 version 24 subversion 0) configuration:
Platform:
osname=linux, osvers=3.2.0-4-amd64, archname=x86_64-linux
uname='linux cvrsnica-wheezy 3.2.0-4-amd64 #1 smp debian 3.2.54-2 x86_64 gnulinux '
config_args='-ds -e -Dprefix=/opt/perl-5.24.0 -Dcf_email=srezic@cpan.org'
hint=recommended, useposix=true, d_sigaction=define
useithreads=undef, usemultiplicity=undef
use64bitint=define, use64bitall=define, uselongdouble=undef
usemymalloc=n, bincompat5005=undef
Compiler:
cc='cc', ccflags ='-fwrapv -fno-strict-aliasing -pipe -fstack-protector -I/usr/local/include -D_LARGEFILE_SOURCE -D_FILE_OFFSET_BITS=64 -D_FORTIFY_SOURCE=2',
optimize='-O2',
cppflags='-fwrapv -fno-strict-aliasing -pipe -fstack-protector -I/usr/local/include'
ccversion='', gccversion='4.7.2', gccosandvers=''
intsize=4, longsize=8, ptrsize=8, doublesize=8, byteorder=12345678, doublekind=3
d_longlong=define, longlongsize=8, d_longdbl=define, longdblsize=16, longdblkind=3
ivtype='long', ivsize=8, nvtype='double', nvsize=8, Off_t='off_t', lseeksize=8
alignbytes=8, prototype=define
Linker and Libraries:
ld='cc', ldflags =' -fstack-protector -L/usr/local/lib'
libpth=/usr/local/lib /usr/lib/gcc/x86_64-linux-gnu/4.7/include-fixed /usr/include/x86_64-linux-gnu /usr/lib /lib/x86_64-linux-gnu /lib/../lib /usr/lib/x86_64-linux-gnu /usr/lib/../lib /lib
libs=-lpthread -lnsl -ldb -ldl -lm -lcrypt -lutil -lc
perllibs=-lpthread -lnsl -ldl -lm -lcrypt -lutil -lc
libc=libc-2.13.so, so=so, useshrplib=false, libperl=libperl.a
gnulibc_version='2.13'
Dynamic Linking:
dlsrc=dl_dlopen.xs, dlext=so, d_dlsymun=undef, ccdlflags='-Wl,-E'
cccdlflags='-fPIC', lddlflags='-shared -O2 -L/usr/local/lib -fstack-protector'
Characteristics of this binary (from libperl):
Compile-time options: HAS_TIMES PERLIO_LAYERS PERL_COPY_ON_WRITE
PERL_DONT_CREATE_GVSV
PERL_HASH_FUNC_ONE_AT_A_TIME_HARD PERL_MALLOC_WRAP
PERL_PRESERVE_IVUV USE_64_BIT_ALL USE_64_BIT_INT
USE_LARGE_FILES USE_LOCALE USE_LOCALE_COLLATE
USE_LOCALE_CTYPE USE_LOCALE_NUMERIC USE_LOCALE_TIME
USE_PERLIO USE_PERL_ATOF
Built under linux
Compiled at May 30 2016 08:43:25
%ENV:
PERL5LIB="/home/cpansand/.cpan/build/2019081405/Role-Tiny-2.000008-2/blib/arch:/home/cpansand/.cpan/build/2019081405/Role-Tiny-2.000008-2/blib/lib"
PERL5OPT=""
PERL5_CPANPLUS_IS_RUNNING="1440"
PERL5_CPAN_IS_RUNNING="1440"
PERL5_CPAN_IS_RUNNING_IN_RECURSION="30475,1440"
PERLDOC="-MPod::Perldoc::ToTextOverstrike"
PERL_BATCH="yes"
PERL_CANARY_STABILITY_NOPROMPT="1"
PERL_CPAN_REPORTER_CONFIG="/var/tmp/cpansmoker-1023/2019081405/cpanreporter_000_config.ini"
PERL_EXTUTILS_AUTOINSTALL="--defaultdeps"
PERL_USE_UNSAFE_INC="1"
@INC:
/home/cpansand/.cpan/build/2019081405/Role-Tiny-2.000008-2/blib/arch
/home/cpansand/.cpan/build/2019081405/Role-Tiny-2.000008-2/blib/lib
/opt/perl-5.24.0/lib/site_perl/5.24.0/x86_64-linux
/opt/perl-5.24.0/lib/site_perl/5.24.0
/opt/perl-5.24.0/lib/5.24.0/x86_64-linux
/opt/perl-5.24.0/lib/5.24.0
.