Encode v3.16 Perl 5 v5.22.4 x86_64-linux-thread-multi

Status
Pass
From
David Cantrell (DCANTRELL)
Dist
Encode v3.16
Platform
Perl 5 v5.22.4 x86_64-linux-thread-multi
Date
2022-02-06 16:13:38
ID
be6b8d7a-8767-11ec-8b82-460736b8ac9b
This distribution has been tested as part of the CPAN Testers
project, supporting the Perl programming language.  See
http://wiki.cpantesters.org/ for more information or email
questions to cpan-testers-discuss@perl.org


--
Dear Dan Kogai,

This is a computer-generated report for Encode-3.16
on perl 5.22.4, created by CPAN-Reporter-1.2018.

Thank you for uploading your work to CPAN.  Congratulations!
All tests were successful.

Sections of this report:

    * Tester comments
    * Program output
    * Prerequisites
    * Environment and other context

------------------------------
TESTER COMMENTS
------------------------------

Additional comments from tester:

this report is from an automated smoke testing program
and was not reviewed by a human for accuracy

------------------------------
PROGRAM OUTPUT
------------------------------

Output from '/usr/bin/make test':

make[1]: Entering directory '/home/david/cpantesting/perl-5.22.4/.cpan/build/Encode-3.16-CN1FJf/Byte'
Running Mkbootstrap for Encode::Byte ()
chmod 644 "Byte.bs"
make[1]: Leaving directory '/home/david/cpantesting/perl-5.22.4/.cpan/build/Encode-3.16-CN1FJf/Byte'
make[1]: Entering directory '/home/david/cpantesting/perl-5.22.4/.cpan/build/Encode-3.16-CN1FJf/CN'
Running Mkbootstrap for Encode::CN ()
chmod 644 "CN.bs"
make[1]: Leaving directory '/home/david/cpantesting/perl-5.22.4/.cpan/build/Encode-3.16-CN1FJf/CN'
make[1]: Entering directory '/home/david/cpantesting/perl-5.22.4/.cpan/build/Encode-3.16-CN1FJf/EBCDIC'
Running Mkbootstrap for Encode::EBCDIC ()
chmod 644 "EBCDIC.bs"
make[1]: Leaving directory '/home/david/cpantesting/perl-5.22.4/.cpan/build/Encode-3.16-CN1FJf/EBCDIC'
make[1]: Entering directory '/home/david/cpantesting/perl-5.22.4/.cpan/build/Encode-3.16-CN1FJf/JP'
Running Mkbootstrap for Encode::JP ()
chmod 644 "JP.bs"
make[1]: Leaving directory '/home/david/cpantesting/perl-5.22.4/.cpan/build/Encode-3.16-CN1FJf/JP'
make[1]: Entering directory '/home/david/cpantesting/perl-5.22.4/.cpan/build/Encode-3.16-CN1FJf/KR'
Running Mkbootstrap for Encode::KR ()
chmod 644 "KR.bs"
make[1]: Leaving directory '/home/david/cpantesting/perl-5.22.4/.cpan/build/Encode-3.16-CN1FJf/KR'
make[1]: Entering directory '/home/david/cpantesting/perl-5.22.4/.cpan/build/Encode-3.16-CN1FJf/Symbol'
Running Mkbootstrap for Encode::Symbol ()
chmod 644 "Symbol.bs"
make[1]: Leaving directory '/home/david/cpantesting/perl-5.22.4/.cpan/build/Encode-3.16-CN1FJf/Symbol'
make[1]: Entering directory '/home/david/cpantesting/perl-5.22.4/.cpan/build/Encode-3.16-CN1FJf/TW'
Running Mkbootstrap for Encode::TW ()
chmod 644 "TW.bs"
make[1]: Leaving directory '/home/david/cpantesting/perl-5.22.4/.cpan/build/Encode-3.16-CN1FJf/TW'
make[1]: Entering directory '/home/david/cpantesting/perl-5.22.4/.cpan/build/Encode-3.16-CN1FJf/Unicode'
Running Mkbootstrap for Encode::Unicode ()
chmod 644 "Unicode.bs"
make[1]: Leaving directory '/home/david/cpantesting/perl-5.22.4/.cpan/build/Encode-3.16-CN1FJf/Unicode'
Running Mkbootstrap for Encode ()
chmod 644 "Encode.bs"
PERL_DL_NONLAZY=1 "/home/david/cpantesting/perl-5.22.4/bin/perl" "-MExtUtils::Command::MM" "-MTest::Harness" "-e" "undef *Test::Harness::Switches; test_harness(0, 'blib/lib', 'blib/arch')" t/*.t
t/Aliases.t ................ ok
t/at-cn.t .................. ok
t/at-tw.t .................. ok
t/CJKT.t ................... ok
t/cow.t .................... ok
t/decode.t ................. ok
t/enc_data.t ............... ok
t/enc_eucjp.t .............. ok
t/enc_module.t ............. ok
t/enc_utf8.t ............... ok
t/Encode.t ................. ok
t/Encoder.t ................ ok
t/encoding-locale.t ........ ok
t/encoding.t ............... ok
t/fallback.t ............... ok
t/from_to.t ................ ok
t/grow.t ................... ok
t/gsm0338.t ................ ok
t/guess.t .................. ok
t/isa.t .................... ok
t/jis7-fallback.t .......... ok
t/jperl.t .................. ok
t/magic.t .................. ok
t/mime-header.t ............ ok
t/mime-name.t .............. ok
t/mime_header_iso2022jp.t .. ok
t/perlio.t ................. ok
t/piconv.t ................. ok
t/rt113164.t ............... ok
t/rt65541.t ................ ok
t/rt76824.t ................ ok
t/rt85489.t ................ ok
t/rt86327.t ................ ok
t/taint.t .................. ok
t/truncated_utf8.t ......... ok
t/undef.t .................. ok
t/Unicode.t ................ ok
# temp file: /tmp/rXAMyBmChb
t/Unicode_trailing_nul.t ... ok
t/use-Encode-Alias.t ....... ok
t/utf8ref.t ................ ok
t/utf8strict.t ............. ok
t/utf8warnings.t ........... ok
t/whatwg-aliases.t ......... skipped: For maintainers only
t/xml.t .................... ok
All tests successful.

Test Summary Report
-------------------
t/truncated_utf8.t       (Wstat: 0 Tests: 9 Failed: 0)
  TODO passed:   9
Files=44, Tests=7778, 35 wallclock secs ( 2.12 usr  0.18 sys + 11.07 cusr  1.06 csys = 14.43 CPU)
Result: PASS
make[1]: Entering directory '/home/david/cpantesting/perl-5.22.4/.cpan/build/Encode-3.16-CN1FJf/Byte'
No tests defined for Encode::Byte extension.
make[1]: Leaving directory '/home/david/cpantesting/perl-5.22.4/.cpan/build/Encode-3.16-CN1FJf/Byte'
make[1]: Entering directory '/home/david/cpantesting/perl-5.22.4/.cpan/build/Encode-3.16-CN1FJf/CN'
No tests defined for Encode::CN extension.
make[1]: Leaving directory '/home/david/cpantesting/perl-5.22.4/.cpan/build/Encode-3.16-CN1FJf/CN'
make[1]: Entering directory '/home/david/cpantesting/perl-5.22.4/.cpan/build/Encode-3.16-CN1FJf/EBCDIC'
No tests defined for Encode::EBCDIC extension.
make[1]: Leaving directory '/home/david/cpantesting/perl-5.22.4/.cpan/build/Encode-3.16-CN1FJf/EBCDIC'
make[1]: Entering directory '/home/david/cpantesting/perl-5.22.4/.cpan/build/Encode-3.16-CN1FJf/JP'
No tests defined for Encode::JP extension.
make[1]: Leaving directory '/home/david/cpantesting/perl-5.22.4/.cpan/build/Encode-3.16-CN1FJf/JP'
make[1]: Entering directory '/home/david/cpantesting/perl-5.22.4/.cpan/build/Encode-3.16-CN1FJf/KR'
No tests defined for Encode::KR extension.
make[1]: Leaving directory '/home/david/cpantesting/perl-5.22.4/.cpan/build/Encode-3.16-CN1FJf/KR'
make[1]: Entering directory '/home/david/cpantesting/perl-5.22.4/.cpan/build/Encode-3.16-CN1FJf/Symbol'
No tests defined for Encode::Symbol extension.
make[1]: Leaving directory '/home/david/cpantesting/perl-5.22.4/.cpan/build/Encode-3.16-CN1FJf/Symbol'
make[1]: Entering directory '/home/david/cpantesting/perl-5.22.4/.cpan/build/Encode-3.16-CN1FJf/TW'
No tests defined for Encode::TW extension.
make[1]: Leaving directory '/home/david/cpantesting/perl-5.22.4/.cpan/build/Encode-3.16-CN1FJf/TW'
make[1]: Entering directory '/home/david/cpantesting/perl-5.22.4/.cpan/build/Encode-3.16-CN1FJf/Unicode'
No tests defined for Encode::Unicode extension.
make[1]: Leaving directory '/home/david/cpantesting/perl-5.22.4/.cpan/build/Encode-3.16-CN1FJf/Unicode'

------------------------------
PREREQUISITES
------------------------------

Prerequisite modules loaded:

requires:

    Module              Need  Have    
    ------------------- ----- --------
    Exporter            5.57  5.72    
    parent              0.221 0.232   
    Storable            0     2.53_02 

build_requires:

    Module              Need  Have    
    ------------------- ----- --------
    ExtUtils::MakeMaker 0     7.04_02 
    Test::More          0.92  1.001014

configure_requires:

    Module              Need  Have    
    ------------------- ----- --------
    ExtUtils::MakeMaker 0     7.04_02 


------------------------------
ENVIRONMENT AND OTHER CONTEXT
------------------------------

Environment variables:

    AUTOMATED_TESTING = 1
    LANG = en_GB.UTF-8
    LANGUAGE = en_GB:en
    LC_TERMINAL = iTerm2
    LC_TERMINAL_VERSION = 3.4.14
    NONINTERACTIVE_TESTING = 1
    PATH = /home/david/perl5/perlbrew/bin:/home/david/perl5/perlbrew/perls/perl-5.30.2/bin:/home/david/bin:/usr/local/bin:/usr/bin:/bin:/usr/local/games:/usr/games
    PERL = 5.22.4
    PERL5LIB = 
    PERL5OPT = 
    PERL5_CPANPLUS_IS_RUNNING = 72619
    PERL5_CPAN_IS_RUNNING = 72619
    PERLBREW_HOME = /home/david/.perlbrew
    PERLBREW_MANPATH = /home/david/perl5/perlbrew/perls/perl-5.30.2/man
    PERLBREW_PATH = /home/david/perl5/perlbrew/bin:/home/david/perl5/perlbrew/perls/perl-5.30.2/bin
    PERLBREW_PERL = perl-5.30.2
    PERLBREW_ROOT = /home/david/perl5/perlbrew
    PERLBREW_SHELLRC_VERSION = 0.89
    PERLBREW_VERSION = 0.89
    PERLVER = 5.22.4
    PERL_INLINE_DIRECTORY = /home/david/.Inline-5.22.4
    PERL_MM_USE_DEFAULT = 1
    PERL_USE_UNSAFE_INC = 0
    SHELL = /bin/bash
    TERM = screen

Perl special variables (and OS-specific diagnostics, for MSWin32):

    $^X = /home/david/cpantesting/perl-5.22.4/bin/perl
    $UID/$EUID = 1000 / 1000
    $GID = 1000 24 25 27 29 30 44 46 109 1000
    $EGID = 1000 24 25 27 29 30 44 46 109 1000

Perl module toolchain versions installed:

    Module              Have      
    ------------------- ----------
    CPAN                2.11_01   
    CPAN::Meta          2.150001  
    Cwd                 3.56_02   
    ExtUtils::CBuilder  0.280221  
    ExtUtils::Command   1.20_01   
    ExtUtils::Install   2.04      
    ExtUtils::MakeMaker 7.04_02   
    ExtUtils::Manifest  1.70      
    ExtUtils::ParseXS   3.28      
    File::Spec          3.56_02   
    JSON                n/a       
    JSON::PP            2.27300_01
    Module::Build       0.4231    
    Module::Signature   n/a       
    Parse::CPAN::Meta   1.4414_001
    Test::Harness       3.35_01   
    Test::More          1.001014  
    YAML                n/a       
    YAML::Syck          n/a       
    version             0.9909    


--

Summary of my perl5 (revision 5 version 22 subversion 4) configuration:
   
  Platform:
    osname=linux, osvers=5.10.0-11-amd64, archname=x86_64-linux-thread-multi
    uname='linux cpantesting-linux-utm 5.10.0-11-amd64 #1 smp debian 5.10.92-1 (2022-01-18) x86_64 gnulinux '
    config_args='-de -Dusethreads -Dprefix=/home/david/cpantesting/perl-5.22.4'
    hint=recommended, useposix=true, d_sigaction=define
    useithreads=define, usemultiplicity=define
    use64bitint=define, use64bitall=define, uselongdouble=undef
    usemymalloc=n, bincompat5005=undef
  Compiler:
    cc='cc', ccflags ='-D_REENTRANT -D_GNU_SOURCE -fwrapv -fno-strict-aliasing -pipe -fstack-protector-strong -I/usr/local/include -D_LARGEFILE_SOURCE -D_FILE_OFFSET_BITS=64 -D_FORTIFY_SOURCE=2',
    optimize='-O2',
    cppflags='-D_REENTRANT -D_GNU_SOURCE -fwrapv -fno-strict-aliasing -pipe -fstack-protector-strong -I/usr/local/include'
    ccversion='', gccversion='10.2.1 20210110', gccosandvers=''
    intsize=4, longsize=8, ptrsize=8, doublesize=8, byteorder=12345678, doublekind=3
    d_longlong=define, longlongsize=8, d_longdbl=define, longdblsize=16, longdblkind=3
    ivtype='long', ivsize=8, nvtype='double', nvsize=8, Off_t='off_t', lseeksize=8
    alignbytes=8, prototype=define
  Linker and Libraries:
    ld='cc', ldflags =' -fstack-protector-strong -L/usr/local/lib'
    libpth=/usr/local/lib /usr/include/x86_64-linux-gnu /usr/lib /lib/x86_64-linux-gnu /lib/../lib /usr/lib/x86_64-linux-gnu /usr/lib/../lib /lib /lib64 /usr/lib64
    libs=-lpthread -lnsl -ldl -lm -lcrypt -lutil -lc
    perllibs=-lpthread -lnsl -ldl -lm -lcrypt -lutil -lc
    libc=libc-2.31.so, so=so, useshrplib=false, libperl=libperl.a
    gnulibc_version='2.31'
  Dynamic Linking:
    dlsrc=dl_dlopen.xs, dlext=so, d_dlsymun=undef, ccdlflags='-Wl,-E'
    cccdlflags='-fPIC', lddlflags='-shared -O2 -L/usr/local/lib -fstack-protector-strong'


Characteristics of this binary (from libperl): 
  Compile-time options: HAS_TIMES MULTIPLICITY PERLIO_LAYERS
                        PERL_DONT_CREATE_GVSV
                        PERL_HASH_FUNC_ONE_AT_A_TIME_HARD
                        PERL_IMPLICIT_CONTEXT PERL_MALLOC_WRAP
                        PERL_NEW_COPY_ON_WRITE PERL_PRESERVE_IVUV
                        USE_64_BIT_ALL USE_64_BIT_INT USE_ITHREADS
                        USE_LARGE_FILES USE_LOCALE USE_LOCALE_COLLATE
                        USE_LOCALE_CTYPE USE_LOCALE_NUMERIC USE_LOCALE_TIME
                        USE_PERLIO USE_PERL_ATOF USE_REENTRANT_API
  Locally applied patches:
	Devel::PatchPerl 2.08
  Built under linux
  Compiled at Feb  5 2022 21:04:39
  %ENV:
    PERL="5.22.4"
    PERL5LIB=""
    PERL5OPT=""
    PERL5_CPANPLUS_IS_RUNNING="72619"
    PERL5_CPAN_IS_RUNNING="72619"
    PERLBREW_HOME="/home/david/.perlbrew"
    PERLBREW_MANPATH="/home/david/perl5/perlbrew/perls/perl-5.30.2/man"
    PERLBREW_PATH="/home/david/perl5/perlbrew/bin:/home/david/perl5/perlbrew/perls/perl-5.30.2/bin"
    PERLBREW_PERL="perl-5.30.2"
    PERLBREW_ROOT="/home/david/perl5/perlbrew"
    PERLBREW_SHELLRC_VERSION="0.89"
    PERLBREW_VERSION="0.89"
    PERLVER="5.22.4"
    PERL_INLINE_DIRECTORY="/home/david/.Inline-5.22.4"
    PERL_MM_USE_DEFAULT="1"
    PERL_USE_UNSAFE_INC="0"
  @INC:
    /home/david/cpantesting/perl-5.22.4/lib/site_perl/5.22.4/x86_64-linux-thread-multi
    /home/david/cpantesting/perl-5.22.4/lib/site_perl/5.22.4
    /home/david/cpantesting/perl-5.22.4/lib/5.22.4/x86_64-linux-thread-multi
    /home/david/cpantesting/perl-5.22.4/lib/5.22.4
    .