App-sdif v4.39 Perl 5 v5.24.0 x86_64-linux-thread-multi

Status
Pass
From
Andreas J. König (ANDK)
Dist
App-sdif v4.39
Platform
Perl 5 v5.24.0 x86_64-linux-thread-multi
Date
2024-12-30 14:02:44
ID
bdfe041c-c6b6-11ef-9b09-adb346461edd
This distribution has been tested as part of the CPAN Testers
project, supporting the Perl programming language.  See
http://wiki.cpantesters.org/ for more information or email
questions to cpan-testers-discuss@perl.org


--
Dear Kaz Utashiro,

This is a computer-generated report for App-sdif-4.39
on perl 5.24.0, created by CPAN-Reporter-1.2020.

Thank you for uploading your work to CPAN.  Congratulations!
All tests were successful.

Sections of this report:

    * Tester comments
    * Program output
    * Prerequisites
    * Environment and other context

------------------------------
TESTER COMMENTS
------------------------------

Additional comments from tester:

this report is from an automated smoke testing program
and was not reviewed by a human for accuracy

------------------------------
PROGRAM OUTPUT
------------------------------

Output from './Build test':

t/00_compile.t .. ok
Can't locate Text/VisualWidth/PP.pm in @INC (you may need to install the Text::VisualWidth::PP module) (@INC entries checked: /tmp/loop_over_bdir-788307-Tp4zZ8/App-sdif-4.39-0/blib/arch /tmp/loop_over_bdir-788307-Tp4zZ8/App-sdif-4.39-0/blib/lib /tmp/loop_over_bdir-788307-Tp4zZ8/App-sdif-4.39-0/lib /etc/perl /usr/local/lib/x86_64-linux-gnu/perl/5.38.2 /usr/local/share/perl/5.38.2 /usr/lib/x86_64-linux-gnu/perl5/5.38 /usr/share/perl5 /usr/lib/x86_64-linux-gnu/perl-base /usr/lib/x86_64-linux-gnu/perl/5.38 /usr/share/perl/5.38 /usr/local/lib/site_perl .) at /tmp/loop_over_bdir-788307-Tp4zZ8/App-sdif-4.39-0/script/cdif line 22.
BEGIN failed--compilation aborted at /tmp/loop_over_bdir-788307-Tp4zZ8/App-sdif-4.39-0/script/cdif line 22.
Can't locate Text/VisualWidth/PP.pm in @INC (you may need to install the Text::VisualWidth::PP module) (@INC entries checked: /tmp/loop_over_bdir-788307-Tp4zZ8/App-sdif-4.39-0/blib/arch /tmp/loop_over_bdir-788307-Tp4zZ8/App-sdif-4.39-0/blib/lib /tmp/loop_over_bdir-788307-Tp4zZ8/App-sdif-4.39-0/lib /etc/perl /usr/local/lib/x86_64-linux-gnu/perl/5.38.2 /usr/local/share/perl/5.38.2 /usr/lib/x86_64-linux-gnu/perl5/5.38 /usr/share/perl5 /usr/lib/x86_64-linux-gnu/perl-base /usr/lib/x86_64-linux-gnu/perl/5.38 /usr/share/perl/5.38 /usr/local/lib/site_perl .) at /tmp/loop_over_bdir-788307-Tp4zZ8/App-sdif-4.39-0/script/cdif line 22.
BEGIN failed--compilation aborted at /tmp/loop_over_bdir-788307-Tp4zZ8/App-sdif-4.39-0/script/cdif line 22.
Can't locate Text/VisualWidth/PP.pm in @INC (you may need to install the Text::VisualWidth::PP module) (@INC entries checked: /tmp/loop_over_bdir-788307-Tp4zZ8/App-sdif-4.39-0/blib/arch /tmp/loop_over_bdir-788307-Tp4zZ8/App-sdif-4.39-0/blib/lib /tmp/loop_over_bdir-788307-Tp4zZ8/App-sdif-4.39-0/lib /etc/perl /usr/local/lib/x86_64-linux-gnu/perl/5.38.2 /usr/local/share/perl/5.38.2 /usr/lib/x86_64-linux-gnu/perl5/5.38 /usr/share/perl5 /usr/lib/x86_64-linux-gnu/perl-base /usr/lib/x86_64-linux-gnu/perl/5.38 /usr/share/perl/5.38 /usr/local/lib/site_perl .) at /tmp/loop_over_bdir-788307-Tp4zZ8/App-sdif-4.39-0/script/cdif line 22.
BEGIN failed--compilation aborted at /tmp/loop_over_bdir-788307-Tp4zZ8/App-sdif-4.39-0/script/cdif line 22.
Can't locate Text/VisualWidth/PP.pm in @INC (you may need to install the Text::VisualWidth::PP module) (@INC entries checked: /tmp/loop_over_bdir-788307-Tp4zZ8/App-sdif-4.39-0/blib/arch /tmp/loop_over_bdir-788307-Tp4zZ8/App-sdif-4.39-0/blib/lib /tmp/loop_over_bdir-788307-Tp4zZ8/App-sdif-4.39-0/lib /etc/perl /usr/local/lib/x86_64-linux-gnu/perl/5.38.2 /usr/local/share/perl/5.38.2 /usr/lib/x86_64-linux-gnu/perl5/5.38 /usr/share/perl5 /usr/lib/x86_64-linux-gnu/perl-base /usr/lib/x86_64-linux-gnu/perl/5.38 /usr/share/perl/5.38 /usr/local/lib/site_perl .) at /tmp/loop_over_bdir-788307-Tp4zZ8/App-sdif-4.39-0/script/cdif line 22.
BEGIN failed--compilation aborted at /tmp/loop_over_bdir-788307-Tp4zZ8/App-sdif-4.39-0/script/cdif line 22.
t/01_run.t ...... ok
Can't exec "mecab": No such file or directory at t/10_mecab.t line 29.
t/10_mecab.t .... skipped: No `mecab' command available.
All tests successful.
Files=3, Tests=19,  3 wallclock secs ( 0.04 usr  0.03 sys +  2.07 cusr  0.49 csys =  2.63 CPU)
Result: PASS

------------------------------
PREREQUISITES
------------------------------

Prerequisite modules loaded:

requires:

    Module                          Need    Have    
    ------------------------------- ------- --------
    Getopt::EX                      v1.25.0 2.2.1   
    Getopt::EX::Hashed              1.0503  1.0601  
    Getopt::EX::termcolor           1.07    1.08    
    List::Util                      1.45    1.63    
    perl                            v5.14.0 5.024000
    Term::ANSIColor::Concise        2.07    2.08    
    Term::ReadKey                   0       2.38    
    Text::ANSI::Fold                2.1101  2.2701  
    Text::VisualWidth::PP           0.05    0.05    
    Unicode::EastAsianWidth::Detect 0       0.03    

build_requires:

    Module                          Need    Have    
    ------------------------------- ------- --------
    Test::More                      0.98    1.302207

configure_requires:

    Module                          Need    Have    
    ------------------------------- ------- --------
    Module::Build::Tiny             0.035   0.048   


------------------------------
ENVIRONMENT AND OTHER CONTEXT
------------------------------

Environment variables:

    AUTOMATED_TESTING = 1
    LANG = en_US.UTF-8
    LANGUAGE = en_US:en
    PATH = /home/sand/bin:/usr/local/bin:/usr/bin:/bin:/usr/games:/usr/local/perl/bin:/usr/X11/bin:/sbin:/usr/sbin
    PERL5LIB = 
    PERL5OPT = 
    PERL5_CPANPLUS_IS_RUNNING = 2522981
    PERL5_CPAN_IS_RUNNING = 2522981
    PERL_CANARY_STABILITY_NOPROMPT = 1
    PERL_MM_USE_DEFAULT = 1
    PERL_USE_UNSAFE_INC = 1
    SHELL = /usr/bin/zsh
    TERM = screen

Perl special variables (and OS-specific diagnostics, for MSWin32):

    $^X = /home/sand/src/perl/repoperls/installed-perls/host/k93msid/v5.24.0/29fb/bin/perl
    $UID/$EUID = 1005 / 1005
    $GID = 1005 1005
    $EGID = 1005 1005

Perl module toolchain versions installed:

    Module              Have    
    ------------------- --------
    CPAN                2.34    
    CPAN::Meta          2.150010
    Cwd                 3.75    
    ExtUtils::CBuilder  0.280236
    ExtUtils::Command   7.70    
    ExtUtils::Install   2.22    
    ExtUtils::MakeMaker 7.70    
    ExtUtils::Manifest  1.75    
    ExtUtils::ParseXS   3.51    
    File::Spec          3.75    
    JSON                4.10    
    JSON::PP            4.12    
    Module::Build       0.4231  
    Module::Signature   0.88    
    Parse::CPAN::Meta   2.150010
    Test2               1.302207
    Test::Harness       3.44    
    Test::More          1.302207
    YAML                1.30    
    YAML::Syck          1.34    
    version             0.9932  


--

Summary of my perl5 (revision 5 version 24 subversion 0) configuration:
  Derived from: be2c0c650b028f54e427f2469a59942edfdff8a9
  Platform:
    osname=linux, osvers=5.16.0-6-amd64, archname=x86_64-linux-thread-multi
    uname='linux k93msid 5.16.0-6-amd64 #1 smp preempt debian 5.16.18-1 (2022-03-29) x86_64 gnulinux '
    config_args='-Dprefix=/home/sand/src/perl/repoperls/installed-perls/host/k93msid/v5.24.0/29fb -Dmyhostname=k93msid -Dinstallusrbinperl=n -Uversiononly -Dusedevel -des -Ui_db -Dlibswanted=cl pthread socket inet nsl gdbm dbm malloc dl ld sun m crypt sec util c cposix posix ucb BSD gdbm_compat -Duseithreads -Uuselongdouble -DEBUGGING=both'
    hint=recommended, useposix=true, d_sigaction=define
    useithreads=define, usemultiplicity=define
    use64bitint=define, use64bitall=define, uselongdouble=undef
    usemymalloc=n, bincompat5005=undef
  Compiler:
    cc='cc', ccflags ='-D_REENTRANT -D_GNU_SOURCE -fwrapv -DDEBUGGING -fno-strict-aliasing -pipe -fstack-protector-strong -I/usr/local/include -D_LARGEFILE_SOURCE -D_FILE_OFFSET_BITS=64 -D_FORTIFY_SOURCE=2',
    optimize='-O2 -g',
    cppflags='-D_REENTRANT -D_GNU_SOURCE -fwrapv -DDEBUGGING -fno-strict-aliasing -pipe -fstack-protector-strong -I/usr/local/include'
    ccversion='', gccversion='11.2.0', gccosandvers=''
    intsize=4, longsize=8, ptrsize=8, doublesize=8, byteorder=12345678, doublekind=3
    d_longlong=define, longlongsize=8, d_longdbl=define, longdblsize=16, longdblkind=3
    ivtype='long', ivsize=8, nvtype='double', nvsize=8, Off_t='off_t', lseeksize=8
    alignbytes=8, prototype=define
  Linker and Libraries:
    ld='cc', ldflags =' -fstack-protector-strong -L/usr/local/lib'
    libpth=/usr/local/lib /usr/include/x86_64-linux-gnu /usr/lib /lib/x86_64-linux-gnu /lib/../lib /usr/lib/x86_64-linux-gnu /usr/lib/../lib /lib
    libs=-lpthread -lnsl -ldl -lm -lcrypt -lutil -lc
    perllibs=-lpthread -lnsl -ldl -lm -lcrypt -lutil -lc
    libc=libc-2.33.so, so=so, useshrplib=false, libperl=libperl.a
    gnulibc_version='2.33'
  Dynamic Linking:
    dlsrc=dl_dlopen.xs, dlext=so, d_dlsymun=undef, ccdlflags='-Wl,-E'
    cccdlflags='-fPIC', lddlflags='-shared -O2 -g -L/usr/local/lib -fstack-protector-strong'


Characteristics of this binary (from libperl): 
  Compile-time options: DEBUGGING HAS_TIMES MULTIPLICITY PERLIO_LAYERS
                        PERL_COPY_ON_WRITE PERL_DONT_CREATE_GVSV
                        PERL_HASH_FUNC_ONE_AT_A_TIME_HARD
                        PERL_IMPLICIT_CONTEXT PERL_MALLOC_WRAP
                        PERL_PRESERVE_IVUV PERL_TRACK_MEMPOOL PERL_USE_DEVEL
                        USE_64_BIT_ALL USE_64_BIT_INT USE_ITHREADS
                        USE_LARGE_FILES USE_LOCALE USE_LOCALE_COLLATE
                        USE_LOCALE_CTYPE USE_LOCALE_NUMERIC USE_LOCALE_TIME
                        USE_PERLIO USE_PERL_ATOF USE_REENTRANT_API
  Locally applied patches:
	uncommitted-changes
  Built under linux
  Compiled at Apr 22 2022 08:18:39
  %ENV:
    PERL5LIB=""
    PERL5OPT=""
    PERL5_CPANPLUS_IS_RUNNING="2522981"
    PERL5_CPAN_IS_RUNNING="2522981"
    PERL_CANARY_STABILITY_NOPROMPT="1"
    PERL_MM_USE_DEFAULT="1"
    PERL_USE_UNSAFE_INC="1"
  @INC:
    /home/sand/src/perl/repoperls/installed-perls/host/k93msid/v5.24.0/29fb/lib/site_perl/5.24.0/x86_64-linux-thread-multi
    /home/sand/src/perl/repoperls/installed-perls/host/k93msid/v5.24.0/29fb/lib/site_perl/5.24.0
    /home/sand/src/perl/repoperls/installed-perls/host/k93msid/v5.24.0/29fb/lib/5.24.0/x86_64-linux-thread-multi
    /home/sand/src/perl/repoperls/installed-perls/host/k93msid/v5.24.0/29fb/lib/5.24.0
    .