Crypt-JWT v0.028 Perl 5 v5.24.4 armv7l-linux-multi

Status
Pass
From
Nigel Horne
Dist
Crypt-JWT v0.028
Platform
Perl 5 v5.24.4 armv7l-linux-multi
Date
2020-06-18 10:37:42
ID
bd9a8a44-b14f-11ea-bf4e-ad615dd88a75
This distribution has been tested as part of the CPAN Testers
project, supporting the Perl programming language.  See
http://wiki.cpantesters.org/ for more information or email
questions to cpan-testers-discuss@perl.org


--
Dear Karel Miko,

This is a computer-generated report for Crypt-JWT-0.028
on perl 5.24.4, created by CPAN-Reporter-1.2018.

Thank you for uploading your work to CPAN.  Congratulations!
All tests were successful.

Sections of this report:

    * Tester comments
    * Program output
    * Prerequisites
    * Environment and other context

------------------------------
TESTER COMMENTS
------------------------------

Additional comments from tester:

this report is from an automated smoke testing program
and was not reviewed by a human for accuracy

------------------------------
PROGRAM OUTPUT
------------------------------

Output from '/usr/bin/make test':

PERL_DL_NONLAZY=1 "/mnt/nas/home/pi4/njh/perl5/perlbrew/perls/perl-5.24.4-multi/bin/perl5.24.4" "-MExtUtils::Command::MM" "-MTest::Harness" "-e" "undef *Test::Harness::Switches; test_harness(0, 'blib/lib', 'blib/arch')" t/*.t
t/jws_empty_payload.t .. ok
t/flattened.t .......... ok
t/compile.t ............ ok
t/jws_no_key.t ......... ok
t/kw_aes.t ............. ok
t/jwt_params.t ......... ok
t/kw_ecdh.t ............ ok
t/kw_gcm.t ............. ok
t/jwt_decode_tv.t ...... ok
t/kw_ecdhaes.t ......... ok
t/kw_pbes2.t ........... ok
t/kw_rsa.t ............. ok
t/jwt_encode_decode.t .. ok
All tests successful.
Files=13, Tests=579,  9 wallclock secs ( 0.41 usr  0.03 sys + 11.22 cusr  0.66 csys = 12.32 CPU)
Result: PASS

------------------------------
PREREQUISITES
------------------------------

Prerequisite modules loaded:

requires:

    Module              Need  Have    
    ------------------- ----- --------
    Compress::Raw::Zlib 0     2.069   
    CryptX              0.067 0.068   
    Exporter            5.57  5.72    
    JSON                0     4.02    
    perl                5.006 5.024004
    Scalar::Util        0     1.54    
    Test::More          0     1.302175

build_requires:

    Module              Need  Have    
    ------------------- ----- --------
    ExtUtils::MakeMaker 0     7.44    

configure_requires:

    Module              Need  Have    
    ------------------- ----- --------
    ExtUtils::MakeMaker 0     7.44    


------------------------------
ENVIRONMENT AND OTHER CONTEXT
------------------------------

Environment variables:

    AUTOMATED_TESTING = 1
    HARNESS_OPTIONS = j4
    LANG = en_US.UTF-8
    PATH = /home/njh/perl5/perlbrew/bin:/home/njh/perl5/perlbrew/perls/perl-5.24.4-multi/bin:/usr/bin:/bin:/home/njh/src/njh/smoker/bin
    PERL5LIB = /var/tmp/build/CryptX-0.068-_1D_fx/blib/arch:/var/tmp/build/CryptX-0.068-_1D_fx/blib/lib:/var/tmp/build/Mojo-JWT-0.08-cuADs1/blib/arch:/var/tmp/build/Mojo-JWT-0.08-cuADs1/blib/lib:/var/tmp/build/Mojolicious-8.54-RumqVd/blib/arch:/var/tmp/build/Mojolicious-8.54-RumqVd/blib/lib
    PERL5OPT = 
    PERL5_CPANPLUS_IS_RUNNING = 14577
    PERL5_CPAN_IS_RUNNING = 14577
    PERL5_CPAN_IS_RUNNING_IN_RECURSION = 14558,14577
    PERLBREW_HOME = /home/njh/.perlbrew
    PERLBREW_MANPATH = /home/njh/perl5/perlbrew/perls/perl-5.24.4-multi/man
    PERLBREW_PATH = /home/njh/perl5/perlbrew/bin:/home/njh/perl5/perlbrew/perls/perl-5.24.4-multi/bin
    PERLBREW_PERL = perl-5.24.4-multi
    PERLBREW_ROOT = /home/njh/perl5/perlbrew
    PERLBREW_SHELLRC_VERSION = 0.87
    PERLBREW_VERSION = 0.87
    SHELL = /bin/sh
    TEMP = /tmp/user/1000
    TMPDIR = /tmp/user/1000/testwrapper.14561

Perl special variables (and OS-specific diagnostics, for MSWin32):

    $^X = /mnt/nas/home/pi4/njh/perl5/perlbrew/perls/perl-5.24.4-multi/bin/perl5.24.4
    $UID/$EUID = 1000 / 1000
    $GID = 1000 4 20 24 25 27 29 30 44 46 60 100 105 109 995 997 998 999 1000
    $EGID = 1000 4 20 24 25 27 29 30 44 46 60 100 105 109 995 997 998 999 1000

Perl module toolchain versions installed:

    Module              Have      
    ------------------- ----------
    CPAN                2.11_01   
    CPAN::Meta          2.150010  
    Cwd                 3.63_01   
    ExtUtils::CBuilder  0.280225  
    ExtUtils::Command   7.44      
    ExtUtils::Install   2.06      
    ExtUtils::MakeMaker 7.44      
    ExtUtils::Manifest  1.70      
    ExtUtils::ParseXS   3.31      
    File::Spec          3.63_01   
    JSON                4.02      
    JSON::PP            2.27300_01
    Module::Build       0.4229    
    Module::Signature   n/a       
    Parse::CPAN::Meta   2.150010  
    Test::Harness       3.36_01   
    Test::More          1.302175  
    YAML                1.30      
    YAML::Syck          1.32      
    version             0.9916    


--

Summary of my perl5 (revision 5 version 24 subversion 4) configuration:
   
  Platform:
    osname=linux, osvers=4.19.75-v7l+, archname=armv7l-linux-multi
    uname='linux pi4 4.19.75-v7l+ #1270 smp tue sep 24 18:51:41 bst 2019 armv7l gnulinux '
    config_args='-de -Dprefix=/home/njh/perl5/perlbrew/perls/perl-5.24.4-multi -Dusedevel -Dusemultiplicity -Accflags=-O2 -W -Wformat=2 -Wswitch -Wshadow -Wwrite-strings -Wuninitialized -Wall -pipe -fomit-frame-pointer -D_FORTIFY_SOURCE=2 -Wpointer-arith -Wstrict-prototypes -fstack-protector -Wstack-protector -Wextra -Wbad-function-cast -Wcast-align -Wcast-qual -Wdisabled-optimization -Wendif-labels -Wfloat-equal -Wformat-nonliteral -Winline -Wmissing-declarations -Wmissing-prototypes -Wnested-externs -Wpointer-arith -Wundef -Wformat-security -mfpu=neon-vfpv4 -mfloat-abi=hard -mtune=cortex-a7 -fdiagnostics-color=auto -flto -Aeval:scriptdir=/home/njh/perl5/perlbrew/perls/perl-5.24.4-multi/bin'
    hint=recommended, useposix=true, d_sigaction=define
    useithreads=undef, usemultiplicity=define
    use64bitint=undef, use64bitall=undef, uselongdouble=undef
    usemymalloc=n, bincompat5005=undef
  Compiler:
    cc='cc', ccflags ='-O2 -W -Wformat=2 -Wswitch -Wshadow -Wwrite-strings -Wuninitialized -Wall -pipe -fomit-frame-pointer -D_FORTIFY_SOURCE=2 -Wpointer-arith -Wstrict-prototypes -fstack-protector -Wstack-protector -Wextra -Wbad-function-cast -Wcast-align -Wcast-qual -Wdisabled-optimization -Wendif-labels -Wfloat-equal -Wformat-nonliteral -Winline -Wmissing-declarations -Wmissing-prototypes -Wnested-externs -Wpointer-arith -Wundef -Wformat-security -mfpu=neon-vfpv4 -mfloat-abi=hard -mtune=cortex-a7 -fdiagnostics-color=auto -flto -fwrapv -fno-strict-aliasing -fstack-protector-strong -I/usr/local/include -D_LARGEFILE_SOURCE -D_FILE_OFFSET_BITS=64',
    optimize='-O2',
    cppflags='-O2 -W -Wformat=2 -Wswitch -Wshadow -Wwrite-strings -Wuninitialized -Wall -pipe -fomit-frame-pointer -D_FORTIFY_SOURCE=2 -Wpointer-arith -Wstrict-prototypes -fstack-protector -Wstack-protector -Wextra -Wbad-function-cast -Wcast-align -Wcast-qual -Wdisabled-optimization -Wendif-labels -Wfloat-equal -Wformat-nonliteral -Winline -Wmissing-declarations -Wmissing-prototypes -Wnested-externs -Wpointer-arith -Wundef -Wformat-security -mfpu=neon-vfpv4 -mfloat-abi=hard -mtune=cortex-a7 -fdiagnostics-color=auto -flto -fwrapv -fno-strict-aliasing -fstack-protector-strong -I/usr/local/include'
    ccversion='', gccversion='8.3.0', gccosandvers=''
    intsize=4, longsize=4, ptrsize=4, doublesize=8, byteorder=1234, doublekind=3
    d_longlong=define, longlongsize=8, d_longdbl=define, longdblsize=8, longdblkind=0
    ivtype='long', ivsize=4, nvtype='double', nvsize=8, Off_t='off_t', lseeksize=8
    alignbytes=8, prototype=define
  Linker and Libraries:
    ld='cc', ldflags =' -fstack-protector-strong -L/usr/local/lib'
    libpth=/usr/local/lib /usr/lib/gcc/arm-linux-gnueabihf/8/include-fixed /usr/include/arm-linux-gnueabihf /usr/lib /lib/arm-linux-gnueabihf /lib /usr/lib/arm-linux-gnueabihf
    libs=-lpthread -lnsl -lgdbm -ldb -ldl -lm -lcrypt -lutil -lc
    perllibs=-lpthread -lnsl -ldl -lm -lcrypt -lutil -lc
    libc=libc-2.28.so, so=so, useshrplib=false, libperl=libperl.a
    gnulibc_version='2.28'
  Dynamic Linking:
    dlsrc=dl_dlopen.xs, dlext=so, d_dlsymun=undef, ccdlflags='-Wl,-E'
    cccdlflags='-fPIC', lddlflags='-shared -O2 -L/usr/local/lib -fstack-protector-strong'


Characteristics of this binary (from libperl): 
  Compile-time options: HAS_TIMES MULTIPLICITY PERLIO_LAYERS
                        PERL_COPY_ON_WRITE PERL_DONT_CREATE_GVSV
                        PERL_HASH_FUNC_ONE_AT_A_TIME_HARD
                        PERL_IMPLICIT_CONTEXT PERL_MALLOC_WRAP
                        PERL_PRESERVE_IVUV PERL_USE_DEVEL USE_LARGE_FILES
                        USE_LOCALE USE_LOCALE_COLLATE USE_LOCALE_CTYPE
                        USE_LOCALE_NUMERIC USE_LOCALE_TIME USE_PERLIO
                        USE_PERL_ATOF
  Locally applied patches:
	Devel::PatchPerl 1.80
  Built under linux
  Compiled at Dec 27 2019 05:20:11
  %ENV:
    PERL5LIB="/var/tmp/build/CryptX-0.068-_1D_fx/blib/arch:/var/tmp/build/CryptX-0.068-_1D_fx/blib/lib:/var/tmp/build/Mojo-JWT-0.08-cuADs1/blib/arch:/var/tmp/build/Mojo-JWT-0.08-cuADs1/blib/lib:/var/tmp/build/Mojolicious-8.54-RumqVd/blib/arch:/var/tmp/build/Mojolicious-8.54-RumqVd/blib/lib"
    PERL5OPT=""
    PERL5_CPANPLUS_IS_RUNNING="14577"
    PERL5_CPAN_IS_RUNNING="14577"
    PERL5_CPAN_IS_RUNNING_IN_RECURSION="14558,14577"
    PERLBREW_HOME="/home/njh/.perlbrew"
    PERLBREW_MANPATH="/home/njh/perl5/perlbrew/perls/perl-5.24.4-multi/man"
    PERLBREW_PATH="/home/njh/perl5/perlbrew/bin:/home/njh/perl5/perlbrew/perls/perl-5.24.4-multi/bin"
    PERLBREW_PERL="perl-5.24.4-multi"
    PERLBREW_ROOT="/home/njh/perl5/perlbrew"
    PERLBREW_SHELLRC_VERSION="0.87"
    PERLBREW_VERSION="0.87"
  @INC:
    /var/tmp/build/CryptX-0.068-_1D_fx/blib/arch
    /var/tmp/build/CryptX-0.068-_1D_fx/blib/lib
    /var/tmp/build/Mojo-JWT-0.08-cuADs1/blib/arch
    /var/tmp/build/Mojo-JWT-0.08-cuADs1/blib/lib
    /var/tmp/build/Mojolicious-8.54-RumqVd/blib/arch
    /var/tmp/build/Mojolicious-8.54-RumqVd/blib/lib
    /home/njh/perl5/perlbrew/perls/perl-5.24.4-multi/lib/site_perl/5.24.4/armv7l-linux-multi
    /home/njh/perl5/perlbrew/perls/perl-5.24.4-multi/lib/site_perl/5.24.4
    /home/njh/perl5/perlbrew/perls/perl-5.24.4-multi/lib/5.24.4/armv7l-linux-multi
    /home/njh/perl5/perlbrew/perls/perl-5.24.4-multi/lib/5.24.4
    .