Math-Symbolic v0.604 Perl 5 v5.10.1 amd64-openbsd
- Status
- Pass
- From
- Sebastian Woetzel
- Dist
-
Math-Symbolic v0.604
- Platform
- Perl 5 v5.10.1 amd64-openbsd
- Date
- 2010-08-12 16:00:34
- ID
- bd663ed2-a62a-11df-85a7-e918c8d03139
This distribution has been tested as part of the CPAN Testers
project, supporting the Perl programming language. See
http://wiki.cpantesters.org/ for more information or email
questions to cpan-testers-discuss@perl.org
--
Dear Steffen Mueller,
This is a computer-generated report for Math-Symbolic-0.604
on perl 5.10.1, created by CPAN-Reporter-1.1711.
Thank you for uploading your work to CPAN. Congratulations!
All tests were successful.
Sections of this report:
* Tester comments
* Program output
* Prerequisites
* Environment and other context
------------------------------
TESTER COMMENTS
------------------------------
Additional comments from tester:
this report is from an automated smoke testing program
and was not reviewed by a human for accuracy
------------------------------
PROGRAM OUTPUT
------------------------------
Output from './Build test':
t/00dist.t ............... skipped: Test::Distribution not installed
t/00pod.t ................ skipped: Test::Pod 1.00 required for testing POD
t/00podcover.t ........... skipped: Test::Pod::Coverage not installed
t/01basic.t .............. ok
t/02basic.t .............. ok
t/03exp.t ................ ok
t/04deep_derivatives.t ... ok
t/05unary_minus.t ........ ok
t/06parser.t ............. ok
t/07simple_trig.t ........ ok
t/08parse_hyperbolic.t ... ok
t/09hyperbolic.t ......... ok
t/10hyperbolic.t ......... ok
t/11trigonometric.t ...... ok
t/12overload.t ........... ok
t/13parse_more.t ......... ok
t/14compile.t ............ ok
t/15total_derivatives.t .. ok
t/16tests.t .............. ok
t/17modifications.t ...... ok
t/18vectorcalc.t ......... ok
t/19misccalc.t ........... ok
t/20miscalgebra.t ........ ok
t/21more_derivatives.t ... ok
t/22dumpers.t ............ ok
All tests successful.
Files=25, Tests=434, 14 wallclock secs ( 0.00 usr + 0.00 sys = 0.00 CPU)
Result: PASS
------------------------------
PREREQUISITES
------------------------------
Prerequisite modules loaded:
requires:
Module Need Have
------------------- ---- --------
Data::Dumper 0 2.124
Memoize 1.01 1.01_03
Parse::RecDescent 0 1.965001
build_requires:
Module Need Have
------------------- ---- --------
Test::More 0 0.92
configure_requires:
Module Need Have
------------------- ---- --------
ExtUtils::MakeMaker 0 6.55_02
------------------------------
ENVIRONMENT AND OTHER CONTEXT
------------------------------
Environment variables:
AUTOMATED_TESTING = 1
PATH = /home/macgyver/perl5/bin:/home/macgyver/perl5/perlbrew/bin:/home/macgyver/perl5/perlbrew/perls/current/bin:/home/macgyver/bin:/bin:/sbin:/usr/bin:/usr/sbin:/usr/X11R6/bin:/usr/local/bin:/usr/local/sbin:/usr/games:.
PERL5LIB = /home/macgyver/.cpan/build/Parse-RecDescent-1.965001-MHQT2O/blib/arch:/home/macgyver/.cpan/build/Parse-RecDescent-1.965001-MHQT2O/blib/lib:/home/macgyver/perl5/lib/perl5/amd64-openbsd:/home/macgyver/perl5/lib/perl5
PERL5OPT =
PERL5_CPANPLUS_IS_RUNNING = 31024
PERL5_CPAN_IS_RUNNING = 31024
PERL5_CPAN_IS_RUNNING_IN_RECURSION = 2891,31024
PERL_CR_SMOKER_CURRENT = Math-Symbolic-0.604
PERL_EXTUTILS_AUTOINSTALL = --defaultdeps
PERL_MM_OPT = INSTALL_BASE=/home/macgyver/perl5
PERL_MM_USE_DEFAULT = 1
SHELL = bash
TERM = screen
Perl special variables (and OS-specific diagnostics, for MSWin32):
$^X = /usr/bin/perl
$UID/$EUID = 1000 / 1000
$GID = 10 10 0
$EGID = 10 10 0
Perl module toolchain versions installed:
Module Have
------------------- -------
CPAN 1.9402
Cwd 3.31
ExtUtils::CBuilder 0.2703
ExtUtils::Command 1.16
ExtUtils::Install 1.54
ExtUtils::MakeMaker 6.55_02
ExtUtils::Manifest 1.56
ExtUtils::ParseXS 2.2206
File::Spec 3.31
Module::Build 0.3607
Module::Signature n/a
Test::Harness 3.17
Test::More 0.92
YAML 0.71
YAML::Syck n/a
version 0.77
--
Summary of my perl5 (revision 5 version 10 subversion 1) configuration:
Platform:
osname=openbsd, osvers=4.7, archname=amd64-openbsd
uname='openbsd'
config_args='-dsE -Dopenbsd_distribution=defined -Dmksymlinks'
hint=recommended, useposix=true, d_sigaction=define
useithreads=undef, usemultiplicity=undef
useperlio=define, d_sfio=undef, uselargefiles=define, usesocks=undef
use64bitint=define, use64bitall=define, uselongdouble=undef
usemymalloc=n, bincompat5005=undef
Compiler:
cc='cc', ccflags ='-fno-strict-aliasing -fno-delete-null-pointer-checks -pipe -fstack-protector -I/usr/local/include',
optimize='-O2',
cppflags='-fno-strict-aliasing -fno-delete-null-pointer-checks -pipe -fstack-protector -I/usr/local/include'
ccversion='', gccversion='3.3.5 (propolice)', gccosandvers='openbsd4.7'
intsize=4, longsize=8, ptrsize=8, doublesize=8, byteorder=12345678
d_longlong=define, longlongsize=8, d_longdbl=define, longdblsize=16
ivtype='long', ivsize=8, nvtype='double', nvsize=8, Off_t='off_t', lseeksize=8
alignbytes=8, prototype=define
Linker and Libraries:
ld='cc', ldflags ='-Wl,-E -fstack-protector'
libpth=/usr/lib
libs=-lm -lutil -lc
perllibs=-lm -lutil -lc
libc=/usr/lib/libc.so.53.1, so=so, useshrplib=true, libperl=libperl.so.11.1
gnulibc_version=''
Dynamic Linking:
dlsrc=dl_dlopen.xs, dlext=so, d_dlsymun=undef, ccdlflags='-Wl,-R/usr/libdata/perl5/amd64-openbsd/5.10.1/CORE'
cccdlflags='-DPIC -fPIC ', lddlflags='-shared -fPIC -fstack-protector'
Characteristics of this binary (from libperl):
Compile-time options: PERL_DONT_CREATE_GVSV PERL_MALLOC_WRAP USE_64_BIT_ALL
USE_64_BIT_INT USE_LARGE_FILES USE_PERLIO
Built under OpenBSD
%ENV:
PERL5LIB="/home/macgyver/.cpan/build/Parse-RecDescent-1.965001-MHQT2O/blib/arch:/home/macgyver/.cpan/build/Parse-RecDescent-1.965001-MHQT2O/blib/lib:/home/macgyver/perl5/lib/perl5/amd64-openbsd:/home/macgyver/perl5/lib/perl5"
PERL5OPT=""
PERL5_CPANPLUS_IS_RUNNING="31024"
PERL5_CPAN_IS_RUNNING="31024"
PERL5_CPAN_IS_RUNNING_IN_RECURSION="2891,31024"
PERL_CR_SMOKER_CURRENT="Math-Symbolic-0.604"
PERL_EXTUTILS_AUTOINSTALL="--defaultdeps"
PERL_MM_OPT="INSTALL_BASE=/home/macgyver/perl5"
PERL_MM_USE_DEFAULT="1"
@INC:
/home/macgyver/.cpan/build/Parse-RecDescent-1.965001-MHQT2O/blib/arch
/home/macgyver/.cpan/build/Parse-RecDescent-1.965001-MHQT2O/blib/lib
/home/macgyver/perl5/lib/perl5/amd64-openbsd
/home/macgyver/perl5/lib/perl5/amd64-openbsd
/home/macgyver/perl5/lib/perl5
/usr/libdata/perl5/amd64-openbsd/5.10.1
/usr/local/libdata/perl5/amd64-openbsd/5.10.1
/usr/libdata/perl5
/usr/local/libdata/perl5
/usr/local/libdata/perl5/site_perl/amd64-openbsd
/usr/libdata/perl5/site_perl/amd64-openbsd
/usr/local/libdata/perl5/site_perl
/usr/libdata/perl5/site_perl
.