Statocles v0.094 Perl 5 v5.24.4 x86_64-linux-thread-multi

Status
Pass
From
David Cantrell (DCANTRELL)
Dist
Statocles v0.094
Platform
Perl 5 v5.24.4 x86_64-linux-thread-multi
Date
2019-08-16 22:54:00
ID
bce74ce0-c078-11e9-b95d-b720052d0de1
This distribution has been tested as part of the CPAN Testers
project, supporting the Perl programming language.  See
http://wiki.cpantesters.org/ for more information or email
questions to cpan-testers-discuss@perl.org


--
Dear Doug Bell,

This is a computer-generated report for Statocles-0.094
on perl 5.24.4, created by CPAN-Reporter-1.2018.

Thank you for uploading your work to CPAN.  Congratulations!
All tests were successful.

Sections of this report:

    * Tester comments
    * Program output
    * Prerequisites
    * Environment and other context

------------------------------
TESTER COMMENTS
------------------------------

Additional comments from tester:

this report is from an automated smoke testing program
and was not reviewed by a human for accuracy

------------------------------
PROGRAM OUTPUT
------------------------------

Output from '/usr/bin/make test':

Skip blib/lib/auto/share/dist/Statocles/theme/bootstrap/blog/post.html.ep (unchanged)
Skip blib/lib/auto/share/dist/Statocles/theme/bootstrap/blog/index.html.ep (unchanged)
Skip blib/lib/auto/share/dist/Statocles/theme/bootstrap/plugin/highlight/solarized-light.css (unchanged)
Skip blib/lib/auto/share/dist/Statocles/theme/bootstrap/plugin/highlight/default.css (unchanged)
Skip blib/lib/auto/share/dist/Statocles/create/page/index.markdown (unchanged)
Skip blib/lib/auto/share/dist/Statocles/theme/bootstrap/layout/blank.html.ep (unchanged)
Skip blib/lib/auto/share/dist/Statocles/create/blog/post.markdown (unchanged)
Skip blib/lib/auto/share/dist/Statocles/theme/bootstrap/layout/full-width.html.ep (unchanged)
Skip blib/lib/auto/share/dist/Statocles/create/script.yml (unchanged)
Skip blib/lib/auto/share/dist/Statocles/theme/bootstrap/perldoc/pod.html.ep (unchanged)
Skip blib/lib/auto/share/dist/Statocles/theme/bootstrap/site/header_after.html.ep (unchanged)
Skip blib/lib/auto/share/dist/Statocles/theme/bootstrap/layout/default.html.ep (unchanged)
Skip blib/lib/auto/share/dist/Statocles/theme/bootstrap/plugin/highlight/solarized-dark.css (unchanged)
Skip blib/lib/auto/share/dist/Statocles/theme/bootstrap/blog/index.rss.ep (unchanged)
Skip blib/lib/auto/share/dist/Statocles/theme/bootstrap/blog/index.atom.ep (unchanged)
Skip blib/lib/auto/share/dist/Statocles/create/site.yml (unchanged)
Skip blib/lib/auto/share/dist/Statocles/theme/bootstrap/site/navbar_extra.html.ep (unchanged)
Skip blib/lib/auto/share/dist/Statocles/theme/bootstrap/css/statocles-bootstrap.css (unchanged)
Skip blib/lib/auto/share/dist/Statocles/theme/bootstrap/site/footer.html.ep (unchanged)
Skip blib/lib/auto/share/dist/Statocles/theme/bootstrap/perldoc/source.html.ep (unchanged)
Skip blib/lib/auto/share/dist/Statocles/theme/bootstrap/site/head_after.html.ep (unchanged)
Skip blib/lib/auto/share/dist/Statocles/theme/default/perldoc/source.html.ep (unchanged)
Skip blib/lib/auto/share/dist/Statocles/theme/default/blog/index.html.ep (unchanged)
Skip blib/lib/auto/share/dist/Statocles/theme/default/layout/default.html.ep (unchanged)
Skip blib/lib/auto/share/dist/Statocles/theme/default/plugin/highlight/solarized-light.css (unchanged)
Skip blib/lib/auto/share/dist/Statocles/theme/default/css/normalize.css (unchanged)
Skip blib/lib/auto/share/dist/Statocles/theme/default/perldoc/pod.html.ep (unchanged)
Skip blib/lib/auto/share/dist/Statocles/theme/default/site/head_after.html.ep (unchanged)
Skip blib/lib/auto/share/dist/Statocles/theme/default/blog/index.atom.ep (unchanged)
Skip blib/lib/auto/share/dist/Statocles/theme/default/layout/blank.html.ep (unchanged)
Skip blib/lib/auto/share/dist/Statocles/theme/bootstrap/site/style.html (unchanged)
Skip blib/lib/auto/share/dist/Statocles/theme/default/plugin/highlight/solarized-dark.css (unchanged)
Skip blib/lib/auto/share/dist/Statocles/theme/default/css/statocles-default.css (unchanged)
Skip blib/lib/auto/share/dist/Statocles/theme/default/blog/index.rss.ep (unchanged)
Skip blib/lib/auto/share/dist/Statocles/theme/default/plugin/highlight/default.css (unchanged)
Skip blib/lib/auto/share/dist/Statocles/theme/default/blog/post.html.ep (unchanged)
Skip blib/lib/auto/share/dist/Statocles/theme/default/layout/full-width.html.ep (unchanged)
Skip blib/lib/auto/share/dist/Statocles/theme/bootstrap/site/robots.txt.ep (unchanged)
Skip blib/lib/auto/share/dist/Statocles/theme/default/css/skeleton.css (unchanged)
Skip blib/lib/auto/share/dist/Statocles/theme/bootstrap/site/sidebar_before.html.ep (unchanged)
Skip blib/lib/auto/share/dist/Statocles/theme/bootstrap/site/sitemap.xml.ep (unchanged)
Skip blib/lib/auto/share/dist/Statocles/theme/default/site/footer.html.ep (unchanged)
Skip blib/lib/auto/share/dist/Statocles/theme/default/site/navbar_extra.html.ep (unchanged)
Skip blib/lib/auto/share/dist/Statocles/theme/default/site/robots.txt.ep (unchanged)
Skip blib/lib/auto/share/dist/Statocles/theme/default/site/sitemap.xml.ep (unchanged)
Skip blib/lib/auto/share/dist/Statocles/zsh/_statocles (unchanged)
Skip blib/lib/auto/share/dist/Statocles/theme/default/site/sidebar_before.html.ep (unchanged)
Skip blib/lib/auto/share/dist/Statocles/theme/default/site/style.html (unchanged)
Skip blib/lib/auto/share/dist/Statocles/theme/default/site/header_after.html.ep (unchanged)
PERL_DL_NONLAZY=1 "/home/david/cpantesting/perl-5.24.4/bin/perl" "-MExtUtils::Command::MM" "-MTest::Harness" "-e" "undef *Test::Harness::Switches; test_harness(0, 'blib/lib', 'blib/arch')" t/*.t t/app/*.t t/app/basic/*.t t/app/blog/*.t t/app/perldoc/*.t t/app/role/*.t t/command/*.t t/deploy/*.t t/link/*.t t/page/*.t t/plugin/*.t t/template/*.t t/theme/*.t
t/00-compile.t ................ ok
# 
# Versions for all modules listed in MYMETA.json (including optional ones):
# 
# === Configure Requires ===
# 
#     Module                  Want Have
#     ----------------------- ---- ----
#     ExtUtils::MakeMaker      any 7.36
#     File::ShareDir::Install 0.06 0.13
# 
# === Build Requires ===
# 
#     Module              Want Have
#     ------------------- ---- ----
#     ExtUtils::MakeMaker  any 7.36
# 
# === Test Requires ===
# 
#     Module                  Want     Have
#     ------------------- -------- --------
#     Capture::Tiny            any     0.48
#     Dir::Self                any     0.11
#     ExtUtils::MakeMaker      any     7.36
#     File::Spec               any     3.75
#     IO::Handle               any     1.36
#     IPC::Open3               any     1.20
#     Storable                 any  2.56_01
#     Test::Deep               any    1.128
#     Test::Differences       0.64     0.67
#     Test::Exception         0.42     0.43
#     Test::Lib                any    0.002
#     Test::More          1.001005 1.302166
# 
# === Test Recommends ===
# 
#     Module         Want     Have
#     ---------- -------- --------
#     CPAN::Meta 2.120900 2.150005
# 
# === Runtime Requires ===
# 
#     Module                 Want       Have
#     ------------------ -------- ----------
#     Beam::Emitter         0.007      1.007
#     Beam::Wire            1.018      1.023
#     DateTime::Moonpig       any       1.03
#     Encode                  any    2.80_01
#     Encode::Locale          any       1.05
#     File::Share             any       0.25
#     Git::Repository         any      1.323
#     I18N::Langinfo          any       0.13
#     IPC::Open3              any       1.20
#     Import::Base          0.012      1.004
#     JSON::PP                any 2.27300_01
#     List::UtilsBy          0.09       0.11
#     Mojolicious            6.54       8.23
#     Moo                2.000001   2.003004
#     Path::Tiny            0.084      0.108
#     Pod::Simple            3.31       3.32
#     Pod::Usage::Return      any      0.003
#     Role::Tiny         2.000008   2.000008
#     Text::Markdown          any   1.000031
#     Text::Unidecode         any       1.30
#     Type::Tiny              any   1.004004
#     Types::Path::Tiny       any      0.006
#     YAML                    any       1.29
#     strict                  any       1.11
#     warnings                any       1.36
# 
# === Runtime Recommends ===
# 
#     Module                           Want    Have
#     ------------------------------- ----- -------
#     HTML::Lint::Pluggable            0.06 missing
#     PPI                               any missing
#     Pod::Elemental                    any missing
#     Pod::Weaver                     4.015 missing
#     Syntax::Highlight::Engine::Kate   any missing
# 
t/00-report-prereqs.t ......... ok
t/app/basic/command.t ......... ok
t/app/basic/constructor.t ..... ok
t/app/basic/pages.t ........... ok
t/app/blog/command.t .......... ok
t/app/blog/constructor.t ...... ok
    # Current LC_TIME locale: en_US.UTF-8
t/app/blog/pages.t ............ ok
t/app/blog/post_date.t ........ ok
t/app/blog/recent_posts.t ..... ok
t/app/blog/slugs.t ............ ok
t/app/events.t ................ ok
t/app/perldoc/constructor.t ... ok
t/app/perldoc/highlight.t ..... skipped: Syntax::Highlight::Engine::Kate needed
t/app/perldoc/pages.t ......... ok
t/app/role/store.t ............ ok
t/app/template.t .............. ok
t/app/url.t ................... ok
t/command/apps.t .............. ok
t/command/build.t ............. ok
t/command/bundle.t ............ ok
    # Git version: 2.011000
t/command/create.t ............ ok
t/command/daemon.t ............ ok
t/command/deploy.t ............ ok
t/command/error.t ............. ok
t/command/help_and_version.t .. ok
t/command/mojo_app.t .......... ok
t/deploy/file.t ............... ok
# Git version: 2.011000
[2019-08-16 23:48:31.72285] [4284] [warn] No files changed
[2019-08-16 23:48:33.01332] [4284] [warn] No files changed
[2019-08-16 23:48:51.28118] [4284] [warn] Git remote "origin" does not exist. Not pushing.
[2019-08-16 23:48:53.34415] [4284] [warn] Git remote "nondefault" does not exist. Not pushing.
t/deploy/git.t ................ ok
t/deprecated.t ................ ok
t/document.t .................. ok
t/image.t ..................... ok
t/link.t ...................... ok
t/link/tree.t ................. ok
t/page/basename.t ............. ok
t/page/content_sections.t ..... ok
Invalid data attribute in document "/required.markdown". Data attributes that are not hashes are deprecated and will be removed in v2.0. Please use a hash instead. See Statocles::Help::Upgrading
Invalid data attribute in document "/links/alternate_single.markdown". Data attributes that are not hashes are deprecated and will be removed in v2.0. Please use a hash instead. See Statocles::Help::Upgrading
t/page/document.t ............. ok
t/page/file.t ................. ok
t/page/images.t ............... ok
t/page/links.t ................ ok
t/page/list.t ................. ok
t/page/list_item.t ............ ok
[2019-08-16 23:50:45.87803] [10512] [debug] Render page: /path/to/page.html
t/page/plain.t ................ ok
t/page/type.t ................. ok
t/person.t .................... ok
t/plugin.t .................... ok
t/plugin/highlight.t .......... skipped: Syntax::Highlight::Engine::Kate needed
t/plugin/html_lint.t .......... skipped: HTML::Lint::Pluggable v0.06 or higher needed
t/plugin/link_check.t ......... ok
t/plugin/mermaid.t ............ ok
t/site.t ...................... ok
    # Current locale: en_US.UTF-8
t/statocles.t ................. ok
t/store.t ..................... ok
t/template/basic.t ............ ok
t/template/content.t .......... ok
t/template/include.t .......... ok
t/template/markdown.t ......... ok
Odd number of elements in hash assignment at /home/david/cpantesting/perl-5.24.4/lib/site_perl/5.24.4/Mojo/DOM/CSS.pm line 77.
Odd number of elements in hash assignment at /home/david/cpantesting/perl-5.24.4/lib/site_perl/5.24.4/Mojo/DOM/CSS.pm line 77.
Odd number of elements in hash assignment at /home/david/cpantesting/perl-5.24.4/lib/site_perl/5.24.4/Mojo/DOM/CSS.pm line 77.
Odd number of elements in hash assignment at /home/david/cpantesting/perl-5.24.4/lib/site_perl/5.24.4/Mojo/DOM/CSS.pm line 77.
Odd number of elements in hash assignment at /home/david/cpantesting/perl-5.24.4/lib/site_perl/5.24.4/Mojo/DOM/CSS.pm line 77.
Odd number of elements in hash assignment at /home/david/cpantesting/perl-5.24.4/lib/site_perl/5.24.4/Mojo/DOM/CSS.pm line 77.
Odd number of elements in hash assignment at /home/david/cpantesting/perl-5.24.4/lib/site_perl/5.24.4/Mojo/DOM/CSS.pm line 77.
Odd number of elements in hash assignment at /home/david/cpantesting/perl-5.24.4/lib/site_perl/5.24.4/Mojo/DOM/CSS.pm line 77.
Odd number of elements in hash assignment at /home/david/cpantesting/perl-5.24.4/lib/site_perl/5.24.4/Mojo/DOM/CSS.pm line 77.
Odd number of elements in hash assignment at /home/david/cpantesting/perl-5.24.4/lib/site_perl/5.24.4/Mojo/DOM/CSS.pm line 77.
Odd number of elements in hash assignment at /home/david/cpantesting/perl-5.24.4/lib/site_perl/5.24.4/Mojo/DOM/CSS.pm line 77.
Odd number of elements in hash assignment at /home/david/cpantesting/perl-5.24.4/lib/site_perl/5.24.4/Mojo/DOM/CSS.pm line 77.
Odd number of elements in hash assignment at /home/david/cpantesting/perl-5.24.4/lib/site_perl/5.24.4/Mojo/DOM/CSS.pm line 77.
Odd number of elements in hash assignment at /home/david/cpantesting/perl-5.24.4/lib/site_perl/5.24.4/Mojo/DOM/CSS.pm line 77.
Odd number of elements in hash assignment at /home/david/cpantesting/perl-5.24.4/lib/site_perl/5.24.4/Mojo/DOM/CSS.pm line 77.
Odd number of elements in hash assignment at /home/david/cpantesting/perl-5.24.4/lib/site_perl/5.24.4/Mojo/DOM/CSS.pm line 77.
Odd number of elements in hash assignment at /home/david/cpantesting/perl-5.24.4/lib/site_perl/5.24.4/Mojo/DOM/CSS.pm line 77.
Odd number of elements in hash assignment at /home/david/cpantesting/perl-5.24.4/lib/site_perl/5.24.4/Mojo/DOM/CSS.pm line 77.
Odd number of elements in hash assignment at /home/david/cpantesting/perl-5.24.4/lib/site_perl/5.24.4/Mojo/DOM/CSS.pm line 77.
Odd number of elements in hash assignment at /home/david/cpantesting/perl-5.24.4/lib/site_perl/5.24.4/Mojo/DOM/CSS.pm line 77.
Odd number of elements in hash assignment at /home/david/cpantesting/perl-5.24.4/lib/site_perl/5.24.4/Mojo/DOM/CSS.pm line 77.
Odd number of elements in hash assignment at /home/david/cpantesting/perl-5.24.4/lib/site_perl/5.24.4/Mojo/DOM/CSS.pm line 77.
Odd number of elements in hash assignment at /home/david/cpantesting/perl-5.24.4/lib/site_perl/5.24.4/Mojo/DOM/CSS.pm line 77.
Odd number of elements in hash assignment at /home/david/cpantesting/perl-5.24.4/lib/site_perl/5.24.4/Mojo/DOM/CSS.pm line 77.
Odd number of elements in hash assignment at /home/david/cpantesting/perl-5.24.4/lib/site_perl/5.24.4/Mojo/DOM/CSS.pm line 77.
Odd number of elements in hash assignment at /home/david/cpantesting/perl-5.24.4/lib/site_perl/5.24.4/Mojo/DOM/CSS.pm line 77.
Odd number of elements in hash assignment at /home/david/cpantesting/perl-5.24.4/lib/site_perl/5.24.4/Mojo/DOM/CSS.pm line 77.
Odd number of elements in hash assignment at /home/david/cpantesting/perl-5.24.4/lib/site_perl/5.24.4/Mojo/DOM/CSS.pm line 77.
Odd number of elements in hash assignment at /home/david/cpantesting/perl-5.24.4/lib/site_perl/5.24.4/Mojo/DOM/CSS.pm line 77.
Odd number of elements in hash assignment at /home/david/cpantesting/perl-5.24.4/lib/site_perl/5.24.4/Mojo/DOM/CSS.pm line 77.
Odd number of elements in hash assignment at /home/david/cpantesting/perl-5.24.4/lib/site_perl/5.24.4/Mojo/DOM/CSS.pm line 77.
Odd number of elements in hash assignment at /home/david/cpantesting/perl-5.24.4/lib/site_perl/5.24.4/Mojo/DOM/CSS.pm line 77.
Odd number of elements in hash assignment at /home/david/cpantesting/perl-5.24.4/lib/site_perl/5.24.4/Mojo/DOM/CSS.pm line 77.
Odd number of elements in hash assignment at /home/david/cpantesting/perl-5.24.4/lib/site_perl/5.24.4/Mojo/DOM/CSS.pm line 77.
Odd number of elements in hash assignment at /home/david/cpantesting/perl-5.24.4/lib/site_perl/5.24.4/Mojo/DOM/CSS.pm line 77.
Odd number of elements in hash assignment at /home/david/cpantesting/perl-5.24.4/lib/site_perl/5.24.4/Mojo/DOM/CSS.pm line 77.
Odd number of elements in hash assignment at /home/david/cpantesting/perl-5.24.4/lib/site_perl/5.24.4/Mojo/DOM/CSS.pm line 77.
Odd number of elements in hash assignment at /home/david/cpantesting/perl-5.24.4/lib/site_perl/5.24.4/Mojo/DOM/CSS.pm line 77.
Odd number of elements in hash assignment at /home/david/cpantesting/perl-5.24.4/lib/site_perl/5.24.4/Mojo/DOM/CSS.pm line 77.
Odd number of elements in hash assignment at /home/david/cpantesting/perl-5.24.4/lib/site_perl/5.24.4/Mojo/DOM/CSS.pm line 77.
Odd number of elements in hash assignment at /home/david/cpantesting/perl-5.24.4/lib/site_perl/5.24.4/Mojo/DOM/CSS.pm line 77.
Odd number of elements in hash assignment at /home/david/cpantesting/perl-5.24.4/lib/site_perl/5.24.4/Mojo/DOM/CSS.pm line 77.
Odd number of elements in hash assignment at /home/david/cpantesting/perl-5.24.4/lib/site_perl/5.24.4/Mojo/DOM/CSS.pm line 77.
Odd number of elements in hash assignment at /home/david/cpantesting/perl-5.24.4/lib/site_perl/5.24.4/Mojo/DOM/CSS.pm line 77.
Odd number of elements in hash assignment at /home/david/cpantesting/perl-5.24.4/lib/site_perl/5.24.4/Mojo/DOM/CSS.pm line 77.
Odd number of elements in hash assignment at /home/david/cpantesting/perl-5.24.4/lib/site_perl/5.24.4/Mojo/DOM/CSS.pm line 77.
Odd number of elements in hash assignment at /home/david/cpantesting/perl-5.24.4/lib/site_perl/5.24.4/Mojo/DOM/CSS.pm line 77.
Odd number of elements in hash assignment at /home/david/cpantesting/perl-5.24.4/lib/site_perl/5.24.4/Mojo/DOM/CSS.pm line 77.
Odd number of elements in hash assignment at /home/david/cpantesting/perl-5.24.4/lib/site_perl/5.24.4/Mojo/DOM/CSS.pm line 77.
Odd number of elements in hash assignment at /home/david/cpantesting/perl-5.24.4/lib/site_perl/5.24.4/Mojo/DOM/CSS.pm line 77.
Odd number of elements in hash assignment at /home/david/cpantesting/perl-5.24.4/lib/site_perl/5.24.4/Mojo/DOM/CSS.pm line 77.
Odd number of elements in hash assignment at /home/david/cpantesting/perl-5.24.4/lib/site_perl/5.24.4/Mojo/DOM/CSS.pm line 77.
Odd number of elements in hash assignment at /home/david/cpantesting/perl-5.24.4/lib/site_perl/5.24.4/Mojo/DOM/CSS.pm line 77.
Odd number of elements in hash assignment at /home/david/cpantesting/perl-5.24.4/lib/site_perl/5.24.4/Mojo/DOM/CSS.pm line 77.
Odd number of elements in hash assignment at /home/david/cpantesting/perl-5.24.4/lib/site_perl/5.24.4/Mojo/DOM/CSS.pm line 77.
Odd number of elements in hash assignment at /home/david/cpantesting/perl-5.24.4/lib/site_perl/5.24.4/Mojo/DOM/CSS.pm line 77.
Odd number of elements in hash assignment at /home/david/cpantesting/perl-5.24.4/lib/site_perl/5.24.4/Mojo/DOM/CSS.pm line 77.
Odd number of elements in hash assignment at /home/david/cpantesting/perl-5.24.4/lib/site_perl/5.24.4/Mojo/DOM/CSS.pm line 77.
Odd number of elements in hash assignment at /home/david/cpantesting/perl-5.24.4/lib/site_perl/5.24.4/Mojo/DOM/CSS.pm line 77.
Odd number of elements in hash assignment at /home/david/cpantesting/perl-5.24.4/lib/site_perl/5.24.4/Mojo/DOM/CSS.pm line 77.
Odd number of elements in hash assignment at /home/david/cpantesting/perl-5.24.4/lib/site_perl/5.24.4/Mojo/DOM/CSS.pm line 77.
Odd number of elements in hash assignment at /home/david/cpantesting/perl-5.24.4/lib/site_perl/5.24.4/Mojo/DOM/CSS.pm line 77.
Odd number of elements in hash assignment at /home/david/cpantesting/perl-5.24.4/lib/site_perl/5.24.4/Mojo/DOM/CSS.pm line 77.
Odd number of elements in hash assignment at /home/david/cpantesting/perl-5.24.4/lib/site_perl/5.24.4/Mojo/DOM/CSS.pm line 77.
Odd number of elements in hash assignment at /home/david/cpantesting/perl-5.24.4/lib/site_perl/5.24.4/Mojo/DOM/CSS.pm line 77.
Odd number of elements in hash assignment at /home/david/cpantesting/perl-5.24.4/lib/site_perl/5.24.4/Mojo/DOM/CSS.pm line 77.
Odd number of elements in hash assignment at /home/david/cpantesting/perl-5.24.4/lib/site_perl/5.24.4/Mojo/DOM/CSS.pm line 77.
Odd number of elements in hash assignment at /home/david/cpantesting/perl-5.24.4/lib/site_perl/5.24.4/Mojo/DOM/CSS.pm line 77.
Odd number of elements in hash assignment at /home/david/cpantesting/perl-5.24.4/lib/site_perl/5.24.4/Mojo/DOM/CSS.pm line 77.
Odd number of elements in hash assignment at /home/david/cpantesting/perl-5.24.4/lib/site_perl/5.24.4/Mojo/DOM/CSS.pm line 77.
Odd number of elements in hash assignment at /home/david/cpantesting/perl-5.24.4/lib/site_perl/5.24.4/Mojo/DOM/CSS.pm line 77.
Odd number of elements in hash assignment at /home/david/cpantesting/perl-5.24.4/lib/site_perl/5.24.4/Mojo/DOM/CSS.pm line 77.
Odd number of elements in hash assignment at /home/david/cpantesting/perl-5.24.4/lib/site_perl/5.24.4/Mojo/DOM/CSS.pm line 77.
Odd number of elements in hash assignment at /home/david/cpantesting/perl-5.24.4/lib/site_perl/5.24.4/Mojo/DOM/CSS.pm line 77.
Odd number of elements in hash assignment at /home/david/cpantesting/perl-5.24.4/lib/site_perl/5.24.4/Mojo/DOM/CSS.pm line 77.
Odd number of elements in hash assignment at /home/david/cpantesting/perl-5.24.4/lib/site_perl/5.24.4/Mojo/DOM/CSS.pm line 77.
Odd number of elements in hash assignment at /home/david/cpantesting/perl-5.24.4/lib/site_perl/5.24.4/Mojo/DOM/CSS.pm line 77.
Odd number of elements in hash assignment at /home/david/cpantesting/perl-5.24.4/lib/site_perl/5.24.4/Mojo/DOM/CSS.pm line 77.
Odd number of elements in hash assignment at /home/david/cpantesting/perl-5.24.4/lib/site_perl/5.24.4/Mojo/DOM/CSS.pm line 77.
Odd number of elements in hash assignment at /home/david/cpantesting/perl-5.24.4/lib/site_perl/5.24.4/Mojo/DOM/CSS.pm line 77.
Odd number of elements in hash assignment at /home/david/cpantesting/perl-5.24.4/lib/site_perl/5.24.4/Mojo/DOM/CSS.pm line 77.
Odd number of elements in hash assignment at /home/david/cpantesting/perl-5.24.4/lib/site_perl/5.24.4/Mojo/DOM/CSS.pm line 77.
Odd number of elements in hash assignment at /home/david/cpantesting/perl-5.24.4/lib/site_perl/5.24.4/Mojo/DOM/CSS.pm line 77.
Odd number of elements in hash assignment at /home/david/cpantesting/perl-5.24.4/lib/site_perl/5.24.4/Mojo/DOM/CSS.pm line 77.
Odd number of elements in hash assignment at /home/david/cpantesting/perl-5.24.4/lib/site_perl/5.24.4/Mojo/DOM/CSS.pm line 77.
Odd number of elements in hash assignment at /home/david/cpantesting/perl-5.24.4/lib/site_perl/5.24.4/Mojo/DOM/CSS.pm line 77.
Odd number of elements in hash assignment at /home/david/cpantesting/perl-5.24.4/lib/site_perl/5.24.4/Mojo/DOM/CSS.pm line 77.
Odd number of elements in hash assignment at /home/david/cpantesting/perl-5.24.4/lib/site_perl/5.24.4/Mojo/DOM/CSS.pm line 77.
Odd number of elements in hash assignment at /home/david/cpantesting/perl-5.24.4/lib/site_perl/5.24.4/Mojo/DOM/CSS.pm line 77.
Odd number of elements in hash assignment at /home/david/cpantesting/perl-5.24.4/lib/site_perl/5.24.4/Mojo/DOM/CSS.pm line 77.
t/theme/check.t ............... ok
t/theme/helper.t .............. ok
t/theme/pages.t ............... ok
t/theme/template.t ............ ok
t/types.t ..................... ok
sh: 1: HOPEFULLY_DOES_NOT_EXIST: not found
Terminated
t/util.t ...................... ok
All tests successful.
Files=63, Tests=314, 763 wallclock secs ( 0.61 usr  0.10 sys + 87.22 cusr  7.19 csys = 95.12 CPU)
Result: PASS

------------------------------
PREREQUISITES
------------------------------

Prerequisite modules loaded:

requires:

    Module                  Need     Have      
    ----------------------- -------- ----------
    Beam::Emitter           0.007    1.007     
    Beam::Wire              1.018    1.023     
    DateTime::Moonpig       0        1.03      
    Encode                  0        2.80_01   
    Encode::Locale          0        1.05      
    File::Share             0        0.25      
    Git::Repository         0        1.323     
    I18N::Langinfo          0        0.13      
    Import::Base            0.012    1.004     
    IPC::Open3              0        1.20      
    JSON::PP                0        2.27300_01
    List::UtilsBy           0.09     0.11      
    Mojolicious             6.54     8.23      
    Moo                     2.000001 2.003004  
    Path::Tiny              0.084    0.108     
    perl                    5.014    5.024004  
    Pod::Simple             3.31     3.32      
    Pod::Usage::Return      0        0.003     
    Role::Tiny              2.000008 2.000008  
    strict                  0        1.11      
    Text::Markdown          0        1.000031  
    Text::Unidecode         0        1.30      
    Type::Tiny              0        1.004004  
    Types::Path::Tiny       0        0.006     
    warnings                0        1.36      
    YAML                    0        1.29      

build_requires:

    Module                  Need     Have      
    ----------------------- -------- ----------
    Capture::Tiny           0        0.48      
    Dir::Self               0        0.11      
    ExtUtils::MakeMaker     0        7.36      
    File::Spec              0        3.75      
    IO::Handle              0        1.36      
    IPC::Open3              0        1.20      
    Storable                0        2.56_01   
    Test::Deep              0        1.128     
    Test::Differences       0.64     0.67      
    Test::Exception         0.42     0.43      
    Test::Lib               0        0.002     
    Test::More              1.001005 1.302166  

configure_requires:

    Module                  Need     Have      
    ----------------------- -------- ----------
    ExtUtils::MakeMaker     0        7.36      
    File::ShareDir::Install 0.06     0.13      


------------------------------
ENVIRONMENT AND OTHER CONTEXT
------------------------------

Environment variables:

    AUTOMATED_TESTING = 1
    LANG = en_US.UTF-8
    NONINTERACTIVE_TESTING = 1
    PATH = /usr/local/bin:/usr/bin:/bin:/usr/local/games:/usr/games
    PERL = 5.24.4
    PERL5LIB = 
    PERL5OPT = 
    PERL5_CPANPLUS_IS_RUNNING = 7420
    PERL5_CPAN_IS_RUNNING = 7420
    PERLVER = 5.24.4
    PERL_INLINE_DIRECTORY = /home/david/.Inline-5.24.4
    PERL_MM_USE_DEFAULT = 1
    PERL_USE_UNSAFE_INC = 0
    SHELL = /bin/bash
    TERM = screen

Perl special variables (and OS-specific diagnostics, for MSWin32):

    $^X = /home/david/cpantesting/perl-5.24.4/bin/perl
    $UID/$EUID = 1000 / 1000
    $GID = 1000 27 1000
    $EGID = 1000 27 1000

Perl module toolchain versions installed:

    Module              Have      
    ------------------- ----------
    CPAN                2.11_01   
    CPAN::Meta          2.150005  
    Cwd                 3.75      
    ExtUtils::CBuilder  0.280225  
    ExtUtils::Command   7.36      
    ExtUtils::Install   2.06      
    ExtUtils::MakeMaker 7.36      
    ExtUtils::Manifest  1.70      
    ExtUtils::ParseXS   3.31      
    File::Spec          3.75      
    JSON                4.02      
    JSON::PP            2.27300_01
    Module::Build       0.4229    
    Module::Signature   n/a       
    Parse::CPAN::Meta   1.4417_001
    Test::Harness       3.36_01   
    Test::More          1.302166  
    YAML                1.29      
    YAML::Syck          1.31      
    version             0.9916    


--

Summary of my perl5 (revision 5 version 24 subversion 4) configuration:
   
  Platform:
    osname=linux, osvers=4.9.0-8-amd64, archname=x86_64-linux-thread-multi
    uname='linux pigsty 4.9.0-8-amd64 #1 smp debian 4.9.144-3 (2019-02-02) x86_64 gnulinux '
    config_args='-de -Duse64bitall -Dusethreads -Dprefix=/home/david/cpantesting/perl-5.24.4'
    hint=recommended, useposix=true, d_sigaction=define
    useithreads=define, usemultiplicity=define
    use64bitint=define, use64bitall=define, uselongdouble=undef
    usemymalloc=n, bincompat5005=undef
  Compiler:
    cc='cc', ccflags ='-D_REENTRANT -D_GNU_SOURCE -fwrapv -fno-strict-aliasing -pipe -fstack-protector-strong -I/usr/local/include -D_LARGEFILE_SOURCE -D_FILE_OFFSET_BITS=64 -D_FORTIFY_SOURCE=2',
    optimize='-O2',
    cppflags='-D_REENTRANT -D_GNU_SOURCE -fwrapv -fno-strict-aliasing -pipe -fstack-protector-strong -I/usr/local/include'
    ccversion='', gccversion='6.3.0 20170516', gccosandvers=''
    intsize=4, longsize=8, ptrsize=8, doublesize=8, byteorder=12345678, doublekind=3
    d_longlong=define, longlongsize=8, d_longdbl=define, longdblsize=16, longdblkind=3
    ivtype='long', ivsize=8, nvtype='double', nvsize=8, Off_t='off_t', lseeksize=8
    alignbytes=8, prototype=define
  Linker and Libraries:
    ld='cc', ldflags =' -fstack-protector-strong -L/usr/local/lib'
    libpth=/usr/local/lib /usr/lib/gcc/x86_64-linux-gnu/6/include-fixed /usr/include/x86_64-linux-gnu /usr/lib /lib/x86_64-linux-gnu /lib/../lib /usr/lib/x86_64-linux-gnu /usr/lib/../lib /lib
    libs=-lpthread -lnsl -ldb -ldl -lm -lcrypt -lutil -lc
    perllibs=-lpthread -lnsl -ldl -lm -lcrypt -lutil -lc
    libc=libc-2.24.so, so=so, useshrplib=false, libperl=libperl.a
    gnulibc_version='2.24'
  Dynamic Linking:
    dlsrc=dl_dlopen.xs, dlext=so, d_dlsymun=undef, ccdlflags='-Wl,-E'
    cccdlflags='-fPIC', lddlflags='-shared -O2 -L/usr/local/lib -fstack-protector-strong'


Characteristics of this binary (from libperl): 
  Compile-time options: HAS_TIMES MULTIPLICITY PERLIO_LAYERS
                        PERL_COPY_ON_WRITE PERL_DONT_CREATE_GVSV
                        PERL_HASH_FUNC_ONE_AT_A_TIME_HARD
                        PERL_IMPLICIT_CONTEXT PERL_MALLOC_WRAP
                        PERL_PRESERVE_IVUV USE_64_BIT_ALL USE_64_BIT_INT
                        USE_ITHREADS USE_LARGE_FILES USE_LOCALE
                        USE_LOCALE_COLLATE USE_LOCALE_CTYPE
                        USE_LOCALE_NUMERIC USE_LOCALE_TIME USE_PERLIO
                        USE_PERL_ATOF USE_REENTRANT_API
  Built under linux
  Compiled at Apr 25 2019 01:35:31
  %ENV:
    PERL="5.24.4"
    PERL5LIB=""
    PERL5OPT=""
    PERL5_CPANPLUS_IS_RUNNING="7420"
    PERL5_CPAN_IS_RUNNING="7420"
    PERLVER="5.24.4"
    PERL_INLINE_DIRECTORY="/home/david/.Inline-5.24.4"
    PERL_MM_USE_DEFAULT="1"
    PERL_USE_UNSAFE_INC="0"
  @INC:
    /home/david/cpantesting/perl-5.24.4/lib/site_perl/5.24.4/x86_64-linux-thread-multi
    /home/david/cpantesting/perl-5.24.4/lib/site_perl/5.24.4
    /home/david/cpantesting/perl-5.24.4/lib/5.24.4/x86_64-linux-thread-multi
    /home/david/cpantesting/perl-5.24.4/lib/5.24.4
    .