Import-Base v1.004 Perl 5 v5.28.0 darwin-2level
- Status
- Pass
- From
- Gregor Goldbach
- Dist
-
Import-Base v1.004
- Platform
- Perl 5 v5.28.0 darwin-2level
- Date
- 2018-11-26 15:19:57
- ID
- bbeda2e4-f18e-11e8-a4ec-2e6c90425525
This distribution has been tested as part of the CPAN Testers
project, supporting the Perl programming language. See
http://wiki.cpantesters.org/ for more information or email
questions to cpan-testers-discuss@perl.org
--
Dear PREACTION,
This is a computer-generated report for Import-Base-1.004
on perl 5.28.0, created by App::cpanminus::reporter 0.17 (1.7042).
Thank you for uploading your work to CPAN. Congratulations!
All tests were successful.
Sections of this report:
* Tester comments
* Program output
* Prerequisites
* Environment and other context
------------------------------
TESTER COMMENTS
------------------------------
Additional comments from tester:
none provided
------------------------------
PROGRAM OUTPUT
------------------------------
Output from '':
Building and testing Import-Base-1.004
cp lib/Import/Base.pm blib/lib/Import/Base.pm
Manifying 1 pod document
PERL_DL_NONLAZY=1 "/Users/glauschwuffel/perl5/perlbrew/perls/perl-5.28.0/bin/perl" "-MExtUtils::Command::MM" "-MTest::Harness" "-e" "undef *Test::Harness::Switches; test_harness(0, 'blib/lib', 'blib/arch')" t/*.t t/use-case/*.t
t/00-compile.t ......... ok
#
# Versions for all modules listed in MYMETA.json (including optional ones):
#
# === Configure Requires ===
#
# Module Want Have
# ------------------- ---- ----
# ExtUtils::MakeMaker any 7.34
#
# === Build Requires ===
#
# Module Want Have
# ------------------- ---- ----
# ExtUtils::MakeMaker any 7.34
#
# === Test Requires ===
#
# Module Want Have
# ------------------- ---- --------
# Carp any 1.50
# ExtUtils::MakeMaker any 7.34
# File::Spec any 3.74
# IO::Handle any 1.39
# IPC::Open3 any 1.20
# Test::More any 1.302140
#
# === Test Recommends ===
#
# Module Want Have
# ---------- -------- --------
# CPAN::Meta 2.120900 2.150010
#
# === Runtime Requires ===
#
# Module Want Have
# --------------- -------- --------
# Import::Into 1.002005 1.002005
# Module::Runtime any 0.016
# mro any 1.22
# strict any 1.11
# warnings any 1.42
#
t/00-report-prereqs.t .. ok
t/base.t ............... ok
t/exclude.t ............ ok
t/export.t ............. ok
t/order.t .............. ok
t/runtime.t ............ ok
t/subrefs.t ............ ok
t/use-case/dancer2.t ... skipped: Test requires Dancer2 >= 0.166001_01
t/use-case/moo.t ....... ok
t/version.t ............ ok
All tests successful.
Files=11, Tests=17, 1 wallclock secs ( 0.05 usr 0.03 sys + 0.77 cusr 0.12 csys = 0.97 CPU)
Result: PASS
------------------------------
PREREQUISITES
------------------------------
Prerequisite modules loaded:
No requirements found
------------------------------
ENVIRONMENT AND OTHER CONTEXT
------------------------------
Environment variables:
LANG = de_DE.UTF-8
PATH = /Users/glauschwuffel/.rvm/gems/ruby-head/bin:/Users/glauschwuffel/.rvm/gems/ruby-head@global/bin:/Users/glauschwuffel/.rvm/rubies/ruby-head/bin:/Users/glauschwuffel/.rakudobrew/bin:/Users/glauschwuffel/perl5/perlbrew/bin:/Users/glauschwuffel/perl5/perlbrew/perls/perl-5.28.0/bin:/usr/local/bin:/usr/bin:/bin:/usr/sbin:/sbin:/Library/TeX/texbin:/Users/glauschwuffel/.rvm/bin:/Users/glauschwuffel/.rvm/bin
PERLBREW_HOME = /Users/glauschwuffel/.perlbrew
PERLBREW_MANPATH = /Users/glauschwuffel/perl5/perlbrew/perls/perl-5.28.0/man
PERLBREW_PATH = /Users/glauschwuffel/perl5/perlbrew/bin:/Users/glauschwuffel/perl5/perlbrew/perls/perl-5.28.0/bin
PERLBREW_PERL = perl-5.28.0
PERLBREW_ROOT = /Users/glauschwuffel/perl5/perlbrew
PERLBREW_SHELLRC_VERSION = 0.84
PERLBREW_VERSION = 0.84
SHELL = /bin/bash
TERM = xterm-256color
TMPDIR = /var/folders/vt/gpl7slvn6016nqcbkrdb0pj40000gp/T/
Perl special variables (and OS-specific diagnostics, for MSWin32):
EGID = 20 20 12 61 79 80 81 98 701 33 100 204 250 395 398 399
EUID = 502
EXECUTABLE_NAME = /Users/glauschwuffel/perl5/perlbrew/perls/perl-5.28.0/bin/perl
GID = 20 20 12 61 79 80 81 98 701 33 100 204 250 395 398 399
UID = 502
Perl module toolchain versions installed:
Module Have
------------------- --------
CPAN 2.20
CPAN::Meta 2.150010
Cwd 3.74
ExtUtils::CBuilder 0.280230
ExtUtils::Command 7.34
ExtUtils::Install 2.14
ExtUtils::MakeMaker 7.34
ExtUtils::Manifest 1.70
ExtUtils::ParseXS 3.39
File::Spec 3.74
JSON 2.97001
JSON::PP 2.97001
Module::Build 0.4224
Module::Signature n/a
Parse::CPAN::Meta 2.150010
Test::Harness 3.42
Test::More 1.302140
YAML 1.27
YAML::Syck 1.31
version 0.9923
--
Summary of my perl5 (revision 5 version 28 subversion 0) configuration:
Platform:
osname=darwin
osvers=18.2.0
archname=darwin-2level
uname='darwin gregors-imac.fritz.box 18.2.0 darwin kernel version 18.2.0: fri oct 5 19:41:49 pdt 2018; root:xnu-4903.221.2~2release_x86_64 x86_64 '
config_args='-de -Dprefix=/Users/glauschwuffel/perl5/perlbrew/perls/perl-5.28.0 -Aeval:scriptdir=/Users/glauschwuffel/perl5/perlbrew/perls/perl-5.28.0/bin'
hint=recommended
useposix=true
d_sigaction=define
useithreads=undef
usemultiplicity=undef
use64bitint=define
use64bitall=define
uselongdouble=undef
usemymalloc=n
default_inc_excludes_dot=define
bincompat5005=undef
Compiler:
cc='cc'
ccflags ='-fno-common -DPERL_DARWIN -mmacosx-version-min=10.14 -fno-strict-aliasing -pipe -fstack-protector-strong -I/usr/local/include -DPERL_USE_SAFE_PUTENV'
optimize='-O3'
cppflags='-fno-common -DPERL_DARWIN -mmacosx-version-min=10.14 -fno-strict-aliasing -pipe -fstack-protector-strong -I/usr/local/include'
ccversion=''
gccversion='4.2.1 Compatible Apple LLVM 10.0.0 (clang-1000.11.45.5)'
gccosandvers=''
intsize=4
longsize=8
ptrsize=8
doublesize=8
byteorder=12345678
doublekind=3
d_longlong=define
longlongsize=8
d_longdbl=define
longdblsize=16
longdblkind=3
ivtype='long'
ivsize=8
nvtype='double'
nvsize=8
Off_t='off_t'
lseeksize=8
alignbytes=8
prototype=define
Linker and Libraries:
ld='cc'
ldflags =' -mmacosx-version-min=10.14 -fstack-protector-strong -L/usr/local/lib'
libpth=/usr/local/lib /Applications/Xcode.app/Contents/Developer/Toolchains/XcodeDefault.xctoolchain/usr/lib/clang/10.0.0/lib /Applications/Xcode.app/Contents/Developer/Toolchains/XcodeDefault.xctoolchain/usr/lib /Applications/Xcode.app/Contents/Developer/Platforms/MacOSX.platform/Developer/SDKs/MacOSX10.14.sdk/usr/lib /usr/lib
libs=-lpthread -lgdbm -ldbm -ldl -lm -lutil -lc
perllibs=-lpthread -ldl -lm -lutil -lc
libc=
so=dylib
useshrplib=false
libperl=libperl.a
gnulibc_version=''
Dynamic Linking:
dlsrc=dl_dlopen.xs
dlext=bundle
d_dlsymun=undef
ccdlflags=' '
cccdlflags=' '
lddlflags=' -mmacosx-version-min=10.14 -bundle -undefined dynamic_lookup -L/usr/local/lib -fstack-protector-strong'
Characteristics of this binary (from libperl):
Compile-time options:
HAS_TIMES
PERLIO_LAYERS
PERL_COPY_ON_WRITE
PERL_DONT_CREATE_GVSV
PERL_MALLOC_WRAP
PERL_OP_PARENT
PERL_PRESERVE_IVUV
PERL_USE_SAFE_PUTENV
USE_64_BIT_ALL
USE_64_BIT_INT
USE_LARGE_FILES
USE_LOCALE
USE_LOCALE_COLLATE
USE_LOCALE_CTYPE
USE_LOCALE_NUMERIC
USE_LOCALE_TIME
USE_PERLIO
USE_PERL_ATOF
Locally applied patches:
Devel::PatchPerl 1.52
Built under darwin
Compiled at Nov 26 2018 10:57:05
%ENV:
PERLBREW_HOME="/Users/glauschwuffel/.perlbrew"
PERLBREW_MANPATH="/Users/glauschwuffel/perl5/perlbrew/perls/perl-5.28.0/man"
PERLBREW_PATH="/Users/glauschwuffel/perl5/perlbrew/bin:/Users/glauschwuffel/perl5/perlbrew/perls/perl-5.28.0/bin"
PERLBREW_PERL="perl-5.28.0"
PERLBREW_ROOT="/Users/glauschwuffel/perl5/perlbrew"
PERLBREW_SHELLRC_VERSION="0.84"
PERLBREW_VERSION="0.84"
@INC:
/Users/glauschwuffel/perl5/perlbrew/perls/perl-5.28.0/lib/site_perl/5.28.0/darwin-2level
/Users/glauschwuffel/perl5/perlbrew/perls/perl-5.28.0/lib/site_perl/5.28.0
/Users/glauschwuffel/perl5/perlbrew/perls/perl-5.28.0/lib/5.28.0/darwin-2level
/Users/glauschwuffel/perl5/perlbrew/perls/perl-5.28.0/lib/5.28.0