Encode v3.16 Perl 5 v5.34.1 darwin-2level
- Status
- Pass
- From
- Nigel Horne
- Dist
-
Encode v3.16
- Platform
- Perl 5 v5.34.1 darwin-2level
- Date
- 2022-03-16 18:34:35
- ID
- bad52e2e-a557-11ec-b001-329763d7ce6b
This distribution has been tested as part of the CPAN Testers
project, supporting the Perl programming language. See
http://wiki.cpantesters.org/ for more information or email
questions to cpan-testers-discuss@perl.org
--
Dear Dan Kogai,
This is a computer-generated report for Encode-3.16
on perl 5.34.1, created by CPAN-Reporter-1.2018.
Thank you for uploading your work to CPAN. Congratulations!
All tests were successful.
Sections of this report:
* Tester comments
* Program output
* Prerequisites
* Environment and other context
------------------------------
TESTER COMMENTS
------------------------------
Additional comments from tester:
none provided
------------------------------
PROGRAM OUTPUT
------------------------------
Output from '/usr/bin/make test':
"/Users/nhorne/perl5/perlbrew/perls/perl-5.34.1/bin/perl" -MExtUtils::Command::MM -e 'cp_nonempty' -- Encode.bs blib/arch/auto/Encode/Encode.bs 644
"/Users/nhorne/perl5/perlbrew/perls/perl-5.34.1/bin/perl" -MExtUtils::Command::MM -e 'cp_nonempty' -- Byte.bs ../blib/arch/auto/Encode/Byte/Byte.bs 644
"/Users/nhorne/perl5/perlbrew/perls/perl-5.34.1/bin/perl" -MExtUtils::Command::MM -e 'cp_nonempty' -- CN.bs ../blib/arch/auto/Encode/CN/CN.bs 644
"/Users/nhorne/perl5/perlbrew/perls/perl-5.34.1/bin/perl" -MExtUtils::Command::MM -e 'cp_nonempty' -- EBCDIC.bs ../blib/arch/auto/Encode/EBCDIC/EBCDIC.bs 644
"/Users/nhorne/perl5/perlbrew/perls/perl-5.34.1/bin/perl" -MExtUtils::Command::MM -e 'cp_nonempty' -- JP.bs ../blib/arch/auto/Encode/JP/JP.bs 644
"/Users/nhorne/perl5/perlbrew/perls/perl-5.34.1/bin/perl" -MExtUtils::Command::MM -e 'cp_nonempty' -- KR.bs ../blib/arch/auto/Encode/KR/KR.bs 644
"/Users/nhorne/perl5/perlbrew/perls/perl-5.34.1/bin/perl" -MExtUtils::Command::MM -e 'cp_nonempty' -- Symbol.bs ../blib/arch/auto/Encode/Symbol/Symbol.bs 644
"/Users/nhorne/perl5/perlbrew/perls/perl-5.34.1/bin/perl" -MExtUtils::Command::MM -e 'cp_nonempty' -- TW.bs ../blib/arch/auto/Encode/TW/TW.bs 644
"/Users/nhorne/perl5/perlbrew/perls/perl-5.34.1/bin/perl" -MExtUtils::Command::MM -e 'cp_nonempty' -- Unicode.bs ../blib/arch/auto/Encode/Unicode/Unicode.bs 644
"/Users/nhorne/perl5/perlbrew/perls/perl-5.34.1/bin/perl" -MExtUtils::Command::MM -e 'cp_nonempty' -- Byte.bs ../blib/arch/auto/Encode/Byte/Byte.bs 644
No tests defined for Encode::Byte extension.
"/Users/nhorne/perl5/perlbrew/perls/perl-5.34.1/bin/perl" -MExtUtils::Command::MM -e 'cp_nonempty' -- CN.bs ../blib/arch/auto/Encode/CN/CN.bs 644
No tests defined for Encode::CN extension.
"/Users/nhorne/perl5/perlbrew/perls/perl-5.34.1/bin/perl" -MExtUtils::Command::MM -e 'cp_nonempty' -- EBCDIC.bs ../blib/arch/auto/Encode/EBCDIC/EBCDIC.bs 644
No tests defined for Encode::EBCDIC extension.
"/Users/nhorne/perl5/perlbrew/perls/perl-5.34.1/bin/perl" -MExtUtils::Command::MM -e 'cp_nonempty' -- JP.bs ../blib/arch/auto/Encode/JP/JP.bs 644
No tests defined for Encode::JP extension.
"/Users/nhorne/perl5/perlbrew/perls/perl-5.34.1/bin/perl" -MExtUtils::Command::MM -e 'cp_nonempty' -- KR.bs ../blib/arch/auto/Encode/KR/KR.bs 644
No tests defined for Encode::KR extension.
"/Users/nhorne/perl5/perlbrew/perls/perl-5.34.1/bin/perl" -MExtUtils::Command::MM -e 'cp_nonempty' -- Symbol.bs ../blib/arch/auto/Encode/Symbol/Symbol.bs 644
No tests defined for Encode::Symbol extension.
"/Users/nhorne/perl5/perlbrew/perls/perl-5.34.1/bin/perl" -MExtUtils::Command::MM -e 'cp_nonempty' -- TW.bs ../blib/arch/auto/Encode/TW/TW.bs 644
No tests defined for Encode::TW extension.
"/Users/nhorne/perl5/perlbrew/perls/perl-5.34.1/bin/perl" -MExtUtils::Command::MM -e 'cp_nonempty' -- Unicode.bs ../blib/arch/auto/Encode/Unicode/Unicode.bs 644
No tests defined for Encode::Unicode extension.
PERL_DL_NONLAZY=1 "/Users/nhorne/perl5/perlbrew/perls/perl-5.34.1/bin/perl" "-MExtUtils::Command::MM" "-MTest::Harness" "-e" "undef *Test::Harness::Switches; test_harness(0, 'blib/lib', 'blib/arch')" t/*.t
t/cow.t .................... ok
t/decode.t ................. ok
t/enc_data.t ............... skipped: encoding pragma not supported in Perl 5.26
t/enc_eucjp.t .............. skipped: Perl <=5.25.2 or cperl required
t/enc_module.t ............. skipped: encoding pragma not supported in Perl 5.26
t/enc_utf8.t ............... skipped: Perl <=5.25.2 or cperl required
t/at-tw.t .................. ok
t/at-cn.t .................. ok
t/encoding-locale.t ........ ok
t/encoding.t ............... skipped: encoding pragma not supported in Perl 5.26
t/Encoder.t ................ ok
t/from_to.t ................ ok
t/fallback.t ............... ok
t/grow.t ................... ok
t/gsm0338.t ................ ok
t/jis7-fallback.t .......... ok
t/jperl.t .................. skipped: encoding pragma not supported in Perl 5.26
t/magic.t .................. ok
t/CJKT.t ................... ok
t/guess.t .................. ok
t/isa.t .................... ok
t/mime_header_iso2022jp.t .. ok
t/mime-name.t .............. ok
t/Aliases.t ................ ok
t/rt113164.t ............... ok
t/rt65541.t ................ ok
t/Encode.t ................. ok
t/rt76824.t ................ ok
t/piconv.t ................. ok
t/rt85489.t ................ ok
t/rt86327.t ................ ok
t/truncated_utf8.t ......... ok
t/taint.t .................. ok
t/undef.t .................. ok
t/use-Encode-Alias.t ....... ok
t/perlio.t ................. ok
# temp file: /var/folders/rb/cnysxwf16zq1n94dyy56v2q00000gp/T/q7fDsCyeRH
t/Unicode_trailing_nul.t ... ok
t/Unicode.t ................ ok
t/utf8ref.t ................ ok
t/whatwg-aliases.t ......... skipped: For maintainers only
t/utf8warnings.t ........... ok
t/utf8strict.t ............. ok
t/xml.t .................... ok
t/mime-header.t ............ ok
All tests successful.
Files=44, Tests=7711, 2 wallclock secs ( 0.53 usr 0.17 sys + 5.38 cusr 0.98 csys = 7.06 CPU)
Result: PASS
------------------------------
PREREQUISITES
------------------------------
Prerequisite modules loaded:
requires:
Module Need Have
------------------- ----- --------
Exporter 5.57 5.76
parent 0.221 0.238
Storable 0 3.23
build_requires:
Module Need Have
------------------- ----- --------
ExtUtils::MakeMaker 0 7.64
Test::More 0.92 1.302190
configure_requires:
Module Need Have
------------------- ----- --------
ExtUtils::MakeMaker 0 7.64
------------------------------
ENVIRONMENT AND OTHER CONTEXT
------------------------------
Environment variables:
HARNESS_OPTIONS = j6:c
LANG = en_US.UTF-8
LC_TERMINAL = iTerm2
LC_TERMINAL_VERSION = 3.4.15
LDFLAGS = -L/usr/local/opt/openssl@1.1/lib:/usr/local/opt/python@3.8/lib
NONINTERACTIVE_TESTING = 1
PATH = /Users/nhorne/perl5/perlbrew/bin:/Users/nhorne/perl5/perlbrew/perls/perl-5.34.1/bin:/Users/nhorne/bin:/usr/local/opt/openssl@1.1/bin:/usr/local/opt/python@3.8/bin:/usr/local/bin:/usr/bin:/bin:/usr/sbin:/sbin:/Library/Apple/usr/bin
PERL5LIB =
PERL5OPT =
PERL5_CPANPLUS_IS_RUNNING = 93239
PERL5_CPAN_IS_RUNNING = 93239
PERLBREW_HOME = /Users/nhorne/.perlbrew
PERLBREW_MANPATH = /Users/nhorne/perl5/perlbrew/perls/perl-5.34.1/man
PERLBREW_PATH = /Users/nhorne/perl5/perlbrew/bin:/Users/nhorne/perl5/perlbrew/perls/perl-5.34.1/bin
PERLBREW_PERL = perl-5.34.1
PERLBREW_ROOT = /Users/nhorne/perl5/perlbrew
PERLBREW_SHELLRC_VERSION = 0.92
PERLBREW_VERSION = 0.92
PERL_MM_USE_DEFAULT = 1
PERL_USE_UNSAFE_INC = 1
SHELL = /bin/bash
TERM = xterm-256color
TMPDIR = /var/folders/rb/cnysxwf16zq1n94dyy56v2q00000gp/T/
Perl special variables (and OS-specific diagnostics, for MSWin32):
$^X = /Users/nhorne/perl5/perlbrew/perls/perl-5.34.1/bin/perl
$UID/$EUID = 502 / 502
$GID = 20 20 12 61 79 80 81 98 702 701 33 100 204 250 395 398 399
$EGID = 20 20 12 61 79 80 81 98 702 701 33 100 204 250 395 398 399
Perl module toolchain versions installed:
Module Have
------------------- --------
CPAN 2.29
CPAN::Meta 2.150010
Cwd 3.80
ExtUtils::CBuilder 0.280236
ExtUtils::Command 7.64
ExtUtils::Install 2.20
ExtUtils::MakeMaker 7.64
ExtUtils::Manifest 1.73
ExtUtils::ParseXS 3.43
File::Spec 3.80
JSON 4.05
JSON::PP 4.06
Module::Build 0.4231
Module::Signature n/a
Parse::CPAN::Meta 2.150010
Test::Harness 3.43
Test::More 1.302190
YAML 1.30
YAML::Syck 1.34
version 0.9928
--
Summary of my perl5 (revision 5 version 34 subversion 1) configuration:
Platform:
osname=darwin
osvers=20.6.0
archname=darwin-2level
uname='darwin gslal0320030003 20.6.0 darwin kernel version 20.6.0: wed jan 12 22:22:42 pst 2022; root:xnu-7195.141.19~2release_x86_64 x86_64 '
config_args='-de -Dprefix=/Users/nhorne/perl5/perlbrew/perls/perl-5.34.1 -Aeval:scriptdir=/Users/nhorne/perl5/perlbrew/perls/perl-5.34.1/bin'
hint=recommended
useposix=true
d_sigaction=define
useithreads=undef
usemultiplicity=undef
use64bitint=define
use64bitall=define
uselongdouble=undef
usemymalloc=n
default_inc_excludes_dot=define
Compiler:
cc='cc'
ccflags ='-fno-common -DPERL_DARWIN -mmacosx-version-min=11.6 -fno-strict-aliasing -pipe -fstack-protector-strong -I/usr/local/include -DPERL_USE_SAFE_PUTENV'
optimize='-O3'
cppflags='-fno-common -DPERL_DARWIN -mmacosx-version-min=11.6 -fno-strict-aliasing -pipe -fstack-protector-strong -I/usr/local/include'
ccversion=''
gccversion='Apple LLVM 12.0.0 (clang-1200.0.32.27)'
gccosandvers=''
intsize=4
longsize=8
ptrsize=8
doublesize=8
byteorder=12345678
doublekind=3
d_longlong=define
longlongsize=8
d_longdbl=define
longdblsize=16
longdblkind=3
ivtype='long'
ivsize=8
nvtype='double'
nvsize=8
Off_t='off_t'
lseeksize=8
alignbytes=8
prototype=define
Linker and Libraries:
ld='cc'
ldflags =' -mmacosx-version-min=11.6 -fstack-protector-strong -L/usr/local/lib'
libpth=/usr/local/lib /Library/Developer/CommandLineTools/usr/lib/clang/12.0.0/lib /Library/Developer/CommandLineTools/SDKs/MacOSX.sdk/usr/lib /Library/Developer/CommandLineTools/usr/lib /usr/lib
libs=-lgdbm
perllibs=
libc=
so=dylib
useshrplib=false
libperl=libperl.a
gnulibc_version=''
Dynamic Linking:
dlsrc=dl_dlopen.xs
dlext=bundle
d_dlsymun=undef
ccdlflags=' '
cccdlflags=' '
lddlflags=' -mmacosx-version-min=11.6 -bundle -undefined dynamic_lookup -L/usr/local/lib -fstack-protector-strong'
Characteristics of this binary (from libperl):
Compile-time options:
HAS_TIMES
PERLIO_LAYERS
PERL_COPY_ON_WRITE
PERL_DONT_CREATE_GVSV
PERL_MALLOC_WRAP
PERL_OP_PARENT
PERL_PRESERVE_IVUV
PERL_USE_SAFE_PUTENV
USE_64_BIT_ALL
USE_64_BIT_INT
USE_LARGE_FILES
USE_LOCALE
USE_LOCALE_COLLATE
USE_LOCALE_CTYPE
USE_LOCALE_NUMERIC
USE_LOCALE_TIME
USE_PERLIO
USE_PERL_ATOF
Built under darwin
Compiled at Mar 14 2022 11:12:44
%ENV:
PERL5LIB=""
PERL5OPT=""
PERL5_CPANPLUS_IS_RUNNING="93239"
PERL5_CPAN_IS_RUNNING="93239"
PERLBREW_HOME="/Users/nhorne/.perlbrew"
PERLBREW_MANPATH="/Users/nhorne/perl5/perlbrew/perls/perl-5.34.1/man"
PERLBREW_PATH="/Users/nhorne/perl5/perlbrew/bin:/Users/nhorne/perl5/perlbrew/perls/perl-5.34.1/bin"
PERLBREW_PERL="perl-5.34.1"
PERLBREW_ROOT="/Users/nhorne/perl5/perlbrew"
PERLBREW_SHELLRC_VERSION="0.92"
PERLBREW_VERSION="0.92"
PERL_MM_USE_DEFAULT="1"
PERL_USE_UNSAFE_INC="1"
@INC:
/Users/nhorne/perl5/perlbrew/perls/perl-5.34.1/lib/site_perl/5.34.1/darwin-2level
/Users/nhorne/perl5/perlbrew/perls/perl-5.34.1/lib/site_perl/5.34.1
/Users/nhorne/perl5/perlbrew/perls/perl-5.34.1/lib/5.34.1/darwin-2level
/Users/nhorne/perl5/perlbrew/perls/perl-5.34.1/lib/5.34.1
.