DBIx-Class-MoreHelpers v1.0001 Perl 5 v5.22.2 x86_64-linux

Status
Pass
From
Slaven Rezić
Dist
DBIx-Class-MoreHelpers v1.0001
Platform
Perl 5 v5.22.2 x86_64-linux
Date
2023-07-10 16:06:27
ID
ba082adc-1f3b-11ee-bfcd-c5456e8775ea
This distribution has been tested as part of the CPAN Testers
project, supporting the Perl programming language.  See
http://wiki.cpantesters.org/ for more information or email
questions to cpan-testers-discuss@perl.org


--
Dear D Ruth Holloway,

This is a computer-generated report for DBIx-Class-MoreHelpers-1.0001
on perl 5.22.2, created by CPAN-Reporter-1.2018.

Thank you for uploading your work to CPAN.  Congratulations!
All tests were successful.

Sections of this report:

    * Tester comments
    * Program output
    * Prerequisites
    * Environment and other context

------------------------------
TESTER COMMENTS
------------------------------

Additional comments from tester:

none provided

------------------------------
PROGRAM OUTPUT
------------------------------

Output from '/usr/bin/make test':

PERL_DL_NONLAZY=1 "/opt/perl-5.22.2/bin/perl" "-MExtUtils::Command::MM" "-MTest::Harness" "-e" "undef *Test::Harness::Switches; test_harness(0, 'blib/lib', 'blib/arch')" t/*.t
t/00-compile.t ......... ok
# 
# Versions for all modules listed in MYMETA.json (including optional ones):
# 
# === Configure Requires ===
# 
#     Module               Want     Have
#     ------------------- ----- --------
#     ExtUtils::MakeMaker   any     7.24
#     perl                5.006 5.022002
# 
# === Build Requires ===
# 
#     Module              Want Have
#     ------------------- ---- ----
#     ExtUtils::MakeMaker  any 7.24
# 
# === Test Requires ===
# 
#     Module                      Want       Have
#     -------------------------- ----- ----------
#     DBIx::Class::Core            any      undef
#     DBIx::Class::ResultSet       any      undef
#     DBIx::Class::Schema          any      undef
#     ExtUtils::MakeMaker          any       7.24
#     File::Spec                   any       3.62
#     FindBin                      any       1.51
#     IO::Handle                   any       1.35
#     IPC::Open3                   any       1.18
#     Modern::Perl                 any 1.20150127
#     Test2::Plugin::ExitSummary   any   0.000155
#     Test2::Plugin::NoWarnings    any       0.02
#     Test2::Plugin::Times         any   0.000155
#     Test2::V0                    any   0.000155
#     Test::DBIx::Class            any       0.47
#     Test::More                   any   1.302195
#     base                         any       2.22
#     lib                          any       0.63
#     perl                       5.006   5.022002
# 
# === Test Recommends ===
# 
#     Module         Want     Have
#     ---------- -------- --------
#     CPAN::Meta 2.120900 2.150010
# 
# === Runtime Requires ===
# 
#     Module                                                  Want     Have
#     ------------------------------------------------------ ----- --------
#     DBIx::Class::Helper::ResultSet::SetOperations            any 2.033001
#     DBIx::Class::Helper::ResultSet::Shortcut::Search::Base   any 2.033001
#     parent                                                   any    0.232
#     perl                                                   5.006 5.022002
#     strict                                                   any     1.09
#     warnings                                                 any     1.34
# 
t/00-report-prereqs.t .. ok
t/001_blank.t .......... ok
t/002_is.t ............. ok
t/003_numerics.t ....... ok
All tests successful.
Files=5, Tests=42,  3 wallclock secs ( 0.02 usr  0.01 sys +  1.88 cusr  0.27 csys =  2.18 CPU)
Result: PASS

------------------------------
PREREQUISITES
------------------------------

Prerequisite modules loaded:

requires:

    Module                                                 Need  Have      
    ------------------------------------------------------ ----- ----------
    DBIx::Class::Helper::ResultSet::SetOperations          0     2.033001  
    DBIx::Class::Helper::ResultSet::Shortcut::Search::Base 0     2.033001  
    parent                                                 0     0.232     
    perl                                                   5.006 5.022002  
    strict                                                 0     1.09      
    warnings                                               0     1.34      

build_requires:

    Module                                                 Need  Have      
    ------------------------------------------------------ ----- ----------
    base                                                   0     2.22      
    DBIx::Class::Core                                      0     0         
    DBIx::Class::ResultSet                                 0     0         
    DBIx::Class::Schema                                    0     0         
    ExtUtils::MakeMaker                                    0     7.24      
    File::Spec                                             0     3.62      
    FindBin                                                0     1.51      
    IO::Handle                                             0     1.35      
    IPC::Open3                                             0     1.18      
    lib                                                    0     0.63      
    Modern::Perl                                           0     1.20150127
    Test2::Plugin::ExitSummary                             0     0.000155  
    Test2::Plugin::NoWarnings                              0     0.02      
    Test2::Plugin::Times                                   0     0.000155  
    Test2::V0                                              0     0.000155  
    Test::DBIx::Class                                      0     0.47      
    Test::More                                             0     1.302195  

configure_requires:

    Module                                                 Need  Have      
    ------------------------------------------------------ ----- ----------
    ExtUtils::MakeMaker                                    0     7.24      
    perl                                                   5.006 5.022002  


------------------------------
ENVIRONMENT AND OTHER CONTEXT
------------------------------

Environment variables:

    LANG = en_US.UTF-8
    LANGUAGE = en_US:en
    LC_ALL = en_US.UTF-8
    PATH = /usr/local/bin:/usr/bin:/bin:/usr/local/sbin:/usr/sbin:/sbin:/home/cpansand/bin/linux-gnu:/home/cpansand/bin/sh:/home/cpansand/bin:/usr/games:/home/cpansand/devel:/home/eserte/src/srezic-misc/scripts
    PERL5LIB = /home/cpansand/.cpan/build/2023071018/Test2-Suite-0.000155-1/blib/arch:/home/cpansand/.cpan/build/2023071018/Test2-Suite-0.000155-1/blib/lib:/home/cpansand/.cpan/build/2023071018/Term-Table-0.016-1/blib/arch:/home/cpansand/.cpan/build/2023071018/Term-Table-0.016-1/blib/lib:/home/cpansand/.cpan/build/2023071018/Test-Simple-1.302195-1/blib/arch:/home/cpansand/.cpan/build/2023071018/Test-Simple-1.302195-1/blib/lib:/home/cpansand/.cpan/build/2023071018/Importer-0.026-1/blib/arch:/home/cpansand/.cpan/build/2023071018/Importer-0.026-1/blib/lib
    PERL5OPT = 
    PERL5_CPANPLUS_IS_RUNNING = 29240
    PERL5_CPAN_IS_RUNNING = 29240
    PERL5_CPAN_IS_RUNNING_IN_RECURSION = 12070,29240
    PERLDOC = -MPod::Perldoc::ToTextOverstrike
    PERL_BATCH = yes
    PERL_CANARY_STABILITY_NOPROMPT = 1
    PERL_CPAN_REPORTER_CONFIG = /var/tmp/cpansmoker-1023/2023071017/cpanreporter_000_config.ini
    PERL_EXTUTILS_AUTOINSTALL = --defaultdeps
    PERL_USE_UNSAFE_INC = 1
    SHELL = /bin/zsh
    TERM = screen
    TMPDIR = /var/tmp/cpansmoker-1023/2023071017

Perl special variables (and OS-specific diagnostics, for MSWin32):

    $^X = /opt/perl-5.22.2/bin/perl
    $UID/$EUID = 1023 / 1023
    $GID = 1023 1023
    $EGID = 1023 1023

Perl module toolchain versions installed:

    Module              Have    
    ------------------- --------
    CPAN                2.16    
    CPAN::Meta          2.150010
    Cwd                 3.62    
    ExtUtils::CBuilder  0.280221
    ExtUtils::Command   7.24    
    ExtUtils::Install   2.04    
    ExtUtils::MakeMaker 7.24    
    ExtUtils::Manifest  1.70    
    ExtUtils::ParseXS   3.28    
    File::Spec          3.62    
    JSON                2.90    
    JSON::PP            2.27300 
    Module::Build       0.4220  
    Module::Signature   0.81    
    Parse::CPAN::Meta   2.150010
    Test::Harness       3.35    
    Test::More          1.302195
    YAML                1.17    
    YAML::Syck          1.29    
    version             0.9917  


--

Summary of my perl5 (revision 5 version 22 subversion 2) configuration:
   
  Platform:
    osname=linux, osvers=3.2.0-4-amd64, archname=x86_64-linux
    uname='linux cvrsnica-wheezy 3.2.0-4-amd64 #1 smp debian 3.2.54-2 x86_64 gnulinux '
    config_args='-ds -e -Dprefix=/opt/perl-5.22.2 -Dcf_email=srezic@cpan.org'
    hint=recommended, useposix=true, d_sigaction=define
    useithreads=undef, usemultiplicity=undef
    use64bitint=define, use64bitall=define, uselongdouble=undef
    usemymalloc=n, bincompat5005=undef
  Compiler:
    cc='cc', ccflags ='-fwrapv -fno-strict-aliasing -pipe -fstack-protector -I/usr/local/include -D_LARGEFILE_SOURCE -D_FILE_OFFSET_BITS=64 -D_FORTIFY_SOURCE=2',
    optimize='-O2',
    cppflags='-fwrapv -fno-strict-aliasing -pipe -fstack-protector -I/usr/local/include'
    ccversion='', gccversion='4.7.2', gccosandvers=''
    intsize=4, longsize=8, ptrsize=8, doublesize=8, byteorder=12345678, doublekind=3
    d_longlong=define, longlongsize=8, d_longdbl=define, longdblsize=16, longdblkind=3
    ivtype='long', ivsize=8, nvtype='double', nvsize=8, Off_t='off_t', lseeksize=8
    alignbytes=8, prototype=define
  Linker and Libraries:
    ld='cc', ldflags =' -fstack-protector -L/usr/local/lib'
    libpth=/usr/local/lib /usr/lib/gcc/x86_64-linux-gnu/4.7/include-fixed /usr/include/x86_64-linux-gnu /usr/lib /lib/x86_64-linux-gnu /lib/../lib /usr/lib/x86_64-linux-gnu /usr/lib/../lib /lib
    libs=-lpthread -lnsl -ldb -ldl -lm -lcrypt -lutil -lc
    perllibs=-lpthread -lnsl -ldl -lm -lcrypt -lutil -lc
    libc=libc-2.13.so, so=so, useshrplib=false, libperl=libperl.a
    gnulibc_version='2.13'
  Dynamic Linking:
    dlsrc=dl_dlopen.xs, dlext=so, d_dlsymun=undef, ccdlflags='-Wl,-E'
    cccdlflags='-fPIC', lddlflags='-shared -O2 -L/usr/local/lib -fstack-protector'


Characteristics of this binary (from libperl): 
  Compile-time options: HAS_TIMES PERLIO_LAYERS PERL_DONT_CREATE_GVSV
                        PERL_HASH_FUNC_ONE_AT_A_TIME_HARD PERL_MALLOC_WRAP
                        PERL_NEW_COPY_ON_WRITE PERL_PRESERVE_IVUV
                        USE_64_BIT_ALL USE_64_BIT_INT USE_LARGE_FILES
                        USE_LOCALE USE_LOCALE_COLLATE USE_LOCALE_CTYPE
                        USE_LOCALE_NUMERIC USE_LOCALE_TIME USE_PERLIO
                        USE_PERL_ATOF
  Built under linux
  Compiled at May 29 2016 23:41:57
  %ENV:
    PERL5LIB="/home/cpansand/.cpan/build/2023071018/Test2-Suite-0.000155-1/blib/arch:/home/cpansand/.cpan/build/2023071018/Test2-Suite-0.000155-1/blib/lib:/home/cpansand/.cpan/build/2023071018/Term-Table-0.016-1/blib/arch:/home/cpansand/.cpan/build/2023071018/Term-Table-0.016-1/blib/lib:/home/cpansand/.cpan/build/2023071018/Test-Simple-1.302195-1/blib/arch:/home/cpansand/.cpan/build/2023071018/Test-Simple-1.302195-1/blib/lib:/home/cpansand/.cpan/build/2023071018/Importer-0.026-1/blib/arch:/home/cpansand/.cpan/build/2023071018/Importer-0.026-1/blib/lib"
    PERL5OPT=""
    PERL5_CPANPLUS_IS_RUNNING="29240"
    PERL5_CPAN_IS_RUNNING="29240"
    PERL5_CPAN_IS_RUNNING_IN_RECURSION="12070,29240"
    PERLDOC="-MPod::Perldoc::ToTextOverstrike"
    PERL_BATCH="yes"
    PERL_CANARY_STABILITY_NOPROMPT="1"
    PERL_CPAN_REPORTER_CONFIG="/var/tmp/cpansmoker-1023/2023071017/cpanreporter_000_config.ini"
    PERL_EXTUTILS_AUTOINSTALL="--defaultdeps"
    PERL_USE_UNSAFE_INC="1"
  @INC:
    /home/cpansand/.cpan/build/2023071018/Test2-Suite-0.000155-1/blib/arch
    /home/cpansand/.cpan/build/2023071018/Test2-Suite-0.000155-1/blib/lib
    /home/cpansand/.cpan/build/2023071018/Term-Table-0.016-1/blib/arch
    /home/cpansand/.cpan/build/2023071018/Term-Table-0.016-1/blib/lib
    /home/cpansand/.cpan/build/2023071018/Test-Simple-1.302195-1/blib/arch
    /home/cpansand/.cpan/build/2023071018/Test-Simple-1.302195-1/blib/lib
    /home/cpansand/.cpan/build/2023071018/Importer-0.026-1/blib/arch
    /home/cpansand/.cpan/build/2023071018/Importer-0.026-1/blib/lib
    /opt/perl-5.22.2/lib/site_perl/5.22.2/x86_64-linux
    /opt/perl-5.22.2/lib/site_perl/5.22.2
    /opt/perl-5.22.2/lib/5.22.2/x86_64-linux
    /opt/perl-5.22.2/lib/5.22.2
    .